{"text_format":"1","workbook":"xlsx","n_sheets":9,"sheets":["Units","Техреж скв опт","Состояние  фонда","Турон","Сеноман","Тнав","Шлейфы","План","Рпл"],"not_rendered":{"charts":0,"images":0,"macros":1,"external_links":1,"defined_names":31,"comments":0,"pivot_tables":0},"unopened":[],"bounds":{"document_bytes":16777216,"sheet_cells":100000,"rows_first":2000,"rows_last":500,"rows_between":2000,"halvings":0,"cell_chars":16384,"cell_head_chars":4096},"cells_cut":0,"cells_raw":0,"read":"whole","date_system":"1900"}

{"sheet":"Units","index":0,"n_rows":15,"n_cols":3,"rows_kept":15,"cut":false,"hidden":true,"merged":[]}
["Temp","Pressure","GasRate"]
["K","psia","mmscf/d"]
["C","psig","mscf/d"]
["F","bara","scf/d"]
[null,"barg","mmsm3/d"]
[null,"atma","msm3/d"]
[null,"atmg","sm3/d"]
[null,"kPa a","sm3/s"]
[null,"kPa g","sm3/h"]
[null,"mPa a"]
[null,"mPa g"]
[null,"kg/cm2 a"]
[null,"kg/cm2 g"]
[null,"Pa a"]
[null,"Pa g"]

{"sheet":"Техреж скв опт","index":1,"n_rows":301,"n_cols":35,"rows_kept":301,"cut":false,"hidden":false,"merged":[[194,1,196,1],[75,1,78,1],[279,6,282,8],[185,1,187,1],[15,24,17,24],[204,1,206,1],[29,1,31,1],[182,1,184,1],[197,1,199,1],[13,3,17,3],[242,1,245,1],[180,1,181,1],[13,15,17,15],[13,17,17,17],[200,1,201,1],[13,9,17,9],[15,11,17,11],[279,5,283,5],[8,0,8,30],[13,7,17,7],[56,1,59,1],[10,0,10,30],[15,23,17,23],[15,25,17,25],[15,27,17,27],[32,1,39,1],[13,16,17,16],[13,18,17,18],[15,26,17,26],[13,19,17,19],[26,1,28,1],[246,1,250,1],[60,1,62,1],[63,1,66,1],[67,1,74,1],[271,0,271,3],[223,1,224,1],[232,1,237,1],[207,1,208,1],[225,1,227,1],[79,1,81,1],[191,1,193,1],[123,1,150,1],[162,1,163,1],[112,1,115,1],[172,1,175,1],[212,1,215,1],[216,1,218,1],[15,29,17,29],[82,1,84,1],[19,0,19,30],[238,1,239,1],[13,20,17,20],[13,2,17,2],[13,4,17,4],[161,0,161,30],[15,22,17,22],[14,21,14,30],[44,1,51,1],[23,1,25,1],[13,10,14,11],[202,1,203,1],[176,1,179,1],[188,1,190,1],[258,1,268,1],[13,5,17,5],[255,1,257,1],[219,1,222,1],[228,1,231,1],[52,1,55,1],[20,1,22,1],[240,1,241,1],[11,1,17,1],[209,1,211,1],[116,1,122,1],[151,1,159,1],[40,1,43,1],[251,1,254,1],[168,1,171,1],[11,0,17,0],[85,1,97,1],[98,1,111,1],[15,21,17,21],[13,6,17,6],[13,12,17,12],[13,14,17,14],[13,21,13,30],[15,28,17,28],[15,30,17,30],[13,13,17,13],[11,21,12,30],[11,2,12,9],[11,10,12,20]]}
[null,null,null,null,null,null,null,null,null,null,null,null,null,null,null,null,null,null,null,null,null,null,null,null,null,"\"УТВЕРЖДАЮ” "]
[null,null,null,null,null,null,null,null,null,null,null,null,null,null,null,null,null,null,null,null,null,null,null,null,null,"Заместитель генерального директора -"]
[null,null,null,null,null,null,null,null,null,null,null,null,null,null,null,null,null,null,null,null,null,null,null,null,null,"главный геолог"]
[null,null,null,null,null,null,null,null,null,null,null,null,null,null,null,null,null,null,null,null,null,null,null,null,null,"ОАО\"Севернефтегазпром\"  "]
[]
[]
[null,null,null,null,null,null,null,null,null,null,null,null,null,null,null,null,null,null,null,null,null,null,null,null,null,"_____________В.В.Воробьев"]
[null,null,null,null,null,null,null,null,null,null,null,null,null,null,null,null,null,null,null,null,null,null,null,null,null,"\"_____\"___________2024 год"]
["ТЕХНОЛОГИЧЕСКИЙ РЕЖИМ РАБОТЫ ГАЗОВЫХ СКВАЖИН ЮЖНО-РУССКОГО МЕСТОРОЖДЕНИЯ"]
[]
["на октябрь 2024"]
["№ скв.","№ шлейфа"," Геолого-технические данные скважин",null,null,null,null,null,null,null,"Геолого-промысловые данные на конец месяца"]
[]
[null,null,"Тип скважины "," Н эф.\nм"," Н эф.\nперф. \nм"," Диам.  экспл. кол. мм","   Иск. Забой м ","Перфорация, м.","Глубина"," Диаметр и глубина НКТ, мм/м"," Статическое давление, кгс/см2",null,"Давл. пласт, кгс/см2","Давл. труб., кгс/см2","Давл. затр., кгс/см2","Давл. забойн., кгс/см2","Депрессия, кгс/см2","Депрессия 2, кгс/см2","Туст, 0С","Дебит  газа, тыс.м3 ","Скорость газа в НКТ м/сек","Кран 12-П закрыт"]
[null,null,null,null,null,null,null,null,"середины"]
[null,null,null,null,null,null,null,null,"интервала",null,"   Дата ","Значение",null,null,null,null,null,null,null,null,null,"Давл. труб., кгс/см2","Давл. затр., кгс/см2","Давл. забойн., кгс/см2","Депр., кгс/см2","Т уст., 0С","Дебит газа, тыс.м3 ","Диаметр штуцера, %","Диаметр лимитной шайбы, мм","Гидратный / безгидратный режим ","Скорость газа в НКТ м/сек"]
[null,null,null,null,null,null,null,null,"перфор.",null," замера "]
[null,null,null,null,null,null,null,null,"по верт.",null,null,null,null,null,null,null,null,null,null,null,null,null,null,null,null,null,null,null,null,null,null,{"$f":"Сеноман!G2","v":18.8},"Ртр"]
[1,2,{"$f":"B19+1","v":3},4,5,6,7,8,9,10,11,12,13,14,15,16,17,null,{"$f":"Q19+1","v":18},{"$f":"S19+1","v":19},{"$f":"T19+1","v":20},{"$f":"1+U19","v":21},{"$f":"V19+1","v":22},23,24,25,26,27,28,29,30,"Тср","Zустье","S","E^S"]
["Объект ПК1"]
[11,8,"ННС",52.8,30.8,168,1079,"1029-1071",925.32899999999995,"114/875,12","25.07.2023",31.88,{"$f":"VLOOKUP(A21,Сеноман!B:K,5,FALSE)","v":51.552737102188203},{"$f":"VLOOKUP(A21,Сеноман!B:K,7,FALSE)","v":36.229999999999997},{"$f":"VLOOKUP(A21,Сеноман!B:K,8,FALSE)","v":44.68},{"$f":"VLOOKUP(A21,Сеноман!B:M,11,FALSE)","v":50.434076307775307},{"$f":"VLOOKUP(A21,Сеноман!B:M,12,FALSE)","v":1.1186607944128966},8,{"$f":"VLOOKUP(A21,Сеноман!B:M,9,FALSE)","v":6.5},{"$f":"VLOOKUP(A21,Сеноман!B:M,6,FALSE)","v":640},{"$f":"VLOOKUP(A21,Сеноман!B:M,10,FALSE)","v":18.2452182769775},{"$f":"VLOOKUP(A21,Тнав!A:D,2,FALSE)","v":17.730056737948178},{"$f":"X21/AI21","v":{"$error":"#VALUE!"}},{"$f":"M21-Y21","v":39.74355790143548},{"$f":"VLOOKUP(A21,Тнав!A:D,3,FALSE)","v":11.80917920075272},{"$f":"VLOOKUP(A21,'Состояние  фонда'!C:AB,20,FALSE)","v":8.18},{"$f":"VLOOKUP(A21,Тнав!A:E,4,FALSE)","v":470.41201849930798},{"$f":"VLOOKUP(A21,'Состояние  фонда'!C:AB,21,FALSE)","v":97},null,"безгидратный",16.522970378934861,{"$f":"(($AF$18+273.15)-(Z21+273.15))/(LN(($AF$18+273.15)/(Z21+273.15)))","v":286.60720778586227},{"$f":"1/(1+(5*10^7*0.098*V21)/(Z21+273.15)^3.825)","v":0.9641252975957042},{"$f":"(0.5647*0.03415*MID(J21,5,7)/(AF21*AG21))","v":{"$error":"#VALUE!"}},{"$f":"ROUND(EXP(AH21),4)","v":{"$error":"#VALUE!"}}]
[12,null,"ННС",58.9,30,168,1071,"1031-1061",921.11,"114/865,884","25.07.2023",31.8,{"$f":"VLOOKUP(A22,Сеноман!B:K,5,FALSE)","v":51.372067305170297},{"$f":"VLOOKUP(A22,Сеноман!B:K,7,FALSE)","v":35.82},{"$f":"VLOOKUP(A22,Сеноман!B:K,8,FALSE)","v":46.44},{"$f":"VLOOKUP(A22,Сеноман!B:M,11,FALSE)","v":52.349062541892067},{"$f":"VLOOKUP(A22,Сеноман!B:M,12,FALSE)","v":-0.9769952367217698},8,{"$f":"VLOOKUP(A22,Сеноман!B:M,9,FALSE)","v":6.7},{"$f":"VLOOKUP(A22,Сеноман!B:M,6,FALSE)","v":746},{"$f":"VLOOKUP(A22,Сеноман!B:M,10,FALSE)","v":20.387275695800799},{"$f":"VLOOKUP(A22,Тнав!A:D,2,FALSE)","v":18.29913763210369},2.5875928464203212E-25,48.533108720694578,{"$f":"VLOOKUP(A22,Тнав!A:D,3,FALSE)","v":2.8389585844757179},{"$f":"VLOOKUP(A22,'Состояние  фонда'!C:AB,20,FALSE)","v":8.1999999999999993},{"$f":"VLOOKUP(A22,Тнав!A:E,4,FALSE)","v":553.73043591749843},{"$f":"VLOOKUP(A22,'Состояние  фонда'!C:AB,21,FALSE)","v":59},null,"безгидратный",15.64145224320975,286.61733233186192,0.96302609738959,{"$f":"(0.5647*0.03415*MID(J22,5,7)/(AF22*AG22))","v":60.496145503305002},1.87560839750486E+26]
[13,null,"ННС",59.7,32.4,168,1076,"1045-1078",929.34400000000005,"114/872,666","25.07.2023",32.01,{"$f":"VLOOKUP(A23,Сеноман!B:K,5,FALSE)","v":51.691396252073702},{"$f":"VLOOKUP(A23,Сеноман!B:K,7,FALSE)","v":35.950000000000003},{"$f":"VLOOKUP(A23,Сеноман!B:K,8,FALSE)","v":46.84},{"$f":"VLOOKUP(A23,Сеноман!B:M,11,FALSE)","v":52.853675206567289},{"$f":"VLOOKUP(A23,Сеноман!B:M,12,FALSE)","v":-1.162278954493587},8,{"$f":"VLOOKUP(A23,Сеноман!B:M,9,FALSE)","v":6.5},{"$f":"VLOOKUP(A23,Сеноман!B:M,6,FALSE)","v":748},{"$f":"VLOOKUP(A23,Сеноман!B:M,10,FALSE)","v":20.2346076965332},{"$f":"VLOOKUP(A23,Тнав!A:D,2,FALSE)","v":18.370192834510132},1.5842989063964051E-25,49.430934628608355,{"$f":"VLOOKUP(A23,Тнав!A:D,3,FALSE)","v":2.2604616234653441},{"$f":"VLOOKUP(A23,'Состояние  фонда'!C:AB,20,FALSE)","v":8.01},{"$f":"VLOOKUP(A23,Тнав!A:E,4,FALSE)","v":694.0809368669228},{"$f":"VLOOKUP(A23,'Состояние  фонда'!C:AB,21,FALSE)","v":50.1},null,"безгидратный",19.24988248256836,286.52113939536048,0.96279540889080939,{"$f":"(0.5647*0.03415*MID(J23,5,7)/(AF23*AG23))","v":61.005061780992996},3.1200510477560297E+26]
[21,9,"ННС",44.2,32.9,168,1091.5,"1047-1088",935.03499999999997,"114/879,106","25.07.2023",31.26,{"$f":"VLOOKUP(A24,Сеноман!B:K,5,FALSE)","v":50.489874470838501},{"$f":"VLOOKUP(A24,Сеноман!B:K,7,FALSE)","v":38.17},{"$f":"VLOOKUP(A24,Сеноман!B:K,8,FALSE)","v":42.92},{"$f":"VLOOKUP(A24,Сеноман!B:M,11,FALSE)","v":48.454323940673611},{"$f":"VLOOKUP(A24,Сеноман!B:M,12,FALSE)","v":2.0355505301648904},8,{"$f":"VLOOKUP(A24,Сеноман!B:M,9,FALSE)","v":6.1},{"$f":"VLOOKUP(A24,Сеноман!B:M,6,FALSE)","v":468},{"$f":"VLOOKUP(A24,Сеноман!B:M,10,FALSE)","v":13.935162544250501},{"$f":"VLOOKUP(A24,Тнав!A:D,2,FALSE)","v":14.78728747174295},1.3706439781670956E-25,43.176113460715023,{"$f":"VLOOKUP(A24,Тнав!A:D,3,FALSE)","v":7.3137610101234767},{"$f":"VLOOKUP(A24,'Состояние  фонда'!C:AB,20,FALSE)","v":7.97},{"$f":"VLOOKUP(A24,Тнав!A:E,4,FALSE)","v":425.41514038491238},{"$f":"VLOOKUP(A24,'Состояние  фонда'!C:AB,21,FALSE)","v":100},null,"безгидратный",13.634928517075229,286.50088547284741,0.969816928325269,{"$f":"(0.5647*0.03415*MID(J24,5,7)/(AF24*AG24))","v":61.0146340515753},3.1500604203910502E+26]
[22,null,"Суб.ГС",114.4,114.4,168,1232.2,"1109,79-1232,2",929.52,"114/870,689","25.07.2023",31.3,{"$f":"VLOOKUP(A25,Сеноман!B:K,5,FALSE)","v":50.243068903179399},{"$f":"VLOOKUP(A25,Сеноман!B:K,7,FALSE)","v":33.880000000000003},{"$f":"VLOOKUP(A25,Сеноман!B:K,8,FALSE)","v":44.8},{"$f":"VLOOKUP(A25,Сеноман!B:M,11,FALSE)","v":50.540533853423753},{"$f":"VLOOKUP(A25,Сеноман!B:M,12,FALSE)","v":-0.29746495024435404},8,{"$f":"VLOOKUP(A25,Сеноман!B:M,9,FALSE)","v":6.4},{"$f":"VLOOKUP(A25,Сеноман!B:M,6,FALSE)","v":596},{"$f":"VLOOKUP(A25,Сеноман!B:M,10,FALSE)","v":16.939277648925799},{"$f":"VLOOKUP(A25,Тнав!A:D,2,FALSE)","v":15.36573808826008},39.530809250284399,43.056957435409764,{"$f":"VLOOKUP(A25,Тнав!A:D,3,FALSE)","v":7.1861114677696323},{"$f":"VLOOKUP(A25,'Состояние  фонда'!C:AB,20,FALSE)","v":7.97},{"$f":"VLOOKUP(A25,Тнав!A:E,4,FALSE)","v":518.3522595009855},{"$f":"VLOOKUP(A25,'Состояние  фонда'!C:AB,21,FALSE)","v":96.9},null,"безгидратный",16.65962140772579,286.50088547284741,0.9686732115343385,8.5457369835537006E-2,1.0891999999999999]
[23,null,"Суб.ГС",82.3,81.2,168,1205.22,"1118,45-1205,22",933.66700000000003,"114/870,858","25.07.2023",31.51,{"$f":"VLOOKUP(A26,Сеноман!B:K,5,FALSE)","v":50.221258532053199},{"$f":"VLOOKUP(A26,Сеноман!B:K,7,FALSE)","v":34.15},{"$f":"VLOOKUP(A26,Сеноман!B:K,8,FALSE)","v":43.55},{"$f":"VLOOKUP(A26,Сеноман!B:M,11,FALSE)","v":49.099581214939192},{"$f":"VLOOKUP(A26,Сеноман!B:M,12,FALSE)","v":1.1216773171140062},8,{"$f":"VLOOKUP(A26,Сеноман!B:M,9,FALSE)","v":6.6},{"$f":"VLOOKUP(A26,Сеноман!B:M,6,FALSE)","v":613},{"$f":"VLOOKUP(A26,Сеноман!B:M,10,FALSE)","v":17.9783020019531},{"$f":"VLOOKUP(A26,Тнав!A:D,2,FALSE)","v":14.88403426800806},2.4224562425599188E-25,42.938729728944168,{"$f":"VLOOKUP(A26,Тнав!A:D,3,FALSE)","v":7.2825288031090274},{"$f":"VLOOKUP(A26,'Состояние  фонда'!C:AB,20,FALSE)","v":8.08},{"$f":"VLOOKUP(A26,Тнав!A:E,4,FALSE)","v":452.85112988326091},{"$f":"VLOOKUP(A26,'Состояние  фонда'!C:AB,21,FALSE)","v":100},null,"безгидратный",14.59451720246275,286.55658143420652,0.96966949269851921,{"$f":"(0.5647*0.03415*MID(J26,5,7)/(AF26*AG26))","v":60.439619532706118},1.7725286002924401E+26]
[31,8,"ННС",35.299999999999997,29.5,168,1095,"1055-1088,5",936.05700000000002,"114/868,892","24.07.2023",30.84,{"$f":"VLOOKUP(A27,Сеноман!B:K,5,FALSE)","v":49.411486992206299},{"$f":"VLOOKUP(A27,Сеноман!B:K,7,FALSE)","v":42.2},{"$f":"VLOOKUP(A27,Сеноман!B:K,8,FALSE)","v":43.17},{"$f":"VLOOKUP(A27,Сеноман!B:M,11,FALSE)","v":48.724244751246403},{"$f":"VLOOKUP(A27,Сеноман!B:M,12,FALSE)","v":0.68724224095989683},8,{"$f":"VLOOKUP(A27,Сеноман!B:M,9,FALSE)","v":3.8},{"$f":"VLOOKUP(A27,Сеноман!B:M,6,FALSE)","v":266},{"$f":"VLOOKUP(A27,Сеноман!B:M,10,FALSE)","v":7.8670701980590803},{"$f":"VLOOKUP(A27,Тнав!A:D,2,FALSE)","v":16.017344431821421},1.6281683467843398E-25,37.884139083049675,{"$f":"VLOOKUP(A27,Тнав!A:D,3,FALSE)","v":11.527347909156621},{"$f":"VLOOKUP(A27,'Состояние  фонда'!C:AB,20,FALSE)","v":6.08},{"$f":"VLOOKUP(A27,Тнав!A:E,4,FALSE)","v":254.85036433665891},{"$f":"VLOOKUP(A27,'Состояние  фонда'!C:AB,21,FALSE)","v":54.1},null,"безгидратный",9.3908368392264912,285.54278201750117,0.96656415241672122,60.71170418614571,2.3267949630559699E+26]
[32,null,"ННС",26.8,24.5,168,1104.5,"1060-1102",939.09299999999996,"114/874,484","24.07.2023",30.84,{"$f":"VLOOKUP(A28,Сеноман!B:K,5,FALSE)","v":49.456682038216201},{"$f":"VLOOKUP(A28,Сеноман!B:K,7,FALSE)","v":34.6},{"$f":"VLOOKUP(A28,Сеноман!B:K,8,FALSE)","v":42.19},{"$f":"VLOOKUP(A28,Сеноман!B:M,11,FALSE)","v":{"$error":"#NAME?"}},{"$f":"VLOOKUP(A28,Сеноман!B:M,12,FALSE)","v":{"$error":"#NAME?"}},8,{"$f":"VLOOKUP(A28,Сеноман!B:M,9,FALSE)","v":7},{"$f":"VLOOKUP(A28,Сеноман!B:M,6,FALSE)","v":562},{"$f":"VLOOKUP(A28,Сеноман!B:M,10,FALSE)","v":17.046331405639599},{"$f":"VLOOKUP(A28,Тнав!A:D,2,FALSE)","v":12.47393673689027},2.0290436917565403E-25,37.264862684392185,{"$f":"VLOOKUP(A28,Тнав!A:D,3,FALSE)","v":12.19181935382402},{"$f":"VLOOKUP(A28,'Состояние  фонда'!C:AB,20,FALSE)","v":7.44},{"$f":"VLOOKUP(A28,Тнав!A:E,4,FALSE)","v":363.92715882814491},{"$f":"VLOOKUP(A28,'Состояние  фонда'!C:AB,21,FALSE)","v":98.9},null,"безгидратный",13.76266059157563,286.23242965538208,0.97423748084337447,60.475113594084483,1.8365727084039302E+26]
[33,null,"ННС",56.4,33,168,1098,"1050-1098",938.13,"114/873,085","24.07.2023",30.92,{"$f":"VLOOKUP(A29,Сеноман!B:K,5,FALSE)","v":49.489946331452202},{"$f":"VLOOKUP(A29,Сеноман!B:K,7,FALSE)","v":34.44},{"$f":"VLOOKUP(A29,Сеноман!B:K,8,FALSE)","v":43.12},{"$f":"VLOOKUP(A29,Сеноман!B:M,11,FALSE)","v":48.627864829600007},{"$f":"VLOOKUP(A29,Сеноман!B:M,12,FALSE)","v":0.86208150185219523},8,{"$f":"VLOOKUP(A29,Сеноман!B:M,9,FALSE)","v":6.7},{"$f":"VLOOKUP(A29,Сеноман!B:M,6,FALSE)","v":667},{"$f":"VLOOKUP(A29,Сеноман!B:M,10,FALSE)","v":19.7566242218018},{"$f":"VLOOKUP(A29,Тнав!A:D,2,FALSE)","v":13.146214553385491},2.0617702000332547E-25,39.215484642380744,{"$f":"VLOOKUP(A29,Тнав!A:D,3,FALSE)","v":10.27446168907146},{"$f":"VLOOKUP(A29,'Состояние  фонда'!C:AB,20,FALSE)","v":7.07},{"$f":"VLOOKUP(A29,Тнав!A:E,4,FALSE)","v":411.72287904846371},{"$f":"VLOOKUP(A29,'Состояние  фонда'!C:AB,21,FALSE)","v":98.9},null,"безгидратный",14.656284036117579,286.04491624740683,0.97275321264593928,60.510134075834806,1.9020298499681599E+26]
[41,9,"ННС",64.7,45.8,168,1099,"1062-1101",941.12800000000004,"114/877,919","24.07.2023",31.3,{"$f":"VLOOKUP(A30,Сеноман!B:K,5,FALSE)","v":50.144004695437701},{"$f":"VLOOKUP(A30,Сеноман!B:K,7,FALSE)","v":34.94},{"$f":"VLOOKUP(A30,Сеноман!B:K,8,FALSE)","v":43.17},{"$f":"VLOOKUP(A30,Сеноман!B:M,11,FALSE)","v":48.720593502776197},{"$f":"VLOOKUP(A30,Сеноман!B:M,12,FALSE)","v":1.4234111926615043},8,{"$f":"VLOOKUP(A30,Сеноман!B:M,9,FALSE)","v":6.5},{"$f":"VLOOKUP(A30,Сеноман!B:M,6,FALSE)","v":714},{"$f":"VLOOKUP(A30,Сеноман!B:M,10,FALSE)","v":21.117193222045898},{"$f":"VLOOKUP(A30,Тнав!A:D,2,FALSE)","v":15.80760374365282},1.3281110632402333E-25,42.010809956572231,{"$f":"VLOOKUP(A30,Тнав!A:D,3,FALSE)","v":8.1331947388654715},{"$f":"VLOOKUP(A30,'Состояние  фонда'!C:AB,20,FALSE)","v":8.27},{"$f":"VLOOKUP(A30,Тнав!A:E,4,FALSE)","v":394.34538775394827},{"$f":"VLOOKUP(A30,'Состояние  фонда'!C:AB,21,FALSE)","v":96.8},null,"безгидратный",13.1036465311287,286.65276634213694,0.96792825634906043,61.018796610421077,3.1632000605489402E+26]
[42,null,"Суб.ГС",65.900000000000006,34.200000000000003,168,1206,"1100-1200",939.81,"114/875,39","24.07.2023",31.47,{"$f":"VLOOKUP(A31,Сеноман!B:K,5,FALSE)","v":50.280184127061901},{"$f":"VLOOKUP(A31,Сеноман!B:K,7,FALSE)","v":34.86},{"$f":"VLOOKUP(A31,Сеноман!B:K,8,FALSE)","v":43.89},{"$f":"VLOOKUP(A31,Сеноман!B:M,11,FALSE)","v":49.519706727937397},{"$f":"VLOOKUP(A31,Сеноман!B:M,12,FALSE)","v":0.76047739912450396},8,{"$f":"VLOOKUP(A31,Сеноман!B:M,9,FALSE)","v":6.3},{"$f":"VLOOKUP(A31,Сеноман!B:M,6,FALSE)","v":656},{"$f":"VLOOKUP(A31,Сеноман!B:M,10,FALSE)","v":19.055131912231399},{"$f":"VLOOKUP(A31,Тнав!A:D,2,FALSE)","v":15.86670850933714},{"$error":"#VALUE!"},43.657354602565249,{"$f":"VLOOKUP(A31,Тнав!A:D,3,FALSE)","v":6.6228295244966526},{"$f":"VLOOKUP(A31,'Состояние  фонда'!C:AB,20,FALSE)","v":8.1199999999999992},{"$f":"VLOOKUP(A31,Тнав!A:E,4,FALSE)","v":414.95907819421171},{"$f":"VLOOKUP(A31,'Состояние  фонда'!C:AB,21,FALSE)","v":93.8},null,"безгидратный",13.153196960972441,286.57683269930232,0.96774861092701026,{"$error":"#VALUE!"},{"$error":"#VALUE!"}]
[43,null,"Суб.ГС",77.900000000000006,25,168,1251.5999999999999,"1113,83-1251,6",942.38900000000001,"114/875,661","24.07.2023",31.41,{"$f":"VLOOKUP(A32,Сеноман!B:K,5,FALSE)","v":50.257638807183099},{"$f":"VLOOKUP(A32,Сеноман!B:K,7,FALSE)","v":34.51},{"$f":"VLOOKUP(A32,Сеноман!B:K,8,FALSE)","v":44.76},{"$f":"VLOOKUP(A32,Сеноман!B:M,11,FALSE)","v":50.528139434375667},{"$f":"VLOOKUP(A32,Сеноман!B:M,12,FALSE)","v":-0.27050062719256829},8,{"$f":"VLOOKUP(A32,Сеноман!B:M,9,FALSE)","v":6.5},{"$f":"VLOOKUP(A32,Сеноман!B:M,6,FALSE)","v":600},{"$f":"VLOOKUP(A32,Сеноман!B:M,10,FALSE)","v":17.052801132202099},{"$f":"VLOOKUP(A32,Тнав!A:D,2,FALSE)","v":15.94079230824782},1.5505748933906653E-25,43.428138529016792,{"$f":"VLOOKUP(A32,Тнав!A:D,3,FALSE)","v":6.8295002781663037},{"$f":"VLOOKUP(A32,'Состояние  фонда'!C:AB,20,FALSE)","v":8.1300000000000008},{"$f":"VLOOKUP(A32,Тнав!A:E,4,FALSE)","v":367.06416502032857},{"$f":"VLOOKUP(A32,'Состояние  фонда'!C:AB,21,FALSE)","v":71},null,"безгидратный",11.696454701357981,286.5818953646384,0.96760716601304164,60.897109147943659,2.8007765838418699E+26]
[51,7,"ННС",76.8,52,168,1036,"975-1046",914.49300000000005,"114/868,923","24.07.2023",29.88,{"$f":"VLOOKUP(A33,Сеноман!B:K,5,FALSE)","v":48.490519360894197},{"$f":"VLOOKUP(A33,Сеноман!B:K,7,FALSE)","v":35.130000000000003},{"$f":"VLOOKUP(A33,Сеноман!B:K,8,FALSE)","v":41.99},{"$f":"VLOOKUP(A33,Сеноман!B:M,11,FALSE)","v":47.375574285036492},{"$f":"VLOOKUP(A33,Сеноман!B:M,12,FALSE)","v":1.1149450758577046},8,{"$f":"VLOOKUP(A33,Сеноман!B:M,9,FALSE)","v":4.7},{"$f":"VLOOKUP(A33,Сеноман!B:M,6,FALSE)","v":549},{"$f":"VLOOKUP(A33,Сеноман!B:M,10,FALSE)","v":16.7591247558594},{"$f":"VLOOKUP(A33,Тнав!A:D,2,FALSE)","v":24.693043056160761},2.3421733850123674E-26,48.490519360894197,{"$f":"VLOOKUP(A33,Тнав!A:D,3,FALSE)","v":0},{"$f":"VLOOKUP(A33,'Состояние  фонда'!C:AB,20,FALSE)","v":-0.79},{"$f":"VLOOKUP(A33,Тнав!A:E,4,FALSE)","v":72.950822767997153},{"$f":"VLOOKUP(A33,'Состояние  фонда'!C:AB,21,FALSE)","v":20.2},null,"безгидратный",2.0624819041204532,282.0416192020478,0.94458967857663578,62.897501424267134,2.07032150869728E+27]
[52,null,"ННС",78.099999999999994,32.5,168,1052.5,"978,5-1057",918.58399999999995,"114/879,106","24.07.2023",30.06,{"$f":"VLOOKUP(A34,Сеноман!B:K,5,FALSE)","v":48.526529544436499},{"$f":"VLOOKUP(A34,Сеноман!B:K,7,FALSE)","v":33.049999999999997},{"$f":"VLOOKUP(A34,Сеноман!B:K,8,FALSE)","v":42.51},{"$f":"VLOOKUP(A34,Сеноман!B:M,11,FALSE)","v":48.011185734608432},{"$f":"VLOOKUP(A34,Сеноман!B:M,12,FALSE)","v":0.51534380982806738},8,{"$f":"VLOOKUP(A34,Сеноман!B:M,9,FALSE)","v":5.0999999999999996},{"$f":"VLOOKUP(A34,Сеноман!B:M,6,FALSE)","v":662},{"$f":"VLOOKUP(A34,Сеноман!B:M,10,FALSE)","v":19.9247531890869},{"$f":"VLOOKUP(A34,Тнав!A:D,2,FALSE)","v":22.744756390869512},{"$error":"#VALUE!"},44.810063984684845,{"$f":"VLOOKUP(A34,Тнав!A:D,3,FALSE)","v":3.7164655597516569},{"$f":"VLOOKUP(A34,'Состояние  фонда'!C:AB,20,FALSE)","v":0.71},{"$f":"VLOOKUP(A34,Тнав!A:E,4,FALSE)","v":89.463666715893439},{"$f":"VLOOKUP(A34,'Состояние  фонда'!C:AB,21,FALSE)","v":50.2},16,"безгидратный",2.76283277590219,282.80857854189361,0.94974959382017432,{"$f":"(0.5647*0.03415*MID(J34,4,4)/(AF34*AG34))","v":{"$error":"#VALUE!"}},{"$error":"#VALUE!"}]
[53,null,"ННС",74.7,25,168,1033,"1003-1028",916.56100000000004,"114/820,968","24.07.2023",29.86,{"$f":"VLOOKUP(A35,Сеноман!B:K,5,FALSE)","v":48.349705137287899},{"$f":"VLOOKUP(A35,Сеноман!B:K,7,FALSE)","v":35.880000000000003},{"$f":"VLOOKUP(A35,Сеноман!B:K,8,FALSE)","v":43.28},{"$f":"VLOOKUP(A35,Сеноман!B:M,11,FALSE)","v":48.481432618277751},{"$f":"VLOOKUP(A35,Сеноман!B:M,12,FALSE)","v":-0.1317274809898521},8,{"$f":"VLOOKUP(A35,Сеноман!B:M,9,FALSE)","v":5.5},{"$f":"VLOOKUP(A35,Сеноман!B:M,6,FALSE)","v":693},{"$f":"VLOOKUP(A35,Сеноман!B:M,10,FALSE)","v":20.551807403564499},{"$f":"VLOOKUP(A35,Тнав!A:D,2,FALSE)","v":25.951644031770488},5.7715577609568836E-25,46.184149048164244,{"$f":"VLOOKUP(A35,Тнав!A:D,3,FALSE)","v":2.1655560891236552},{"$f":"VLOOKUP(A35,'Состояние  фонда'!C:AB,20,FALSE)","v":-1.1100000000000001},{"$f":"VLOOKUP(A35,Тнав!A:E,4,FALSE)","v":67.956216624397314},{"$f":"VLOOKUP(A35,'Состояние  фонда'!C:AB,21,FALSE)","v":17.2},null,"безгидратный",2.0361966355965651,281.87781709367295,0.94168297714762983,{"$f":"(0.5647*0.03415*MID(J35,5,7)/(AF35*AG35))","v":59.644321949887498},8.0020249230785199E+25]
[54,null,"ННС",59.7,23,168,1011.5,"983-1006",904.01599999999996,"114/850,438","24.07.2023",29.61,{"$f":"VLOOKUP(A36,Сеноман!B:K,5,FALSE)","v":48.119276058997798},{"$f":"VLOOKUP(A36,Сеноман!B:K,7,FALSE)","v":33.75},{"$f":"VLOOKUP(A36,Сеноман!B:K,8,FALSE)","v":41.79},{"$f":"VLOOKUP(A36,Сеноман!B:M,11,FALSE)","v":47.009448045036102},{"$f":"VLOOKUP(A36,Сеноман!B:M,12,FALSE)","v":1.1098280139616961},8,{"$f":"VLOOKUP(A36,Сеноман!B:M,9,FALSE)","v":5.2},{"$f":"VLOOKUP(A36,Сеноман!B:M,6,FALSE)","v":671},{"$f":"VLOOKUP(A36,Сеноман!B:M,10,FALSE)","v":20.6233310699463},{"$f":"VLOOKUP(A36,Тнав!A:D,2,FALSE)","v":24.87882312503109},1.566722416152949E-25,45.542141445315607,{"$f":"VLOOKUP(A36,Тнав!A:D,3,FALSE)","v":2.57713461368219},{"$f":"VLOOKUP(A36,'Состояние  фонда'!C:AB,20,FALSE)","v":3.36},{"$f":"VLOOKUP(A36,Тнав!A:E,4,FALSE)","v":206.15466310414041},{"$f":"VLOOKUP(A36,'Состояние  фонда'!C:AB,21,FALSE)","v":32.299999999999997},null,"безгидратный",6.2641649397354984,284.16009167559753,0.94716662807541174,60.934279603580876,2.9068417593170901E+26]
[61,null,"ННС",58.4,36,168,1042.3,"985-1040",913.59799999999996,"114/862,846","24.07.2023",29.41,{"$f":"VLOOKUP(A37,Сеноман!B:K,5,FALSE)","v":48.206684468223301},{"$f":"VLOOKUP(A37,Сеноман!B:K,7,FALSE)","v":34.78},{"$f":"VLOOKUP(A37,Сеноман!B:K,8,FALSE)","v":43.66},{"$f":"VLOOKUP(A37,Сеноман!B:M,11,FALSE)","v":49.213735549118027},{"$f":"VLOOKUP(A37,Сеноман!B:M,12,FALSE)","v":-1.0070510808947262},8,{"$f":"VLOOKUP(A37,Сеноман!B:M,9,FALSE)","v":4.9000000000000004},{"$f":"VLOOKUP(A37,Сеноман!B:M,6,FALSE)","v":657},{"$f":"VLOOKUP(A37,Сеноман!B:M,10,FALSE)","v":19.222133636474599},{"$f":"VLOOKUP(A37,Тнав!A:D,2,FALSE)","v":12.21616841268686},2.776072175840527E-25,38.416110204613638,{"$f":"VLOOKUP(A37,Тнав!A:D,3,FALSE)","v":9.7905742636096651},{"$f":"VLOOKUP(A37,'Состояние  фонда'!C:AB,20,FALSE)","v":3.12},{"$f":"VLOOKUP(A37,Тнав!A:E,4,FALSE)","v":116.9345587755396},{"$f":"VLOOKUP(A37,'Состояние  фонда'!C:AB,21,FALSE)","v":40.4},null,"безгидратный",4.2491880480850019,284.03787055919105,0.97325418341194259,60.192067190793324,1.3838296618848599E+26]
[62,null,"ННС",53.3,33,168,1045,"988-1041",912.11900000000003,"114/861,031","24.07.2023",28.91,{"$f":"VLOOKUP(A38,Сеноман!B:K,5,FALSE)","v":48.145921329519403},{"$f":"VLOOKUP(A38,Сеноман!B:K,7,FALSE)","v":32.03},{"$f":"VLOOKUP(A38,Сеноман!B:K,8,FALSE)","v":42.22},{"$f":"VLOOKUP(A38,Сеноман!B:M,11,FALSE)","v":47.555067859119717},{"$f":"VLOOKUP(A38,Сеноман!B:M,12,FALSE)","v":0.59085347039968639},8,{"$f":"VLOOKUP(A38,Сеноман!B:M,9,FALSE)","v":5.6},{"$f":"VLOOKUP(A38,Сеноман!B:M,6,FALSE)","v":659},{"$f":"VLOOKUP(A38,Сеноман!B:M,10,FALSE)","v":20.005418777465799},{"$f":"VLOOKUP(A38,Тнав!A:D,2,FALSE)","v":21.854452939606009},5.2773650668406141E-26,43.607126219157024,{"$f":"VLOOKUP(A38,Тнав!A:D,3,FALSE)","v":4.5387951103623818},{"$f":"VLOOKUP(A38,'Состояние  фонда'!C:AB,20,FALSE)","v":-1.1100000000000001},{"$f":"VLOOKUP(A38,Тнав!A:E,4,FALSE)","v":278.34359920341791},{"$f":"VLOOKUP(A38,'Состояние  фонда'!C:AB,21,FALSE)","v":240.96},null,"безгидратный",8.8329798828523209,281.87781709367295,0.95043358990955951,61.979006067452957,8.2630490153418894E+26]
[63,null,"ННС",67.400000000000006,33,168,1037.2,"979-1036",911.19500000000005,"114/864,072",null,null,null,null,null,null,null,8,null,null,null,null,null,null,null,null,null,null,null,"безгидратный",{"$f":"IFERROR([1]!Скорость_газа(AA39,X39,18.8,46.8,190.24,IF(MID(J39,1,2)=\"73\",6,IF(MID(J39,1,2)=\"89\",7.6,IF(MID(J39,1,2)=\"11\",10,0)))),\"\")","v":""},282.44572807875301,1,58.996115528834899,4.1849225783932497E+25]
[64,null,"ННС",59,28,168,1040,"981-1019",907.01199999999994,"114/854,395","24.07.2023",28.9,{"$f":"VLOOKUP(A40,Сеноман!B:K,5,FALSE)","v":47.897617033213102},{"$f":"VLOOKUP(A40,Сеноман!B:K,7,FALSE)","v":32.380000000000003},{"$f":"VLOOKUP(A40,Сеноман!B:K,8,FALSE)","v":41.25},{"$f":"VLOOKUP(A40,Сеноман!B:M,11,FALSE)","v":46.422040601227813},{"$f":"VLOOKUP(A40,Сеноман!B:M,12,FALSE)","v":1.4755764319852887},8,{"$f":"VLOOKUP(A40,Сеноман!B:M,9,FALSE)","v":5.5},{"$f":"VLOOKUP(A40,Сеноман!B:M,6,FALSE)","v":617},{"$f":"VLOOKUP(A40,Сеноман!B:M,10,FALSE)","v":19.2208576202393},{"$f":"VLOOKUP(A40,Тнав!A:D,2,FALSE)","v":21.623307413833849},{"$f":"X40/AI40","v":1.9330876740670661E-25},{"$f":"M40-Y40","v":43.052822178093727},{"$f":"VLOOKUP(A40,Тнав!A:D,3,FALSE)","v":4.844794855119372},{"$f":"VLOOKUP(A40,'Состояние  фонда'!C:AB,20,FALSE)","v":4.22},{"$f":"VLOOKUP(A40,Тнав!A:E,4,FALSE)","v":238.12380651633379},{"$f":"VLOOKUP(A40,'Состояние  фонда'!C:AB,21,FALSE)","v":41.9},null,"безгидратный",7.6539330744825929,284.59775802982148,0.954281480080585,60.667936553724104,2.22715310617619E+26]
[71,6,"ННС",73.8,40,168,1038.5,"967-1034,5",906.95699999999999,"114/873,191","24.07.2023",29,{"$f":"VLOOKUP(A41,Сеноман!B:K,5,FALSE)","v":47.862238272811702},{"$f":"VLOOKUP(A41,Сеноман!B:K,7,FALSE)","v":37.11},{"$f":"VLOOKUP(A41,Сеноман!B:K,8,FALSE)","v":42.72},{"$f":"VLOOKUP(A41,Сеноман!B:M,11,FALSE)","v":{"$error":"#NAME?"}},{"$f":"VLOOKUP(A41,Сеноман!B:M,12,FALSE)","v":{"$error":"#NAME?"}},8,{"$f":"VLOOKUP(A41,Сеноман!B:M,9,FALSE)","v":8},{"$f":"VLOOKUP(A41,Сеноман!B:M,6,FALSE)","v":538},{"$f":"VLOOKUP(A41,Сеноман!B:M,10,FALSE)","v":16.129579544067401},{"$f":"VLOOKUP(A41,Тнав!A:D,2,FALSE)","v":0},1.5941728257231593E-24,47.862238272811702,{"$f":"VLOOKUP(A41,Тнав!A:D,3,FALSE)","v":0},{"$f":"VLOOKUP(A41,'Состояние  фонда'!C:AB,20,FALSE)","v":9.0399999999999991},{"$f":"VLOOKUP(A41,Тнав!A:E,4,FALSE)","v":0},{"$f":"VLOOKUP(A41,'Состояние  фонда'!C:AB,21,FALSE)","v":59.8},null,"безгидратный",{"$f":"IFERROR([1]!Скорость_газа(AA41,X41,18.8,46.8,190.24,IF(MID(J41,1,2)=\"73\",6,IF(MID(J41,1,2)=\"89\",7.6,IF(MID(J41,1,2)=\"11\",10,0)))),\"\")","v":""},287.04234561206795,1,58.664014083178692,3.00232430891551E+25]
[72,null,"ННС",87.6,26,168,1029.5999999999999,"972-1010",903.32899999999995,"114/860,55","24.07.2023",29,{"$f":"VLOOKUP(A42,Сеноман!B:K,5,FALSE)","v":47.828207163697599},{"$f":"VLOOKUP(A42,Сеноман!B:K,7,FALSE)","v":36.9},{"$f":"VLOOKUP(A42,Сеноман!B:K,8,FALSE)","v":43.55},{"$f":"VLOOKUP(A42,Сеноман!B:M,11,FALSE)","v":49.006666176464002},{"$f":"VLOOKUP(A42,Сеноман!B:M,12,FALSE)","v":-1.1784590127664032},8,{"$f":"VLOOKUP(A42,Сеноман!B:M,9,FALSE)","v":7.8},{"$f":"VLOOKUP(A42,Сеноман!B:M,6,FALSE)","v":623},{"$f":"VLOOKUP(A42,Сеноман!B:M,10,FALSE)","v":18.307533264160199},{"$f":"VLOOKUP(A42,Тнав!A:D,2,FALSE)","v":0},{"$error":"#VALUE!"},47.828207163697599,{"$f":"VLOOKUP(A42,Тнав!A:D,3,FALSE)","v":0},{"$f":"VLOOKUP(A42,'Состояние  фонда'!C:AB,20,FALSE)","v":9.01},{"$f":"VLOOKUP(A42,Тнав!A:E,4,FALSE)","v":0},{"$f":"VLOOKUP(A42,'Состояние  фонда'!C:AB,21,FALSE)","v":95.2},null,"безгидратный",{"$f":"IFERROR([1]!Скорость_газа(AA42,X42,18.8,46.8,190.24,IF(MID(J42,1,2)=\"73\",6,IF(MID(J42,1,2)=\"89\",7.6,IF(MID(J42,1,2)=\"11\",10,0)))),\"\")","v":""},287.02717387690166,1,{"$error":"#VALUE!"},{"$error":"#VALUE!"}]
[73,null,"ННС",76.099999999999994,22,168,1030,"1009-1031",921.52,"114/825,059","24.07.2023",29.22,{"$f":"VLOOKUP(A43,Сеноман!B:K,5,FALSE)","v":47.883984348314002},{"$f":"VLOOKUP(A43,Сеноман!B:K,7,FALSE)","v":37.11},{"$f":"VLOOKUP(A43,Сеноман!B:K,8,FALSE)","v":43.19},{"$f":"VLOOKUP(A43,Сеноман!B:M,11,FALSE)","v":48.35470631033165},{"$f":"VLOOKUP(A43,Сеноман!B:M,12,FALSE)","v":-0.47072196201764882},8,{"$f":"VLOOKUP(A43,Сеноман!B:M,9,FALSE)","v":8.4},{"$f":"VLOOKUP(A43,Сеноман!B:M,6,FALSE)","v":582},{"$f":"VLOOKUP(A43,Сеноман!B:M,10,FALSE)","v":17.310337066650401},{"$f":"VLOOKUP(A43,Тнав!A:D,2,FALSE)","v":0},4.2613833337208281E-23,47.883984348314002,{"$f":"VLOOKUP(A43,Тнав!A:D,3,FALSE)","v":0},{"$f":"VLOOKUP(A43,'Состояние  фонда'!C:AB,20,FALSE)","v":9.57},{"$f":"VLOOKUP(A43,Тнав!A:E,4,FALSE)","v":0},{"$f":"VLOOKUP(A43,'Состояние  фонда'!C:AB,21,FALSE)","v":94.2},null,"безгидратный",{"$f":"IFERROR([1]!Скорость_газа(AA43,X43,18.8,46.8,190.24,IF(MID(J43,1,2)=\"73\",6,IF(MID(J43,1,2)=\"89\",7.6,IF(MID(J43,1,2)=\"11\",10,0)))),\"\")","v":""},287.31029052576827,1,55.378644397590726,1.1236723054084901E+24]
[74,null,"ННС",72.3,26,168,1038.4000000000001,"984,6-1010,6",902.37199999999996,"114/820,71","24.07.2023",29.17,{"$f":"VLOOKUP(A44,Сеноман!B:K,5,FALSE)","v":47.844178180197098},{"$f":"VLOOKUP(A44,Сеноман!B:K,7,FALSE)","v":36.89},{"$f":"VLOOKUP(A44,Сеноман!B:K,8,FALSE)","v":43.18},{"$f":"VLOOKUP(A44,Сеноман!B:M,11,FALSE)","v":{"$error":"#NAME?"}},{"$f":"VLOOKUP(A44,Сеноман!B:M,12,FALSE)","v":{"$error":"#NAME?"}},8,{"$f":"VLOOKUP(A44,Сеноман!B:M,9,FALSE)","v":8},{"$f":"VLOOKUP(A44,Сеноман!B:M,6,FALSE)","v":606},{"$f":"VLOOKUP(A44,Сеноман!B:M,10,FALSE)","v":18.033706665039102},{"$f":"VLOOKUP(A44,Тнав!A:D,2,FALSE)","v":0},{"$error":"#VALUE!"},47.844178180197098,{"$f":"VLOOKUP(A44,Тнав!A:D,3,FALSE)","v":0},{"$f":"VLOOKUP(A44,'Состояние  фонда'!C:AB,20,FALSE)","v":9.52},{"$f":"VLOOKUP(A44,Тнав!A:E,4,FALSE)","v":0},{"$f":"VLOOKUP(A44,'Состояние  фонда'!C:AB,21,FALSE)","v":100},null,"безгидратный",{"$f":"IFERROR([1]!Скорость_газа(AA44,X44,18.8,46.8,190.24,IF(MID(J44,1,2)=\"73\",6,IF(MID(J44,1,2)=\"89\",7.6,IF(MID(J44,1,2)=\"11\",10,0)))),\"\")","v":""},287.28501989998068,1,{"$error":"#VALUE!"},{"$error":"#VALUE!"}]
[81,5,"ННС",76.2,40,168,1031.8,"971-1030",901.22900000000004,"114/864,121","24.07.2023",28.75,{"$f":"VLOOKUP(A45,Сеноман!B:K,5,FALSE)","v":47.8044334790318},{"$f":"VLOOKUP(A45,Сеноман!B:K,7,FALSE)","v":33.380000000000003},{"$f":"VLOOKUP(A45,Сеноман!B:K,8,FALSE)","v":42.77},{"$f":"VLOOKUP(A45,Сеноман!B:M,11,FALSE)","v":48.179541232404873},{"$f":"VLOOKUP(A45,Сеноман!B:M,12,FALSE)","v":-0.37510775337307223},8,{"$f":"VLOOKUP(A45,Сеноман!B:M,9,FALSE)","v":6.4},{"$f":"VLOOKUP(A45,Сеноман!B:M,6,FALSE)","v":667},{"$f":"VLOOKUP(A45,Сеноман!B:M,10,FALSE)","v":19.97194480896},{"$f":"VLOOKUP(A45,Тнав!A:D,2,FALSE)","v":15.2683378891525},3.6388636670809929E-25,42.97112011489461,{"$f":"VLOOKUP(A45,Тнав!A:D,3,FALSE)","v":4.8333133641371919},{"$f":"VLOOKUP(A45,'Состояние  фонда'!C:AB,20,FALSE)","v":7.97},{"$f":"VLOOKUP(A45,Тнав!A:E,4,FALSE)","v":432.60139067582372},{"$f":"VLOOKUP(A45,'Состояние  фонда'!C:AB,21,FALSE)","v":100},null,"безгидратный",13.9313982156739,286.50088547284741,0.96886560301216218,60.033484136131257,1.1808939286083501E+26]
[82,null,"ННС",78.5,25,168,1011,"985-1010",899.93,"114/842,345","24.07.2023",28.65,{"$f":"VLOOKUP(A46,Сеноман!B:K,5,FALSE)","v":47.695075996475197},{"$f":"VLOOKUP(A46,Сеноман!B:K,7,FALSE)","v":33.5},{"$f":"VLOOKUP(A46,Сеноман!B:K,8,FALSE)","v":41.87},{"$f":"VLOOKUP(A46,Сеноман!B:M,11,FALSE)","v":47.030138048654862},{"$f":"VLOOKUP(A46,Сеноман!B:M,12,FALSE)","v":0.66493794782033433},8,{"$f":"VLOOKUP(A46,Сеноман!B:M,9,FALSE)","v":6.1},{"$f":"VLOOKUP(A46,Сеноман!B:M,6,FALSE)","v":650},{"$f":"VLOOKUP(A46,Сеноман!B:M,10,FALSE)","v":19.953001022338899},{"$f":"VLOOKUP(A46,Тнав!A:D,2,FALSE)","v":17.733228781021591},1.2520736770923146E-24,45.485845061001925,{"$f":"VLOOKUP(A46,Тнав!A:D,3,FALSE)","v":2.2092309354732729},{"$f":"VLOOKUP(A46,'Состояние  фонда'!C:AB,20,FALSE)","v":7.67},{"$f":"VLOOKUP(A46,Тнав!A:E,4,FALSE)","v":376.18051228064633},{"$f":"VLOOKUP(A46,'Состояние  фонда'!C:AB,21,FALSE)","v":100},null,"безгидратный",11.444675818377521,286.34895022551763,0.96387824510033049,58.854642293388437,3.6328409336608298E+25]
[83,null,"ННС",77.2,30,168,1015,"981-1014",899.68,"114/848,926","24.07.2023",28.67,{"$f":"VLOOKUP(A47,Сеноман!B:K,5,FALSE)","v":47.6544723751474},{"$f":"VLOOKUP(A47,Сеноман!B:K,7,FALSE)","v":33.96},{"$f":"VLOOKUP(A47,Сеноман!B:K,8,FALSE)","v":43.24},{"$f":"VLOOKUP(A47,Сеноман!B:M,11,FALSE)","v":{"$error":"#NAME?"}},{"$f":"VLOOKUP(A47,Сеноман!B:M,12,FALSE)","v":{"$error":"#NAME?"}},8,{"$f":"VLOOKUP(A47,Сеноман!B:M,9,FALSE)","v":6},{"$f":"VLOOKUP(A47,Сеноман!B:M,6,FALSE)","v":671},{"$f":"VLOOKUP(A47,Сеноман!B:M,10,FALSE)","v":19.875568389892599},{"$f":"VLOOKUP(A47,Тнав!A:D,2,FALSE)","v":17.206976325840358},8.1118953509589935E-25,44.681539013294717,{"$f":"VLOOKUP(A47,Тнав!A:D,3,FALSE)","v":2.9729333618526792},{"$f":"VLOOKUP(A47,'Состояние  фонда'!C:AB,20,FALSE)","v":7.52},{"$f":"VLOOKUP(A47,Тнав!A:E,4,FALSE)","v":471.60233705311748},{"$f":"VLOOKUP(A47,'Состояние  фонда'!C:AB,21,FALSE)","v":100},null,"безгидратный",14.60599994121633,286.27296218282385,0.96484332780214743,59.270856197455473,5.5081503249437798E+25]
[84,null,"ННС",98,54,168,1026,"955,5-1027",901.46,"114/804,413","24.07.2023",28.61,{"$f":"VLOOKUP(A48,Сеноман!B:K,5,FALSE)","v":47.522552791808003},{"$f":"VLOOKUP(A48,Сеноман!B:K,7,FALSE)","v":35.72},{"$f":"VLOOKUP(A48,Сеноман!B:K,8,FALSE)","v":43.21},{"$f":"VLOOKUP(A48,Сеноман!B:M,11,FALSE)","v":48.276202426525003},{"$f":"VLOOKUP(A48,Сеноман!B:M,12,FALSE)","v":-0.75364963471700008},8,{"$f":"VLOOKUP(A48,Сеноман!B:M,9,FALSE)","v":6.4},{"$f":"VLOOKUP(A48,Сеноман!B:M,6,FALSE)","v":666},{"$f":"VLOOKUP(A48,Сеноман!B:M,10,FALSE)","v":19.816427230835},{"$f":"VLOOKUP(A48,Тнав!A:D,2,FALSE)","v":17.66290272984855},1.7842166886500808E-23,46.228116367823624,{"$f":"VLOOKUP(A48,Тнав!A:D,3,FALSE)","v":1.294436423984378},{"$f":"VLOOKUP(A48,'Состояние  фонда'!C:AB,20,FALSE)","v":7.53},{"$f":"VLOOKUP(A48,Тнав!A:E,4,FALSE)","v":525.31298169123227},{"$f":"VLOOKUP(A48,'Состояние  фонда'!C:AB,21,FALSE)","v":100},null,"безгидратный",15.725172022926611,286.27802847617414,0.96395011751406068,56.214065842201848,2.5909474259429397E+24]
[91,null,"ВС",55.3,21,168,970.5,"910-931",920.41,"114/817,54","26.07.2023",28.45,{"$f":"VLOOKUP(A49,Сеноман!B:K,5,FALSE)","v":47.740132447308397},{"$f":"VLOOKUP(A49,Сеноман!B:K,7,FALSE)","v":41.28},{"$f":"VLOOKUP(A49,Сеноман!B:K,8,FALSE)","v":43.93},{"$f":"VLOOKUP(A49,Сеноман!B:M,11,FALSE)","v":49.217109742557703},{"$f":"VLOOKUP(A49,Сеноман!B:M,12,FALSE)","v":-1.4769772952493057},8,{"$f":"VLOOKUP(A49,Сеноман!B:M,9,FALSE)","v":4.4000000000000004},{"$f":"VLOOKUP(A49,Сеноман!B:M,6,FALSE)","v":398},{"$f":"VLOOKUP(A49,Сеноман!B:M,10,FALSE)","v":11.6155662536621},{"$f":"VLOOKUP(A49,Тнав!A:D,2,FALSE)","v":15.845383317148089},{"$error":"#VALUE!"},44.931455812269824,{"$f":"VLOOKUP(A49,Тнав!A:D,3,FALSE)","v":2.8086766350385748},{"$f":"VLOOKUP(A49,'Состояние  фонда'!C:AB,20,FALSE)","v":7.99},{"$f":"VLOOKUP(A49,Тнав!A:E,4,FALSE)","v":527.40143714494434},{"$f":"VLOOKUP(A49,'Состояние  фонда'!C:AB,21,FALSE)","v":98.1},null,"безгидратный",16.243300848852531,286.51101255493154,0.967735394790185,{"$error":"#VALUE!"},{"$error":"#VALUE!"}]
[92,null,"ННС",63.6,37,168,1036,"983-1029",906.98599999999999,"114/860,542","26.07.2023",28.43,{"$f":"VLOOKUP(A50,Сеноман!B:K,5,FALSE)","v":47.885829976731799},{"$f":"VLOOKUP(A50,Сеноман!B:K,7,FALSE)","v":41.16},{"$f":"VLOOKUP(A50,Сеноман!B:K,8,FALSE)","v":44.17},{"$f":"VLOOKUP(A50,Сеноман!B:M,11,FALSE)","v":49.817337867127513},{"$f":"VLOOKUP(A50,Сеноман!B:M,12,FALSE)","v":-1.9315078903957144},8,{"$f":"VLOOKUP(A50,Сеноман!B:M,9,FALSE)","v":4.0999999999999996},{"$f":"VLOOKUP(A50,Сеноман!B:M,6,FALSE)","v":376},{"$f":"VLOOKUP(A50,Сеноман!B:M,10,FALSE)","v":10.867495536804199},{"$f":"VLOOKUP(A50,Тнав!A:D,2,FALSE)","v":15.991515390500361},4.0784206299306605E-25,44.894794472172627,{"$f":"VLOOKUP(A50,Тнав!A:D,3,FALSE)","v":2.991035504559171},{"$f":"VLOOKUP(A50,'Состояние  фонда'!C:AB,20,FALSE)","v":7.29},{"$f":"VLOOKUP(A50,Тнав!A:E,4,FALSE)","v":494.97077103836011},{"$f":"VLOOKUP(A50,'Состояние  фонда'!C:AB,21,FALSE)","v":97.3},null,"безгидратный",15.25692585234493,286.15642071308804,0.96714587953313136,59.963239363880326,1.10078872548602E+26]
[93,null,"ННС",60.5,31,168,1019.5,"968-1014",911.36099999999999,"114/865,324","26.07.2023",28.44,{"$f":"VLOOKUP(A51,Сеноман!B:K,5,FALSE)","v":47.908548471970903},{"$f":"VLOOKUP(A51,Сеноман!B:K,7,FALSE)","v":40.799999999999997},{"$f":"VLOOKUP(A51,Сеноман!B:K,8,FALSE)","v":44.02},{"$f":"VLOOKUP(A51,Сеноман!B:M,11,FALSE)","v":49.665202494271867},{"$f":"VLOOKUP(A51,Сеноман!B:M,12,FALSE)","v":-1.7566540223009639},8,{"$f":"VLOOKUP(A51,Сеноман!B:M,9,FALSE)","v":4.9000000000000004},{"$f":"VLOOKUP(A51,Сеноман!B:M,6,FALSE)","v":390},{"$f":"VLOOKUP(A51,Сеноман!B:M,10,FALSE)","v":11.312219619751},{"$f":"VLOOKUP(A51,Тнав!A:D,2,FALSE)","v":17.397271455518371},2.553965205785335E-25,41.036195557173784,{"$f":"VLOOKUP(A51,Тнав!A:D,3,FALSE)","v":6.8723529147971192},{"$f":"VLOOKUP(A51,'Состояние  фонда'!C:AB,20,FALSE)","v":8.24},{"$f":"VLOOKUP(A51,Тнав!A:E,4,FALSE)","v":507.16711177340608},{"$f":"VLOOKUP(A51,'Состояние  фонда'!C:AB,21,FALSE)","v":98},null,"безгидратный",17.252834284709611,286.63758069973846,0.96480264074306887,60.341434686470521,1.6067640805840699E+26]
[94,null,"ННС",74.7,35,168,1022,"994-1029",918.33699999999999,"114/816,25","24.08.2022",30.84,{"$f":"VLOOKUP(A52,Сеноман!B:K,5,FALSE)","v":47.699565816490498},{"$f":"VLOOKUP(A52,Сеноман!B:K,7,FALSE)","v":40.82},{"$f":"VLOOKUP(A52,Сеноман!B:K,8,FALSE)","v":43.47},{"$f":"VLOOKUP(A52,Сеноман!B:M,11,FALSE)","v":48.695007293268937},{"$f":"VLOOKUP(A52,Сеноман!B:M,12,FALSE)","v":-0.99544147677843853},8,{"$f":"VLOOKUP(A52,Сеноман!B:M,9,FALSE)","v":4.3},{"$f":"VLOOKUP(A52,Сеноман!B:M,6,FALSE)","v":374},{"$f":"VLOOKUP(A52,Сеноман!B:M,10,FALSE)","v":11.042172431945801},{"$f":"VLOOKUP(A52,Тнав!A:D,2,FALSE)","v":17.89115634673691},{"$error":"#VALUE!"},44.938914611571292,{"$f":"VLOOKUP(A52,Тнав!A:D,3,FALSE)","v":2.760651204919208},{"$f":"VLOOKUP(A52,'Состояние  фонда'!C:AB,20,FALSE)","v":7.53},{"$f":"VLOOKUP(A52,Тнав!A:E,4,FALSE)","v":504.5842322303854},{"$f":"VLOOKUP(A52,'Состояние  фонда'!C:AB,21,FALSE)","v":97.8},null,"безгидратный",15.53798027295921,286.27802847617414,0.96350125666196085,{"$error":"#VALUE!"},{"$error":"#VALUE!"}]
[101,6,"ННС",51.2,37,168,1052.5999999999999,"991-1052",919.01400000000001,"114/876,24","26.07.2023",28.24,{"$f":"VLOOKUP(A53,Сеноман!B:K,5,FALSE)","v":47.357767325676299},{"$f":"VLOOKUP(A53,Сеноман!B:K,7,FALSE)","v":34.950000000000003},{"$f":"VLOOKUP(A53,Сеноман!B:K,8,FALSE)","v":39.68},{"$f":"VLOOKUP(A53,Сеноман!B:M,11,FALSE)","v":44.772544160141123},{"$f":"VLOOKUP(A53,Сеноман!B:M,12,FALSE)","v":2.5852231655351758},8,{"$f":"VLOOKUP(A53,Сеноман!B:M,9,FALSE)","v":6.5},{"$f":"VLOOKUP(A53,Сеноман!B:M,6,FALSE)","v":458},{"$f":"VLOOKUP(A53,Сеноман!B:M,10,FALSE)","v":14.860841751098601},{"$f":"VLOOKUP(A53,Тнав!A:D,2,FALSE)","v":21.850232737434251},{"$error":"#VALUE!"},43.621454695955677,{"$f":"VLOOKUP(A53,Тнав!A:D,3,FALSE)","v":3.7363126297206191},{"$f":"VLOOKUP(A53,'Состояние  фонда'!C:AB,20,FALSE)","v":5},{"$f":"VLOOKUP(A53,Тнав!A:E,4,FALSE)","v":162.56912427989869},{"$f":"VLOOKUP(A53,'Состояние  фонда'!C:AB,21,FALSE)","v":32},null,"безгидратный",5.1572880817630837,{"$f":"(($AF$18+273.15)-(Z53+273.15))/(LN(($AF$18+273.15)/(Z53+273.15)))","v":284.99431685502043},{"$f":"1/(1+(5*10^7*0.098*V53)/(Z53+273.15)^3.825)","v":0.95429463227898781},{"$error":"#VALUE!"},{"$f":"ROUND(EXP(AH53),4)","v":{"$error":"#VALUE!"}}]
[102,null,"ННС",65.2,23,168,1050.3,"1019-1046",926.54200000000003,"114/870,786","26.07.2023",28.23,{"$f":"VLOOKUP(A54,Сеноман!B:K,5,FALSE)","v":47.366361977725497},{"$f":"VLOOKUP(A54,Сеноман!B:K,7,FALSE)","v":33.08},{"$f":"VLOOKUP(A54,Сеноман!B:K,8,FALSE)","v":41.84},{"$f":"VLOOKUP(A54,Сеноман!B:M,11,FALSE)","v":47.156583680187417},{"$f":"VLOOKUP(A54,Сеноман!B:M,12,FALSE)","v":0.20977829753807953},8,{"$f":"VLOOKUP(A54,Сеноман!B:M,9,FALSE)","v":7.4},{"$f":"VLOOKUP(A54,Сеноман!B:M,6,FALSE)","v":606},{"$f":"VLOOKUP(A54,Сеноман!B:M,10,FALSE)","v":18.5742092132568},{"$f":"VLOOKUP(A54,Тнав!A:D,2,FALSE)","v":18.419420621361201},{"$error":"#VALUE!"},44.586478157004542,{"$f":"VLOOKUP(A54,Тнав!A:D,3,FALSE)","v":2.779883820720952},{"$f":"VLOOKUP(A54,'Состояние  фонда'!C:AB,20,FALSE)","v":3.08},{"$f":"VLOOKUP(A54,Тнав!A:E,4,FALSE)","v":73.56655557154248},{"$f":"VLOOKUP(A54,'Состояние  фонда'!C:AB,21,FALSE)","v":84.8},16,"безгидратный",2.2832881510060061,284.01749690123268,0.96019210614602979,{"$f":"(0.5647*0.03415*MID(J54,4,7)/(AF54*AG54))","v":{"$error":"#VALUE!"}},{"$error":"#VALUE!"}]
[103,null,"ННС",63,30,168,1037,"972,5-1002,5",900.19799999999998,"114/847,907","26.07.2023",28.36,{"$f":"VLOOKUP(A55,Сеноман!B:K,5,FALSE)","v":47.3064573004485},{"$f":"VLOOKUP(A55,Сеноман!B:K,7,FALSE)","v":34.72},{"$f":"VLOOKUP(A55,Сеноман!B:K,8,FALSE)","v":42.69},{"$f":"VLOOKUP(A55,Сеноман!B:M,11,FALSE)","v":47.982114243954562},{"$f":"VLOOKUP(A55,Сеноман!B:M,12,FALSE)","v":-0.67565694350606265},8,{"$f":"VLOOKUP(A55,Сеноман!B:M,9,FALSE)","v":6.4},{"$f":"VLOOKUP(A55,Сеноман!B:M,6,FALSE)","v":705},{"$f":"VLOOKUP(A55,Сеноман!B:M,10,FALSE)","v":21.175457000732401},{"$f":"VLOOKUP(A55,Тнав!A:D,2,FALSE)","v":24.525971652820349},2.132868179168785E-25,45.655147360421054,{"$f":"VLOOKUP(A55,Тнав!A:D,3,FALSE)","v":1.6513099400274489},{"$f":"VLOOKUP(A55,'Состояние  фонда'!C:AB,20,FALSE)","v":3.88},{"$f":"VLOOKUP(A55,Тнав!A:E,4,FALSE)","v":147.3107988782474},{"$f":"VLOOKUP(A55,'Состояние  фонда'!C:AB,21,FALSE)","v":98},24,"безгидратный",4.4650703449368629,284.42478176369701,0.94823081263233477,{"$f":"(0.5647*0.03415*MID(J55,5,7)/(AF55*AG55))","v":60.628276045700879},2.14055176059749E+26]
[104,null,"ННС",67.5,24,168,1056,"987-1045",913.63300000000004,"114/823,506","26.07.2023",28.46,{"$f":"VLOOKUP(A56,Сеноман!B:K,5,FALSE)","v":47.092981435151799},{"$f":"VLOOKUP(A56,Сеноман!B:K,7,FALSE)","v":34.409999999999997},{"$f":"VLOOKUP(A56,Сеноман!B:K,8,FALSE)","v":42.68},{"$f":"VLOOKUP(A56,Сеноман!B:M,11,FALSE)","v":{"$error":"#NAME?"}},{"$f":"VLOOKUP(A56,Сеноман!B:M,12,FALSE)","v":{"$error":"#NAME?"}},8,{"$f":"VLOOKUP(A56,Сеноман!B:M,9,FALSE)","v":7},{"$f":"VLOOKUP(A56,Сеноман!B:M,6,FALSE)","v":647},{"$f":"VLOOKUP(A56,Сеноман!B:M,10,FALSE)","v":19.479230880737301},{"$f":"VLOOKUP(A56,Тнав!A:D,2,FALSE)","v":21.985464507654491},2.3507567051068394E-24,44.692382689082855,{"$f":"VLOOKUP(A56,Тнав!A:D,3,FALSE)","v":2.4005987460689471},{"$f":"VLOOKUP(A56,'Состояние  фонда'!C:AB,20,FALSE)","v":6.44},{"$f":"VLOOKUP(A56,Тнав!A:E,4,FALSE)","v":300.39569329836468},{"$f":"VLOOKUP(A56,'Состояние  фонда'!C:AB,21,FALSE)","v":47},null,"безгидратный",9.3013002252983075,285.72544532985393,0.9548833548371416,58.207108030817423,1.90119133094429E+25]
[111,4,"ННС",93.6,41,168,1042.5,"913-1000",897.28200000000004,"114/883,02","23.07.2023",28.43,{"$f":"VLOOKUP(A57,Сеноман!B:K,5,FALSE)","v":47.729396944094098},{"$f":"VLOOKUP(A57,Сеноман!B:K,7,FALSE)","v":32.44},{"$f":"VLOOKUP(A57,Сеноман!B:K,8,FALSE)","v":42.01},{"$f":"VLOOKUP(A57,Сеноман!B:M,11,FALSE)","v":47.447056462917971},{"$f":"VLOOKUP(A57,Сеноман!B:M,12,FALSE)","v":0},8,{"$f":"VLOOKUP(A57,Сеноман!B:M,9,FALSE)","v":6.4},{"$f":"VLOOKUP(A57,Сеноман!B:M,6,FALSE)","v":564},{"$f":"VLOOKUP(A57,Сеноман!B:M,10,FALSE)","v":17.220762252807599},{"$f":"VLOOKUP(A57,Тнав!A:D,2,FALSE)","v":10.93487055283123},{"$error":"#VALUE!"},47.729396944094098,{"$f":"VLOOKUP(A57,Тнав!A:D,3,FALSE)","v":0},{"$f":"VLOOKUP(A57,'Состояние  фонда'!C:AB,20,FALSE)","v":4.2699999999999996},{"$f":"VLOOKUP(A57,Тнав!A:E,4,FALSE)","v":182.0131981061925},{"$f":"VLOOKUP(A57,'Состояние  фонда'!C:AB,21,FALSE)","v":34.9},null,"безгидратный",5.2279776414275734,284.62318970186436,0.97636157985710903,{"$error":"#VALUE!"},{"$error":"#VALUE!"}]
[112,null,"ННС",94.4,33,168,1036.5999999999999,"945-1006",883.54399999999998,"114/857,47","23.07.2023",28.38,{"$f":"VLOOKUP(A58,Сеноман!B:K,5,FALSE)","v":47.6887905133052},{"$f":"VLOOKUP(A58,Сеноман!B:K,7,FALSE)","v":33.08},{"$f":"VLOOKUP(A58,Сеноман!B:K,8,FALSE)","v":42.44},{"$f":"VLOOKUP(A58,Сеноман!B:M,11,FALSE)","v":47.767889110702313},{"$f":"VLOOKUP(A58,Сеноман!B:M,12,FALSE)","v":-7.9098597397113224E-2},8,{"$f":"VLOOKUP(A58,Сеноман!B:M,9,FALSE)","v":6.2},{"$f":"VLOOKUP(A58,Сеноман!B:M,6,FALSE)","v":642},{"$f":"VLOOKUP(A58,Сеноман!B:M,10,FALSE)","v":19.4147758483887},{"$f":"VLOOKUP(A58,Тнав!A:D,2,FALSE)","v":18.787458427562971},{"$error":"#VALUE!"},46.028422434420712,{"$f":"VLOOKUP(A58,Тнав!A:D,3,FALSE)","v":1.660368078884487},{"$f":"VLOOKUP(A58,'Состояние  фонда'!C:AB,20,FALSE)","v":7.01},{"$f":"VLOOKUP(A58,Тнав!A:E,4,FALSE)","v":386.68938233361843},{"$f":"VLOOKUP(A58,'Состояние  фонда'!C:AB,21,FALSE)","v":69.900000000000006},null,"безгидратный",11.62571378231579,286.01450084025691,0.96148088292312217,{"$error":"#VALUE!"},{"$error":"#VALUE!"}]
[113,null,"ННС",108,35,168,1061.3,"978-1015",908.97799999999995,"114/873,196","23.07.2023",28.36,{"$f":"VLOOKUP(A59,Сеноман!B:K,5,FALSE)","v":47.777500085058499},{"$f":"VLOOKUP(A59,Сеноман!B:K,7,FALSE)","v":34.25},{"$f":"VLOOKUP(A59,Сеноман!B:K,8,FALSE)","v":42.46},{"$f":"VLOOKUP(A59,Сеноман!B:M,11,FALSE)","v":47.880633452041593},{"$f":"VLOOKUP(A59,Сеноман!B:M,12,FALSE)","v":-0.10313336698309428},8,{"$f":"VLOOKUP(A59,Сеноман!B:M,9,FALSE)","v":6.9},{"$f":"VLOOKUP(A59,Сеноман!B:M,6,FALSE)","v":662},{"$f":"VLOOKUP(A59,Сеноман!B:M,10,FALSE)","v":19.985397338867202},{"$f":"VLOOKUP(A59,Тнав!A:D,2,FALSE)","v":16.484076031136809},1.6005114482442319E-25,42.918528500039422,{"$f":"VLOOKUP(A59,Тнав!A:D,3,FALSE)","v":4.8589715850190789},{"$f":"VLOOKUP(A59,'Состояние  фонда'!C:AB,20,FALSE)","v":7.68},{"$f":"VLOOKUP(A59,Тнав!A:E,4,FALSE)","v":403.73671387146601},{"$f":"VLOOKUP(A59,'Состояние  фонда'!C:AB,21,FALSE)","v":73},null,"безгидратный",13.01777886968827,286.35401561077271,0.96634148689584742,60.853607723991516,2.6815508597030801E+26]
[114,null,"ННС",94,23,168,1074,"932-955",880.26800000000003,"114/805,105","23.07.2023",28.35,{"$f":"VLOOKUP(A60,Сеноман!B:K,5,FALSE)","v":47.499525531839701},{"$f":"VLOOKUP(A60,Сеноман!B:K,7,FALSE)","v":33.85},{"$f":"VLOOKUP(A60,Сеноман!B:K,8,FALSE)","v":42.89},{"$f":"VLOOKUP(A60,Сеноман!B:M,11,FALSE)","v":47.932271420304062},{"$f":"VLOOKUP(A60,Сеноман!B:M,12,FALSE)","v":-0.43274588846436046},8,{"$f":"VLOOKUP(A60,Сеноман!B:M,9,FALSE)","v":5.9},{"$f":"VLOOKUP(A60,Сеноман!B:M,6,FALSE)","v":698},{"$f":"VLOOKUP(A60,Сеноман!B:M,10,FALSE)","v":20.954410552978501},{"$f":"VLOOKUP(A60,Тнав!A:D,2,FALSE)","v":20.734367467940221},1.0049721674292018E-23,45.388765385109068,{"$f":"VLOOKUP(A60,Тнав!A:D,3,FALSE)","v":2.1107601467306361},{"$f":"VLOOKUP(A60,'Состояние  фонда'!C:AB,20,FALSE)","v":6.37},{"$f":"VLOOKUP(A60,Тнав!A:E,4,FALSE)","v":416.56549514301042},{"$f":"VLOOKUP(A60,'Состояние  фонда'!C:AB,21,FALSE)","v":60},null,"безгидратный",12.70042907500679,285.68993365143717,0.95730209324397908,56.769761907782424,4.51642014138731E+24]
[121,6,"ННС",70.599999999999994,38,168,1046.0999999999999,"1000-1043",917.47199999999998,"114/873,754","23.07.2023",27.95,{"$f":"VLOOKUP(A61,Сеноман!B:K,5,FALSE)","v":47.250095206444698},{"$f":"VLOOKUP(A61,Сеноман!B:K,7,FALSE)","v":33.450000000000003},{"$f":"VLOOKUP(A61,Сеноман!B:K,8,FALSE)","v":41.33},{"$f":"VLOOKUP(A61,Сеноман!B:M,11,FALSE)","v":46.614044316384721},{"$f":"VLOOKUP(A61,Сеноман!B:M,12,FALSE)","v":0.63605089005997684},8,{"$f":"VLOOKUP(A61,Сеноман!B:M,9,FALSE)","v":6.7},{"$f":"VLOOKUP(A61,Сеноман!B:M,6,FALSE)","v":674},{"$f":"VLOOKUP(A61,Сеноман!B:M,10,FALSE)","v":20.935306549072301},{"$f":"VLOOKUP(A61,Тнав!A:D,2,FALSE)","v":19.256183807215919},1.0537629135726155E-25,44.375659339749902,{"$f":"VLOOKUP(A61,Тнав!A:D,3,FALSE)","v":2.874435866694796},{"$f":"VLOOKUP(A61,'Состояние  фонда'!C:AB,20,FALSE)","v":7.2},{"$f":"VLOOKUP(A61,Тнав!A:E,4,FALSE)","v":333.94344585419259},{"$f":"VLOOKUP(A61,'Состояние  фонда'!C:AB,21,FALSE)","v":47.1},null,"безгидратный",10.41385616125938,286.11080879927096,0.96065590885116858,61.30495094576488,4.2111616159750101E+26]
[122,null,"ННС",57.3,29,168,1047,"996-1044",918.3,"114/872,523","23.07.2023",27.93,{"$f":"VLOOKUP(A62,Сеноман!B:K,5,FALSE)","v":47.297799910696902},{"$f":"VLOOKUP(A62,Сеноман!B:K,7,FALSE)","v":32.619999999999997},{"$f":"VLOOKUP(A62,Сеноман!B:K,8,FALSE)","v":40.51},{"$f":"VLOOKUP(A62,Сеноман!B:M,11,FALSE)","v":45.681717056044619},{"$f":"VLOOKUP(A62,Сеноман!B:M,12,FALSE)","v":1.6160828546522836},8,{"$f":"VLOOKUP(A62,Сеноман!B:M,9,FALSE)","v":6.7},{"$f":"VLOOKUP(A62,Сеноман!B:M,6,FALSE)","v":587},{"$f":"VLOOKUP(A62,Сеноман!B:M,10,FALSE)","v":18.636003494262699},{"$f":"VLOOKUP(A62,Тнав!A:D,2,FALSE)","v":10.75179159527438},{"$error":"#VALUE!"},43.518091600998503,{"$f":"VLOOKUP(A62,Тнав!A:D,3,FALSE)","v":3.779708309698401},{"$f":"VLOOKUP(A62,'Состояние  фонда'!C:AB,20,FALSE)","v":5.14},{"$f":"VLOOKUP(A62,Тнав!A:E,4,FALSE)","v":147.6815593048519},{"$f":"VLOOKUP(A62,'Состояние  фонда'!C:AB,21,FALSE)","v":68},null,"безгидратный",4.6961276865679853,285.06545449814195,0.9770186028658211,{"$f":"(0.5647*0.03415*MID(J62,4,7)/(AF62*AG62))","v":{"$error":"#VALUE!"}},{"$error":"#VALUE!"}]
[123,null,"ННС",57.5,31,168,1050,"997-1049",916.82600000000002,"114/875,579","23.07.2023",28.04,{"$f":"VLOOKUP(A63,Сеноман!B:K,5,FALSE)","v":47.399965339461197},{"$f":"VLOOKUP(A63,Сеноман!B:K,7,FALSE)","v":32.78},{"$f":"VLOOKUP(A63,Сеноман!B:K,8,FALSE)","v":39.67},{"$f":"VLOOKUP(A63,Сеноман!B:M,11,FALSE)","v":44.755378107566962},{"$f":"VLOOKUP(A63,Сеноман!B:M,12,FALSE)","v":2.6445872318942349},8,{"$f":"VLOOKUP(A63,Сеноман!B:M,9,FALSE)","v":6.6},{"$f":"VLOOKUP(A63,Сеноман!B:M,6,FALSE)","v":578},{"$f":"VLOOKUP(A63,Сеноман!B:M,10,FALSE)","v":18.767162322998001},{"$f":"VLOOKUP(A63,Тнав!A:D,2,FALSE)","v":15.329486271752179},1.4508050605262913E-25,41.2418191549353,{"$f":"VLOOKUP(A63,Тнав!A:D,3,FALSE)","v":6.1581461845258936},{"$f":"VLOOKUP(A63,'Состояние  фонда'!C:AB,20,FALSE)","v":7.41},{"$f":"VLOOKUP(A63,Тнав!A:E,4,FALSE)","v":383.77903169448859},{"$f":"VLOOKUP(A63,'Состояние  фонда'!C:AB,21,FALSE)","v":73},null,"безгидратный",12.99032114458225,286.2172289579205,0.96851304589168108,{"$f":"(0.5647*0.03415*MID(J63,5,7)/(AF63*AG63))","v":60.911961477932209},2.8426850909917901E+26]
[131,1,"ННС",98.2,30,168,1075.8,"952-995",916.91899999999998,"114/916,68","24.07.2023",28,{"$f":"VLOOKUP(A64,Сеноман!B:K,5,FALSE)","v":47.896572708756999},{"$f":"VLOOKUP(A64,Сеноман!B:K,7,FALSE)","v":39.26},{"$f":"VLOOKUP(A64,Сеноман!B:K,8,FALSE)","v":43.13},{"$f":"VLOOKUP(A64,Сеноман!B:M,11,FALSE)","v":48.989404342911463},{"$f":"VLOOKUP(A64,Сеноман!B:M,12,FALSE)","v":-1.0928316341544644},8,{"$f":"VLOOKUP(A64,Сеноман!B:M,9,FALSE)","v":4.5},{"$f":"VLOOKUP(A64,Сеноман!B:M,6,FALSE)","v":375},{"$f":"VLOOKUP(A64,Сеноман!B:M,10,FALSE)","v":11.083167076110801},{"$f":"VLOOKUP(A64,Тнав!A:D,2,FALSE)","v":0},{"$error":"#VALUE!"},47.896572708756999,{"$f":"VLOOKUP(A64,Тнав!A:D,3,FALSE)","v":0},{"$f":"VLOOKUP(A64,'Состояние  фонда'!C:AB,20,FALSE)","v":3.82},{"$f":"VLOOKUP(A64,Тнав!A:E,4,FALSE)","v":0},{"$f":"VLOOKUP(A64,'Состояние  фонда'!C:AB,21,FALSE)","v":40.200000000000003},null,"безгидратный",{"$f":"IFERROR([1]!Скорость_газа(AA64,X64,18.8,46.8,190.24,IF(MID(J64,1,2)=\"73\",6,IF(MID(J64,1,2)=\"89\",7.6,IF(MID(J64,1,2)=\"11\",10,0)))),\"\")","v":""},284.39424913220898,1,{"$f":"(0.5647*0.03415*MID(J64,4,7)/(AF64*AG64))","v":{"$error":"#VALUE!"}},{"$error":"#VALUE!"}]
[132,null,"ННС",86,45,168,1031,"936-1000",904.154,"114/812,146","24.07.2023",27.87,{"$f":"VLOOKUP(A65,Сеноман!B:K,5,FALSE)","v":47.470331385364297},{"$f":"VLOOKUP(A65,Сеноман!B:K,7,FALSE)","v":39.869999999999997},{"$f":"VLOOKUP(A65,Сеноман!B:K,8,FALSE)","v":42.73},{"$f":"VLOOKUP(A65,Сеноман!B:M,11,FALSE)","v":47.840783294340078},{"$f":"VLOOKUP(A65,Сеноман!B:M,12,FALSE)","v":-0.37045190897578095},8,{"$f":"VLOOKUP(A65,Сеноман!B:M,9,FALSE)","v":4.2},{"$f":"VLOOKUP(A65,Сеноман!B:M,6,FALSE)","v":416},{"$f":"VLOOKUP(A65,Сеноман!B:M,10,FALSE)","v":12.5216360092163},{"$f":"VLOOKUP(A65,Тнав!A:D,2,FALSE)","v":0},{"$error":"#VALUE!"},47.470331385364297,{"$f":"VLOOKUP(A65,Тнав!A:D,3,FALSE)","v":0},{"$f":"VLOOKUP(A65,'Состояние  фонда'!C:AB,20,FALSE)","v":1.17},{"$f":"VLOOKUP(A65,Тнав!A:E,4,FALSE)","v":0},{"$f":"VLOOKUP(A65,'Состояние  фонда'!C:AB,21,FALSE)","v":19.899999999999999},null,"безгидратный",{"$f":"IFERROR([1]!Скорость_газа(AA65,X65,18.8,46.8,190.24,IF(MID(J65,1,2)=\"73\",6,IF(MID(J65,1,2)=\"89\",7.6,IF(MID(J65,1,2)=\"11\",10,0)))),\"\")","v":""},283.04349557024045,1,{"$f":"(0.5647*0.03415*MID(J65,4,7)/(AF65*AG65))","v":{"$error":"#VALUE!"}},{"$error":"#VALUE!"}]
[133,null,"ННС",86.8,27,168,989,"955-982",916.59199999999998,"114/874,83","24.07.2023",27.97,{"$f":"VLOOKUP(A66,Сеноман!B:K,5,FALSE)","v":47.767546541396896},{"$f":"VLOOKUP(A66,Сеноман!B:K,7,FALSE)","v":39.93},{"$f":"VLOOKUP(A66,Сеноман!B:K,8,FALSE)","v":42.91},{"$f":"VLOOKUP(A66,Сеноман!B:M,11,FALSE)","v":48.458978901760702},{"$f":"VLOOKUP(A66,Сеноман!B:M,12,FALSE)","v":-0.69143236036380529},8,{"$f":"VLOOKUP(A66,Сеноман!B:M,9,FALSE)","v":4.4000000000000004},{"$f":"VLOOKUP(A66,Сеноман!B:M,6,FALSE)","v":346},{"$f":"VLOOKUP(A66,Сеноман!B:M,10,FALSE)","v":10.316062927246101},{"$f":"VLOOKUP(A66,Тнав!A:D,2,FALSE)","v":13.9875148941529},{"$error":"#VALUE!"},41.510612329256418,{"$f":"VLOOKUP(A66,Тнав!A:D,3,FALSE)","v":6.2569342121404814},{"$f":"VLOOKUP(A66,'Состояние  фонда'!C:AB,20,FALSE)","v":2.5},{"$f":"VLOOKUP(A66,Тнав!A:E,4,FALSE)","v":71.176830307845819},{"$f":"VLOOKUP(A66,'Состояние  фонда'!C:AB,21,FALSE)","v":23.1},null,"безгидратный",2.393624175642695,283.72196721427878,0.96923915547110129,{"$f":"(0.5647*0.03415*MID(J66,4,7)/(AF66*AG66))","v":{"$error":"#VALUE!"}},{"$error":"#VALUE!"}]
[134,null,"ННС",92,26,168,945,"912-968",901.59699999999998,"89/nan","24.07.2023",27.78,{"$f":"VLOOKUP(A67,Сеноман!B:K,5,FALSE)","v":47.643463029816601},{"$f":"VLOOKUP(A67,Сеноман!B:K,7,FALSE)","v":29.29},{"$f":"VLOOKUP(A67,Сеноман!B:K,8,FALSE)","v":30.91},{"$f":"VLOOKUP(A67,Сеноман!B:M,11,FALSE)","v":{"$error":"#NAME?"}},{"$f":"VLOOKUP(A67,Сеноман!B:M,12,FALSE)","v":{"$error":"#NAME?"}},8,{"$f":"VLOOKUP(A67,Сеноман!B:M,9,FALSE)","v":3.7},{"$f":"VLOOKUP(A67,Сеноман!B:M,6,FALSE)","v":119},{"$f":"VLOOKUP(A67,Сеноман!B:M,10,FALSE)","v":5.0725827217102104},{"$f":"VLOOKUP(A67,Тнав!A:D,2,FALSE)","v":17.594285493162829},{"$error":"#VALUE!"},40.599298098033742,{"$f":"VLOOKUP(A67,Тнав!A:D,3,FALSE)","v":7.044164931782861},{"$f":"VLOOKUP(A67,'Состояние  фонда'!C:AB,20,FALSE)","v":0.78},{"$f":"VLOOKUP(A67,Тнав!A:E,4,FALSE)","v":54.555020785247983},{"$f":"VLOOKUP(A67,'Состояние  фонда'!C:AB,21,FALSE)","v":14.9},null,"безгидратный",{"$f":"IFERROR([1]!Скорость_газа(AA67,X67,18.8,46.8,190.24,IF(MID(J67,1,2)=\"73\",6,IF(MID(J67,1,2)=\"89\",7.6,IF(MID(J67,1,2)=\"11\",10,0)))),\"\")","v":""},282.84433535505002,0.96071812245897992,{"$f":"(0.5647*0.03415*MID(J67,4,7)/(AF67*AG67))","v":{"$error":"#VALUE!"}},{"$error":"#VALUE!"}]
[141,3,"ННС",76,24,168,1033,"994-1021",900.58500000000004,"114/814,901","26.07.2023",27.17,{"$f":"VLOOKUP(A68,Сеноман!B:K,5,FALSE)","v":46.081140833467103},{"$f":"VLOOKUP(A68,Сеноман!B:K,7,FALSE)","v":31.34},{"$f":"VLOOKUP(A68,Сеноман!B:K,8,FALSE)","v":39.18},{"$f":"VLOOKUP(A68,Сеноман!B:M,11,FALSE)","v":43.79641324789111},{"$f":"VLOOKUP(A68,Сеноман!B:M,12,FALSE)","v":2.2847275855759932},8,{"$f":"VLOOKUP(A68,Сеноман!B:M,9,FALSE)","v":7.2},{"$f":"VLOOKUP(A68,Сеноман!B:M,6,FALSE)","v":555},{"$f":"VLOOKUP(A68,Сеноман!B:M,10,FALSE)","v":18.362287521362301},{"$f":"VLOOKUP(A68,Тнав!A:D,2,FALSE)","v":15.165060830322849},1.2519246643787137E-23,43.262748308104428,{"$f":"VLOOKUP(A68,Тнав!A:D,3,FALSE)","v":2.818392525362678},{"$f":"VLOOKUP(A68,'Состояние  фонда'!C:AB,20,FALSE)","v":8.7799999999999994},{"$f":"VLOOKUP(A68,Тнав!A:E,4,FALSE)","v":473.34507183493719},{"$f":"VLOOKUP(A68,'Состояние  фонда'!C:AB,21,FALSE)","v":96.9},null,"безгидратный",15.14074427849515,286.91083926856993,0.96939785615067398,{"$f":"(0.5647*0.03415*MID(J68,5,7)/(AF68*AG68))","v":56.502066988731045},3.4556990160086198E+24]
[142,null,"ННС",69,41,168,1042.7,"975-1039",899.96,"114/870,19","26.07.2023",27.14,{"$f":"VLOOKUP(A69,Сеноман!B:K,5,FALSE)","v":46.191639758245103},{"$f":"VLOOKUP(A69,Сеноман!B:K,7,FALSE)","v":31.43},{"$f":"VLOOKUP(A69,Сеноман!B:K,8,FALSE)","v":39.619999999999997},{"$f":"VLOOKUP(A69,Сеноман!B:M,11,FALSE)","v":44.653290928599922},{"$f":"VLOOKUP(A69,Сеноман!B:M,12,FALSE)","v":1.5383488296451802},8,{"$f":"VLOOKUP(A69,Сеноман!B:M,9,FALSE)","v":7.3},{"$f":"VLOOKUP(A69,Сеноман!B:M,6,FALSE)","v":592},{"$f":"VLOOKUP(A69,Сеноман!B:M,10,FALSE)","v":19.267175674438501},{"$f":"VLOOKUP(A69,Тнав!A:D,2,FALSE)","v":0},{"$error":"#VALUE!"},46.191639758245103,{"$f":"VLOOKUP(A69,Тнав!A:D,3,FALSE)","v":0},{"$f":"VLOOKUP(A69,'Состояние  фонда'!C:AB,20,FALSE)","v":8.83},{"$f":"VLOOKUP(A69,Тнав!A:E,4,FALSE)","v":0},{"$f":"VLOOKUP(A69,'Состояние  фонда'!C:AB,21,FALSE)","v":99.6},null,"безгидратный",{"$f":"IFERROR([1]!Скорость_газа(AA69,X69,18.8,46.8,190.24,IF(MID(J69,1,2)=\"73\",6,IF(MID(J69,1,2)=\"89\",7.6,IF(MID(J69,1,2)=\"11\",10,0)))),\"\")","v":""},286.93613210664785,1,{"$error":"#VALUE!"},{"$error":"#VALUE!"}]
[143,null,"ННС",65.3,29,168,1034.5,"1003-1048",905.84,"114/810,775","24.08.2022",29.79,{"$f":"VLOOKUP(A70,Сеноман!B:K,5,FALSE)","v":46.256396885005302},{"$f":"VLOOKUP(A70,Сеноман!B:K,7,FALSE)","v":31.59},{"$f":"VLOOKUP(A70,Сеноман!B:K,8,FALSE)","v":40.049999999999997},{"$f":"VLOOKUP(A70,Сеноман!B:M,11,FALSE)","v":44.769090448437431},{"$f":"VLOOKUP(A70,Сеноман!B:M,12,FALSE)","v":1.4873064365678701},8,{"$f":"VLOOKUP(A70,Сеноман!B:M,9,FALSE)","v":7.4},{"$f":"VLOOKUP(A70,Сеноман!B:M,6,FALSE)","v":608},{"$f":"VLOOKUP(A70,Сеноман!B:M,10,FALSE)","v":19.649400711059599},{"$f":"VLOOKUP(A70,Тнав!A:D,2,FALSE)","v":0},1.0137570536092537E-22,46.256396885005302,{"$f":"VLOOKUP(A70,Тнав!A:D,3,FALSE)","v":0},{"$f":"VLOOKUP(A70,'Состояние  фонда'!C:AB,20,FALSE)","v":8.9700000000000006},{"$f":"VLOOKUP(A70,Тнав!A:E,4,FALSE)","v":0},{"$f":"VLOOKUP(A70,'Состояние  фонда'!C:AB,21,FALSE)","v":98.5},null,"безгидратный",{"$f":"IFERROR([1]!Скорость_газа(AA70,X70,18.8,46.8,190.24,IF(MID(J70,1,2)=\"73\",6,IF(MID(J70,1,2)=\"89\",7.6,IF(MID(J70,1,2)=\"11\",10,0)))),\"\")","v":""},287.00694405546142,1,54.477408526929601,4.5628680678787699E+23]
[144,null,"ННС",84.6,32,168,1034,"970,6-1032,6",895.26900000000001,"114/810,663","26.07.2023",27.39,{"$f":"VLOOKUP(A71,Сеноман!B:K,5,FALSE)","v":46.271009150814301},{"$f":"VLOOKUP(A71,Сеноман!B:K,7,FALSE)","v":31.81},{"$f":"VLOOKUP(A71,Сеноман!B:K,8,FALSE)","v":39.72},{"$f":"VLOOKUP(A71,Сеноман!B:M,11,FALSE)","v":44.382404554562839},{"$f":"VLOOKUP(A71,Сеноман!B:M,12,FALSE)","v":1.8886045962514615},8,{"$f":"VLOOKUP(A71,Сеноман!B:M,9,FALSE)","v":6.7},{"$f":"VLOOKUP(A71,Сеноман!B:M,6,FALSE)","v":574},{"$f":"VLOOKUP(A71,Сеноман!B:M,10,FALSE)","v":18.719966888427699},{"$f":"VLOOKUP(A71,Тнав!A:D,2,FALSE)","v":0},9.5615678011925051E-23,46.271009150814301,{"$f":"VLOOKUP(A71,Тнав!A:D,3,FALSE)","v":0},{"$f":"VLOOKUP(A71,'Состояние  фонда'!C:AB,20,FALSE)","v":8.2799999999999994},{"$f":"VLOOKUP(A71,Тнав!A:E,4,FALSE)","v":0},{"$f":"VLOOKUP(A71,'Состояние  фонда'!C:AB,21,FALSE)","v":96.8},null,"безгидратный",{"$f":"IFERROR([1]!Скорость_газа(AA71,X71,18.8,46.8,190.24,IF(MID(J71,1,2)=\"73\",6,IF(MID(J71,1,2)=\"89\",7.6,IF(MID(J71,1,2)=\"11\",10,0)))),\"\")","v":""},286.65782810228592,1,54.536221042031734,4.8392700980526902E+23]
[151,null,"ННС",89.5,26,168,1038.5,"993-1019",893.96900000000005,"114/812,04","26.07.2023",27.46,{"$f":"VLOOKUP(A72,Сеноман!B:K,5,FALSE)","v":46.441445389838997},{"$f":"VLOOKUP(A72,Сеноман!B:K,7,FALSE)","v":32.85},{"$f":"VLOOKUP(A72,Сеноман!B:K,8,FALSE)","v":40.950000000000003},{"$f":"VLOOKUP(A72,Сеноман!B:M,11,FALSE)","v":45.794805170907203},{"$f":"VLOOKUP(A72,Сеноман!B:M,12,FALSE)","v":0.64664021893179324},8,{"$f":"VLOOKUP(A72,Сеноман!B:M,9,FALSE)","v":6.7},{"$f":"VLOOKUP(A72,Сеноман!B:M,6,FALSE)","v":660},{"$f":"VLOOKUP(A72,Сеноман!B:M,10,FALSE)","v":20.824531555175799},{"$f":"VLOOKUP(A72,Тнав!A:D,2,FALSE)","v":13.8422394090483},{"$f":"X72/AI72","v":{"$error":"#VALUE!"}},{"$f":"M72-Y72","v":40.452743135810074},{"$f":"VLOOKUP(A72,Тнав!A:D,3,FALSE)","v":5.9887022540289214},{"$f":"VLOOKUP(A72,'Состояние  фонда'!C:AB,20,FALSE)","v":8.6199999999999992},{"$f":"VLOOKUP(A72,Тнав!A:E,4,FALSE)","v":442.53656130719128},{"$f":"VLOOKUP(A72,'Состояние  фонда'!C:AB,21,FALSE)","v":96.9},null,"безгидратный",15.271357308399811,286.82989207794509,0.97193329249590621,{"$error":"#VALUE!"},{"$error":"#VALUE!"}]
[152,null,"ННС",87.2,37,168,1041.0999999999999,"970-1016,5",887.18200000000002,"114/852,084","26.07.2023",27.31,{"$f":"VLOOKUP(A73,Сеноман!B:K,5,FALSE)","v":46.197535862334803},{"$f":"VLOOKUP(A73,Сеноман!B:K,7,FALSE)","v":32.33},{"$f":"VLOOKUP(A73,Сеноман!B:K,8,FALSE)","v":39.090000000000003},{"$f":"VLOOKUP(A73,Сеноман!B:M,11,FALSE)","v":{"$error":"#NAME?"}},{"$f":"VLOOKUP(A73,Сеноман!B:M,12,FALSE)","v":{"$error":"#NAME?"}},8,{"$f":"VLOOKUP(A73,Сеноман!B:M,9,FALSE)","v":7},{"$f":"VLOOKUP(A73,Сеноман!B:M,6,FALSE)","v":567},{"$f":"VLOOKUP(A73,Сеноман!B:M,10,FALSE)","v":18.755809783935501},{"$f":"VLOOKUP(A73,Тнав!A:D,2,FALSE)","v":15.15369245843031},8.8385487212692114E-25,41.120617765005782,{"$f":"VLOOKUP(A73,Тнав!A:D,3,FALSE)","v":5.0769180973290231},{"$f":"VLOOKUP(A73,'Состояние  фонда'!C:AB,20,FALSE)","v":8.6},{"$f":"VLOOKUP(A73,Тнав!A:E,4,FALSE)","v":396.73755295869603},{"$f":"VLOOKUP(A73,'Состояние  фонда'!C:AB,21,FALSE)","v":97.7},null,"безгидратный",13.468528149402831,286.81977259559176,0.96934759369481716,59.102014277983479,4.6524173890734501E+25]
[153,null,"ННС",83.7,34,168,1053.0999999999999,"976-1010",883.03099999999995,"114/842,584","26.07.2023",27.34,{"$f":"VLOOKUP(A74,Сеноман!B:K,5,FALSE)","v":46.1845685148892},{"$f":"VLOOKUP(A74,Сеноман!B:K,7,FALSE)","v":32.270000000000003},{"$f":"VLOOKUP(A74,Сеноман!B:K,8,FALSE)","v":39.299999999999997},{"$f":"VLOOKUP(A74,Сеноман!B:M,11,FALSE)","v":44.105541533688807},{"$f":"VLOOKUP(A74,Сеноман!B:M,12,FALSE)","v":2.0790269812003928},8,{"$f":"VLOOKUP(A74,Сеноман!B:M,9,FALSE)","v":6.7},{"$f":"VLOOKUP(A74,Сеноман!B:M,6,FALSE)","v":571},{"$f":"VLOOKUP(A74,Сеноман!B:M,10,FALSE)","v":18.792434692382798},{"$f":"VLOOKUP(A74,Тнав!A:D,2,FALSE)","v":14.34774736486739},1.8032768525256143E-24,41.140110579399888,{"$f":"VLOOKUP(A74,Тнав!A:D,3,FALSE)","v":5.0444579354893113},{"$f":"VLOOKUP(A74,'Состояние  фонда'!C:AB,20,FALSE)","v":8.27},{"$f":"VLOOKUP(A74,Тнав!A:E,4,FALSE)","v":510.11820332424128},{"$f":"VLOOKUP(A74,'Состояние  фонда'!C:AB,21,FALSE)","v":99.5},null,"безгидратный",17.309392473849119,286.65276634213694,0.97080365500769805,58.389420320485002,2.2814084549347102E+25]
[154,null,"ННС",86.6,40,168,1052.5,"973-1047",897.31,"114/870,174","26.07.2023",27.58,{"$f":"VLOOKUP(A75,Сеноман!B:K,5,FALSE)","v":46.838548191715098},{"$f":"VLOOKUP(A75,Сеноман!B:K,7,FALSE)","v":32.47},{"$f":"VLOOKUP(A75,Сеноман!B:K,8,FALSE)","v":39.71},{"$f":"VLOOKUP(A75,Сеноман!B:M,11,FALSE)","v":{"$error":"#NAME?"}},{"$f":"VLOOKUP(A75,Сеноман!B:M,12,FALSE)","v":{"$error":"#NAME?"}},8,{"$f":"VLOOKUP(A75,Сеноман!B:M,9,FALSE)","v":7},{"$f":"VLOOKUP(A75,Сеноман!B:M,6,FALSE)","v":584},{"$f":"VLOOKUP(A75,Сеноман!B:M,10,FALSE)","v":18.964809417724599},{"$f":"VLOOKUP(A75,Тнав!A:D,2,FALSE)","v":15.60976497760887},2.4882706097845561E-25,43.093974110205366,{"$f":"VLOOKUP(A75,Тнав!A:D,3,FALSE)","v":3.7445740815097359},{"$f":"VLOOKUP(A75,'Состояние  фонда'!C:AB,20,FALSE)","v":8.57},{"$f":"VLOOKUP(A75,Тнав!A:E,4,FALSE)","v":444.01669744381411},{"$f":"VLOOKUP(A75,'Состояние  фонда'!C:AB,21,FALSE)","v":32.1},null,"безгидратный",14.2582500043063,286.80459292042394,0.96844172107858018,60.416422565405156,1.7318845442593002E+26]
[161,2,"ННС",43.3,35,168,1030,"990,5-1031",914.62,"114/872,381","23.07.2023",26.67,{"$f":"VLOOKUP(A76,Сеноман!B:K,5,FALSE)","v":46.243239023988998},{"$f":"VLOOKUP(A76,Сеноман!B:K,7,FALSE)","v":32.369999999999997},{"$f":"VLOOKUP(A76,Сеноман!B:K,8,FALSE)","v":39.020000000000003},{"$f":"VLOOKUP(A76,Сеноман!B:M,11,FALSE)","v":43.973905545096088},{"$f":"VLOOKUP(A76,Сеноман!B:M,12,FALSE)","v":2.2693334788929107},8,{"$f":"VLOOKUP(A76,Сеноман!B:M,9,FALSE)","v":6.5},{"$f":"VLOOKUP(A76,Сеноман!B:M,6,FALSE)","v":483},{"$f":"VLOOKUP(A76,Сеноман!B:M,10,FALSE)","v":15.970197677612299},{"$f":"VLOOKUP(A76,Тнав!A:D,2,FALSE)","v":0},1.4588827118738241E-24,46.243239023988998,{"$f":"VLOOKUP(A76,Тнав!A:D,3,FALSE)","v":0},{"$f":"VLOOKUP(A76,'Состояние  фонда'!C:AB,20,FALSE)","v":7.99},{"$f":"VLOOKUP(A76,Тнав!A:E,4,FALSE)","v":0},{"$f":"VLOOKUP(A76,'Состояние  фонда'!C:AB,21,FALSE)","v":97.9},null,"безгидратный",{"$f":"IFERROR([1]!Скорость_газа(AA76,X76,18.8,46.8,190.24,IF(MID(J76,1,2)=\"73\",6,IF(MID(J76,1,2)=\"89\",7.6,IF(MID(J76,1,2)=\"11\",10,0)))),\"\")","v":""},286.51101255493154,1,58.718286624949592,3.1697708559856101E+25]
[162,null,"ННС",56.2,31,168,1032,"983,2-1034",914.53300000000002,"114/873,487","23.07.2023",26.63,{"$f":"VLOOKUP(A77,Сеноман!B:K,5,FALSE)","v":46.170094041970103},{"$f":"VLOOKUP(A77,Сеноман!B:K,7,FALSE)","v":31.5},{"$f":"VLOOKUP(A77,Сеноман!B:K,8,FALSE)","v":39.25},{"$f":"VLOOKUP(A77,Сеноман!B:M,11,FALSE)","v":44.223813217513772},{"$f":"VLOOKUP(A77,Сеноман!B:M,12,FALSE)","v":1.9462808244563305},8,{"$f":"VLOOKUP(A77,Сеноман!B:M,9,FALSE)","v":7.4},{"$f":"VLOOKUP(A77,Сеноман!B:M,6,FALSE)","v":564},{"$f":"VLOOKUP(A77,Сеноман!B:M,10,FALSE)","v":18.531723022460898},{"$f":"VLOOKUP(A77,Тнав!A:D,2,FALSE)","v":0},1.4494013928858056E-24,46.170094041970103,{"$f":"VLOOKUP(A77,Тнав!A:D,3,FALSE)","v":0},{"$f":"VLOOKUP(A77,'Состояние  фонда'!C:AB,20,FALSE)","v":8.66},{"$f":"VLOOKUP(A77,Тнав!A:E,4,FALSE)","v":0},{"$f":"VLOOKUP(A77,'Состояние  фонда'!C:AB,21,FALSE)","v":97},null,"безгидратный",{"$f":"IFERROR([1]!Скорость_газа(AA77,X77,18.8,46.8,190.24,IF(MID(J77,1,2)=\"73\",6,IF(MID(J77,1,2)=\"89\",7.6,IF(MID(J77,1,2)=\"11\",10,0)))),\"\")","v":""},286.85013032014717,1,58.723223866535896,3.1854594778637501E+25]
[163,null,"ННС",44,27,168,1042,"1001-1037",918.44200000000001,"114/873,485","23.07.2023",26.38,{"$f":"VLOOKUP(A78,Сеноман!B:K,5,FALSE)","v":46.466912323221898},{"$f":"VLOOKUP(A78,Сеноман!B:K,7,FALSE)","v":38.549999999999997},{"$f":"VLOOKUP(A78,Сеноман!B:K,8,FALSE)","v":39.03},{"$f":"VLOOKUP(A78,Сеноман!B:M,11,FALSE)","v":44.057404211308032},{"$f":"VLOOKUP(A78,Сеноман!B:M,12,FALSE)","v":2.4095081119138655},8,{"$f":"VLOOKUP(A78,Сеноман!B:M,9,FALSE)","v":3.3},{"$f":"VLOOKUP(A78,Сеноман!B:M,6,FALSE)","v":145},{"$f":"VLOOKUP(A78,Сеноман!B:M,10,FALSE)","v":4.7900056838989302},{"$f":"VLOOKUP(A78,Тнав!A:D,2,FALSE)","v":0},1.1724571934230338E-24,46.466912323221898,{"$f":"VLOOKUP(A78,Тнав!A:D,3,FALSE)","v":0},{"$f":"VLOOKUP(A78,'Состояние  фонда'!C:AB,20,FALSE)","v":6.56},{"$f":"VLOOKUP(A78,Тнав!A:E,4,FALSE)","v":0},{"$f":"VLOOKUP(A78,'Состояние  фонда'!C:AB,21,FALSE)","v":49.4},null,"безгидратный",{"$f":"IFERROR([1]!Скорость_газа(AA78,X78,18.8,46.8,190.24,IF(MID(J78,1,2)=\"73\",6,IF(MID(J78,1,2)=\"89\",7.6,IF(MID(J78,1,2)=\"11\",10,0)))),\"\")","v":""},285.78631554889796,1,58.941681016363688,3.9632075766928399E+25]
[164,null,"ННС",51.6,36,168,1034.5,"984,4-1032",910.827,"114/872,605","23.07.2023",26.8,{"$f":"VLOOKUP(A79,Сеноман!B:K,5,FALSE)","v":46.439688311662401},{"$f":"VLOOKUP(A79,Сеноман!B:K,7,FALSE)","v":32},{"$f":"VLOOKUP(A79,Сеноман!B:K,8,FALSE)","v":40.090000000000003},{"$f":"VLOOKUP(A79,Сеноман!B:M,11,FALSE)","v":45.20510338916953},{"$f":"VLOOKUP(A79,Сеноман!B:M,12,FALSE)","v":1.2345849224928713},8,{"$f":"VLOOKUP(A79,Сеноман!B:M,9,FALSE)","v":6.9},{"$f":"VLOOKUP(A79,Сеноман!B:M,6,FALSE)","v":579},{"$f":"VLOOKUP(A79,Сеноман!B:M,10,FALSE)","v":18.594448089599599},{"$f":"VLOOKUP(A79,Тнав!A:D,2,FALSE)","v":0},1.5089608714563166E-24,46.439688311662401,{"$f":"VLOOKUP(A79,Тнав!A:D,3,FALSE)","v":0},{"$f":"VLOOKUP(A79,'Состояние  фонда'!C:AB,20,FALSE)","v":8.42},{"$f":"VLOOKUP(A79,Тнав!A:E,4,FALSE)","v":0},{"$f":"VLOOKUP(A79,'Состояние  фонда'!C:AB,21,FALSE)","v":98.4},null,"безгидратный",{"$f":"IFERROR([1]!Скорость_газа(AA79,X79,18.8,46.8,190.24,IF(MID(J79,1,2)=\"73\",6,IF(MID(J79,1,2)=\"89\",7.6,IF(MID(J79,1,2)=\"11\",10,0)))),\"\")","v":""},286.72868641222573,1,58.688775427694665,3.07759393832677E+25]
[171,3,"ННС",62.2,40.200000000000003,168,1075.4000000000001,"1005-1077",909.84799999999996,"114/867,659","23.07.2023",27.07,{"$f":"VLOOKUP(A80,Сеноман!B:K,5,FALSE)","v":46.256020511993},{"$f":"VLOOKUP(A80,Сеноман!B:K,7,FALSE)","v":32.28},{"$f":"VLOOKUP(A80,Сеноман!B:K,8,FALSE)","v":39.28},{"$f":"VLOOKUP(A80,Сеноман!B:M,11,FALSE)","v":44.218891953061267},{"$f":"VLOOKUP(A80,Сеноман!B:M,12,FALSE)","v":2.0371285589317338},8,{"$f":"VLOOKUP(A80,Сеноман!B:M,9,FALSE)","v":7.6},{"$f":"VLOOKUP(A80,Сеноман!B:M,6,FALSE)","v":536},{"$f":"VLOOKUP(A80,Сеноман!B:M,10,FALSE)","v":17.600313186645501},{"$f":"VLOOKUP(A80,Тнав!A:D,2,FALSE)","v":16.688806363775299},2.7778195586983503E-25,43.265173810225775,{"$f":"VLOOKUP(A80,Тнав!A:D,3,FALSE)","v":2.990846701767222},{"$f":"VLOOKUP(A80,'Состояние  фонда'!C:AB,20,FALSE)","v":9.0399999999999991},{"$f":"VLOOKUP(A80,Тнав!A:E,4,FALSE)","v":442.82385543375892},{"$f":"VLOOKUP(A80,'Состояние  фонда'!C:AB,21,FALSE)","v":97.1},null,"безгидратный",14.163677370259601,287.04234561206795,0.96654047984384661,60.310309047691753,1.5575228302625699E+26]
[172,null,"ННС",63.6,30,168,1089,"1044-1086",918.05499999999995,"114/866,427","23.07.2023",27.04,{"$f":"VLOOKUP(A81,Сеноман!B:K,5,FALSE)","v":46.250479119009},{"$f":"VLOOKUP(A81,Сеноман!B:K,7,FALSE)","v":32.200000000000003},{"$f":"VLOOKUP(A81,Сеноман!B:K,8,FALSE)","v":39},{"$f":"VLOOKUP(A81,Сеноман!B:M,11,FALSE)","v":43.901600496375139},{"$f":"VLOOKUP(A81,Сеноман!B:M,12,FALSE)","v":2.3488786226338618},8,{"$f":"VLOOKUP(A81,Сеноман!B:M,9,FALSE)","v":7.3},{"$f":"VLOOKUP(A81,Сеноман!B:M,6,FALSE)","v":571},{"$f":"VLOOKUP(A81,Сеноман!B:M,10,FALSE)","v":18.8958129882813},{"$f":"VLOOKUP(A81,Тнав!A:D,2,FALSE)","v":15.221967682842671},3.1415148488248002E-25,39.542640898266498,{"$f":"VLOOKUP(A81,Тнав!A:D,3,FALSE)","v":6.7078382207425058},{"$f":"VLOOKUP(A81,'Состояние  фонда'!C:AB,20,FALSE)","v":8.66},{"$f":"VLOOKUP(A81,Тнав!A:E,4,FALSE)","v":292.45026791460981},{"$f":"VLOOKUP(A81,'Состояние  фонда'!C:AB,21,FALSE)","v":99.5},null,"безгидратный",10.32435219719927,286.85013032014717,0.96923803358740701,60.09730181139436,1.2587125256803699E+26]
[173,null,"ННС",65.599999999999994,26.2,168,1070.7,"1029-1065",905.88400000000001,"114/853,624","23.07.2023",27.12,{"$f":"VLOOKUP(A82,Сеноман!B:K,5,FALSE)","v":46.229136100316197},{"$f":"VLOOKUP(A82,Сеноман!B:K,7,FALSE)","v":32.479999999999997},{"$f":"VLOOKUP(A82,Сеноман!B:K,8,FALSE)","v":40.340000000000003},{"$f":"VLOOKUP(A82,Сеноман!B:M,11,FALSE)","v":45.362933566342839},{"$f":"VLOOKUP(A82,Сеноман!B:M,12,FALSE)","v":0.86620253397335745},8,{"$f":"VLOOKUP(A82,Сеноман!B:M,9,FALSE)","v":7.2},{"$f":"VLOOKUP(A82,Сеноман!B:M,6,FALSE)","v":570},{"$f":"VLOOKUP(A82,Сеноман!B:M,10,FALSE)","v":18.2034816741943},{"$f":"VLOOKUP(A82,Тнав!A:D,2,FALSE)","v":14.62696576641493},8.364938933996716E-25,39.832467585812999,{"$f":"VLOOKUP(A82,Тнав!A:D,3,FALSE)","v":6.3966685145031974},{"$f":"VLOOKUP(A82,'Состояние  фонда'!C:AB,20,FALSE)","v":8.76},{"$f":"VLOOKUP(A82,Тнав!A:E,4,FALSE)","v":339.50318536463232},{"$f":"VLOOKUP(A82,'Состояние  фонда'!C:AB,21,FALSE)","v":98},null,"безгидратный",11.898250291831999,286.90072171224358,0.97044383130284617,59.125260638838604,4.7618360277474604E+25]
[181,2,"ННС",61.9,30,168,1050,"1009-1049",921.46600000000001,"114/870,584","25.07.2023",26.95,{"$f":"VLOOKUP(A83,Сеноман!B:K,5,FALSE)","v":46.198531526348702},{"$f":"VLOOKUP(A83,Сеноман!B:K,7,FALSE)","v":33.07},{"$f":"VLOOKUP(A83,Сеноман!B:K,8,FALSE)","v":40.78},{"$f":"VLOOKUP(A83,Сеноман!B:M,11,FALSE)","v":45.957264664799943},{"$f":"VLOOKUP(A83,Сеноман!B:M,12,FALSE)","v":0.24126686154875898},8,{"$f":"VLOOKUP(A83,Сеноман!B:M,9,FALSE)","v":7.6},{"$f":"VLOOKUP(A83,Сеноман!B:M,6,FALSE)","v":573},{"$f":"VLOOKUP(A83,Сеноман!B:M,10,FALSE)","v":18.062330245971701},{"$f":"VLOOKUP(A83,Тнав!A:D,2,FALSE)","v":16.038390051250591},2.4699741354932826E-25,42.991948130440996,{"$f":"VLOOKUP(A83,Тнав!A:D,3,FALSE)","v":3.2065833959077068},{"$f":"VLOOKUP(A83,'Состояние  фонда'!C:AB,20,FALSE)","v":9.14},{"$f":"VLOOKUP(A83,Тнав!A:E,4,FALSE)","v":402.35661006900261},{"$f":"VLOOKUP(A83,'Состояние  фонда'!C:AB,21,FALSE)","v":98.1},null,"безгидратный",12.95112469641445,287.0929141581467,0.96784472163028434,60.421432491105421,1.7405829280821601E+26]
[182,null,"ННС",65.400000000000006,32,168,1041,"983-1040",910.85900000000004,"114/866,657","25.07.2023",27.04,{"$f":"VLOOKUP(A84,Сеноман!B:K,5,FALSE)","v":46.2434061680705},{"$f":"VLOOKUP(A84,Сеноман!B:K,7,FALSE)","v":33.06},{"$f":"VLOOKUP(A84,Сеноман!B:K,8,FALSE)","v":40.4},{"$f":"VLOOKUP(A84,Сеноман!B:M,11,FALSE)","v":45.50279531166337},{"$f":"VLOOKUP(A84,Сеноман!B:M,12,FALSE)","v":0.74061085640713031},8,{"$f":"VLOOKUP(A84,Сеноман!B:M,9,FALSE)","v":7.7},{"$f":"VLOOKUP(A84,Сеноман!B:M,6,FALSE)","v":532},{"$f":"VLOOKUP(A84,Сеноман!B:M,10,FALSE)","v":16.946235656738299},{"$f":"VLOOKUP(A84,Тнав!A:D,2,FALSE)","v":15.08008316017008},3.4300193909395857E-25,41.298568026759533,{"$f":"VLOOKUP(A84,Тнав!A:D,3,FALSE)","v":4.9448381413109681},{"$f":"VLOOKUP(A84,'Состояние  фонда'!C:AB,20,FALSE)","v":8.99},{"$f":"VLOOKUP(A84,Тнав!A:E,4,FALSE)","v":349.97493974476367},{"$f":"VLOOKUP(A84,'Состояние  фонда'!C:AB,21,FALSE)","v":98},null,"безгидратный",11.8298275206265,287.01705908636688,0.96964804900817925,60.052889237244443,1.20403307735956E+26]
[183,null,"ННС",50.6,33,168,1057,"985-1052",917.23699999999997,"114/824,781","25.07.2023",27.12,{"$f":"VLOOKUP(A85,Сеноман!B:K,5,FALSE)","v":46.229915073425801},{"$f":"VLOOKUP(A85,Сеноман!B:K,7,FALSE)","v":33.090000000000003},{"$f":"VLOOKUP(A85,Сеноман!B:K,8,FALSE)","v":40.83},{"$f":"VLOOKUP(A85,Сеноман!B:M,11,FALSE)","v":45.726930649959179},{"$f":"VLOOKUP(A85,Сеноман!B:M,12,FALSE)","v":0.50298442346662142},8,{"$f":"VLOOKUP(A85,Сеноман!B:M,9,FALSE)","v":7.5},{"$f":"VLOOKUP(A85,Сеноман!B:M,6,FALSE)","v":596},{"$f":"VLOOKUP(A85,Сеноман!B:M,10,FALSE)","v":18.829673767089801},{"$f":"VLOOKUP(A85,Тнав!A:D,2,FALSE)","v":15.01106535521833},6.4046244491893021E-24,41.19796733544888,{"$f":"VLOOKUP(A85,Тнав!A:D,3,FALSE)","v":5.0319477379769211},{"$f":"VLOOKUP(A85,'Состояние  фонда'!C:AB,20,FALSE)","v":9.15},{"$f":"VLOOKUP(A85,Тнав!A:E,4,FALSE)","v":419.39827046589909},{"$f":"VLOOKUP(A85,'Состояние  фонда'!C:AB,21,FALSE)","v":98.2},null,"безгидратный",14.211087215374301,{"$f":"(($AF$18+273.15)-(Z85+273.15))/(LN(($AF$18+273.15)/(Z85+273.15)))","v":287.09797068245911},{"$f":"1/(1+(5*10^7*0.098*V85)/(Z85+273.15)^3.825)","v":0.96984624677038367},57.123410850853958,{"$f":"ROUND(EXP(AH85),4)","v":6.4325344385592701E+24}]
[191,10,"ННС",88.8,34.6,168,1037,"1002-1045",913.86199999999997,"114/864,821","23.07.2023",26.89,{"$f":"VLOOKUP(A86,Сеноман!B:K,5,FALSE)","v":46.118636379815896},{"$f":"VLOOKUP(A86,Сеноман!B:K,7,FALSE)","v":31.87},{"$f":"VLOOKUP(A86,Сеноман!B:K,8,FALSE)","v":39.74},{"$f":"VLOOKUP(A86,Сеноман!B:M,11,FALSE)","v":44.755465470771938},{"$f":"VLOOKUP(A86,Сеноман!B:M,12,FALSE)","v":1.3631709090439585},8,{"$f":"VLOOKUP(A86,Сеноман!B:M,9,FALSE)","v":7.3},{"$f":"VLOOKUP(A86,Сеноман!B:M,6,FALSE)","v":574},{"$f":"VLOOKUP(A86,Сеноман!B:M,10,FALSE)","v":18.624963760376001},{"$f":"VLOOKUP(A86,Тнав!A:D,2,FALSE)","v":12.18421814405975},5.2859917077798056E-25,41.496174024927171,{"$f":"VLOOKUP(A86,Тнав!A:D,3,FALSE)","v":4.6224623548887216},{"$f":"VLOOKUP(A86,'Состояние  фонда'!C:AB,20,FALSE)","v":8.6},{"$f":"VLOOKUP(A86,Тнав!A:E,4,FALSE)","v":394.08319256829128},{"$f":"VLOOKUP(A86,'Состояние  фонда'!C:AB,21,FALSE)","v":100},null,"безгидратный",13.25733757765043,286.81977259559176,0.97520522044752078,59.625168308200159,7.8502154976622493E+25]
[192,null,"ННС",86.2,37.6,168,1082,"1036-1075",907.678,"114/861,556","23.07.2023",26.91,{"$f":"VLOOKUP(A87,Сеноман!B:K,5,FALSE)","v":46.046072183045503},{"$f":"VLOOKUP(A87,Сеноман!B:K,7,FALSE)","v":32.03},{"$f":"VLOOKUP(A87,Сеноман!B:K,8,FALSE)","v":41.21},{"$f":"VLOOKUP(A87,Сеноман!B:M,11,FALSE)","v":46.393382632209082},{"$f":"VLOOKUP(A87,Сеноман!B:M,12,FALSE)","v":-0.34731044916357945},8,{"$f":"VLOOKUP(A87,Сеноман!B:M,9,FALSE)","v":7.1},{"$f":"VLOOKUP(A87,Сеноман!B:M,6,FALSE)","v":641},{"$f":"VLOOKUP(A87,Сеноман!B:M,10,FALSE)","v":20.0001125335693},{"$f":"VLOOKUP(A87,Тнав!A:D,2,FALSE)","v":11.979257458633221},6.6047576142753337E-25,41.661561804883753,{"$f":"VLOOKUP(A87,Тнав!A:D,3,FALSE)","v":4.3845103781617496},{"$f":"VLOOKUP(A87,'Состояние  фонда'!C:AB,20,FALSE)","v":8.35},{"$f":"VLOOKUP(A87,Тнав!A:E,4,FALSE)","v":435.30602190036848},{"$f":"VLOOKUP(A87,'Состояние  фонда'!C:AB,21,FALSE)","v":100},null,"безгидратный",14.58597910000219,286.69325873454648,0.97553122227930233,59.406416009304643,6.3078108596805501E+25]
[193,null,"ННС",87.6,22.9,168,1085,"1028-1052",899.48,"114/814,06","23.07.2023",26.76,{"$f":"VLOOKUP(A88,Сеноман!B:K,5,FALSE)","v":45.737865878775899},{"$f":"VLOOKUP(A88,Сеноман!B:K,7,FALSE)","v":31.86},{"$f":"VLOOKUP(A88,Сеноман!B:K,8,FALSE)","v":41.08},{"$f":"VLOOKUP(A88,Сеноман!B:M,11,FALSE)","v":45.940878270376238},{"$f":"VLOOKUP(A88,Сеноман!B:M,12,FALSE)","v":-0.20301239160033901},8,{"$f":"VLOOKUP(A88,Сеноман!B:M,9,FALSE)","v":7.4},{"$f":"VLOOKUP(A88,Сеноман!B:M,6,FALSE)","v":576},{"$f":"VLOOKUP(A88,Сеноман!B:M,10,FALSE)","v":18.104068756103501},{"$f":"VLOOKUP(A88,Тнав!A:D,2,FALSE)","v":12.411136420956449},{"$error":"#VALUE!"},41.669726591074365,{"$f":"VLOOKUP(A88,Тнав!A:D,3,FALSE)","v":4.0681392877015377},{"$f":"VLOOKUP(A88,'Состояние  фонда'!C:AB,20,FALSE)","v":8.86},{"$f":"VLOOKUP(A88,Тнав!A:E,4,FALSE)","v":432.99936369834018},{"$f":"VLOOKUP(A88,'Состояние  фонда'!C:AB,21,FALSE)","v":66},null,"безгидратный",14.50584610916747,286.95130708774769,0.97484177392581273,{"$error":"#VALUE!"},{"$error":"#VALUE!"}]
[194,null,"ННС",67,32.9,168,1085.9000000000001,"1007-1086",904.31200000000001,"114/871,374","23.07.2023",26.83,{"$f":"VLOOKUP(A89,Сеноман!B:K,5,FALSE)","v":46.265457379763603},{"$f":"VLOOKUP(A89,Сеноман!B:K,7,FALSE)","v":31.91},{"$f":"VLOOKUP(A89,Сеноман!B:K,8,FALSE)","v":40.49},{"$f":"VLOOKUP(A89,Сеноман!B:M,11,FALSE)","v":45.637309965727702},{"$f":"VLOOKUP(A89,Сеноман!B:M,12,FALSE)","v":0.62814741403590091},8,{"$f":"VLOOKUP(A89,Сеноман!B:M,9,FALSE)","v":7.5},{"$f":"VLOOKUP(A89,Сеноман!B:M,6,FALSE)","v":592},{"$f":"VLOOKUP(A89,Сеноман!B:M,10,FALSE)","v":18.8153285980225},{"$f":"VLOOKUP(A89,Тнав!A:D,2,FALSE)","v":11.79488857026824},3.4415444281051123E-25,40.372599029810935,{"$f":"VLOOKUP(A89,Тнав!A:D,3,FALSE)","v":5.8928583499526654},{"$f":"VLOOKUP(A89,'Состояние  фонда'!C:AB,20,FALSE)","v":8.6199999999999992},{"$f":"VLOOKUP(A89,Тнав!A:E,4,FALSE)","v":346.37012669734258},{"$f":"VLOOKUP(A89,'Состояние  фонда'!C:AB,21,FALSE)","v":100},null,"безгидратный",11.976507161523349,286.82989207794509,0.97598483549937987,60.026858305581193,1.1730953899682701E+26]
[201,null,"ННС",44.4,34,168,1030,"982-1016",903.31399999999996,"114/848,956","25.07.2023",27.11,{"$f":"VLOOKUP(A90,Сеноман!B:K,5,FALSE)","v":46.2204912124703},{"$f":"VLOOKUP(A90,Сеноман!B:K,7,FALSE)","v":30.86},{"$f":"VLOOKUP(A90,Сеноман!B:K,8,FALSE)","v":38.950000000000003},{"$f":"VLOOKUP(A90,Сеноман!B:M,11,FALSE)","v":43.759532749798829},{"$f":"VLOOKUP(A90,Сеноман!B:M,12,FALSE)","v":2.4609584626714707},8,{"$f":"VLOOKUP(A90,Сеноман!B:M,9,FALSE)","v":6.2},{"$f":"VLOOKUP(A90,Сеноман!B:M,6,FALSE)","v":605},{"$f":"VLOOKUP(A90,Сеноман!B:M,10,FALSE)","v":20.0719814300537},{"$f":"VLOOKUP(A90,Тнав!A:D,2,FALSE)","v":14.369644071299099},1.0827762980084322E-24,43.991083802730152,{"$f":"VLOOKUP(A90,Тнав!A:D,3,FALSE)","v":2.229407409740146},{"$f":"VLOOKUP(A90,'Состояние  фонда'!C:AB,20,FALSE)","v":7.23},{"$f":"VLOOKUP(A90,Тнав!A:E,4,FALSE)","v":527.10832807450481},{"$f":"VLOOKUP(A90,'Состояние  фонда'!C:AB,21,FALSE)","v":37.4},null,"безгидратный",16.581304152488141,286.12601331645141,0.97035573592952784,58.966500815413291,4.0628044669654902E+25]
[202,null,"ННС",63.8,21,168,1048,"1028-1049",932.64200000000005,"114/825,194","25.07.2023",27.21,{"$f":"VLOOKUP(A91,Сеноман!B:K,5,FALSE)","v":46.250558802635197},{"$f":"VLOOKUP(A91,Сеноман!B:K,7,FALSE)","v":31.36},{"$f":"VLOOKUP(A91,Сеноман!B:K,8,FALSE)","v":40.270000000000003},{"$f":"VLOOKUP(A91,Сеноман!B:M,11,FALSE)","v":45.112756504182343},{"$f":"VLOOKUP(A91,Сеноман!B:M,12,FALSE)","v":1.1378022984528542},8,{"$f":"VLOOKUP(A91,Сеноман!B:M,9,FALSE)","v":6.9},{"$f":"VLOOKUP(A91,Сеноман!B:M,6,FALSE)","v":639},{"$f":"VLOOKUP(A91,Сеноман!B:M,10,FALSE)","v":20.489702224731399},{"$f":"VLOOKUP(A91,Тнав!A:D,2,FALSE)","v":13.993168256681731},6.5548684442985756E-24,43.107352827741828,{"$f":"VLOOKUP(A91,Тнав!A:D,3,FALSE)","v":3.1432059748933678},{"$f":"VLOOKUP(A91,'Состояние  фонда'!C:AB,20,FALSE)","v":8.25},{"$f":"VLOOKUP(A91,Тнав!A:E,4,FALSE)","v":515.73216445587832},{"$f":"VLOOKUP(A91,'Состояние  фонда'!C:AB,21,FALSE)","v":36.1},null,"безгидратный",16.55603489477798,286.64264264086734,0.97149710385503896,57.145527766173352,6.5763871836721E+24]
[203,null,"ННС",37.1,34,168,1054.5,"998-1052",919.1,"114/871,596","25.07.2023",27.25,{"$f":"VLOOKUP(A92,Сеноман!B:K,5,FALSE)","v":46.451210872005603},{"$f":"VLOOKUP(A92,Сеноман!B:K,7,FALSE)","v":31.54},{"$f":"VLOOKUP(A92,Сеноман!B:K,8,FALSE)","v":40.46},{"$f":"VLOOKUP(A92,Сеноман!B:M,11,FALSE)","v":45.623197225497847},{"$f":"VLOOKUP(A92,Сеноман!B:M,12,FALSE)","v":0.82801364650775611},8,{"$f":"VLOOKUP(A92,Сеноман!B:M,9,FALSE)","v":6.5},{"$f":"VLOOKUP(A92,Сеноман!B:M,6,FALSE)","v":644},{"$f":"VLOOKUP(A92,Сеноман!B:M,10,FALSE)","v":20.467622756958001},{"$f":"VLOOKUP(A92,Тнав!A:D,2,FALSE)","v":10.64327540813227},1.3236452036126771E-25,41.004013842117388,{"$f":"VLOOKUP(A92,Тнав!A:D,3,FALSE)","v":5.447197029888212},{"$f":"VLOOKUP(A92,'Состояние  фонда'!C:AB,20,FALSE)","v":0},{"$f":"VLOOKUP(A92,Тнав!A:E,4,FALSE)","v":360.04810261241198},{"$f":"VLOOKUP(A92,'Состояние  фонда'!C:AB,21,FALSE)","v":0},null,"безгидратный",12.25774588304591,282.44572807875301,0.97560445380873362,60.997907836850523,3.09781002720393E+26]
[211,null,"ННС",64.7,45.8,168,1084.5999999999999,"1031-1090",910.14599999999996,"114/867,967","25.07.2023",26.96,{"$f":"VLOOKUP(A93,Сеноман!B:K,5,FALSE)","v":46.072062305556798},{"$f":"VLOOKUP(A93,Сеноман!B:K,7,FALSE)","v":35.56},{"$f":"VLOOKUP(A93,Сеноман!B:K,8,FALSE)","v":39.32},{"$f":"VLOOKUP(A93,Сеноман!B:M,11,FALSE)","v":44.285110427477022},{"$f":"VLOOKUP(A93,Сеноман!B:M,12,FALSE)","v":1.7869518780797762},8,{"$f":"VLOOKUP(A93,Сеноман!B:M,9,FALSE)","v":6.5},{"$f":"VLOOKUP(A93,Сеноман!B:M,6,FALSE)","v":418},{"$f":"VLOOKUP(A93,Сеноман!B:M,10,FALSE)","v":13.713151931762701},{"$f":"VLOOKUP(A93,Тнав!A:D,2,FALSE)","v":11.51953622625747},4.1946990210457481E-25,39.852021526240613,{"$f":"VLOOKUP(A93,Тнав!A:D,3,FALSE)","v":6.2200407793161832},{"$f":"VLOOKUP(A93,'Состояние  фонда'!C:AB,20,FALSE)","v":8.16},{"$f":"VLOOKUP(A93,Тнав!A:E,4,FALSE)","v":322.72950517125452},{"$f":"VLOOKUP(A93,'Состояние  фонда'!C:AB,21,FALSE)","v":97.8},null,"безгидратный",11.30484922358772,286.59708299845255,0.97638866591378137,59.815978866911919,9.5005675797701001E+25]
[212,null,"ННС",65.900000000000006,34.200000000000003,168,1076,"1038-1073",904.07399999999996,"114/857,233","25.07.2023",26.86,{"$f":"VLOOKUP(A94,Сеноман!B:K,5,FALSE)","v":45.853822633229399},{"$f":"VLOOKUP(A94,Сеноман!B:K,7,FALSE)","v":35.68},{"$f":"VLOOKUP(A94,Сеноман!B:K,8,FALSE)","v":39.4},{"$f":"VLOOKUP(A94,Сеноман!B:M,11,FALSE)","v":44.306499533585253},{"$f":"VLOOKUP(A94,Сеноман!B:M,12,FALSE)","v":1.5473230996441458},8,{"$f":"VLOOKUP(A94,Сеноман!B:M,9,FALSE)","v":6.7},{"$f":"VLOOKUP(A94,Сеноман!B:M,6,FALSE)","v":414},{"$f":"VLOOKUP(A94,Сеноман!B:M,10,FALSE)","v":13.563977241516101},{"$f":"VLOOKUP(A94,Тнав!A:D,2,FALSE)","v":11.845845911296539},8.3962257836336654E-25,40.346743660712079,{"$f":"VLOOKUP(A94,Тнав!A:D,3,FALSE)","v":5.5070789725173226},{"$f":"VLOOKUP(A94,'Состояние  фонда'!C:AB,20,FALSE)","v":8.01},{"$f":"VLOOKUP(A94,Тнав!A:E,4,FALSE)","v":388.56255219551468},{"$f":"VLOOKUP(A94,'Состояние  фонда'!C:AB,21,FALSE)","v":97.9},null,"безгидратный",13.444012652540851,286.52113939536048,0.97568771785153519,59.134355720567299,4.80534286480932E+25]
[213,null,"ННС",77.900000000000006,25,168,1074.5999999999999,"1025-1050",894.47,"114/843,924","25.07.2023",26.8,{"$f":"VLOOKUP(A95,Сеноман!B:K,5,FALSE)","v":45.809280061068499},{"$f":"VLOOKUP(A95,Сеноман!B:K,7,FALSE)","v":31.49},{"$f":"VLOOKUP(A95,Сеноман!B:K,8,FALSE)","v":41.38},{"$f":"VLOOKUP(A95,Сеноман!B:M,11,FALSE)","v":46.480950908388813},{"$f":"VLOOKUP(A95,Сеноман!B:M,12,FALSE)","v":-0.67167084732031412},8,{"$f":"VLOOKUP(A95,Сеноман!B:M,9,FALSE)","v":6.6},{"$f":"VLOOKUP(A95,Сеноман!B:M,6,FALSE)","v":655},{"$f":"VLOOKUP(A95,Сеноман!B:M,10,FALSE)","v":20.3697834014893},{"$f":"VLOOKUP(A95,Тнав!A:D,2,FALSE)","v":11.40418778858289},2.4394677916122339E-24,41.892025243314677,{"$f":"VLOOKUP(A95,Тнав!A:D,3,FALSE)","v":3.9172548177538191},{"$f":"VLOOKUP(A95,'Состояние  фонда'!C:AB,20,FALSE)","v":8.49},{"$f":"VLOOKUP(A95,Тнав!A:E,4,FALSE)","v":485.39532311428002},{"$f":"VLOOKUP(A95,'Состояние  фонда'!C:AB,21,FALSE)","v":98.4},null,"безгидратный",16.174865926071782,286.76411113642644,0.9767217428246413,58.105357815026437,1.7172608462941999E+25]
[221,null,"ННС",56.9,34.5,168,1079.0999999999999,"1013-1076",913.91899999999998,"114/876,524",null,null,null,null,null,null,null,8,null,null,null,null,null,null,null,null,null,null,null,"безгидратный",{"$f":"IFERROR([1]!Скорость_газа(AA96,X96,18.8,46.8,190.24,IF(MID(J96,1,2)=\"73\",6,IF(MID(J96,1,2)=\"89\",7.6,IF(MID(J96,1,2)=\"11\",10,0)))),\"\")","v":""},282.44572807875301,1,59.846298882265003,9.7930363582957599E+25]
[222,null,"ННС",80.8,39.6,168,1081,"1012-1071",906.19799999999998,"114/867,36","25.07.2023",26.49,{"$f":"VLOOKUP(A97,Сеноман!B:K,5,FALSE)","v":45.356711425084498},{"$f":"VLOOKUP(A97,Сеноман!B:K,7,FALSE)","v":32.47},{"$f":"VLOOKUP(A97,Сеноман!B:K,8,FALSE)","v":38.96},{"$f":"VLOOKUP(A97,Сеноман!B:M,11,FALSE)","v":43.869137697657763},{"$f":"VLOOKUP(A97,Сеноман!B:M,12,FALSE)","v":1.4875737274267351},8,{"$f":"VLOOKUP(A97,Сеноман!B:M,9,FALSE)","v":6.9},{"$f":"VLOOKUP(A97,Сеноман!B:M,6,FALSE)","v":519},{"$f":"VLOOKUP(A97,Сеноман!B:M,10,FALSE)","v":17.201950073242202},{"$f":"VLOOKUP(A97,Тнав!A:D,2,FALSE)","v":17.738269698318341},{"$f":"X97/AI97","v":{"$error":"#VALUE!"}},{"$f":"M97-Y97","v":41.585806353547511},{"$f":"VLOOKUP(A97,Тнав!A:D,3,FALSE)","v":3.7709050715369901},{"$f":"VLOOKUP(A97,'Состояние  фонда'!C:AB,20,FALSE)","v":7.2},{"$f":"VLOOKUP(A97,Тнав!A:E,4,FALSE)","v":297.46702112416182},{"$f":"VLOOKUP(A97,'Состояние  фонда'!C:AB,21,FALSE)","v":62},null,"безгидратный",9.9855078174695002,286.11080879927096,0.96364454717191483,{"$error":"#VALUE!"},{"$error":"#VALUE!"}]
[223,null,"ННС",84.4,35.299999999999997,168,1096.4000000000001,"1051-1090",922.28399999999999,"114/876,835","25.07.2023",29.21,{"$f":"VLOOKUP(A98,Сеноман!B:K,5,FALSE)","v":45.448417113143002},{"$f":"VLOOKUP(A98,Сеноман!B:K,7,FALSE)","v":31.88},{"$f":"VLOOKUP(A98,Сеноман!B:K,8,FALSE)","v":39.86},{"$f":"VLOOKUP(A98,Сеноман!B:M,11,FALSE)","v":44.959314347095287},{"$f":"VLOOKUP(A98,Сеноман!B:M,12,FALSE)","v":0.48910276604771497},8,{"$f":"VLOOKUP(A98,Сеноман!B:M,9,FALSE)","v":7.6},{"$f":"VLOOKUP(A98,Сеноман!B:M,6,FALSE)","v":573},{"$f":"VLOOKUP(A98,Сеноман!B:M,10,FALSE)","v":18.515476226806602},{"$f":"VLOOKUP(A98,Тнав!A:D,2,FALSE)","v":12.341706270788841},1.3830131192774718E-25,39.69355975298096,{"$f":"VLOOKUP(A98,Тнав!A:D,3,FALSE)","v":5.7548573601620454},{"$f":"VLOOKUP(A98,'Состояние  фонда'!C:AB,20,FALSE)","v":5.12},{"$f":"VLOOKUP(A98,Тнав!A:E,4,FALSE)","v":102.1873829921141},{"$f":"VLOOKUP(A98,'Состояние  фонда'!C:AB,21,FALSE)","v":99.1},null,"безгидратный",3.5937982017258649,285.05529271405203,0.97370254874509843,60.921551737799433,2.8700783238931301E+26]
[231,11,"ННС",81.599999999999994,32.799999999999997,168,1089,"999-1054",901.74800000000005,"114/816,466","25.07.2023",25.95,{"$f":"VLOOKUP(A99,Сеноман!B:K,5,FALSE)","v":45.132096066223902},{"$f":"VLOOKUP(A99,Сеноман!B:K,7,FALSE)","v":39.97},{"$f":"VLOOKUP(A99,Сеноман!B:K,8,FALSE)","v":40.85},{"$f":"VLOOKUP(A99,Сеноман!B:M,11,FALSE)","v":45.763941163956247},{"$f":"VLOOKUP(A99,Сеноман!B:M,12,FALSE)","v":-0.6318450977323451},8,{"$f":"VLOOKUP(A99,Сеноман!B:M,9,FALSE)","v":4.2},{"$f":"VLOOKUP(A99,Сеноман!B:M,6,FALSE)","v":216},{"$f":"VLOOKUP(A99,Сеноман!B:M,10,FALSE)","v":6.82189989089966},{"$f":"VLOOKUP(A99,Тнав!A:D,2,FALSE)","v":17.710048147322269},7.8449391083535499E-24,43.361370242085719,{"$f":"VLOOKUP(A99,Тнав!A:D,3,FALSE)","v":1.7707258241381809},{"$f":"VLOOKUP(A99,'Состояние  фонда'!C:AB,20,FALSE)","v":8.23},{"$f":"VLOOKUP(A99,Тнав!A:E,4,FALSE)","v":383.41509158643532},{"$f":"VLOOKUP(A99,'Состояние  фонда'!C:AB,21,FALSE)","v":98.7},null,"безгидратный",12.236287570038471,286.63251869827621,0.96418781066166592,56.971742565699898,5.5273048832097498E+24]
[232,null,"ННС",95.4,37,168,1069.5,"1023-1066",918.32600000000002,"114/869,84","25.07.2023",25.69,{"$f":"VLOOKUP(A100,Сеноман!B:K,5,FALSE)","v":45.098488046291202},{"$f":"VLOOKUP(A100,Сеноман!B:K,7,FALSE)","v":32.39},{"$f":"VLOOKUP(A100,Сеноман!B:K,8,FALSE)","v":39.6},{"$f":"VLOOKUP(A100,Сеноман!B:M,11,FALSE)","v":44.623265259632703},{"$f":"VLOOKUP(A100,Сеноман!B:M,12,FALSE)","v":0.47522278665849882},8,{"$f":"VLOOKUP(A100,Сеноман!B:M,9,FALSE)","v":7.6},{"$f":"VLOOKUP(A100,Сеноман!B:M,6,FALSE)","v":565},{"$f":"VLOOKUP(A100,Сеноман!B:M,10,FALSE)","v":18.3883361816406},{"$f":"VLOOKUP(A100,Тнав!A:D,2,FALSE)","v":16.096949747680242},{"$error":"#VALUE!"},41.823709407291787,{"$f":"VLOOKUP(A100,Тнав!A:D,3,FALSE)","v":3.2747786389994138},{"$f":"VLOOKUP(A100,'Состояние  фонда'!C:AB,20,FALSE)","v":9.01},{"$f":"VLOOKUP(A100,Тнав!A:E,4,FALSE)","v":394.83087361416591},{"$f":"VLOOKUP(A100,'Состояние  фонда'!C:AB,21,FALSE)","v":99.4},null,"безгидратный",13.178470686775601,287.02717387690166,0.96767603913283629,{"$f":"(0.5647*0.03415*MID(J100,5,7)/(AF100*AG100))","v":{"$error":"#VALUE!"}},{"$error":"#VALUE!"}]
[233,null,"ННС",83,34.1,168,1085.5,"1007-1082",915.27700000000004,"114/877,245","25.07.2023",25.58,{"$f":"VLOOKUP(A101,Сеноман!B:K,5,FALSE)","v":45.416075198836303},{"$f":"VLOOKUP(A101,Сеноман!B:K,7,FALSE)","v":32.39},{"$f":"VLOOKUP(A101,Сеноман!B:K,8,FALSE)","v":39.619999999999997},{"$f":"VLOOKUP(A101,Сеноман!B:M,11,FALSE)","v":44.689406198977203},{"$f":"VLOOKUP(A101,Сеноман!B:M,12,FALSE)","v":0.7266689998591005},8,{"$f":"VLOOKUP(A101,Сеноман!B:M,9,FALSE)","v":7.7},{"$f":"VLOOKUP(A101,Сеноман!B:M,6,FALSE)","v":557},{"$f":"VLOOKUP(A101,Сеноман!B:M,10,FALSE)","v":18.107622146606399},{"$f":"VLOOKUP(A101,Тнав!A:D,2,FALSE)","v":16.353658981373439},1.4936106372084257E-25,42.838498760589125,{"$f":"VLOOKUP(A101,Тнав!A:D,3,FALSE)","v":2.5775764382471769},{"$f":"VLOOKUP(A101,'Состояние  фонда'!C:AB,20,FALSE)","v":9.15},{"$f":"VLOOKUP(A101,Тнав!A:E,4,FALSE)","v":352.12942071541329},{"$f":"VLOOKUP(A101,'Состояние  фонда'!C:AB,21,FALSE)","v":100},null,"безгидратный",11.375003497021829,287.09797068245911,0.96723764591094619,60.920868091801012,2.8681168768759399E+26]
[234,null,"ННС",61.8,34,168,972.5,"934-971",920.66800000000001,"114/870,873","25.07.2023",25.66,{"$f":"VLOOKUP(A102,Сеноман!B:K,5,FALSE)","v":45.232869999322801},{"$f":"VLOOKUP(A102,Сеноман!B:K,7,FALSE)","v":35.56},{"$f":"VLOOKUP(A102,Сеноман!B:K,8,FALSE)","v":38.6},{"$f":"VLOOKUP(A102,Сеноман!B:M,11,FALSE)","v":43.481319684625788},{"$f":"VLOOKUP(A102,Сеноман!B:M,12,FALSE)","v":1.7515503146970133},8,{"$f":"VLOOKUP(A102,Сеноман!B:M,9,FALSE)","v":7.1},{"$f":"VLOOKUP(A102,Сеноман!B:M,6,FALSE)","v":374},{"$f":"VLOOKUP(A102,Сеноман!B:M,10,FALSE)","v":12.512234687805201},{"$f":"VLOOKUP(A102,Тнав!A:D,2,FALSE)","v":17.75514517465707},1.7981592657713302E-25,42.493291661723902,{"$f":"VLOOKUP(A102,Тнав!A:D,3,FALSE)","v":2.739578337598902},{"$f":"VLOOKUP(A102,'Состояние  фонда'!C:AB,20,FALSE)","v":8.57},{"$f":"VLOOKUP(A102,Тнав!A:E,4,FALSE)","v":334.10181443280152},{"$f":"VLOOKUP(A102,'Состояние  фонда'!C:AB,21,FALSE)","v":99.1},null,"безгидратный",10.88032653867598,286.80459292042394,0.96425942182348412,60.727210033537261,2.36315505920974E+26]
[241,null,"ННС",81.599999999999994,44.5,168,1096,"1023-1073",909.29700000000003,"114/822,525","25.07.2023",25.53,{"$f":"VLOOKUP(A103,Сеноман!B:K,5,FALSE)","v":44.386785636027298},{"$f":"VLOOKUP(A103,Сеноман!B:K,7,FALSE)","v":33.58},{"$f":"VLOOKUP(A103,Сеноман!B:K,8,FALSE)","v":40.54},{"$f":"VLOOKUP(A103,Сеноман!B:M,11,FALSE)","v":45.383038545913401},{"$f":"VLOOKUP(A103,Сеноман!B:M,12,FALSE)","v":-0.9962529098861026},8,{"$f":"VLOOKUP(A103,Сеноман!B:M,9,FALSE)","v":7.8},{"$f":"VLOOKUP(A103,Сеноман!B:M,6,FALSE)","v":542},{"$f":"VLOOKUP(A103,Сеноман!B:M,10,FALSE)","v":17.256591796875},{"$f":"VLOOKUP(A103,Тнав!A:D,2,FALSE)","v":17.776705449629961},5.5567733844837464E-24,42.117994228039834,{"$f":"VLOOKUP(A103,Тнав!A:D,3,FALSE)","v":2.2687914079874618},{"$f":"VLOOKUP(A103,'Состояние  фонда'!C:AB,20,FALSE)","v":9.1199999999999992},{"$f":"VLOOKUP(A103,Тнав!A:E,4,FALSE)","v":384.03369700005771},{"$f":"VLOOKUP(A103,'Состояние  фонда'!C:AB,21,FALSE)","v":97.2},null,"безгидратный",12.728525910778091,287.08280092938759,0.96447407864821133,57.287499684295902,7.5795774478848603E+24]
[242,null,"ННС",78.7,49.2,168,1081.5,"1050-1080",925.93499999999995,"114/867,836","25.07.2023",25.52,{"$f":"VLOOKUP(A104,Сеноман!B:K,5,FALSE)","v":44.557325319612303},{"$f":"VLOOKUP(A104,Сеноман!B:K,7,FALSE)","v":33.450000000000003},{"$f":"VLOOKUP(A104,Сеноман!B:K,8,FALSE)","v":39.9},{"$f":"VLOOKUP(A104,Сеноман!B:M,11,FALSE)","v":44.929259703070983},{"$f":"VLOOKUP(A104,Сеноман!B:M,12,FALSE)","v":-0.37193438345867946},8,{"$f":"VLOOKUP(A104,Сеноман!B:M,9,FALSE)","v":8.6999999999999993},{"$f":"VLOOKUP(A104,Сеноман!B:M,6,FALSE)","v":513},{"$f":"VLOOKUP(A104,Сеноман!B:M,10,FALSE)","v":16.560060501098601},{"$f":"VLOOKUP(A104,Тнав!A:D,2,FALSE)","v":17.74566573287057},2.5485563579465466E-25,42.276022292302031,{"$f":"VLOOKUP(A104,Тнав!A:D,3,FALSE)","v":2.2813030273102748},{"$f":"VLOOKUP(A104,'Состояние  фонда'!C:AB,20,FALSE)","v":9.61},{"$f":"VLOOKUP(A104,Тнав!A:E,4,FALSE)","v":395.75465331992501},{"$f":"VLOOKUP(A104,'Состояние  фонда'!C:AB,21,FALSE)","v":100},null,"безгидратный",12.95434268313908,287.33050594804592,0.96476015507153945,60.373320336584776,1.6588223431074201E+26]
[243,null,"ННС",70.7,26.8,168,1083.5,"1037-1070",912.63400000000001,"114/827,081","25.07.2023",25.56,{"$f":"VLOOKUP(A105,Сеноман!B:K,5,FALSE)","v":44.5036270489976},{"$f":"VLOOKUP(A105,Сеноман!B:K,7,FALSE)","v":33.39},{"$f":"VLOOKUP(A105,Сеноман!B:K,8,FALSE)","v":39.909999999999997},{"$f":"VLOOKUP(A105,Сеноман!B:M,11,FALSE)","v":44.705895157009166},{"$f":"VLOOKUP(A105,Сеноман!B:M,12,FALSE)","v":-0.20226810801156603},8,{"$f":"VLOOKUP(A105,Сеноман!B:M,9,FALSE)","v":7.8},{"$f":"VLOOKUP(A105,Сеноман!B:M,6,FALSE)","v":534},{"$f":"VLOOKUP(A105,Сеноман!B:M,10,FALSE)","v":17.2867221832275},{"$f":"VLOOKUP(A105,Тнав!A:D,2,FALSE)","v":17.73369541344724},3.855421090094088E-24,41.409035247024619,{"$f":"VLOOKUP(A105,Тнав!A:D,3,FALSE)","v":3.0945918019729808},{"$f":"VLOOKUP(A105,'Состояние  фонда'!C:AB,20,FALSE)","v":8.84},{"$f":"VLOOKUP(A105,Тнав!A:E,4,FALSE)","v":325.76079007278042},{"$f":"VLOOKUP(A105,'Состояние  фонда'!C:AB,21,FALSE)","v":97.4},null,"безгидратный",10.98196754206011,286.94119049382033,0.96442697933227706,57.636061098318329,1.07404701793583E+25]
[251,null,"ННС",69.8,36.4,168,1086.2,"1023-1078",921.79,"114/871,625","25.07.2023",25.35,{"$f":"VLOOKUP(A106,Сеноман!B:K,5,FALSE)","v":44.0486688434478},{"$f":"VLOOKUP(A106,Сеноман!B:K,7,FALSE)","v":33.57},{"$f":"VLOOKUP(A106,Сеноман!B:K,8,FALSE)","v":38.07},{"$f":"VLOOKUP(A106,Сеноман!B:M,11,FALSE)","v":42.851944607266667},{"$f":"VLOOKUP(A106,Сеноман!B:M,12,FALSE)","v":1.196724236181133},8,{"$f":"VLOOKUP(A106,Сеноман!B:M,9,FALSE)","v":8.8000000000000007},{"$f":"VLOOKUP(A106,Сеноман!B:M,6,FALSE)","v":430},{"$f":"VLOOKUP(A106,Сеноман!B:M,10,FALSE)","v":14.598645210266101},{"$f":"VLOOKUP(A106,Тнав!A:D,2,FALSE)","v":17.18925978328819},2.0469205370149728E-25,40.669798918666963,{"$f":"VLOOKUP(A106,Тнав!A:D,3,FALSE)","v":3.3788699247808358},{"$f":"VLOOKUP(A106,'Состояние  фонда'!C:AB,20,FALSE)","v":9.73},{"$f":"VLOOKUP(A106,Тнав!A:E,4,FALSE)","v":432.78469939662529},{"$f":"VLOOKUP(A106,'Состояние  фонда'!C:AB,21,FALSE)","v":100},null,"безгидратный",14.85512572527243,287.39114646582334,0.9658808479585721,60.553776613855071,1.9868772716490398E+26]
[252,null,"ННС",77.900000000000006,33.700000000000003,168,1085.9000000000001,"1012-1078",914.56500000000005,"114/866,18","25.07.2023",25.69,{"$f":"VLOOKUP(A107,Сеноман!B:K,5,FALSE)","v":44.512416676326602},{"$f":"VLOOKUP(A107,Сеноман!B:K,7,FALSE)","v":32.43},{"$f":"VLOOKUP(A107,Сеноман!B:K,8,FALSE)","v":39.78},{"$f":"VLOOKUP(A107,Сеноман!B:M,11,FALSE)","v":44.791099632912108},{"$f":"VLOOKUP(A107,Сеноман!B:M,12,FALSE)","v":-0.27868295658550579},8,{"$f":"VLOOKUP(A107,Сеноман!B:M,9,FALSE)","v":8.3000000000000007},{"$f":"VLOOKUP(A107,Сеноман!B:M,6,FALSE)","v":589},{"$f":"VLOOKUP(A107,Сеноман!B:M,10,FALSE)","v":19.073616027831999},{"$f":"VLOOKUP(A107,Тнав!A:D,2,FALSE)","v":15.44012864362535},{"$error":"#VALUE!"},39.983656042239424,{"$f":"VLOOKUP(A107,Тнав!A:D,3,FALSE)","v":4.5287606340871784},{"$f":"VLOOKUP(A107,'Состояние  фонда'!C:AB,20,FALSE)","v":9.2799999999999994},{"$f":"VLOOKUP(A107,Тнав!A:E,4,FALSE)","v":187.08426133444911},{"$f":"VLOOKUP(A107,'Состояние  фонда'!C:AB,21,FALSE)","v":100},null,"безгидратный",6.531774896229253,287.16370003592579,0.96906390432433664,{"$error":"#VALUE!"},{"$error":"#VALUE!"}]
[253,null,"ННС",77.900000000000006,37.700000000000003,168,1092,"1030-1092",916.30899999999997,"114/864,978","25.07.2023",25.58,{"$f":"VLOOKUP(A108,Сеноман!B:K,5,FALSE)","v":44.8172395034115},{"$f":"VLOOKUP(A108,Сеноман!B:K,7,FALSE)","v":35.869999999999997},{"$f":"VLOOKUP(A108,Сеноман!B:K,8,FALSE)","v":38.130000000000003},{"$f":"VLOOKUP(A108,Сеноман!B:M,11,FALSE)","v":42.91404000889716},{"$f":"VLOOKUP(A108,Сеноман!B:M,12,FALSE)","v":1.9031994945143396},8,{"$f":"VLOOKUP(A108,Сеноман!B:M,9,FALSE)","v":7.3},{"$f":"VLOOKUP(A108,Сеноман!B:M,6,FALSE)","v":334},{"$f":"VLOOKUP(A108,Сеноман!B:M,10,FALSE)","v":11.322792053222701},{"$f":"VLOOKUP(A108,Тнав!A:D,2,FALSE)","v":18.728695805601291},2.335740341005368E-25,41.639593561351454,{"$f":"VLOOKUP(A108,Тнав!A:D,3,FALSE)","v":3.1776459420600491},{"$f":"VLOOKUP(A108,'Состояние  фонда'!C:AB,20,FALSE)","v":8.49},{"$f":"VLOOKUP(A108,Тнав!A:E,4,FALSE)","v":299.50500138073801},{"$f":"VLOOKUP(A108,'Состояние  фонда'!C:AB,21,FALSE)","v":80.2},null,"безгидратный",10.04093268987952,286.76411113642644,0.96233407428427953,60.44534990437959,1.78271500604509E+26]
[254,null,"ННС",65.400000000000006,41,168,1082.7,"1035-1082",926.76199999999994,"114/827,367","25.07.2023",25.66,{"$f":"VLOOKUP(A109,Сеноман!B:K,5,FALSE)","v":44.3758647000992},{"$f":"VLOOKUP(A109,Сеноман!B:K,7,FALSE)","v":35.159999999999997},{"$f":"VLOOKUP(A109,Сеноман!B:K,8,FALSE)","v":38.42},{"$f":"VLOOKUP(A109,Сеноман!B:M,11,FALSE)","v":43.000886770948419},{"$f":"VLOOKUP(A109,Сеноман!B:M,12,FALSE)","v":1.3749779291507807},8,{"$f":"VLOOKUP(A109,Сеноман!B:M,9,FALSE)","v":8.4},{"$f":"VLOOKUP(A109,Сеноман!B:M,6,FALSE)","v":399},{"$f":"VLOOKUP(A109,Сеноман!B:M,10,FALSE)","v":13.458209991455099},{"$f":"VLOOKUP(A109,Тнав!A:D,2,FALSE)","v":18.48477232858334},3.8320920084921755E-24,41.315440996320156,{"$f":"VLOOKUP(A109,Тнав!A:D,3,FALSE)","v":3.0604237037790472},{"$f":"VLOOKUP(A109,'Состояние  фонда'!C:AB,20,FALSE)","v":9.6300000000000008},{"$f":"VLOOKUP(A109,Тнав!A:E,4,FALSE)","v":371.17363554248601},{"$f":"VLOOKUP(A109,'Состояние  фонда'!C:AB,21,FALSE)","v":42.8},null,"безгидратный",12.541260432455671,287.34061329980648,0.96335576604440476,57.639867665566307,1.07814324146608E+25]
[261,null,"ННС",73.099999999999994,32.700000000000003,168,1089.2,"1020-1073",902.66300000000001,"114/817,174","23.07.2023",27.43,{"$f":"VLOOKUP(A110,Сеноман!B:K,5,FALSE)","v":44.196949124032002},{"$f":"VLOOKUP(A110,Сеноман!B:K,7,FALSE)","v":33.03},{"$f":"VLOOKUP(A110,Сеноман!B:K,8,FALSE)","v":39.64},{"$f":"VLOOKUP(A110,Сеноман!B:M,11,FALSE)","v":44.304459110760789},{"$f":"VLOOKUP(A110,Сеноман!B:M,12,FALSE)","v":-0.10750998672878609},8,{"$f":"VLOOKUP(A110,Сеноман!B:M,9,FALSE)","v":8.4},{"$f":"VLOOKUP(A110,Сеноман!B:M,6,FALSE)","v":565},{"$f":"VLOOKUP(A110,Сеноман!B:M,10,FALSE)","v":18.448047637939499},{"$f":"VLOOKUP(A110,Тнав!A:D,2,FALSE)","v":18.270370841866441},7.4887656860935886E-24,37.908683843445395,{"$f":"VLOOKUP(A110,Тнав!A:D,3,FALSE)","v":6.2882652805866091},{"$f":"VLOOKUP(A110,'Состояние  фонда'!C:AB,20,FALSE)","v":9.8000000000000007},{"$f":"VLOOKUP(A110,Тнав!A:E,4,FALSE)","v":310.42772115769441},{"$f":"VLOOKUP(A110,'Состояние  фонда'!C:AB,21,FALSE)","v":96.2},null,"безгидратный",11.43136913450769,287.4265161203931,0.96384558738772896,56.883818453822308,5.0620737024581597E+24]
[262,null,"ННС",86.8,35.6,168,1082.5,"1040-1078",915.84500000000003,"114/865,226","23.07.2023",27.42,{"$f":"VLOOKUP(A111,Сеноман!B:K,5,FALSE)","v":44.564015160801702},{"$f":"VLOOKUP(A111,Сеноман!B:K,7,FALSE)","v":32.75},{"$f":"VLOOKUP(A111,Сеноман!B:K,8,FALSE)","v":40.92},{"$f":"VLOOKUP(A111,Сеноман!B:M,11,FALSE)","v":46.064691230406403},{"$f":"VLOOKUP(A111,Сеноман!B:M,12,FALSE)","v":-1.500676069604701},8,{"$f":"VLOOKUP(A111,Сеноман!B:M,9,FALSE)","v":8.5},{"$f":"VLOOKUP(A111,Сеноман!B:M,6,FALSE)","v":600},{"$f":"VLOOKUP(A111,Сеноман!B:M,10,FALSE)","v":18.855169296264599},{"$f":"VLOOKUP(A111,Тнав!A:D,2,FALSE)","v":16.226685028305269},3.6035358755610358E-25,39.132757787315192,{"$f":"VLOOKUP(A111,Тнав!A:D,3,FALSE)","v":5.4312573734865079},{"$f":"VLOOKUP(A111,'Состояние  фонда'!C:AB,20,FALSE)","v":10.07},{"$f":"VLOOKUP(A111,Тнав!A:E,4,FALSE)","v":331.07982496886592},{"$f":"VLOOKUP(A111,'Состояние  фонда'!C:AB,21,FALSE)","v":95.2},null,"безгидратный",11.81051187522981,287.56291447671072,0.96787299285446149,59.94967168507285,1.0859544386032399E+26]
[263,null,"ННС",53,36.799999999999997,168,1091.5,"1049-1091",922.83,"114/872,67","23.07.2023",27.43,{"$f":"VLOOKUP(A112,Сеноман!B:K,5,FALSE)","v":44.332562991219},{"$f":"VLOOKUP(A112,Сеноман!B:K,7,FALSE)","v":32.72},{"$f":"VLOOKUP(A112,Сеноман!B:K,8,FALSE)","v":38.96},{"$f":"VLOOKUP(A112,Сеноман!B:M,11,FALSE)","v":43.873101326924584},{"$f":"VLOOKUP(A112,Сеноман!B:M,12,FALSE)","v":0.45946166429441604},8,{"$f":"VLOOKUP(A112,Сеноман!B:M,9,FALSE)","v":8.5},{"$f":"VLOOKUP(A112,Сеноман!B:M,6,FALSE)","v":547},{"$f":"VLOOKUP(A112,Сеноман!B:M,10,FALSE)","v":18.118328094482401},{"$f":"VLOOKUP(A112,Тнав!A:D,2,FALSE)","v":16.895512626281999},{"$error":"#VALUE!"},38.659176617017735,{"$f":"VLOOKUP(A112,Тнав!A:D,3,FALSE)","v":5.6733863742012636},{"$f":"VLOOKUP(A112,'Состояние  фонда'!C:AB,20,FALSE)","v":9.5500000000000007},{"$f":"VLOOKUP(A112,Тнав!A:E,4,FALSE)","v":334.13278611113299},{"$f":"VLOOKUP(A112,'Состояние  фонда'!C:AB,21,FALSE)","v":97.8},null,"безгидратный",12.06543406259655,287.30018245519653,0.96636529967088047,{"$error":"#VALUE!"},{"$error":"#VALUE!"}]
[271,12,"Суб.ГС",205.1,205.1,168,1218.51,"1006,4-1218,21",926.73299999999995,"114/871,282","26.07.2023",26.16,{"$f":"VLOOKUP(A113,Сеноман!B:K,5,FALSE)","v":45.636193009727798},{"$f":"VLOOKUP(A113,Сеноман!B:K,7,FALSE)","v":34.4},{"$f":"VLOOKUP(A113,Сеноман!B:K,8,FALSE)","v":42.13},{"$f":"VLOOKUP(A113,Сеноман!B:M,11,FALSE)","v":47.46388544197211},{"$f":"VLOOKUP(A113,Сеноман!B:M,12,FALSE)","v":-1.8276924322443122},8,{"$f":"VLOOKUP(A113,Сеноман!B:M,9,FALSE)","v":8.6},{"$f":"VLOOKUP(A113,Сеноман!B:M,6,FALSE)","v":476},{"$f":"VLOOKUP(A113,Сеноман!B:M,10,FALSE)","v":14.4740438461304},{"$f":"VLOOKUP(A113,Тнав!A:D,2,FALSE)","v":15.34933080785518},2.4306566144751849E-25,41.828219868148317,{"$f":"VLOOKUP(A113,Тнав!A:D,3,FALSE)","v":3.8079731415794811},{"$f":"VLOOKUP(A113,'Состояние  фонда'!C:AB,20,FALSE)","v":8.9600000000000009},{"$f":"VLOOKUP(A113,Тнав!A:E,4,FALSE)","v":288.64210421797878},{"$f":"VLOOKUP(A113,'Состояние  фонда'!C:AB,21,FALSE)","v":98.1},null,"безгидратный",9.6331152955071815,287.00188644986446,0.96911068906994979,60.410037120486102,1.7208609237129799E+26]
[272,null,"Суб.ГС",195.6,195.3,168,1281.72,"1068-1281,72",922.72400000000005,"114/832,577","26.07.2023",26.16,{"$f":"VLOOKUP(A114,Сеноман!B:K,5,FALSE)","v":45.538181493612697},{"$f":"VLOOKUP(A114,Сеноман!B:K,7,FALSE)","v":34.22},{"$f":"VLOOKUP(A114,Сеноман!B:K,8,FALSE)","v":41.04},{"$f":"VLOOKUP(A114,Сеноман!B:M,11,FALSE)","v":45.990283161288758},{"$f":"VLOOKUP(A114,Сеноман!B:M,12,FALSE)","v":-0.45210166767606097},8,{"$f":"VLOOKUP(A114,Сеноман!B:M,9,FALSE)","v":8.6999999999999993},{"$f":"VLOOKUP(A114,Сеноман!B:M,6,FALSE)","v":566},{"$f":"VLOOKUP(A114,Сеноман!B:M,10,FALSE)","v":17.7637538909912},{"$f":"VLOOKUP(A114,Тнав!A:D,2,FALSE)","v":16.5320988557635},3.2988919132302673E-24,42.76635612391356,{"$f":"VLOOKUP(A114,Тнав!A:D,3,FALSE)","v":2.7718253696991342},{"$f":"VLOOKUP(A114,'Состояние  фонда'!C:AB,20,FALSE)","v":9.27},{"$f":"VLOOKUP(A114,Тнав!A:E,4,FALSE)","v":408.47569726481538},{"$f":"VLOOKUP(A114,'Состояние  фонда'!C:AB,21,FALSE)","v":99},null,"безгидратный",13.21744293976711,287.15864429190037,0.96694399960379229,57.824207325242384,1.29638549090979E+25]
[273,null,"Суб.ГС",185.3,185.3,168,1283.42,"1079,8-1283,42",922.54200000000003,"114/867,44","26.07.2023",26.16,{"$f":"VLOOKUP(A115,Сеноман!B:K,5,FALSE)","v":45.936088691464597},{"$f":"VLOOKUP(A115,Сеноман!B:K,7,FALSE)","v":34.17},{"$f":"VLOOKUP(A115,Сеноман!B:K,8,FALSE)","v":37.44},{"$f":"VLOOKUP(A115,Сеноман!B:M,11,FALSE)","v":42.136886651897051},{"$f":"VLOOKUP(A115,Сеноман!B:M,12,FALSE)","v":3.7992020395675468},8,{"$f":"VLOOKUP(A115,Сеноман!B:M,9,FALSE)","v":8.1999999999999993},{"$f":"VLOOKUP(A115,Сеноман!B:M,6,FALSE)","v":371},{"$f":"VLOOKUP(A115,Сеноман!B:M,10,FALSE)","v":12.8245544433594},{"$f":"VLOOKUP(A115,Тнав!A:D,2,FALSE)","v":17.226432320703111},{"$error":"#VALUE!"},39.060960176551525,{"$f":"VLOOKUP(A115,Тнав!A:D,3,FALSE)","v":6.8751285149130741},{"$f":"VLOOKUP(A115,'Состояние  фонда'!C:AB,20,FALSE)","v":7.48},{"$f":"VLOOKUP(A115,Тнав!A:E,4,FALSE)","v":214.43280735867941},{"$f":"VLOOKUP(A115,'Состояние  фонда'!C:AB,21,FALSE)","v":29.6},null,"безгидратный",7.6634578887684626,286.25269640373136,0.96478645865207802,{"$error":"#VALUE!"},{"$error":"#VALUE!"}]
[274,null,"Суб.ГС",125.2,125.2,168,1279.7,"1124,25-1279,7",927.50400000000002,"114/867,864","26.07.2023",26.06,{"$f":"VLOOKUP(A116,Сеноман!B:K,5,FALSE)","v":45.780027932775099},{"$f":"VLOOKUP(A116,Сеноман!B:K,7,FALSE)","v":34.53},{"$f":"VLOOKUP(A116,Сеноман!B:K,8,FALSE)","v":37.76},{"$f":"VLOOKUP(A116,Сеноман!B:M,11,FALSE)","v":42.499378655960157},{"$f":"VLOOKUP(A116,Сеноман!B:M,12,FALSE)","v":3.2806492768149411},8,{"$f":"VLOOKUP(A116,Сеноман!B:M,9,FALSE)","v":8.1999999999999993},{"$f":"VLOOKUP(A116,Сеноман!B:M,6,FALSE)","v":314},{"$f":"VLOOKUP(A116,Сеноман!B:M,10,FALSE)","v":10.754320144653301},{"$f":"VLOOKUP(A116,Тнав!A:D,2,FALSE)","v":18.13889983723255},1.8315725598365526E-25,40.92629929507936,{"$f":"VLOOKUP(A116,Тнав!A:D,3,FALSE)","v":4.8537286376957391},{"$f":"VLOOKUP(A116,'Состояние  фонда'!C:AB,20,FALSE)","v":7.79},{"$f":"VLOOKUP(A116,Тнав!A:E,4,FALSE)","v":233.6461607385898},{"$f":"VLOOKUP(A116,'Состояние  фонда'!C:AB,21,FALSE)","v":99.7},null,"безгидратный",7.9695285671934011,286.4097308553944,0.96314047612386311,60.671225275641895,2.2344896507256899E+26]
[281,11,"ННС",70.599999999999994,41.5,168,1076.2,"1020-1076",912.93799999999999,"114/869,103","26.07.2023",24.67,{"$f":"VLOOKUP(A117,Сеноман!B:K,5,FALSE)","v":43.3340741558169},{"$f":"VLOOKUP(A117,Сеноман!B:K,7,FALSE)","v":34.020000000000003},{"$f":"VLOOKUP(A117,Сеноман!B:K,8,FALSE)","v":36.630000000000003},{"$f":"VLOOKUP(A117,Сеноман!B:M,11,FALSE)","v":41.236510811355103},{"$f":"VLOOKUP(A117,Сеноман!B:M,12,FALSE)","v":2.0975633444617969},8,{"$f":"VLOOKUP(A117,Сеноман!B:M,9,FALSE)","v":8.1},{"$f":"VLOOKUP(A117,Сеноман!B:M,6,FALSE)","v":346},{"$f":"VLOOKUP(A117,Сеноман!B:M,10,FALSE)","v":12.253619194030801},{"$f":"VLOOKUP(A117,Тнав!A:D,2,FALSE)","v":18.391412201012422},1.7359455315360786E-25,39.45687440755421,{"$f":"VLOOKUP(A117,Тнав!A:D,3,FALSE)","v":3.877199748262687},{"$f":"VLOOKUP(A117,'Состояние  фонда'!C:AB,20,FALSE)","v":8.52},{"$f":"VLOOKUP(A117,Тнав!A:E,4,FALSE)","v":351.00090478482713},{"$f":"VLOOKUP(A117,'Состояние  фонда'!C:AB,21,FALSE)","v":100},null,"безгидратный",12.418296218611539,{"$f":"(($AF$18+273.15)-(Z117+273.15))/(LN(($AF$18+273.15)/(Z117+273.15)))","v":286.77929225723221},{"$f":"1/(1+(5*10^7*0.098*V117)/(Z117+273.15)^3.825)","v":0.96300180900739762},60.68828337327129,{"$f":"ROUND(EXP(AH117),4)","v":2.2729327441881299E+26}]
[282,null,"ННС",67.7,25.9,168,1076.5999999999999,"1019-1049",906.74300000000005,"114/826,722","26.07.2023",24.84,{"$f":"VLOOKUP(A118,Сеноман!B:K,5,FALSE)","v":43.499386238041097},{"$f":"VLOOKUP(A118,Сеноман!B:K,7,FALSE)","v":32.450000000000003},{"$f":"VLOOKUP(A118,Сеноман!B:K,8,FALSE)","v":36.67},{"$f":"VLOOKUP(A118,Сеноман!B:M,11,FALSE)","v":41.039168871231531},{"$f":"VLOOKUP(A118,Сеноман!B:M,12,FALSE)","v":2.4602173668095659},8,{"$f":"VLOOKUP(A118,Сеноман!B:M,9,FALSE)","v":8.4},{"$f":"VLOOKUP(A118,Сеноман!B:M,6,FALSE)","v":436},{"$f":"VLOOKUP(A118,Сеноман!B:M,10,FALSE)","v":15.474799156189},{"$f":"VLOOKUP(A118,Тнав!A:D,2,FALSE)","v":16.95529295330353},3.9279023280833657E-24,36.843792898063754,{"$f":"VLOOKUP(A118,Тнав!A:D,3,FALSE)","v":6.6555933399773446},{"$f":"VLOOKUP(A118,'Состояние  фонда'!C:AB,20,FALSE)","v":9},{"$f":"VLOOKUP(A118,Тнав!A:E,4,FALSE)","v":234.13569856648169},{"$f":"VLOOKUP(A118,'Состояние  фонда'!C:AB,21,FALSE)","v":98.6},null,"безгидратный",8.9555190275843497,287.02211651167784,0.96600655024186866,57.500623869294259,9.38001758206697E+24]
[283,null,"ННС",78.2,22.6,168,1086.9000000000001,"1036-1090",925.46400000000006,"114/871,815","26.07.2023",25.15,{"$f":"VLOOKUP(A119,Сеноман!B:K,5,FALSE)","v":44.055338015570101},{"$f":"VLOOKUP(A119,Сеноман!B:K,7,FALSE)","v":35.159999999999997},{"$f":"VLOOKUP(A119,Сеноман!B:K,8,FALSE)","v":37.49},{"$f":"VLOOKUP(A119,Сеноман!B:M,11,FALSE)","v":42.223315523436881},{"$f":"VLOOKUP(A119,Сеноман!B:M,12,FALSE)","v":1.8320224921332198},8,{"$f":"VLOOKUP(A119,Сеноман!B:M,9,FALSE)","v":7.9},{"$f":"VLOOKUP(A119,Сеноман!B:M,6,FALSE)","v":324},{"$f":"VLOOKUP(A119,Сеноман!B:M,10,FALSE)","v":11.187547683715801},{"$f":"VLOOKUP(A119,Тнав!A:D,2,FALSE)","v":17.784766445154879},1.6446648115676156E-25,39.764716908468124,{"$f":"VLOOKUP(A119,Тнав!A:D,3,FALSE)","v":4.2906211071019742},{"$f":"VLOOKUP(A119,'Состояние  фонда'!C:AB,20,FALSE)","v":8.91},{"$f":"VLOOKUP(A119,Тнав!A:E,4,FALSE)","v":285.16411823053789},{"$f":"VLOOKUP(A119,'Состояние  фонда'!C:AB,21,FALSE)","v":95.4},null,"безгидратный",10.01090733877329,286.97659752027965,0.96436083129318706,60.750070732631741,2.4178006745682301E+26]
[284,null,"ННС",76.599999999999994,45.6,168,1086.8,"1030-1089",923.97799999999995,"114/873,988","26.07.2023",24.96,{"$f":"VLOOKUP(A120,Сеноман!B:K,5,FALSE)","v":43.779521081386399},{"$f":"VLOOKUP(A120,Сеноман!B:K,7,FALSE)","v":33.869999999999997},{"$f":"VLOOKUP(A120,Сеноман!B:K,8,FALSE)","v":37.32},{"$f":"VLOOKUP(A120,Сеноман!B:M,11,FALSE)","v":42.034355325607081},{"$f":"VLOOKUP(A120,Сеноман!B:M,12,FALSE)","v":1.7451657557793183},8,{"$f":"VLOOKUP(A120,Сеноман!B:M,9,FALSE)","v":8.5},{"$f":"VLOOKUP(A120,Сеноман!B:M,6,FALSE)","v":401},{"$f":"VLOOKUP(A120,Сеноман!B:M,10,FALSE)","v":13.913342475891101},{"$f":"VLOOKUP(A120,Тнав!A:D,2,FALSE)","v":17.363698265720931},1.5612761207137927E-25,38.982912525992298,{"$f":"VLOOKUP(A120,Тнав!A:D,3,FALSE)","v":4.7966085553940996},{"$f":"VLOOKUP(A120,'Состояние  фонда'!C:AB,20,FALSE)","v":9.41},{"$f":"VLOOKUP(A120,Тнав!A:E,4,FALSE)","v":281.91427477160801},{"$f":"VLOOKUP(A120,'Состояние  фонда'!C:AB,21,FALSE)","v":99.5},null,"безгидратный",10.095300298243529,287.22941924945303,0.96540221903529155,60.782247221651048,2.4968621506982298E+26]
[291,null,"Суб.ГС",111.6,111.6,168,1174.1500000000001,"1037,8-1174,15",923.024,"114/875,94","26.07.2023",25.09,{"$f":"VLOOKUP(A121,Сеноман!B:K,5,FALSE)","v":44.0317702550878},{"$f":"VLOOKUP(A121,Сеноман!B:K,7,FALSE)","v":32.49},{"$f":"VLOOKUP(A121,Сеноман!B:K,8,FALSE)","v":39.380000000000003},{"$f":"VLOOKUP(A121,Сеноман!B:M,11,FALSE)","v":44.339780004752107},{"$f":"VLOOKUP(A121,Сеноман!B:M,12,FALSE)","v":-0.30800974966430772},8,{"$f":"VLOOKUP(A121,Сеноман!B:M,9,FALSE)","v":9.5},{"$f":"VLOOKUP(A121,Сеноман!B:M,6,FALSE)","v":531},{"$f":"VLOOKUP(A121,Сеноман!B:M,10,FALSE)","v":17.387840270996101},{"$f":"VLOOKUP(A121,Тнав!A:D,2,FALSE)","v":16.771878023040511},{"$error":"#VALUE!"},40.988846375921973,{"$f":"VLOOKUP(A121,Тнав!A:D,3,FALSE)","v":3.0429238791658282},{"$f":"VLOOKUP(A121,'Состояние  фонда'!C:AB,20,FALSE)","v":10.38},{"$f":"VLOOKUP(A121,Тнав!A:E,4,FALSE)","v":360.85122682149301},{"$f":"VLOOKUP(A121,'Состояние  фонда'!C:AB,21,FALSE)","v":99},null,"безгидратный",12.28963400207774,287.71946628678876,0.96696331004121872,{"$error":"#VALUE!"},{"$error":"#VALUE!"}]
[292,null,"Суб.ГС",103.5,103.5,168,1179.7,"1034,1-1179,7",924.28599999999994,"114/875,804","26.07.2023",24.61,{"$f":"VLOOKUP(A122,Сеноман!B:K,5,FALSE)","v":42.949501911519597},{"$f":"VLOOKUP(A122,Сеноман!B:K,7,FALSE)","v":32.31},{"$f":"VLOOKUP(A122,Сеноман!B:K,8,FALSE)","v":35.79},{"$f":"VLOOKUP(A122,Сеноман!B:M,11,FALSE)","v":{"$error":"#NAME?"}},{"$f":"VLOOKUP(A122,Сеноман!B:M,12,FALSE)","v":{"$error":"#NAME?"}},8,{"$f":"VLOOKUP(A122,Сеноман!B:M,9,FALSE)","v":9},{"$f":"VLOOKUP(A122,Сеноман!B:M,6,FALSE)","v":325},{"$f":"VLOOKUP(A122,Сеноман!B:M,10,FALSE)","v":11.7991237640381},{"$f":"VLOOKUP(A122,Тнав!A:D,2,FALSE)","v":18.66147705758825},9.7284991391112338E-26,39.629611225884823,{"$f":"VLOOKUP(A122,Тнав!A:D,3,FALSE)","v":3.319890685634777},{"$f":"VLOOKUP(A122,'Состояние  фонда'!C:AB,20,FALSE)","v":7.93},{"$f":"VLOOKUP(A122,Тнав!A:E,4,FALSE)","v":141.36567578515999},{"$f":"VLOOKUP(A122,'Состояние  фонда'!C:AB,21,FALSE)","v":99.9},null,"безгидратный",4.9796706543445186,286.4806305836147,0.96218818068338197,61.271729381465271,4.0735585889670198E+26]
[293,null,"Суб.ГС",94.6,94.6,168,1159.7,"1026,2-1159,7",919.12099999999998,"114/865,686","26.07.2023",24.95,{"$f":"VLOOKUP(A123,Сеноман!B:K,5,FALSE)","v":43.423015557871601},{"$f":"VLOOKUP(A123,Сеноман!B:K,7,FALSE)","v":32.67},{"$f":"VLOOKUP(A123,Сеноман!B:K,8,FALSE)","v":36.29},{"$f":"VLOOKUP(A123,Сеноман!B:M,11,FALSE)","v":40.803297230140508},{"$f":"VLOOKUP(A123,Сеноман!B:M,12,FALSE)","v":2.6197183277310927},8,{"$f":"VLOOKUP(A123,Сеноман!B:M,9,FALSE)","v":9.6},{"$f":"VLOOKUP(A123,Сеноман!B:M,6,FALSE)","v":399},{"$f":"VLOOKUP(A123,Сеноман!B:M,10,FALSE)","v":14.2835426330566},{"$f":"VLOOKUP(A123,Тнав!A:D,2,FALSE)","v":16.660839781631619},2.6895650109272092E-25,37.035518005801642,{"$f":"VLOOKUP(A123,Тнав!A:D,3,FALSE)","v":6.3874975520699566},{"$f":"VLOOKUP(A123,'Состояние  фонда'!C:AB,20,FALSE)","v":8.91},{"$f":"VLOOKUP(A123,Тнав!A:E,4,FALSE)","v":242.85424661229709},{"$f":"VLOOKUP(A123,'Состояние  фонда'!C:AB,21,FALSE)","v":84.2},null,"безгидратный",9.2409099168451938,286.97659752027965,0.96653771977185776,60.187125248581594,1.3770077263547499E+26]
[301,12,"ННС",72,40.299999999999997,168,1124.5999999999999,"1060-1112",915.4,"114/870,823","26.07.2023",25.25,{"$f":"VLOOKUP(A124,Сеноман!B:K,5,FALSE)","v":44.343564601011799},{"$f":"VLOOKUP(A124,Сеноман!B:K,7,FALSE)","v":34.97},{"$f":"VLOOKUP(A124,Сеноман!B:K,8,FALSE)","v":36.72},{"$f":"VLOOKUP(A124,Сеноман!B:M,11,FALSE)","v":41.344218732634587},{"$f":"VLOOKUP(A124,Сеноман!B:M,12,FALSE)","v":2.9993458683772118},8,{"$f":"VLOOKUP(A124,Сеноман!B:M,9,FALSE)","v":8.3000000000000007},{"$f":"VLOOKUP(A124,Сеноман!B:M,6,FALSE)","v":310},{"$f":"VLOOKUP(A124,Сеноман!B:M,10,FALSE)","v":10.950341224670399},{"$f":"VLOOKUP(A124,Тнав!A:D,2,FALSE)","v":16.067922914264319},2.1339372733323402E-25,41.714733255065433,{"$f":"VLOOKUP(A124,Тнав!A:D,3,FALSE)","v":2.628831345946367},{"$f":"VLOOKUP(A124,'Состояние  фонда'!C:AB,20,FALSE)","v":8.42},{"$f":"VLOOKUP(A124,Тнав!A:E,4,FALSE)","v":215.55287259347381},{"$f":"VLOOKUP(A124,'Состояние  фонда'!C:AB,21,FALSE)","v":58.9},null,"безгидратный",7.2134130734545634,286.72868641222573,0.96748149437048447,60.53751294821619,1.95482471656367E+26]
[302,null,"ННС",79.599999999999994,30,168,1091.7,"1063-1094",928.56,"114/877,085","26.07.2023",26.62,{"$f":"VLOOKUP(A125,Сеноман!B:K,5,FALSE)","v":46.2562993000071},{"$f":"VLOOKUP(A125,Сеноман!B:K,7,FALSE)","v":34.1},{"$f":"VLOOKUP(A125,Сеноман!B:K,8,FALSE)","v":40.49},{"$f":"VLOOKUP(A125,Сеноман!B:M,11,FALSE)","v":{"$error":"#NAME?"}},{"$f":"VLOOKUP(A125,Сеноман!B:M,12,FALSE)","v":{"$error":"#NAME?"}},8,{"$f":"VLOOKUP(A125,Сеноман!B:M,9,FALSE)","v":9},{"$f":"VLOOKUP(A125,Сеноман!B:M,6,FALSE)","v":514},{"$f":"VLOOKUP(A125,Сеноман!B:M,10,FALSE)","v":16.328067779541001},{"$f":"VLOOKUP(A125,Тнав!A:D,2,FALSE)","v":14.799429409965351},7.2843976995767096E-26,40.745311294248246,{"$f":"VLOOKUP(A125,Тнав!A:D,3,FALSE)","v":5.5109880057588514},{"$f":"VLOOKUP(A125,'Состояние  фонда'!C:AB,20,FALSE)","v":2.7041666666666671},{"$f":"VLOOKUP(A125,Тнав!A:E,4,FALSE)","v":332.98370433223158},{"$f":"VLOOKUP(A125,'Состояние  фонда'!C:AB,21,FALSE)","v":97.3},null,"безгидратный",11.408322738295739,283.82602090247542,0.96760053206538255,61.588818431210136,5.5935044975119802E+26]
[303,null,"ННС",61.6,25,168,1088,"1033-1079",912.47,"114/866,987","26.07.2023",25.1,{"$f":"VLOOKUP(A126,Сеноман!B:K,5,FALSE)","v":43.987018356694499},{"$f":"VLOOKUP(A126,Сеноман!B:K,7,FALSE)","v":35.35},{"$f":"VLOOKUP(A126,Сеноман!B:K,8,FALSE)","v":36.75},{"$f":"VLOOKUP(A126,Сеноман!B:M,11,FALSE)","v":{"$error":"#NAME?"}},{"$f":"VLOOKUP(A126,Сеноман!B:M,12,FALSE)","v":{"$error":"#NAME?"}},8,{"$f":"VLOOKUP(A126,Сеноман!B:M,9,FALSE)","v":8},{"$f":"VLOOKUP(A126,Сеноман!B:M,6,FALSE)","v":283},{"$f":"VLOOKUP(A126,Сеноман!B:M,10,FALSE)","v":9.9901714324951207},{"$f":"VLOOKUP(A126,Тнав!A:D,2,FALSE)","v":15.752779938259369},1.3012408486673046E-25,40.670038074423495,{"$f":"VLOOKUP(A126,Тнав!A:D,3,FALSE)","v":3.3169802822710071},{"$f":"VLOOKUP(A126,'Состояние  фонда'!C:AB,20,FALSE)","v":2.7041666666666671},{"$f":"VLOOKUP(A126,Тнав!A:E,4,FALSE)","v":189.4832983941113},{"$f":"VLOOKUP(A126,'Состояние  фонда'!C:AB,21,FALSE)","v":31},null,"безгидратный",6.5038844309696451,283.82602090247542,0.96558524860489925,61.006800672751559,3.1254811986633098E+26]
[304,null,"ННС",65.7,35.200000000000003,168,1096,"1026,6-1087",916.71900000000005,"114/833,23","26.07.2023",26.18,{"$f":"VLOOKUP(A127,Сеноман!B:K,5,FALSE)","v":45.400988795571699},{"$f":"VLOOKUP(A127,Сеноман!B:K,7,FALSE)","v":34.020000000000003},{"$f":"VLOOKUP(A127,Сеноман!B:K,8,FALSE)","v":39.74},{"$f":"VLOOKUP(A127,Сеноман!B:M,11,FALSE)","v":44.519995455518412},{"$f":"VLOOKUP(A127,Сеноман!B:M,12,FALSE)","v":0.880993340053287},8,{"$f":"VLOOKUP(A127,Сеноман!B:M,9,FALSE)","v":9.1999999999999993},{"$f":"VLOOKUP(A127,Сеноман!B:M,6,FALSE)","v":525},{"$f":"VLOOKUP(A127,Сеноман!B:M,10,FALSE)","v":17.078748703002901},{"$f":"VLOOKUP(A127,Тнав!A:D,2,FALSE)","v":15.727035181654861},{"$error":"#VALUE!"},40.076562279632526,{"$f":"VLOOKUP(A127,Тнав!A:D,3,FALSE)","v":5.3244265159391748},{"$f":"VLOOKUP(A127,'Состояние  фонда'!C:AB,20,FALSE)","v":10.220000000000001},{"$f":"VLOOKUP(A127,Тнав!A:E,4,FALSE)","v":476.96527741704051},{"$f":"VLOOKUP(A127,'Состояние  фонда'!C:AB,21,FALSE)","v":95.1},null,"безгидратный",16.613944729799918,287.63867251655279,0.96889250907297519,{"$error":"#VALUE!"},{"$error":"#VALUE!"}]
[311,null,"Суб.ГС",171.2,171.2,165,1217.7,"1011,2-1217,7",914.51099999999997,"114/874,331","28.07.2023",26.71,{"$f":"VLOOKUP(A128,Сеноман!B:K,5,FALSE)","v":46.648021932598503},{"$f":"VLOOKUP(A128,Сеноман!B:K,7,FALSE)","v":34.729999999999997},{"$f":"VLOOKUP(A128,Сеноман!B:K,8,FALSE)","v":41.22},{"$f":"VLOOKUP(A128,Сеноман!B:M,11,FALSE)","v":46.442470153597561},{"$f":"VLOOKUP(A128,Сеноман!B:M,12,FALSE)","v":0.20555177900094179},8,{"$f":"VLOOKUP(A128,Сеноман!B:M,9,FALSE)","v":8.9},{"$f":"VLOOKUP(A128,Сеноман!B:M,6,FALSE)","v":438},{"$f":"VLOOKUP(A128,Сеноман!B:M,10,FALSE)","v":13.655591011047401},{"$f":"VLOOKUP(A128,Тнав!A:D,2,FALSE)","v":16.414927802706899},1.8243000859483333E-25,41.417670498293155,{"$f":"VLOOKUP(A128,Тнав!A:D,3,FALSE)","v":5.230351434305347},{"$f":"VLOOKUP(A128,'Состояние  фонда'!C:AB,20,FALSE)","v":9.44},{"$f":"VLOOKUP(A128,Тнав!A:E,4,FALSE)","v":243.7651154245948},{"$f":"VLOOKUP(A128,'Состояние  фонда'!C:AB,21,FALSE)","v":97.8},null,"безгидратный",8.2160362136116181,287.24458378255326,0.96724359734479548,60.687138539324302,2.2703321025588199E+26]
[312,null,"Суб.ГС",143.4,140.19999999999999,168,1167.3,"1009,6-1167,3",904.97900000000004,"114/863,956","28.07.2023",26.6,{"$f":"VLOOKUP(A129,Сеноман!B:K,5,FALSE)","v":46.473378460110403},{"$f":"VLOOKUP(A129,Сеноман!B:K,7,FALSE)","v":34.99},{"$f":"VLOOKUP(A129,Сеноман!B:K,8,FALSE)","v":42.52},{"$f":"VLOOKUP(A129,Сеноман!B:M,11,FALSE)","v":47.855160320046252},{"$f":"VLOOKUP(A129,Сеноман!B:M,12,FALSE)","v":-1.3817818599358489},8,{"$f":"VLOOKUP(A129,Сеноман!B:M,9,FALSE)","v":8.6},{"$f":"VLOOKUP(A129,Сеноман!B:M,6,FALSE)","v":712},{"$f":"VLOOKUP(A129,Сеноман!B:M,10,FALSE)","v":21.477266311645501},{"$f":"VLOOKUP(A129,Тнав!A:D,2,FALSE)","v":16.197574056517791},{"$f":"X129/AI129","v":4.1064951249076748E-25},{"$f":"M129-Y129","v":43.061189549869326},{"$f":"VLOOKUP(A129,Тнав!A:D,3,FALSE)","v":3.4121889102410781},{"$f":"VLOOKUP(A129,'Состояние  фонда'!C:AB,20,FALSE)","v":9.64},{"$f":"VLOOKUP(A129,Тнав!A:E,4,FALSE)","v":311.54447041673347},{"$f":"VLOOKUP(A129,'Состояние  фонда'!C:AB,21,FALSE)","v":96.6},null,"безгидратный",10.011922842509311,287.34566688585278,0.9677478776543591,59.914679544776568,1.0486117294693601E+26]
[313,null,"Суб.ГС",154.9,154.9,168,1195.83,"1006,8-1195,83",915.79700000000003,"114/873,285","28.07.2023",26.44,{"$f":"VLOOKUP(A130,Сеноман!B:K,5,FALSE)","v":46.286897360604002},{"$f":"VLOOKUP(A130,Сеноман!B:K,7,FALSE)","v":35.83},{"$f":"VLOOKUP(A130,Сеноман!B:K,8,FALSE)","v":38.72},{"$f":"VLOOKUP(A130,Сеноман!B:M,11,FALSE)","v":43.611744758043471},{"$f":"VLOOKUP(A130,Сеноман!B:M,12,FALSE)","v":2.6751526025605301},8,{"$f":"VLOOKUP(A130,Сеноман!B:M,9,FALSE)","v":8.1999999999999993},{"$f":"VLOOKUP(A130,Сеноман!B:M,6,FALSE)","v":313},{"$f":"VLOOKUP(A130,Сеноман!B:M,10,FALSE)","v":10.4434366226196},{"$f":"VLOOKUP(A130,Тнав!A:D,2,FALSE)","v":17.701471132461052},1.3607678441035004E-25,39.70970062288702,{"$f":"VLOOKUP(A130,Тнав!A:D,3,FALSE)","v":6.5771967377169833},{"$f":"VLOOKUP(A130,'Состояние  фонда'!C:AB,20,FALSE)","v":8.2100000000000009},{"$f":"VLOOKUP(A130,Тнав!A:E,4,FALSE)","v":143.28100821807951},{"$f":"VLOOKUP(A130,'Состояние  фонда'!C:AB,21,FALSE)","v":96},null,"безгидратный",5.0369596809330091,286.62239451434169,0.96419514871947043,60.938173699200824,2.9181833473621301E+26]
[314,null,"Суб.ГС",178.5,178.5,168,1224.7,"989,7-1225,25",908.9,"114/872,017","28.07.2023",26.39,{"$f":"VLOOKUP(A131,Сеноман!B:K,5,FALSE)","v":46.188109235761303},{"$f":"VLOOKUP(A131,Сеноман!B:K,7,FALSE)","v":34.65},{"$f":"VLOOKUP(A131,Сеноман!B:K,8,FALSE)","v":42.44},{"$f":"VLOOKUP(A131,Сеноман!B:M,11,FALSE)","v":47.794022752450253},{"$f":"VLOOKUP(A131,Сеноман!B:M,12,FALSE)","v":-1.6059135166889504},8,{"$f":"VLOOKUP(A131,Сеноман!B:M,9,FALSE)","v":9.3000000000000007},{"$f":"VLOOKUP(A131,Сеноман!B:M,6,FALSE)","v":473},{"$f":"VLOOKUP(A131,Сеноман!B:M,10,FALSE)","v":14.289666175842299},{"$f":"VLOOKUP(A131,Тнав!A:D,2,FALSE)","v":15.33315246279375},2.5540172245085005E-25,41.225875223364625,{"$f":"VLOOKUP(A131,Тнав!A:D,3,FALSE)","v":4.9622340123966797},{"$f":"VLOOKUP(A131,'Состояние  фонда'!C:AB,20,FALSE)","v":9.82},{"$f":"VLOOKUP(A131,Тнав!A:E,4,FALSE)","v":279.90935642566859},{"$f":"VLOOKUP(A131,'Состояние  фонда'!C:AB,21,FALSE)","v":97.9},null,"безгидратный",9.4781589975636145,287.43662119742976,0.96948852540771135,60.34602592175667,1.6141580733191101E+26]
[321,null,"Суб.ГС",123.5,123.5,168,1165.32,"1026,74-1165,32",924.923,"114/877,882","26.07.2023",25.07,{"$f":"VLOOKUP(A132,Сеноман!B:K,5,FALSE)","v":44.274679724741503},{"$f":"VLOOKUP(A132,Сеноман!B:K,7,FALSE)","v":34},{"$f":"VLOOKUP(A132,Сеноман!B:K,8,FALSE)","v":36.700000000000003},{"$f":"VLOOKUP(A132,Сеноман!B:M,11,FALSE)","v":41.335598933003439},{"$f":"VLOOKUP(A132,Сеноман!B:M,12,FALSE)","v":2.9390807917380641},8,{"$f":"VLOOKUP(A132,Сеноман!B:M,9,FALSE)","v":9.4},{"$f":"VLOOKUP(A132,Сеноман!B:M,6,FALSE)","v":348},{"$f":"VLOOKUP(A132,Сеноман!B:M,10,FALSE)","v":12.2973012924194},{"$f":"VLOOKUP(A132,Тнав!A:D,2,FALSE)","v":16.117262123417639},9.168223259861385E-26,39.345116728828792,{"$f":"VLOOKUP(A132,Тнав!A:D,3,FALSE)","v":4.9295629959127094},{"$f":"VLOOKUP(A132,'Состояние  фонда'!C:AB,20,FALSE)","v":6.29},{"$f":"VLOOKUP(A132,Тнав!A:E,4,FALSE)","v":130.28999468161209},{"$f":"VLOOKUP(A132,'Состояние  фонда'!C:AB,21,FALSE)","v":82.1},null,"безгидратный",4.6227103982745712,285.64934521962408,0.96645594057564377,{"$f":"(0.5647*0.03415*MID(J132,5,7)/(AF132*AG132))","v":61.323840774874839},4.2914658177099902E+26]
[322,null,"Суб.ГС",140.6,140,168,1180.0999999999999,"1023,3-1180,1",922.63199999999995,"114/876,779","26.07.2023",25.43,{"$f":"VLOOKUP(A133,Сеноман!B:K,5,FALSE)","v":44.879388093735997},{"$f":"VLOOKUP(A133,Сеноман!B:K,7,FALSE)","v":33.799999999999997},{"$f":"VLOOKUP(A133,Сеноман!B:K,8,FALSE)","v":38.520000000000003},{"$f":"VLOOKUP(A133,Сеноман!B:M,11,FALSE)","v":43.374959368544367},{"$f":"VLOOKUP(A133,Сеноман!B:M,12,FALSE)","v":1.5044287251916302},8,{"$f":"VLOOKUP(A133,Сеноман!B:M,9,FALSE)","v":9.6},{"$f":"VLOOKUP(A133,Сеноман!B:M,6,FALSE)","v":436},{"$f":"VLOOKUP(A133,Сеноман!B:M,10,FALSE)","v":14.623553276061999},{"$f":"VLOOKUP(A133,Тнав!A:D,2,FALSE)","v":16.025044397013112},1.5154093942604101E-25,39.571467517171484,{"$f":"VLOOKUP(A133,Тнав!A:D,3,FALSE)","v":5.3079205765645101},{"$f":"VLOOKUP(A133,'Состояние  фонда'!C:AB,20,FALSE)","v":9.31},{"$f":"VLOOKUP(A133,Тнав!A:E,4,FALSE)","v":225.41020447193941},{"$f":"VLOOKUP(A133,'Состояние  фонда'!C:AB,21,FALSE)","v":98.8},null,"безгидратный",7.951844431657574,287.17886690801862,0.9679421515030302,60.82705003648001,2.6112724170146901E+26]
[323,null,"Суб.ГС",121.7,114.6,168,1176.3,"1049,6-1176,46",922.36800000000005,"114/872,762","26.07.2023",25.61,{"$f":"VLOOKUP(A134,Сеноман!B:K,5,FALSE)","v":45.220947978097101},{"$f":"VLOOKUP(A134,Сеноман!B:K,7,FALSE)","v":36.92},{"$f":"VLOOKUP(A134,Сеноман!B:K,8,FALSE)","v":38.97},{"$f":"VLOOKUP(A134,Сеноман!B:M,11,FALSE)","v":43.890120705904998},{"$f":"VLOOKUP(A134,Сеноман!B:M,12,FALSE)","v":1.3308272721921028},8,{"$f":"VLOOKUP(A134,Сеноман!B:M,9,FALSE)","v":8.1999999999999993},{"$f":"VLOOKUP(A134,Сеноман!B:M,6,FALSE)","v":349},{"$f":"VLOOKUP(A134,Сеноман!B:M,10,FALSE)","v":11.560229301452599},{"$f":"VLOOKUP(A134,Тнав!A:D,2,FALSE)","v":16.851546681152779},1.6978730691166982E-25,39.561942284346664,{"$f":"VLOOKUP(A134,Тнав!A:D,3,FALSE)","v":5.6590056937504398},{"$f":"VLOOKUP(A134,'Состояние  фонда'!C:AB,20,FALSE)","v":8.83},{"$f":"VLOOKUP(A134,Тнав!A:E,4,FALSE)","v":234.75890072559849},{"$f":"VLOOKUP(A134,'Состояние  фонда'!C:AB,21,FALSE)","v":99.7},null,"безгидратный",8.2836343575138667,286.93613210664785,0.96613217009063435,60.713118595653427,2.3300883325117098E+26]
[331,null,"ННС",64.2,28.8,168,1071.5,"1028-1071,5",905.78599999999994,"114/860,95","27.07.2023",26.88,{"$f":"VLOOKUP(A135,Сеноман!B:K,5,FALSE)","v":46.950657814035402},{"$f":"VLOOKUP(A135,Сеноман!B:K,7,FALSE)","v":37.21},{"$f":"VLOOKUP(A135,Сеноман!B:K,8,FALSE)","v":40.090000000000003},{"$f":"VLOOKUP(A135,Сеноман!B:M,11,FALSE)","v":45.116608807389177},{"$f":"VLOOKUP(A135,Сеноман!B:M,12,FALSE)","v":1.8340490066462252},8,{"$f":"VLOOKUP(A135,Сеноман!B:M,9,FALSE)","v":7.8},{"$f":"VLOOKUP(A135,Сеноман!B:M,6,FALSE)","v":383},{"$f":"VLOOKUP(A135,Сеноман!B:M,10,FALSE)","v":12.3150415420532},{"$f":"VLOOKUP(A135,Тнав!A:D,2,FALSE)","v":17.427062329384992},{"$error":"#VALUE!"},41.789575288807384,{"$f":"VLOOKUP(A135,Тнав!A:D,3,FALSE)","v":5.1610825252280206},{"$f":"VLOOKUP(A135,'Состояние  фонда'!C:AB,20,FALSE)","v":9.41},{"$f":"VLOOKUP(A135,Тнав!A:E,4,FALSE)","v":350.93704626139692},{"$f":"VLOOKUP(A135,'Состояние  фонда'!C:AB,21,FALSE)","v":100},null,"безгидратный",11.72297172699883,287.22941924945303,0.96528034743876856,{"$error":"#VALUE!"},{"$error":"#VALUE!"}]
[332,null,"ННС",63.3,34,168,1087.2,"1029-1092",915.94600000000003,"114/876,155","27.07.2023",27.45,{"$f":"VLOOKUP(A136,Сеноман!B:K,5,FALSE)","v":47.766271683976903},{"$f":"VLOOKUP(A136,Сеноман!B:K,7,FALSE)","v":38.270000000000003},{"$f":"VLOOKUP(A136,Сеноман!B:K,8,FALSE)","v":41.17},{"$f":"VLOOKUP(A136,Сеноман!B:M,11,FALSE)","v":46.428422220096643},{"$f":"VLOOKUP(A136,Сеноман!B:M,12,FALSE)","v":1.3378494638802607},8,{"$f":"VLOOKUP(A136,Сеноман!B:M,9,FALSE)","v":7.8},{"$f":"VLOOKUP(A136,Сеноман!B:M,6,FALSE)","v":352},{"$f":"VLOOKUP(A136,Сеноман!B:M,10,FALSE)","v":10.982830047607401},{"$f":"VLOOKUP(A136,Тнав!A:D,2,FALSE)","v":16.85052129773543},1.5772885613881535E-25,42.048501358269235,{"$f":"VLOOKUP(A136,Тнав!A:D,3,FALSE)","v":5.717770325707666},{"$f":"VLOOKUP(A136,'Состояние  фонда'!C:AB,20,FALSE)","v":9.58},{"$f":"VLOOKUP(A136,Тнав!A:E,4,FALSE)","v":346.74550303230609},{"$f":"VLOOKUP(A136,'Состояние  фонда'!C:AB,21,FALSE)","v":100},null,"безгидратный",11.51162872223078,287.31534447118935,0.96646501866870083,60.847743798652473,2.66587245908021E+26]
[333,null,"ННС",59.6,37.700000000000003,168,1078.5,"1031-1077",909.82,"114/867,185","27.07.2023",26.81,{"$f":"VLOOKUP(A137,Сеноман!B:K,5,FALSE)","v":46.818539925509},{"$f":"VLOOKUP(A137,Сеноман!B:K,7,FALSE)","v":34.21},{"$f":"VLOOKUP(A137,Сеноман!B:K,8,FALSE)","v":40.479999999999997},{"$f":"VLOOKUP(A137,Сеноман!B:M,11,FALSE)","v":45.553765866231828},{"$f":"VLOOKUP(A137,Сеноман!B:M,12,FALSE)","v":1.2647740592771726},8,{"$f":"VLOOKUP(A137,Сеноман!B:M,9,FALSE)","v":9.5},{"$f":"VLOOKUP(A137,Сеноман!B:M,6,FALSE)","v":554},{"$f":"VLOOKUP(A137,Сеноман!B:M,10,FALSE)","v":17.6236896514893},{"$f":"VLOOKUP(A137,Тнав!A:D,2,FALSE)","v":16.868493376140371},3.5504754931030607E-25,42.426632883600774,{"$f":"VLOOKUP(A137,Тнав!A:D,3,FALSE)","v":4.3919070419082296},{"$f":"VLOOKUP(A137,'Состояние  фонда'!C:AB,20,FALSE)","v":10.95},{"$f":"VLOOKUP(A137,Тнав!A:E,4,FALSE)","v":380.1088105259181},{"$f":"VLOOKUP(A137,'Состояние  фонда'!C:AB,21,FALSE)","v":100},null,"безгидратный",12.3980344743747,288.00717008017466,0.96702516126965776,60.045322087705522,1.1949563647465301E+26]
[334,null,"ННС",58.9,34.9,168,1086.2,"1034,4-1087",915.23099999999999,"114/876,029","27.07.2023",26.96,{"$f":"VLOOKUP(A138,Сеноман!B:K,5,FALSE)","v":47.067178742469103},{"$f":"VLOOKUP(A138,Сеноман!B:K,7,FALSE)","v":36.700000000000003},{"$f":"VLOOKUP(A138,Сеноман!B:K,8,FALSE)","v":40.21},{"$f":"VLOOKUP(A138,Сеноман!B:M,11,FALSE)","v":45.336241572888348},{"$f":"VLOOKUP(A138,Сеноман!B:M,12,FALSE)","v":1.7309371695807556},8,{"$f":"VLOOKUP(A138,Сеноман!B:M,9,FALSE)","v":8.3000000000000007},{"$f":"VLOOKUP(A138,Сеноман!B:M,6,FALSE)","v":378},{"$f":"VLOOKUP(A138,Сеноман!B:M,10,FALSE)","v":12.1015481948853},{"$f":"VLOOKUP(A138,Тнав!A:D,2,FALSE)","v":16.575734080667122},1.5700777365252398E-25,40.730565167058757,{"$f":"VLOOKUP(A138,Тнав!A:D,3,FALSE)","v":6.3366135754103494},{"$f":"VLOOKUP(A138,'Состояние  фонда'!C:AB,20,FALSE)","v":9.4700000000000006},{"$f":"VLOOKUP(A138,Тнав!A:E,4,FALSE)","v":269.06525833481152},{"$f":"VLOOKUP(A138,'Состояние  фонда'!C:AB,21,FALSE)","v":98.3},null,"безгидратный",9.2217564380798951,287.25974777611589,0.96694629531614551,60.820480990510951,2.5941750665925699E+26]
[341,null,"ННС",68,22,168,1082.8,"1028-1051",900.38599999999997,"114/832,088","23.07.2023",28.03,{"$f":"VLOOKUP(A139,Сеноман!B:K,5,FALSE)","v":48.496939709960799},{"$f":"VLOOKUP(A139,Сеноман!B:K,7,FALSE)","v":34.76},{"$f":"VLOOKUP(A139,Сеноман!B:K,8,FALSE)","v":42.92},{"$f":"VLOOKUP(A139,Сеноман!B:M,11,FALSE)","v":{"$error":"#NAME?"}},{"$f":"VLOOKUP(A139,Сеноман!B:M,12,FALSE)","v":{"$error":"#NAME?"}},8,{"$f":"VLOOKUP(A139,Сеноман!B:M,9,FALSE)","v":8},{"$f":"VLOOKUP(A139,Сеноман!B:M,6,FALSE)","v":610},{"$f":"VLOOKUP(A139,Сеноман!B:M,10,FALSE)","v":18.254411697387699},{"$f":"VLOOKUP(A139,Тнав!A:D,2,FALSE)","v":17.858413667641301},3.0904849306585492E-24,45.1996277437038,{"$f":"VLOOKUP(A139,Тнав!A:D,3,FALSE)","v":3.297311966256995},{"$f":"VLOOKUP(A139,'Состояние  фонда'!C:AB,20,FALSE)","v":9.26},{"$f":"VLOOKUP(A139,Тнав!A:E,4,FALSE)","v":420.88275926567911},{"$f":"VLOOKUP(A139,'Состояние  фонда'!C:AB,21,FALSE)","v":51},null,"безгидратный",12.885751371785521,287.15358848787162,0.96438182172511444,57.944803068817833,1.4625415997117399E+25]
[342,null,"ННС",64.5,20.6,168,1088.8,"1030-1050",898.35,"114/830,64","23.07.2023",27.81,{"$f":"VLOOKUP(A140,Сеноман!B:K,5,FALSE)","v":48.251942670510203},{"$f":"VLOOKUP(A140,Сеноман!B:K,7,FALSE)","v":34.96},{"$f":"VLOOKUP(A140,Сеноман!B:K,8,FALSE)","v":42.46},{"$f":"VLOOKUP(A140,Сеноман!B:M,11,FALSE)","v":47.58478121085377},{"$f":"VLOOKUP(A140,Сеноман!B:M,12,FALSE)","v":0.66716145965643392},8,{"$f":"VLOOKUP(A140,Сеноман!B:M,9,FALSE)","v":7.8},{"$f":"VLOOKUP(A140,Сеноман!B:M,6,FALSE)","v":616},{"$f":"VLOOKUP(A140,Сеноман!B:M,10,FALSE)","v":18.652980804443398},{"$f":"VLOOKUP(A140,Тнав!A:D,2,FALSE)","v":16.59398118722499},{"$error":"#VALUE!"},42.05772584188685,{"$f":"VLOOKUP(A140,Тнав!A:D,3,FALSE)","v":6.1942168286233512},{"$f":"VLOOKUP(A140,'Состояние  фонда'!C:AB,20,FALSE)","v":9.34},{"$f":"VLOOKUP(A140,Тнав!A:E,4,FALSE)","v":312.55329458272331},{"$f":"VLOOKUP(A140,'Состояние  фонда'!C:AB,21,FALSE)","v":39},null,"безгидратный",10.374203287712129,287.19403324019822,0.96685476226388711,{"$error":"#VALUE!"},{"$error":"#VALUE!"}]
[343,null,"ННС",48.2,21.2,168,1102.5999999999999,"1050-1104",918.49300000000005,"114/874,4","23.07.2023",27.56,{"$f":"VLOOKUP(A141,Сеноман!B:K,5,FALSE)","v":48.0455219353126},{"$f":"VLOOKUP(A141,Сеноман!B:K,7,FALSE)","v":35.130000000000003},{"$f":"VLOOKUP(A141,Сеноман!B:K,8,FALSE)","v":42.72},{"$f":"VLOOKUP(A141,Сеноман!B:M,11,FALSE)","v":{"$error":"#NAME?"}},{"$f":"VLOOKUP(A141,Сеноман!B:M,12,FALSE)","v":{"$error":"#NAME?"}},8,{"$f":"VLOOKUP(A141,Сеноман!B:M,9,FALSE)","v":8},{"$f":"VLOOKUP(A141,Сеноман!B:M,6,FALSE)","v":529},{"$f":"VLOOKUP(A141,Сеноман!B:M,10,FALSE)","v":15.8566942214966},{"$f":"VLOOKUP(A141,Тнав!A:D,2,FALSE)","v":17.467003646112779},{"$error":"#VALUE!"},44.646236752249166,{"$f":"VLOOKUP(A141,Тнав!A:D,3,FALSE)","v":3.3992851830634341},{"$f":"VLOOKUP(A141,'Состояние  фонда'!C:AB,20,FALSE)","v":9.26},{"$f":"VLOOKUP(A141,Тнав!A:E,4,FALSE)","v":331.58631590273433},{"$f":"VLOOKUP(A141,'Состояние  фонда'!C:AB,21,FALSE)","v":49.1},null,"безгидратный",10.27768282828043,287.15358848787162,0.96513526220370216,{"$error":"#VALUE!"},{"$error":"#VALUE!"}]
[351,null,"Суб.ГС",155,152.69999999999999,168,1246,"1072,8-1245,7",916.34799999999996,"114/876,357","28.07.2023",27.7,{"$f":"VLOOKUP(A142,Сеноман!B:K,5,FALSE)","v":48.225980447721597},{"$f":"VLOOKUP(A142,Сеноман!B:K,7,FALSE)","v":34.5},{"$f":"VLOOKUP(A142,Сеноман!B:K,8,FALSE)","v":42.19},{"$f":"VLOOKUP(A142,Сеноман!B:M,11,FALSE)","v":47.538773438337209},{"$f":"VLOOKUP(A142,Сеноман!B:M,12,FALSE)","v":0},8,{"$f":"VLOOKUP(A142,Сеноман!B:M,9,FALSE)","v":9.4},{"$f":"VLOOKUP(A142,Сеноман!B:M,6,FALSE)","v":504},{"$f":"VLOOKUP(A142,Сеноман!B:M,10,FALSE)","v":15.323870658874499},{"$f":"VLOOKUP(A142,Тнав!A:D,2,FALSE)","v":19.108278452801741},6.8395274235474622E-26,44.131502153322728,{"$f":"VLOOKUP(A142,Тнав!A:D,3,FALSE)","v":4.0944782943988676},{"$f":"VLOOKUP(A142,'Состояние  фонда'!C:AB,20,FALSE)","v":5.36},{"$f":"VLOOKUP(A142,Тнав!A:E,4,FALSE)","v":92.804691331700781},{"$f":"VLOOKUP(A142,'Состояние  фонда'!C:AB,21,FALSE)","v":90.2},null,null,2.9100784030928799,285.17721793378888,0.95999002080132578,61.731667640701986,6.4524197975118302E+26]
[352,null,"Суб.ГС",117.9,117.9,168,1220.0999999999999,"1074,6-1220,1",915.93799999999999,"114/876,813","28.07.2023",27.52,{"$f":"VLOOKUP(A143,Сеноман!B:K,5,FALSE)","v":48.179864281245997},{"$f":"VLOOKUP(A143,Сеноман!B:K,7,FALSE)","v":39.18},{"$f":"VLOOKUP(A143,Сеноман!B:K,8,FALSE)","v":41.51},{"$f":"VLOOKUP(A143,Сеноман!B:M,11,FALSE)","v":46.825382485327367},{"$f":"VLOOKUP(A143,Сеноман!B:M,12,FALSE)","v":1.3544817959186304},8,{"$f":"VLOOKUP(A143,Сеноман!B:M,9,FALSE)","v":7.3},{"$f":"VLOOKUP(A143,Сеноман!B:M,6,FALSE)","v":196},{"$f":"VLOOKUP(A143,Сеноман!B:M,10,FALSE)","v":6.0630660057067898},{"$f":"VLOOKUP(A143,Тнав!A:D,2,FALSE)","v":14.61829165724318},{"$error":"#VALUE!"},41.390580251092501,{"$f":"VLOOKUP(A143,Тнав!A:D,3,FALSE)","v":6.7892840301534978},{"$f":"VLOOKUP(A143,'Состояние  фонда'!C:AB,20,FALSE)","v":6.77},{"$f":"VLOOKUP(A143,Тнав!A:E,4,FALSE)","v":88.141937607565779},{"$f":"VLOOKUP(A143,'Состояние  фонда'!C:AB,21,FALSE)","v":100},null,"безгидратный",2.9727441767166578,285.89281734137018,0.96967409868179522,{"$f":"(0.5647*0.03415*MID(J143,4,7)/(AF143*AG143))","v":{"$error":"#VALUE!"}},{"$error":"#VALUE!"}]
[353,null,"Суб.ГС",114.6,113.3,168,1257.8499999999999,"1116,09-1257,55",915.16300000000001,"114/877,382","28.07.2023",27.84,{"$f":"VLOOKUP(A144,Сеноман!B:K,5,FALSE)","v":48.852708791423197},{"$f":"VLOOKUP(A144,Сеноман!B:K,7,FALSE)","v":34.18},{"$f":"VLOOKUP(A144,Сеноман!B:K,8,FALSE)","v":42.06},{"$f":"VLOOKUP(A144,Сеноман!B:M,11,FALSE)","v":47.404594195893601},{"$f":"VLOOKUP(A144,Сеноман!B:M,12,FALSE)","v":1.4481145955295958},8,{"$f":"VLOOKUP(A144,Сеноман!B:M,9,FALSE)","v":9.1},{"$f":"VLOOKUP(A144,Сеноман!B:M,6,FALSE)","v":405},{"$f":"VLOOKUP(A144,Сеноман!B:M,10,FALSE)","v":12.3535919189453},{"$f":"VLOOKUP(A144,Тнав!A:D,2,FALSE)","v":14.52783460857},{"$error":"#VALUE!"},43.210426212709656,{"$f":"VLOOKUP(A144,Тнав!A:D,3,FALSE)","v":5.6422825787135418},{"$f":"VLOOKUP(A144,'Состояние  фонда'!C:AB,20,FALSE)","v":8.91},{"$f":"VLOOKUP(A144,Тнав!A:E,4,FALSE)","v":82.504721814676671},{"$f":"VLOOKUP(A144,'Состояние  фонда'!C:AB,21,FALSE)","v":100},null,"безгидратный",2.6422488877505348,286.97659752027965,0.97069619270223506,{"$f":"(0.5647*0.03415*MID(J144,4,7)/(AF144*AG144))","v":{"$error":"#VALUE!"}},{"$error":"#VALUE!"}]
[361,null,"Суб.ГС",183.6,182.4,168,1290,"1084,81-1289,65",913.71199999999999,"114/834,722","27.07.2023",29.34,{"$f":"VLOOKUP(A145,Сеноман!B:K,5,FALSE)","v":50.0785147363665},{"$f":"VLOOKUP(A145,Сеноман!B:K,7,FALSE)","v":35.24},{"$f":"VLOOKUP(A145,Сеноман!B:K,8,FALSE)","v":45.55},{"$f":"VLOOKUP(A145,Сеноман!B:M,11,FALSE)","v":51.095725020313253},{"$f":"VLOOKUP(A145,Сеноман!B:M,12,FALSE)","v":-1.0172102839467527},8,{"$f":"VLOOKUP(A145,Сеноман!B:M,9,FALSE)","v":8.1999999999999993},{"$f":"VLOOKUP(A145,Сеноман!B:M,6,FALSE)","v":686},{"$f":"VLOOKUP(A145,Сеноман!B:M,10,FALSE)","v":19.215427398681602},{"$f":"VLOOKUP(A145,Тнав!A:D,2,FALSE)","v":16.632125198379669},3.3974251735307766E-24,47.834107152853754,{"$f":"VLOOKUP(A145,Тнав!A:D,3,FALSE)","v":2.244407583512749},{"$f":"VLOOKUP(A145,'Состояние  фонда'!C:AB,20,FALSE)","v":9.8800000000000008},{"$f":"VLOOKUP(A145,Тнав!A:E,4,FALSE)","v":490.23900548607241},{"$f":"VLOOKUP(A145,'Состояние  фонда'!C:AB,21,FALSE)","v":100},null,"безгидратный",14.05034468775678,287.46693499277205,0.96701490122470557,{"$f":"(0.5647*0.03415*MID(J145,5,7)/(AF145*AG145))","v":57.906763312847922},1.4079517490341699E+25]
[362,null,"Суб.ГС",166.5,150,168,1276.8699999999999,"1086,29-1276,7",914.20600000000002,"114/870,295","27.07.2023",28.52,{"$f":"VLOOKUP(A146,Сеноман!B:K,5,FALSE)","v":49.088680721658598},{"$f":"VLOOKUP(A146,Сеноман!B:K,7,FALSE)","v":34.4},{"$f":"VLOOKUP(A146,Сеноман!B:K,8,FALSE)","v":42.67},{"$f":"VLOOKUP(A146,Сеноман!B:M,11,FALSE)","v":48.06941277625922},{"$f":"VLOOKUP(A146,Сеноман!B:M,12,FALSE)","v":1.0192679453993776},8,{"$f":"VLOOKUP(A146,Сеноман!B:M,9,FALSE)","v":8.4},{"$f":"VLOOKUP(A146,Сеноман!B:M,6,FALSE)","v":435},{"$f":"VLOOKUP(A146,Сеноман!B:M,10,FALSE)","v":13.0576772689819},{"$f":"VLOOKUP(A146,Тнав!A:D,2,FALSE)","v":16.629435530298199},2.3109925870873503E-25,43.268314678639555,{"$f":"VLOOKUP(A146,Тнав!A:D,3,FALSE)","v":5.8203660430190443},{"$f":"VLOOKUP(A146,'Состояние  фонда'!C:AB,20,FALSE)","v":8.98},{"$f":"VLOOKUP(A146,Тнав!A:E,4,FALSE)","v":260.11181205688638},{"$f":"VLOOKUP(A146,'Состояние  фонда'!C:AB,21,FALSE)","v":100},null,"безгидратный",8.31904674382392,287.01200160096181,0.96662931687465392,60.494370805750009,1.87228271178371E+26]
[363,null,"Суб.ГС",219,102.7,168,1313,"1074,4-1312,7",920.27700000000004,"114/872,627","27.07.2023",28.92,{"$f":"VLOOKUP(A147,Сеноман!B:K,5,FALSE)","v":49.402924077216198},{"$f":"VLOOKUP(A147,Сеноман!B:K,7,FALSE)","v":34.799999999999997},{"$f":"VLOOKUP(A147,Сеноман!B:K,8,FALSE)","v":44.02},{"$f":"VLOOKUP(A147,Сеноман!B:M,11,FALSE)","v":49.616724918467753},{"$f":"VLOOKUP(A147,Сеноман!B:M,12,FALSE)","v":-0.21380084125155463},8,{"$f":"VLOOKUP(A147,Сеноман!B:M,9,FALSE)","v":8.8000000000000007},{"$f":"VLOOKUP(A147,Сеноман!B:M,6,FALSE)","v":526},{"$f":"VLOOKUP(A147,Сеноман!B:M,10,FALSE)","v":15.257604598999},{"$f":"VLOOKUP(A147,Тнав!A:D,2,FALSE)","v":15.70940959001241},2.5680681924616881E-25,43.890829879453435,{"$f":"VLOOKUP(A147,Тнав!A:D,3,FALSE)","v":5.5120941977627664},{"$f":"VLOOKUP(A147,'Состояние  фонда'!C:AB,20,FALSE)","v":10.050000000000001},{"$f":"VLOOKUP(A147,Тнав!A:E,4,FALSE)","v":354.69243529623111},{"$f":"VLOOKUP(A147,'Состояние  фонда'!C:AB,21,FALSE)","v":99.8},null,"безгидратный",11.183084415822529,287.55281238923942,0.96885710412151349,60.403178796367548,1.7090990811027001E+26]
[371,null,"Суб.ГС",191.6,130.9,168,1345,"1141,1-1344,5",936.245,"114/875,347","23.07.2023",30.45,{"$f":"VLOOKUP(A148,Сеноман!B:K,5,FALSE)","v":50.7125877706737},{"$f":"VLOOKUP(A148,Сеноман!B:K,7,FALSE)","v":40.659999999999997},{"$f":"VLOOKUP(A148,Сеноман!B:K,8,FALSE)","v":43.19},{"$f":"VLOOKUP(A148,Сеноман!B:M,11,FALSE)","v":48.743676096942359},{"$f":"VLOOKUP(A148,Сеноман!B:M,12,FALSE)","v":1.9689116737313412},8,{"$f":"VLOOKUP(A148,Сеноман!B:M,9,FALSE)","v":5.6},{"$f":"VLOOKUP(A148,Сеноман!B:M,6,FALSE)","v":294},{"$f":"VLOOKUP(A148,Сеноман!B:M,10,FALSE)","v":8.6939229965209996},{"$f":"VLOOKUP(A148,Тнав!A:D,2,FALSE)","v":22.766435848956512},4.9173668606004284E-26,45.565809683856592,{"$f":"VLOOKUP(A148,Тнав!A:D,3,FALSE)","v":5.1467780868171076},{"$f":"VLOOKUP(A148,'Состояние  фонда'!C:AB,20,FALSE)","v":5.62},{"$f":"VLOOKUP(A148,Тнав!A:E,4,FALSE)","v":153.6746296458569},{"$f":"VLOOKUP(A148,'Состояние  фонда'!C:AB,21,FALSE)","v":31.4},null,"безгидратный",4.6670940501976794,285.30926376277148,0.95285332233024711,62.093596869195913,9.2663026728684706E+26]
[372,null,"Суб.ГС",151.19999999999999,111.6,168,1314,"1172,09-1313,53",936.79300000000001,"114/875,065","23.07.2023",29.58,{"$f":"VLOOKUP(A149,Сеноман!B:K,5,FALSE)","v":50.469691060210501},{"$f":"VLOOKUP(A149,Сеноман!B:K,7,FALSE)","v":39.49},{"$f":"VLOOKUP(A149,Сеноман!B:K,8,FALSE)","v":42.52},{"$f":"VLOOKUP(A149,Сеноман!B:M,11,FALSE)","v":{"$error":"#NAME?"}},{"$f":"VLOOKUP(A149,Сеноман!B:M,12,FALSE)","v":{"$error":"#NAME?"}},8,{"$f":"VLOOKUP(A149,Сеноман!B:M,9,FALSE)","v":6},{"$f":"VLOOKUP(A149,Сеноман!B:M,6,FALSE)","v":284},{"$f":"VLOOKUP(A149,Сеноман!B:M,10,FALSE)","v":8.5434160232543892},{"$f":"VLOOKUP(A149,Тнав!A:D,2,FALSE)","v":21.484611074868319},6.0457911957908279E-26,44.61544678674661,{"$f":"VLOOKUP(A149,Тнав!A:D,3,FALSE)","v":5.8542442734638884},{"$f":"VLOOKUP(A149,'Состояние  фонда'!C:AB,20,FALSE)","v":5.91},{"$f":"VLOOKUP(A149,Тнав!A:E,4,FALSE)","v":132.18735480263729},{"$f":"VLOOKUP(A149,'Состояние  фонда'!C:AB,21,FALSE)","v":31.6},null,"безгидратный",4.1000403906195144,{"$f":"(($AF$18+273.15)-(Z149+273.15))/(LN(($AF$18+273.15)/(Z149+273.15)))","v":285.45649685515821},{"$f":"1/(1+(5*10^7*0.098*V149)/(Z149+273.15)^3.825)","v":0.95555861087904026},61.865930197584397,{"$f":"ROUND(EXP(AH149),4)","v":7.3795877730293705E+26}]
[373,null,"Суб.ГС",194.8,152.4,168,1304.7,"1135,94-1315,66",931.89599999999996,"114/875,074","23.07.2023",29.68,{"$f":"VLOOKUP(A150,Сеноман!B:K,5,FALSE)","v":50.771624036390897},{"$f":"VLOOKUP(A150,Сеноман!B:K,7,FALSE)","v":34.58},{"$f":"VLOOKUP(A150,Сеноман!B:K,8,FALSE)","v":43.38},{"$f":"VLOOKUP(A150,Сеноман!B:M,11,FALSE)","v":48.916678678762644},{"$f":"VLOOKUP(A150,Сеноман!B:M,12,FALSE)","v":1.8549453576282531},8,{"$f":"VLOOKUP(A150,Сеноман!B:M,9,FALSE)","v":7.6},{"$f":"VLOOKUP(A150,Сеноман!B:M,6,FALSE)","v":498},{"$f":"VLOOKUP(A150,Сеноман!B:M,10,FALSE)","v":14.661227226257299},{"$f":"VLOOKUP(A150,Тнав!A:D,2,FALSE)","v":21.204326993569939},6.1518426895462682E-26,43.761994651168557,{"$f":"VLOOKUP(A150,Тнав!A:D,3,FALSE)","v":7.009629385222337},{"$f":"VLOOKUP(A150,'Состояние  фонда'!C:AB,20,FALSE)","v":5.92},{"$f":"VLOOKUP(A150,Тнав!A:E,4,FALSE)","v":131.52496412636651},{"$f":"VLOOKUP(A150,'Состояние  фонда'!C:AB,21,FALSE)","v":99.2},null,"безгидратный",4.1590539392848829,285.46157294151419,0.95611869109748149,61.829226495271669,7.1136400684517902E+26]
[382,null,"Суб.ГС",140.9,139.6,168,1290.7,"1136,65-1290,7",937.07899999999995,"114/868,821",null,null,null,null,null,null,null,8,null,null,null,null,null,null,null,null,null,null,null,null,{"$f":"IFERROR([1]!Скорость_газа(AA151,X151,18.8,46.8,190.24,IF(MID(J151,1,2)=\"73\",6,IF(MID(J151,1,2)=\"89\",7.6,IF(MID(J151,1,2)=\"11\",10,0)))),\"\")","v":""},282.44572807875301,1,59.320362296056196,5.7876999719549302E+25]
[391,8,"Суб.ГС",98.2,98.2,168,1227.8,"1108,8-1227,8",940.90599999999995,"114/886,178","25.07.2023",38.19,{"$f":"VLOOKUP(A152,Сеноман!B:K,5,FALSE)","v":57.455190957165797},{"$f":"VLOOKUP(A152,Сеноман!B:K,7,FALSE)","v":38.97},{"$f":"VLOOKUP(A152,Сеноман!B:K,8,FALSE)","v":51.62},{"$f":"VLOOKUP(A152,Сеноман!B:M,11,FALSE)","v":58.378113482604519},{"$f":"VLOOKUP(A152,Сеноман!B:M,12,FALSE)","v":-0.92292252543872166},8,{"$f":"VLOOKUP(A152,Сеноман!B:M,9,FALSE)","v":7.3},{"$f":"VLOOKUP(A152,Сеноман!B:M,6,FALSE)","v":785},{"$f":"VLOOKUP(A152,Сеноман!B:M,10,FALSE)","v":19.048389434814499},{"$f":"VLOOKUP(A152,Тнав!A:D,2,FALSE)","v":24.511454312144171},{"$f":"X152/AI152","v":3.7510491093768296E-26},{"$f":"M152-Y152","v":53.231122954661373},{"$f":"VLOOKUP(A152,Тнав!A:D,3,FALSE)","v":4.2240680025044268},{"$f":"VLOOKUP(A152,'Состояние  фонда'!C:AB,20,FALSE)","v":9.33},{"$f":"VLOOKUP(A152,Тнав!A:E,4,FALSE)","v":541.66882931709836},{"$f":"VLOOKUP(A152,'Состояние  фонда'!C:AB,21,FALSE)","v":99},null,"безгидратный",13.82296401249129,287.18897785612376,0.95179621264023095,62.519820097724683,1.4190996012714101E+27]
[392,null,"Суб.ГС",64.3,64.3,168,1199.7,"1113,86-1199,7",936.46600000000001,"114/886,69","25.07.2023",38.409999999999997,{"$f":"VLOOKUP(A153,Сеноман!B:K,5,FALSE)","v":57.656119058366798},{"$f":"VLOOKUP(A153,Сеноман!B:K,7,FALSE)","v":38.979999999999997},{"$f":"VLOOKUP(A153,Сеноман!B:K,8,FALSE)","v":49.66},{"$f":"VLOOKUP(A153,Сеноман!B:M,11,FALSE)","v":56.184542905024543},{"$f":"VLOOKUP(A153,Сеноман!B:M,12,FALSE)","v":1.4715761533422551},8,{"$f":"VLOOKUP(A153,Сеноман!B:M,9,FALSE)","v":6.5},{"$f":"VLOOKUP(A153,Сеноман!B:M,6,FALSE)","v":744},{"$f":"VLOOKUP(A153,Сеноман!B:M,10,FALSE)","v":18.840875625610401},{"$f":"VLOOKUP(A153,Тнав!A:D,2,FALSE)","v":25.699864872580019},{"$error":"#VALUE!"},55.401799637332338,{"$f":"VLOOKUP(A153,Тнав!A:D,3,FALSE)","v":2.254319421034459},{"$f":"VLOOKUP(A153,'Состояние  фонда'!C:AB,20,FALSE)","v":8.69},{"$f":"VLOOKUP(A153,Тнав!A:E,4,FALSE)","v":562.13740314745644},{"$f":"VLOOKUP(A153,'Состояние  фонда'!C:AB,21,FALSE)","v":99.2},null,"безгидратный",13.783248038635771,286.86530836970991,0.9491599171929781,{"$error":"#VALUE!"},{"$error":"#VALUE!"}]
[393,null,"Суб.ГС",97,94.8,168,1176,"1072,6-1175,7",934.18299999999999,"114/878,805","25.07.2023",37.880000000000003,{"$f":"VLOOKUP(A154,Сеноман!B:K,5,FALSE)","v":57.179931854198202},{"$f":"VLOOKUP(A154,Сеноман!B:K,7,FALSE)","v":38.950000000000003},{"$f":"VLOOKUP(A154,Сеноман!B:K,8,FALSE)","v":50.93},{"$f":"VLOOKUP(A154,Сеноман!B:M,11,FALSE)","v":57.555498880450067},{"$f":"VLOOKUP(A154,Сеноман!B:M,12,FALSE)","v":-0.37556702625186489},8,{"$f":"VLOOKUP(A154,Сеноман!B:M,9,FALSE)","v":6.6},{"$f":"VLOOKUP(A154,Сеноман!B:M,6,FALSE)","v":724},{"$f":"VLOOKUP(A154,Сеноман!B:M,10,FALSE)","v":17.841945648193398},{"$f":"VLOOKUP(A154,Тнав!A:D,2,FALSE)","v":23.292725058300249},6.512252156831469E-26,51.127464778969198,{"$f":"VLOOKUP(A154,Тнав!A:D,3,FALSE)","v":6.052467075229},{"$f":"VLOOKUP(A154,'Состояние  фонда'!C:AB,20,FALSE)","v":8.81},{"$f":"VLOOKUP(A154,Тнав!A:E,4,FALSE)","v":445.56199409552102},{"$f":"VLOOKUP(A154,'Состояние  фонда'!C:AB,21,FALSE)","v":98.9},null,"безгидратный",11.947324751602521,286.9260151518701,0.95377315230221471,61.927848892058911,7.8509651573205096E+26]
[401,null,"Суб.ГС",119.97,100.4,168,1190,"1055-1175",925.32500000000005,"114/854,951","24.07.2023",36.65,{"$f":"VLOOKUP(A155,Сеноман!B:K,5,FALSE)","v":55.1704902368541},{"$f":"VLOOKUP(A155,Сеноман!B:K,7,FALSE)","v":47.52},{"$f":"VLOOKUP(A155,Сеноман!B:K,8,FALSE)","v":49.69},{"$f":"VLOOKUP(A155,Сеноман!B:M,11,FALSE)","v":56.043736297948939},{"$f":"VLOOKUP(A155,Сеноман!B:M,12,FALSE)","v":-0.87324606109483938},8,{"$f":"VLOOKUP(A155,Сеноман!B:M,9,FALSE)","v":3.9},{"$f":"VLOOKUP(A155,Сеноман!B:M,6,FALSE)","v":322},{"$f":"VLOOKUP(A155,Сеноман!B:M,10,FALSE)","v":8.16986083984375},{"$f":"VLOOKUP(A155,Тнав!A:D,2,FALSE)","v":20.48702511230038},3.7756047323660515E-25,48.325490865646188,{"$f":"VLOOKUP(A155,Тнав!A:D,3,FALSE)","v":6.8449993712079156},{"$f":"VLOOKUP(A155,'Состояние  фонда'!C:AB,20,FALSE)","v":7.36},{"$f":"VLOOKUP(A155,Тнав!A:E,4,FALSE)","v":452.15859587192477},{"$f":"VLOOKUP(A155,'Состояние  фонда'!C:AB,21,FALSE)","v":80.400000000000006},null,"безгидратный",12.827183439005211,286.19189325008358,0.95833329802529743,60.114025943610663,1.2799404146143799E+26]
[402,null,"Суб.ГС",153.80000000000001,153.80000000000001,168,1257.5,"1048,5-1257,5",928.69500000000005,"114/883,09","24.07.2023",36.6,{"$f":"VLOOKUP(A156,Сеноман!B:K,5,FALSE)","v":54.630959531990598},{"$f":"VLOOKUP(A156,Сеноман!B:K,7,FALSE)","v":46.07},{"$f":"VLOOKUP(A156,Сеноман!B:K,8,FALSE)","v":50.08},{"$f":"VLOOKUP(A156,Сеноман!B:M,11,FALSE)","v":56.683868085087397},{"$f":"VLOOKUP(A156,Сеноман!B:M,12,FALSE)","v":-2.052908553096799},8,{"$f":"VLOOKUP(A156,Сеноман!B:M,9,FALSE)","v":4.9000000000000004},{"$f":"VLOOKUP(A156,Сеноман!B:M,6,FALSE)","v":477},{"$f":"VLOOKUP(A156,Сеноман!B:M,10,FALSE)","v":11.942666053771999},{"$f":"VLOOKUP(A156,Тнав!A:D,2,FALSE)","v":23.72513178384434},{"$error":"#VALUE!"},47.800884853585188,{"$f":"VLOOKUP(A156,Тнав!A:D,3,FALSE)","v":6.8300746784054134},{"$f":"VLOOKUP(A156,'Состояние  фонда'!C:AB,20,FALSE)","v":7.13},{"$f":"VLOOKUP(A156,Тнав!A:E,4,FALSE)","v":408.34392070205018},{"$f":"VLOOKUP(A156,'Состояние  фонда'!C:AB,21,FALSE)","v":59.7},null,"безгидратный",11.711349625427211,286.07532946893406,0.95191990623320755,{"$error":"#VALUE!"},{"$error":"#VALUE!"}]
[403,null,"Суб.ГС",146.6,146.6,168,1242.7,"1073,6-1242,7",923.74099999999999,"114/876,137","2023-10-06",35.1,{"$f":"VLOOKUP(A157,Сеноман!B:K,5,FALSE)","v":54.237835658117497},{"$f":"VLOOKUP(A157,Сеноман!B:K,7,FALSE)","v":44.8},{"$f":"VLOOKUP(A157,Сеноман!B:K,8,FALSE)","v":49.85},{"$f":"VLOOKUP(A157,Сеноман!B:M,11,FALSE)","v":56.346738333971842},{"$f":"VLOOKUP(A157,Сеноман!B:M,12,FALSE)","v":-2.1089026758543454},8,{"$f":"VLOOKUP(A157,Сеноман!B:M,9,FALSE)","v":5.2},{"$f":"VLOOKUP(A157,Сеноман!B:M,6,FALSE)","v":418},{"$f":"VLOOKUP(A157,Сеноман!B:M,10,FALSE)","v":10.5522546768188},{"$f":"VLOOKUP(A157,Тнав!A:D,2,FALSE)","v":26.93662844444539},{"$error":"#VALUE!"},51.235179684667571,{"$f":"VLOOKUP(A157,Тнав!A:D,3,FALSE)","v":3.002655973449925},{"$f":"VLOOKUP(A157,'Состояние  фонда'!C:AB,20,FALSE)","v":5.77},{"$f":"VLOOKUP(A157,Тнав!A:E,4,FALSE)","v":100.6928251110804},{"$f":"VLOOKUP(A157,'Состояние  фонда'!C:AB,21,FALSE)","v":92.8},16,"безгидратный",2.6943068195912119,285.38542523008783,0.94480234927211759,{"$f":"(0.5647*0.03415*MID(J157,4,7)/(AF157*AG157))","v":{"$error":"#VALUE!"}},{"$error":"#VALUE!"}]
[411,null,"Суб.ГС",45.9,45.9,168,1173.7,"1125,48-1173,7",931.40800000000002,"114/876,189","25.07.2023",34.44,{"$f":"VLOOKUP(A158,Сеноман!B:K,5,FALSE)","v":53.655001579670497},{"$f":"VLOOKUP(A158,Сеноман!B:K,7,FALSE)","v":44.79},{"$f":"VLOOKUP(A158,Сеноман!B:K,8,FALSE)","v":46.51},{"$f":"VLOOKUP(A158,Сеноман!B:M,11,FALSE)","v":52.5555049813347},{"$f":"VLOOKUP(A158,Сеноман!B:M,12,FALSE)","v":1.0994965983357972},8,{"$f":"VLOOKUP(A158,Сеноман!B:M,9,FALSE)","v":4.8},{"$f":"VLOOKUP(A158,Сеноман!B:M,6,FALSE)","v":305},{"$f":"VLOOKUP(A158,Сеноман!B:M,10,FALSE)","v":8.3144016265869105},{"$f":"VLOOKUP(A158,Тнав!A:D,2,FALSE)","v":21.85464130690773},7.9264854548370744E-26,45.322441734231155,{"$f":"VLOOKUP(A158,Тнав!A:D,3,FALSE)","v":8.3325598454393397},{"$f":"VLOOKUP(A158,'Состояние  фонда'!C:AB,20,FALSE)","v":8.51},{"$f":"VLOOKUP(A158,Тнав!A:E,4,FALSE)","v":287.01680407598059},{"$f":"VLOOKUP(A158,'Состояние  фонда'!C:AB,21,FALSE)","v":82.2},null,"безгидратный",8.7634980523007684,286.774231943877,0.9563333120454881,{"$f":"(0.5647*0.03415*MID(J158,5,7)/(AF158*AG158))","v":61.610804988889527},5.7178483443218198E+26]
[412,null,"Суб.ГС",31.9,31.9,168,1188.7,"1149,1-1188,7",937.22699999999998,"114/882,355","25.07.2023",34.97,{"$f":"VLOOKUP(A159,Сеноман!B:K,5,FALSE)","v":54.256394792060298},{"$f":"VLOOKUP(A159,Сеноман!B:K,7,FALSE)","v":43},{"$f":"VLOOKUP(A159,Сеноман!B:K,8,FALSE)","v":46.19},{"$f":"VLOOKUP(A159,Сеноман!B:M,11,FALSE)","v":52.213934803709677},{"$f":"VLOOKUP(A159,Сеноман!B:M,12,FALSE)","v":2.0424599883506218},8,{"$f":"VLOOKUP(A159,Сеноман!B:M,9,FALSE)","v":5.4},{"$f":"VLOOKUP(A159,Сеноман!B:M,6,FALSE)","v":426},{"$f":"VLOOKUP(A159,Сеноман!B:M,10,FALSE)","v":11.698275566101101},{"$f":"VLOOKUP(A159,Тнав!A:D,2,FALSE)","v":23.706843516265501},4.4177923956503014E-26,48.22848996839452,{"$f":"VLOOKUP(A159,Тнав!A:D,3,FALSE)","v":6.0279048236657813},{"$f":"VLOOKUP(A159,'Состояние  фонда'!C:AB,20,FALSE)","v":8.6199999999999992},{"$f":"VLOOKUP(A159,Тнав!A:E,4,FALSE)","v":354.80060142101121},{"$f":"VLOOKUP(A159,'Состояние  фонда'!C:AB,21,FALSE)","v":95.3},null,"безгидратный",10.085500866307999,286.82989207794509,0.95287428074318359,{"$f":"(0.5647*0.03415*MID(J159,5,7)/(AF159*AG159))","v":62.257522229145053},1.0916875590595801E+27]
[413,null,"Суб.ГС",61.9,61.9,168,1250.3800000000001,"1177,51-1250,38",940.01700000000005,"114/887,655","25.07.2023",33.770000000000003,{"$f":"VLOOKUP(A160,Сеноман!B:K,5,FALSE)","v":53.209375548169596},{"$f":"VLOOKUP(A160,Сеноман!B:K,7,FALSE)","v":43.37},{"$f":"VLOOKUP(A160,Сеноман!B:K,8,FALSE)","v":46.12},{"$f":"VLOOKUP(A160,Сеноман!B:M,11,FALSE)","v":52.168897230714322},{"$f":"VLOOKUP(A160,Сеноман!B:M,12,FALSE)","v":1.0404783174552747},8,{"$f":"VLOOKUP(A160,Сеноман!B:M,9,FALSE)","v":5.6},{"$f":"VLOOKUP(A160,Сеноман!B:M,6,FALSE)","v":363},{"$f":"VLOOKUP(A160,Сеноман!B:M,10,FALSE)","v":9.9811115264892596},{"$f":"VLOOKUP(A160,Тнав!A:D,2,FALSE)","v":20.75427289281922},3.9471381271125399E-26,43.807508060990934,{"$f":"VLOOKUP(A160,Тнав!A:D,3,FALSE)","v":9.4018674871786629},{"$f":"VLOOKUP(A160,'Состояние  фонда'!C:AB,20,FALSE)","v":8.5500000000000007},{"$f":"VLOOKUP(A160,Тнав!A:E,4,FALSE)","v":224.84687081858121},{"$f":"VLOOKUP(A160,'Состояние  фонда'!C:AB,21,FALSE)","v":98.2},null,"безгидратный",7.1026721368496686,286.79447283585017,0.95846216222902048,{"$f":"(0.5647*0.03415*MID(J160,5,7)/(AF160*AG160))","v":62.27402684591852},1.1098549544056E+27]
["ИТОГО по ПК1",null,null,null,null,null,null,null,null,null,null,{"$f":"AVERAGE(L21:L160)","v":28.272627737226266},47.465466935733552,35.059781021897784,41.471897810219012,{"$error":"#NAME?"},{"$error":"#NAME?"},null,{"$f":"AVERAGE(S21:S160)","v":7.0284671532846685},{"$f":"SUM(T21:T160)","v":70881},{"$f":"AVERAGE(U21:U160)","v":15.984085072566126},15.546147217665098,{"$error":"#VALUE!"},43.16229405096675,4.3031728847668038,7.5357542579075423,{"$f":"SUM(AA21:AA160)","v":40654.321985246643},{"$f":"AVERAGE(AB21:AB160)","v":82.362481751824816},null,null,{"$f":"AVERAGE(AE21:AE160)","v":10.705767736012975}]
["Объект Т1-2",null,null,null,null,null,null,null,null,null,null,null,null,null,null,null,null,null,null,null,null,null,null,null,null,null,null,null,null,null,null,{"$f":"Турон!I2","v":15.6}]
["174БОК",3,"ГС",211.4,211.4,245,1485.96,"1155,09-1482,25",790.64800000000002,"73/803,931","23.07.2023",66.239999999999995,{"$f":"VLOOKUP(A163,Турон!B:K,5,FALSE)","v":89.008861083984399},{"$f":"VLOOKUP(A163,Турон!B:K,7,FALSE)","v":46.83},{"$f":"VLOOKUP(A163,Турон!B:K,8,FALSE)","v":47.67},{"$f":"VLOOKUP(A163,Турон!B:M,11,FALSE)","v":53.489563871164549},{"$f":"VLOOKUP(A163,Турон!B:M,12,FALSE)","v":35.519297212819851},28.13,{"$f":"VLOOKUP(A163,Турон!B:M,9,FALSE)","v":1.2},{"$f":"VLOOKUP(A163,Турон!B:M,6,FALSE)","v":33},{"$f":"VLOOKUP(A163,Турон!B:M,10,FALSE)","v":2.21047806739807},{"$f":"VLOOKUP(A163,Тнав!A:D,2,FALSE)","v":16.082622346275521},{"$f":"X163/AI163","v":8.033859351724723E-24},{"$f":"M163-Y163","v":42.421656380075376},{"$f":"VLOOKUP(A163,Тнав!A:D,3,FALSE)","v":46.587204703909023},{"$f":"VLOOKUP(A163,'Состояние  фонда'!C:AB,20,FALSE)","v":2.7041666666666671},{"$f":"VLOOKUP(A163,Тнав!A:E,4,FALSE)","v":39.893622487049477},{"$f":"VLOOKUP(A163,'Состояние  фонда'!C:AB,21,FALSE)","v":33.1},null,"гидратный",3.6149044347145631,{"$f":"(($AF$162+273.15)-(Z163+273.15))/(LN(($AF$162+273.15)/(Z163+273.15)))","v":282.25298531948857},{"$f":"1/(1+(5*10^7*0.098*V163)/(Z163+273.15)^3.825)","v":0.96488994944341278},{"$f":"(0.5647*0.03415*MID(J163,4,7)/(AF163*AG163))","v":56.92603619822804},{"$f":"ROUND(EXP(AH163),4)","v":5.2803583586471704E+24}]
["174ОСН",null,"ГС",109.8,109.8,245,1802,"1501,27-1755,43",822.322,"73/829,923","23.07.2023",61.5,{"$f":"VLOOKUP(A164,Турон!B:K,5,FALSE)","v":85.759901428222705},{"$f":"VLOOKUP(A164,Турон!B:K,7,FALSE)","v":49.99},{"$f":"VLOOKUP(A164,Турон!B:K,8,FALSE)","v":0},{"$f":"VLOOKUP(A164,Турон!B:M,11,FALSE)","v":{"$error":"#NAME?"}},{"$f":"VLOOKUP(A164,Турон!B:M,12,FALSE)","v":{"$error":"#NAME?"}},21.46,{"$f":"VLOOKUP(A164,Турон!B:M,9,FALSE)","v":1.8},{"$f":"VLOOKUP(A164,Турон!B:M,6,FALSE)","v":43},{"$f":"VLOOKUP(A164,Турон!B:M,10,FALSE)","v":0},{"$f":"VLOOKUP(A164,Тнав!A:D,2,FALSE)","v":29.46428429390329},3.1955524317042892E-25,59.171024595975943,{"$f":"VLOOKUP(A164,Тнав!A:D,3,FALSE)","v":26.588876832246761},{"$f":"VLOOKUP(A164,'Состояние  фонда'!C:AB,20,FALSE)","v":2.7041666666666671},{"$f":"VLOOKUP(A164,Тнав!A:E,4,FALSE)","v":178.82781657565729},{"$f":"VLOOKUP(A164,'Состояние  фонда'!C:AB,21,FALSE)","v":3.2},null,"гидратный",11.308442545948729,282.25298531948857,0.93750216355779792,60.483299319574449,1.8516680874617401E+26]
[184,2,"ГС",0,0,168,1804,"948,99-1802,4",827.36900000000003,"89/777,404","25.07.2023",54.81,{"$f":"VLOOKUP(A165,Турон!B:K,5,FALSE)","v":84.096438903808604},{"$f":"VLOOKUP(A165,Турон!B:K,7,FALSE)","v":44.32},{"$f":"VLOOKUP(A165,Турон!B:K,8,FALSE)","v":59.41},{"$f":"VLOOKUP(A165,Турон!B:M,11,FALSE)","v":66.597830659270898},{"$f":"VLOOKUP(A165,Турон!B:M,12,FALSE)","v":17.498608244537706},22.3,{"$f":"VLOOKUP(A165,Турон!B:M,9,FALSE)","v":-0.5},{"$f":"VLOOKUP(A165,Турон!B:M,6,FALSE)","v":310},{"$f":"VLOOKUP(A165,Турон!B:M,10,FALSE)","v":16.121294021606399},{"$f":"VLOOKUP(A165,Тнав!A:D,2,FALSE)","v":13.182345217041711},6.7894790395177363E-23,57.85434954997946,{"$f":"VLOOKUP(A165,Тнав!A:D,3,FALSE)","v":26.24208935382914},{"$f":"VLOOKUP(A165,'Состояние  фонда'!C:AB,20,FALSE)","v":-0.59999999999999976},{"$f":"VLOOKUP(A165,Тнав!A:E,4,FALSE)","v":163.8087460993433},{"$f":"VLOOKUP(A165,'Состояние  фонда'!C:AB,21,FALSE)","v":43},null,"гидратный",6.6031809458537492,280.57205643997753,0.96971340182356536,55.10201156240462,8.5211765458353801E+23]
[1902,10,"ГС + МГРП",505.5,205,168,1434,"1011-1418",808.54100000000005,"89/nan","23.07.2023",70.489999999999995,{"$f":"VLOOKUP(A166,Турон!B:K,5,FALSE)","v":93.370966491699207},{"$f":"VLOOKUP(A166,Турон!B:K,7,FALSE)","v":56.26},{"$f":"VLOOKUP(A166,Турон!B:K,8,FALSE)","v":59.41},{"$f":"VLOOKUP(A166,Турон!B:M,11,FALSE)","v":{"$error":"#NAME?"}},{"$f":"VLOOKUP(A166,Турон!B:M,12,FALSE)","v":{"$error":"#NAME?"}},12.57,{"$f":"VLOOKUP(A166,Турон!B:M,9,FALSE)","v":2.7},{"$f":"VLOOKUP(A166,Турон!B:M,6,FALSE)","v":178},{"$f":"VLOOKUP(A166,Турон!B:M,10,FALSE)","v":9.2899971008300799},{"$f":"VLOOKUP(A166,Тнав!A:D,2,FALSE)","v":58.503293398506003},{"$error":"#VALUE!"},82.036677384055864,{"$f":"VLOOKUP(A166,Тнав!A:D,3,FALSE)","v":11.33428910764334},{"$f":"VLOOKUP(A166,'Состояние  фонда'!C:AB,20,FALSE)","v":-1.0249999999999999},{"$f":"VLOOKUP(A166,Тнав!A:E,4,FALSE)","v":61.460682947748602},{"$f":"VLOOKUP(A166,'Состояние  фонда'!C:AB,21,FALSE)","v":6.4},null,"гидратный",{"$f":"IFERROR([1]!Скорость_газа(AA166,X166,18.8,46.8,190.24,IF(MID(J166,1,2)=\"73\",6,IF(MID(J166,1,2)=\"89\",7.6,IF(MID(J166,1,2)=\"11\",10,0)))),\"\")","v":""},280.35534996321445,0.87762416278361999,{"$error":"#VALUE!"},{"$error":"#VALUE!"}]
["35Р",12,"ВС + ГРП",0,0,146,869.5,"800-856",827.95,"73/797,69","26.07.2023",74.36,{"$f":"VLOOKUP(A167,Турон!B:K,5,FALSE)","v":0},{"$f":"VLOOKUP(A167,Турон!B:K,7,FALSE)","v":0},{"$f":"VLOOKUP(A167,Турон!B:K,8,FALSE)","v":0},{"$f":"VLOOKUP(A167,Турон!B:M,11,FALSE)","v":{"$error":"#NAME?"}},{"$f":"VLOOKUP(A167,Турон!B:M,12,FALSE)","v":{"$error":"#NAME?"}},50.89,{"$f":"VLOOKUP(A167,Турон!B:M,9,FALSE)","v":0},{"$f":"VLOOKUP(A167,Турон!B:M,6,FALSE)","v":0},{"$f":"VLOOKUP(A167,Турон!B:M,10,FALSE)","v":0},{"$f":"VLOOKUP(A167,Тнав!A:D,2,FALSE)","v":16.08419748564053},{"$error":"#VALUE!"},-51.199444583917384,{"$f":"VLOOKUP(A167,Тнав!A:D,3,FALSE)","v":51.199444583917384},{"$f":"VLOOKUP(A167,'Состояние  фонда'!C:AB,20,FALSE)","v":-1.083333333333333},{"$f":"VLOOKUP(A167,Тнав!A:E,4,FALSE)","v":120.0469892150913},{"$f":"VLOOKUP(A167,'Состояние  фонда'!C:AB,21,FALSE)","v":90.4},null,"гидратный",{"$f":"IFERROR([1]!Скорость_газа(AA167,X167,18.8,46.8,190.24,IF(MID(J167,1,2)=\"73\",6,IF(MID(J167,1,2)=\"89\",7.6,IF(MID(J167,1,2)=\"11\",10,0)))),\"\")","v":""},280.32559704834159,0.96305026952266903,{"$error":"#VALUE!"},{"$error":"#VALUE!"}]
["51Р",6,"ВС + ГРП",0,0,146,804,"765-795",779.99,"73/702,7","26.07.2023",47.07,{"$f":"VLOOKUP(A168,Турон!B:K,5,FALSE)","v":0},{"$f":"VLOOKUP(A168,Турон!B:K,7,FALSE)","v":0},{"$f":"VLOOKUP(A168,Турон!B:K,8,FALSE)","v":0},{"$f":"VLOOKUP(A168,Турон!B:M,11,FALSE)","v":{"$error":"#NAME?"}},{"$f":"VLOOKUP(A168,Турон!B:M,12,FALSE)","v":{"$error":"#NAME?"}},50.89,{"$f":"VLOOKUP(A168,Турон!B:M,9,FALSE)","v":0},{"$f":"VLOOKUP(A168,Турон!B:M,6,FALSE)","v":0},{"$f":"VLOOKUP(A168,Турон!B:M,10,FALSE)","v":0},{"$f":"VLOOKUP(A168,Тнав!A:D,2,FALSE)","v":13.01075446032973},{"$error":"#VALUE!"},-20.825633410607171,{"$f":"VLOOKUP(A168,Тнав!A:D,3,FALSE)","v":20.825633410607171},{"$f":"VLOOKUP(A168,'Состояние  фонда'!C:AB,20,FALSE)","v":-0.59999999999999976},{"$f":"VLOOKUP(A168,Тнав!A:E,4,FALSE)","v":163.61031395793449},{"$f":"VLOOKUP(A168,'Состояние  фонда'!C:AB,21,FALSE)","v":43},null,"гидратный",{"$f":"IFERROR([1]!Скорость_газа(AA168,X168,18.8,46.8,190.24,IF(MID(J168,1,2)=\"73\",6,IF(MID(J168,1,2)=\"89\",7.6,IF(MID(J168,1,2)=\"11\",10,0)))),\"\")","v":""},280.57205643997753,0.97009584449986097,{"$error":"#VALUE!"},{"$error":"#VALUE!"}]
[1101,4,"ГС",null,null,null,null,null,null,null,"23.07.2023",47.61,{"$f":"VLOOKUP(A169,Турон!B:K,5,FALSE)","v":52.317471856759333},{"$f":"VLOOKUP(A169,Турон!B:K,7,FALSE)","v":0},{"$f":"VLOOKUP(A169,Турон!B:K,8,FALSE)","v":0},{"$f":"VLOOKUP(A169,Турон!B:M,11,FALSE)","v":{"$error":"#NAME?"}},{"$f":"VLOOKUP(A169,Турон!B:M,12,FALSE)","v":{"$error":"#NAME?"}},50.89,{"$f":"VLOOKUP(A169,Турон!B:M,9,FALSE)","v":0},{"$f":"VLOOKUP(A169,Турон!B:M,6,FALSE)","v":0},{"$f":"VLOOKUP(A169,Турон!B:M,10,FALSE)","v":0},{"$f":"VLOOKUP(A169,Тнав!A:D,2,FALSE)","v":12.02384821925313},{"$error":"#VALUE!"},32.73062104482473,{"$f":"VLOOKUP(A169,Тнав!A:D,3,FALSE)","v":19.5868508119346},{"$f":"VLOOKUP(A169,'Состояние  фонда'!C:AB,20,FALSE)","v":1.8652173913043479},{"$f":"VLOOKUP(A169,Тнав!A:E,4,FALSE)","v":167.8191960613178},{"$f":"VLOOKUP(A169,'Состояние  фонда'!C:AB,21,FALSE)","v":98.1},null,"гидратный",{"$f":"IFERROR([1]!Скорость_газа(AA169,X169,18.8,46.8,190.24,IF(MID(J169,1,2)=\"73\",6,IF(MID(J169,1,2)=\"89\",7.6,IF(MID(J169,1,2)=\"11\",10,0)))),\"\")","v":""},281.8268307125843,0.97321396551451678,{"$error":"#VALUE!"},{"$error":"#VALUE!"}]
[1102,null,"ГС",null,null,null,null,null,null,null,"23.07.2023",45.51,{"$f":"VLOOKUP(A170,Турон!B:K,5,FALSE)","v":51.873053942839952},{"$f":"VLOOKUP(A170,Турон!B:K,7,FALSE)","v":0},{"$f":"VLOOKUP(A170,Турон!B:K,8,FALSE)","v":0},{"$f":"VLOOKUP(A170,Турон!B:M,11,FALSE)","v":{"$error":"#NAME?"}},{"$f":"VLOOKUP(A170,Турон!B:M,12,FALSE)","v":{"$error":"#NAME?"}},50.89,{"$f":"VLOOKUP(A170,Турон!B:M,9,FALSE)","v":0},{"$f":"VLOOKUP(A170,Турон!B:M,6,FALSE)","v":0},{"$f":"VLOOKUP(A170,Турон!B:M,10,FALSE)","v":0},{"$f":"VLOOKUP(A170,Тнав!A:D,2,FALSE)","v":11.83072798941429},{"$error":"#VALUE!"},33.029673566614662,{"$f":"VLOOKUP(A170,Тнав!A:D,3,FALSE)","v":18.843380376225291},{"$f":"VLOOKUP(A170,'Состояние  фонда'!C:AB,20,FALSE)","v":1.3826086956521739},{"$f":"VLOOKUP(A170,Тнав!A:E,4,FALSE)","v":164.16536637997001},{"$f":"VLOOKUP(A170,'Состояние  фонда'!C:AB,21,FALSE)","v":100},null,"гидратный",{"$f":"IFERROR([1]!Скорость_газа(AA170,X170,18.8,46.8,190.24,IF(MID(J170,1,2)=\"73\",6,IF(MID(J170,1,2)=\"89\",7.6,IF(MID(J170,1,2)=\"11\",10,0)))),\"\")","v":""},281.58148577615253,0.97345982552254628,{"$error":"#VALUE!"},{"$error":"#VALUE!"}]
[1103,null,"ГС",null,null,null,null,null,null,null,"23.07.2023",49.21,{"$f":"VLOOKUP(A171,Турон!B:K,5,FALSE)","v":56.009971196621841},{"$f":"VLOOKUP(A171,Турон!B:K,7,FALSE)","v":0},{"$f":"VLOOKUP(A171,Турон!B:K,8,FALSE)","v":0},{"$f":"VLOOKUP(A171,Турон!B:M,11,FALSE)","v":{"$error":"#NAME?"}},{"$f":"VLOOKUP(A171,Турон!B:M,12,FALSE)","v":{"$error":"#NAME?"}},50.89,{"$f":"VLOOKUP(A171,Турон!B:M,9,FALSE)","v":0},{"$f":"VLOOKUP(A171,Турон!B:M,6,FALSE)","v":0},{"$f":"VLOOKUP(A171,Турон!B:M,10,FALSE)","v":0},{"$f":"VLOOKUP(A171,Тнав!A:D,2,FALSE)","v":12.481318787130521},{"$error":"#VALUE!"},37.975768860063397,{"$f":"VLOOKUP(A171,Тнав!A:D,3,FALSE)","v":18.03420233655844},{"$f":"VLOOKUP(A171,'Состояние  фонда'!C:AB,20,FALSE)","v":0.75217391304347814},{"$f":"VLOOKUP(A171,Тнав!A:E,4,FALSE)","v":197.8618894364636},{"$f":"VLOOKUP(A171,'Состояние  фонда'!C:AB,21,FALSE)","v":99.2},null,"гидратный",{"$f":"IFERROR([1]!Скорость_газа(AA171,X171,18.8,46.8,190.24,IF(MID(J171,1,2)=\"73\",6,IF(MID(J171,1,2)=\"89\",7.6,IF(MID(J171,1,2)=\"11\",10,0)))),\"\")","v":""},281.260771620821,0.97180115888812435,{"$error":"#VALUE!"},{"$error":"#VALUE!"}]
[1104,null,"ГС + МГРП",null,null,null,null,null,null,null,"23.07.2023",47.89,{"$f":"VLOOKUP(A172,Турон!B:K,5,FALSE)","v":58.360137373661843},{"$f":"VLOOKUP(A172,Турон!B:K,7,FALSE)","v":0},{"$f":"VLOOKUP(A172,Турон!B:K,8,FALSE)","v":0},{"$f":"VLOOKUP(A172,Турон!B:M,11,FALSE)","v":{"$error":"#NAME?"}},{"$f":"VLOOKUP(A172,Турон!B:M,12,FALSE)","v":{"$error":"#NAME?"}},50.89,{"$f":"VLOOKUP(A172,Турон!B:M,9,FALSE)","v":0},{"$f":"VLOOKUP(A172,Турон!B:M,6,FALSE)","v":0},{"$f":"VLOOKUP(A172,Турон!B:M,10,FALSE)","v":0},{"$f":"VLOOKUP(A172,Тнав!A:D,2,FALSE)","v":12.012223733577679},{"$error":"#VALUE!"},38.259895015277849,{"$f":"VLOOKUP(A172,Тнав!A:D,3,FALSE)","v":20.100242358383991},{"$f":"VLOOKUP(A172,'Состояние  фонда'!C:AB,20,FALSE)","v":0.58695652173913049},{"$f":"VLOOKUP(A172,Тнав!A:E,4,FALSE)","v":192.47462711909961},{"$f":"VLOOKUP(A172,'Состояние  фонда'!C:AB,21,FALSE)","v":99.7},null,"гидратный",{"$f":"IFERROR([1]!Скорость_газа(AA172,X172,18.8,46.8,190.24,IF(MID(J172,1,2)=\"73\",6,IF(MID(J172,1,2)=\"89\",7.6,IF(MID(J172,1,2)=\"11\",10,0)))),\"\")","v":""},281.17668136152093,0.97277112019173051,{"$error":"#VALUE!"},{"$error":"#VALUE!"}]
[1301,1,"ГС",null,null,null,null,null,null,null,"24.07.2023",55.2,{"$f":"VLOOKUP(A173,Турон!B:K,5,FALSE)","v":61.380956909961952},{"$f":"VLOOKUP(A173,Турон!B:K,7,FALSE)","v":0},{"$f":"VLOOKUP(A173,Турон!B:K,8,FALSE)","v":0},{"$f":"VLOOKUP(A173,Турон!B:M,11,FALSE)","v":{"$error":"#NAME?"}},{"$f":"VLOOKUP(A173,Турон!B:M,12,FALSE)","v":{"$error":"#NAME?"}},50.89,{"$f":"VLOOKUP(A173,Турон!B:M,9,FALSE)","v":0},{"$f":"VLOOKUP(A173,Турон!B:M,6,FALSE)","v":0},{"$f":"VLOOKUP(A173,Турон!B:M,10,FALSE)","v":0},{"$f":"VLOOKUP(A173,Тнав!A:D,2,FALSE)","v":8.3703648354107081},{"$error":"#VALUE!"},36.097371389706133,{"$f":"VLOOKUP(A173,Тнав!A:D,3,FALSE)","v":25.283585520255819},{"$f":"VLOOKUP(A173,'Состояние  фонда'!C:AB,20,FALSE)","v":-0.70833333333333348},{"$f":"VLOOKUP(A173,Тнав!A:E,4,FALSE)","v":207.36651462512589},{"$f":"VLOOKUP(A173,'Состояние  фонда'!C:AB,21,FALSE)","v":97.6},null,"гидратный",{"$f":"IFERROR([1]!Скорость_газа(AA173,X173,18.8,46.8,190.24,IF(MID(J173,1,2)=\"73\",6,IF(MID(J173,1,2)=\"89\",7.6,IF(MID(J173,1,2)=\"11\",10,0)))),\"\")","v":""},280.51682834193122,0.98052498125011012,{"$error":"#VALUE!"},{"$error":"#VALUE!"}]
[1302,null,"ГС",null,null,null,null,null,null,null,"24.07.2023",54.6,{"$f":"VLOOKUP(A174,Турон!B:K,5,FALSE)","v":63.547640434113617},{"$f":"VLOOKUP(A174,Турон!B:K,7,FALSE)","v":0},{"$f":"VLOOKUP(A174,Турон!B:K,8,FALSE)","v":0},{"$f":"VLOOKUP(A174,Турон!B:M,11,FALSE)","v":{"$error":"#NAME?"}},{"$f":"VLOOKUP(A174,Турон!B:M,12,FALSE)","v":{"$error":"#NAME?"}},50.89,{"$f":"VLOOKUP(A174,Турон!B:M,9,FALSE)","v":0},{"$f":"VLOOKUP(A174,Турон!B:M,6,FALSE)","v":0},{"$f":"VLOOKUP(A174,Турон!B:M,10,FALSE)","v":0},{"$f":"VLOOKUP(A174,Тнав!A:D,2,FALSE)","v":8.8738947876327838},{"$error":"#VALUE!"},36.19207145940311,{"$f":"VLOOKUP(A174,Тнав!A:D,3,FALSE)","v":27.355568974710511},{"$f":"VLOOKUP(A174,'Состояние  фонда'!C:AB,20,FALSE)","v":0.43750000000000028},{"$f":"VLOOKUP(A174,Тнав!A:E,4,FALSE)","v":169.5837485398682},{"$f":"VLOOKUP(A174,'Состояние  фонда'!C:AB,21,FALSE)","v":98.7},null,"гидратный",{"$f":"IFERROR([1]!Скорость_газа(AA174,X174,18.8,46.8,190.24,IF(MID(J174,1,2)=\"73\",6,IF(MID(J174,1,2)=\"89\",7.6,IF(MID(J174,1,2)=\"11\",10,0)))),\"\")","v":""},281.10059816508561,0.97969934671534598,{"$error":"#VALUE!"},{"$error":"#VALUE!"}]
[1303,null,"ГС + МГРП",null,null,null,null,null,null,null,"24.07.2023",47.2,{"$f":"VLOOKUP(A175,Турон!B:K,5,FALSE)","v":51.946080662681098},{"$f":"VLOOKUP(A175,Турон!B:K,7,FALSE)","v":0},{"$f":"VLOOKUP(A175,Турон!B:K,8,FALSE)","v":0},{"$f":"VLOOKUP(A175,Турон!B:M,11,FALSE)","v":{"$error":"#NAME?"}},{"$f":"VLOOKUP(A175,Турон!B:M,12,FALSE)","v":{"$error":"#NAME?"}},50.89,{"$f":"VLOOKUP(A175,Турон!B:M,9,FALSE)","v":0},{"$f":"VLOOKUP(A175,Турон!B:M,6,FALSE)","v":0},{"$f":"VLOOKUP(A175,Турон!B:M,10,FALSE)","v":0},{"$f":"VLOOKUP(A175,Тнав!A:D,2,FALSE)","v":7.7495571599118271},{"$error":"#VALUE!"},26.461260362755439,{"$f":"VLOOKUP(A175,Тнав!A:D,3,FALSE)","v":25.484820299925659},{"$f":"VLOOKUP(A175,'Состояние  фонда'!C:AB,20,FALSE)","v":0.75416666666666654},{"$f":"VLOOKUP(A175,Тнав!A:E,4,FALSE)","v":238.79510345634321},{"$f":"VLOOKUP(A175,'Состояние  фонда'!C:AB,21,FALSE)","v":98.4},null,"гидратный",{"$f":"IFERROR([1]!Скорость_газа(AA175,X175,18.8,46.8,190.24,IF(MID(J175,1,2)=\"73\",6,IF(MID(J175,1,2)=\"89\",7.6,IF(MID(J175,1,2)=\"11\",10,0)))),\"\")","v":""},281.26178576324338,0.98230284021386272,{"$error":"#VALUE!"},{"$error":"#VALUE!"}]
[1304,null,"ГС + МГРП",null,null,null,null,null,null,null,"24.07.2023",50.21,{"$f":"VLOOKUP(A176,Турон!B:K,5,FALSE)","v":57.083537827978063},{"$f":"VLOOKUP(A176,Турон!B:K,7,FALSE)","v":0},{"$f":"VLOOKUP(A176,Турон!B:K,8,FALSE)","v":0},{"$f":"VLOOKUP(A176,Турон!B:M,11,FALSE)","v":{"$error":"#NAME?"}},{"$f":"VLOOKUP(A176,Турон!B:M,12,FALSE)","v":{"$error":"#NAME?"}},50.89,{"$f":"VLOOKUP(A176,Турон!B:M,9,FALSE)","v":0},{"$f":"VLOOKUP(A176,Турон!B:M,6,FALSE)","v":0},{"$f":"VLOOKUP(A176,Турон!B:M,10,FALSE)","v":0},{"$f":"VLOOKUP(A176,Тнав!A:D,2,FALSE)","v":13.70732763652865},{"$error":"#VALUE!"},36.834363516618851,{"$f":"VLOOKUP(A176,Тнав!A:D,3,FALSE)","v":20.249174311359209},{"$f":"VLOOKUP(A176,'Состояние  фонда'!C:AB,20,FALSE)","v":1.2208333333333341},{"$f":"VLOOKUP(A176,Тнав!A:E,4,FALSE)","v":215.1677149950383},{"$f":"VLOOKUP(A176,'Состояние  фонда'!C:AB,21,FALSE)","v":99.2},null,"гидратный",{"$f":"IFERROR([1]!Скорость_газа(AA176,X176,18.8,46.8,190.24,IF(MID(J176,1,2)=\"73\",6,IF(MID(J176,1,2)=\"89\",7.6,IF(MID(J176,1,2)=\"11\",10,0)))),\"\")","v":""},281.49921121300036,0.9693119145225817,{"$error":"#VALUE!"},{"$error":"#VALUE!"}]
[1401,3,"ГС",null,null,null,null,null,null,null,"26.07.2023",53.12,{"$f":"VLOOKUP(A177,Турон!B:K,5,FALSE)","v":59.180326317090383},{"$f":"VLOOKUP(A177,Турон!B:K,7,FALSE)","v":0},{"$f":"VLOOKUP(A177,Турон!B:K,8,FALSE)","v":0},{"$f":"VLOOKUP(A177,Турон!B:M,11,FALSE)","v":{"$error":"#NAME?"}},{"$f":"VLOOKUP(A177,Турон!B:M,12,FALSE)","v":{"$error":"#NAME?"}},50.9,{"$f":"VLOOKUP(A177,Турон!B:M,9,FALSE)","v":0},{"$f":"VLOOKUP(A177,Турон!B:M,6,FALSE)","v":0},{"$f":"VLOOKUP(A177,Турон!B:M,10,FALSE)","v":0},{"$f":"VLOOKUP(A177,Тнав!A:D,2,FALSE)","v":11.70323759365486},{"$error":"#VALUE!"},38.347831679412295,{"$f":"VLOOKUP(A177,Тнав!A:D,3,FALSE)","v":20.832494637678089},{"$f":"VLOOKUP(A177,'Состояние  фонда'!C:AB,20,FALSE)","v":0.54583333333333339},{"$f":"VLOOKUP(A177,Тнав!A:E,4,FALSE)","v":222.25437302443399},{"$f":"VLOOKUP(A177,'Состояние  фонда'!C:AB,21,FALSE)","v":99.1},null,"гидратный",{"$f":"IFERROR([1]!Скорость_газа(AA177,X177,18.8,46.8,190.24,IF(MID(J177,1,2)=\"73\",6,IF(MID(J177,1,2)=\"89\",7.6,IF(MID(J177,1,2)=\"11\",10,0)))),\"\")","v":""},281.15574834825696,0.9734380705887784,{"$error":"#VALUE!"},{"$error":"#VALUE!"}]
[1402,null,"ГС",null,null,null,null,null,null,null,"26.07.2023",51.51,{"$f":"VLOOKUP(A178,Турон!B:K,5,FALSE)","v":56.714554210077807},{"$f":"VLOOKUP(A178,Турон!B:K,7,FALSE)","v":0},{"$f":"VLOOKUP(A178,Турон!B:K,8,FALSE)","v":0},{"$f":"VLOOKUP(A178,Турон!B:M,11,FALSE)","v":{"$error":"#NAME?"}},{"$f":"VLOOKUP(A178,Турон!B:M,12,FALSE)","v":{"$error":"#NAME?"}},50.9,{"$f":"VLOOKUP(A178,Турон!B:M,9,FALSE)","v":0},{"$f":"VLOOKUP(A178,Турон!B:M,6,FALSE)","v":0},{"$f":"VLOOKUP(A178,Турон!B:M,10,FALSE)","v":0},{"$f":"VLOOKUP(A178,Тнав!A:D,2,FALSE)","v":10.869402972992599},{"$error":"#VALUE!"},32.522434336549182,{"$f":"VLOOKUP(A178,Тнав!A:D,3,FALSE)","v":24.192119873528629},{"$f":"VLOOKUP(A178,'Состояние  фонда'!C:AB,20,FALSE)","v":2.7041666666666671},{"$f":"VLOOKUP(A178,Тнав!A:E,4,FALSE)","v":154.3436279227785},{"$f":"VLOOKUP(A178,'Состояние  фонда'!C:AB,21,FALSE)","v":100},null,"гидратный",{"$f":"IFERROR([1]!Скорость_газа(AA178,X178,18.8,46.8,190.24,IF(MID(J178,1,2)=\"73\",6,IF(MID(J178,1,2)=\"89\",7.6,IF(MID(J178,1,2)=\"11\",10,0)))),\"\")","v":""},282.25298531948857,0.97599778452788688,{"$error":"#VALUE!"},{"$error":"#VALUE!"}]
[1403,null,"ГС",null,null,null,null,null,null,null,"27.08.2022",57.41,{"$f":"VLOOKUP(A179,Турон!B:K,5,FALSE)","v":52.618943145908837},{"$f":"VLOOKUP(A179,Турон!B:K,7,FALSE)","v":0},{"$f":"VLOOKUP(A179,Турон!B:K,8,FALSE)","v":0},{"$f":"VLOOKUP(A179,Турон!B:M,11,FALSE)","v":{"$error":"#NAME?"}},{"$f":"VLOOKUP(A179,Турон!B:M,12,FALSE)","v":{"$error":"#NAME?"}},50.89,{"$f":"VLOOKUP(A179,Турон!B:M,9,FALSE)","v":0},{"$f":"VLOOKUP(A179,Турон!B:M,6,FALSE)","v":0},{"$f":"VLOOKUP(A179,Турон!B:M,10,FALSE)","v":0},{"$f":"VLOOKUP(A179,Тнав!A:D,2,FALSE)","v":11.33310512491105},{"$error":"#VALUE!"},33.188242656752948,{"$f":"VLOOKUP(A179,Тнав!A:D,3,FALSE)","v":19.430700489155889},{"$f":"VLOOKUP(A179,'Состояние  фонда'!C:AB,20,FALSE)","v":2.7041666666666671},{"$f":"VLOOKUP(A179,Тнав!A:E,4,FALSE)","v":169.2390377735577},{"$f":"VLOOKUP(A179,'Состояние  фонда'!C:AB,21,FALSE)","v":99.2},null,"гидратный",{"$f":"IFERROR([1]!Скорость_газа(AA179,X179,18.8,46.8,190.24,IF(MID(J179,1,2)=\"73\",6,IF(MID(J179,1,2)=\"89\",7.6,IF(MID(J179,1,2)=\"11\",10,0)))),\"\")","v":""},282.25298531948857,0.97499942007644624,{"$error":"#VALUE!"},{"$error":"#VALUE!"}]
[1404,null,"ГС",null,null,null,null,null,null,null,"26.07.2023",49.52,{"$f":"VLOOKUP(A180,Турон!B:K,5,FALSE)","v":51.747159974565179},{"$f":"VLOOKUP(A180,Турон!B:K,7,FALSE)","v":0},{"$f":"VLOOKUP(A180,Турон!B:K,8,FALSE)","v":0},{"$f":"VLOOKUP(A180,Турон!B:M,11,FALSE)","v":{"$error":"#NAME?"}},{"$f":"VLOOKUP(A180,Турон!B:M,12,FALSE)","v":{"$error":"#NAME?"}},50.89,{"$f":"VLOOKUP(A180,Турон!B:M,9,FALSE)","v":0},{"$f":"VLOOKUP(A180,Турон!B:M,6,FALSE)","v":0},{"$f":"VLOOKUP(A180,Турон!B:M,10,FALSE)","v":0},{"$f":"VLOOKUP(A180,Тнав!A:D,2,FALSE)","v":11.239716722622131},{"$error":"#VALUE!"},30.547914092673828,{"$f":"VLOOKUP(A180,Тнав!A:D,3,FALSE)","v":21.199245881891351},{"$f":"VLOOKUP(A180,'Состояние  фонда'!C:AB,20,FALSE)","v":2.7041666666666671},{"$f":"VLOOKUP(A180,Тнав!A:E,4,FALSE)","v":177.80006575226761},{"$f":"VLOOKUP(A180,'Состояние  фонда'!C:AB,21,FALSE)","v":98.5},null,"гидратный",{"$f":"IFERROR([1]!Скорость_газа(AA180,X180,18.8,46.8,190.24,IF(MID(J180,1,2)=\"73\",6,IF(MID(J180,1,2)=\"89\",7.6,IF(MID(J180,1,2)=\"11\",10,0)))),\"\")","v":""},282.25298531948857,0.97520032378233068,{"$error":"#VALUE!"},{"$error":"#VALUE!"}]
[801,5,"ГС",null,null,null,null,null,null,null,"24.07.2023",63.02,{"$f":"VLOOKUP(A181,Турон!B:K,5,FALSE)","v":67.453808208661016},{"$f":"VLOOKUP(A181,Турон!B:K,7,FALSE)","v":0},{"$f":"VLOOKUP(A181,Турон!B:K,8,FALSE)","v":0},{"$f":"VLOOKUP(A181,Турон!B:M,11,FALSE)","v":{"$error":"#NAME?"}},{"$f":"VLOOKUP(A181,Турон!B:M,12,FALSE)","v":{"$error":"#NAME?"}},50.9,{"$f":"VLOOKUP(A181,Турон!B:M,9,FALSE)","v":0},{"$f":"VLOOKUP(A181,Турон!B:M,6,FALSE)","v":0},{"$f":"VLOOKUP(A181,Турон!B:M,10,FALSE)","v":0},{"$f":"VLOOKUP(A181,Тнав!A:D,2,FALSE)","v":15.479576882286599},{"$error":"#VALUE!"},44.128439726390397,{"$f":"VLOOKUP(A181,Тнав!A:D,3,FALSE)","v":23.325368482270619},{"$f":"VLOOKUP(A181,'Состояние  фонда'!C:AB,20,FALSE)","v":-2.8208333333333329},{"$f":"VLOOKUP(A181,Тнав!A:E,4,FALSE)","v":267.03380529756731},{"$f":"VLOOKUP(A181,'Состояние  фонда'!C:AB,21,FALSE)","v":96.9},null,"гидратный",{"$f":"IFERROR([1]!Скорость_газа(AA181,X181,18.8,46.8,190.24,IF(MID(J181,1,2)=\"73\",6,IF(MID(J181,1,2)=\"89\",7.6,IF(MID(J181,1,2)=\"11\",10,0)))),\"\")","v":""},279.4383974875596,0.96353855317389259,{"$error":"#VALUE!"},{"$error":"#VALUE!"}]
[802,null,"ГС",null,null,null,null,null,null,null,"24.07.2023",57.23,{"$f":"VLOOKUP(A182,Турон!B:K,5,FALSE)","v":64.215896565481444},{"$f":"VLOOKUP(A182,Турон!B:K,7,FALSE)","v":0},{"$f":"VLOOKUP(A182,Турон!B:K,8,FALSE)","v":0},{"$f":"VLOOKUP(A182,Турон!B:M,11,FALSE)","v":{"$error":"#NAME?"}},{"$f":"VLOOKUP(A182,Турон!B:M,12,FALSE)","v":{"$error":"#NAME?"}},50.89,{"$f":"VLOOKUP(A182,Турон!B:M,9,FALSE)","v":0},{"$f":"VLOOKUP(A182,Турон!B:M,6,FALSE)","v":0},{"$f":"VLOOKUP(A182,Турон!B:M,10,FALSE)","v":0},{"$f":"VLOOKUP(A182,Тнав!A:D,2,FALSE)","v":14.579744582631839},{"$error":"#VALUE!"},41.016128480190282,{"$f":"VLOOKUP(A182,Тнав!A:D,3,FALSE)","v":23.199768085291161},{"$f":"VLOOKUP(A182,'Состояние  фонда'!C:AB,20,FALSE)","v":-1.095833333333333},{"$f":"VLOOKUP(A182,Тнав!A:E,4,FALSE)","v":211.78425890733379},{"$f":"VLOOKUP(A182,'Состояние  фонда'!C:AB,21,FALSE)","v":97.5},null,"гидратный",{"$f":"IFERROR([1]!Скорость_газа(AA182,X182,18.8,46.8,190.24,IF(MID(J182,1,2)=\"73\",6,IF(MID(J182,1,2)=\"89\",7.6,IF(MID(J182,1,2)=\"11\",10,0)))),\"\")","v":""},280.31922114433274,0.96638453434706251,{"$error":"#VALUE!"},{"$error":"#VALUE!"}]
[1001,6,"ГС",null,null,null,null,null,null,null,"26.07.2023",61.81,{"$f":"VLOOKUP(A183,Турон!B:K,5,FALSE)","v":67.162682867727597},{"$f":"VLOOKUP(A183,Турон!B:K,7,FALSE)","v":0},{"$f":"VLOOKUP(A183,Турон!B:K,8,FALSE)","v":0},{"$f":"VLOOKUP(A183,Турон!B:M,11,FALSE)","v":{"$error":"#NAME?"}},{"$f":"VLOOKUP(A183,Турон!B:M,12,FALSE)","v":{"$error":"#NAME?"}},50.89,{"$f":"VLOOKUP(A183,Турон!B:M,9,FALSE)","v":0},{"$f":"VLOOKUP(A183,Турон!B:M,6,FALSE)","v":0},{"$f":"VLOOKUP(A183,Турон!B:M,10,FALSE)","v":0},{"$f":"VLOOKUP(A183,Тнав!A:D,2,FALSE)","v":15.60789575897633},{"$error":"#VALUE!"},45.506712629356706,{"$f":"VLOOKUP(A183,Тнав!A:D,3,FALSE)","v":21.655970238370891},{"$f":"VLOOKUP(A183,'Состояние  фонда'!C:AB,20,FALSE)","v":-2.0750000000000011},{"$f":"VLOOKUP(A183,Тнав!A:E,4,FALSE)","v":298.14867612671043},{"$f":"VLOOKUP(A183,'Состояние  фонда'!C:AB,21,FALSE)","v":97.1},null,"гидратный",{"$f":"IFERROR([1]!Скорость_газа(AA183,X183,18.8,46.8,190.24,IF(MID(J183,1,2)=\"73\",6,IF(MID(J183,1,2)=\"89\",7.6,IF(MID(J183,1,2)=\"11\",10,0)))),\"\")","v":""},279.81946833499671,0.96361868122603622,{"$error":"#VALUE!"},{"$error":"#VALUE!"}]
[1002,null,"ГС",null,null,null,null,null,null,null,"26.07.2023",54.7,{"$f":"VLOOKUP(A184,Турон!B:K,5,FALSE)","v":59.08849888104394},{"$f":"VLOOKUP(A184,Турон!B:K,7,FALSE)","v":0},{"$f":"VLOOKUP(A184,Турон!B:K,8,FALSE)","v":0},{"$f":"VLOOKUP(A184,Турон!B:M,11,FALSE)","v":{"$error":"#NAME?"}},{"$f":"VLOOKUP(A184,Турон!B:M,12,FALSE)","v":{"$error":"#NAME?"}},50.89,{"$f":"VLOOKUP(A184,Турон!B:M,9,FALSE)","v":0},{"$f":"VLOOKUP(A184,Турон!B:M,6,FALSE)","v":0},{"$f":"VLOOKUP(A184,Турон!B:M,10,FALSE)","v":0},{"$f":"VLOOKUP(A184,Тнав!A:D,2,FALSE)","v":10.3258384102453},{"$error":"#VALUE!"},34.737991625674169,{"$f":"VLOOKUP(A184,Тнав!A:D,3,FALSE)","v":24.35050725536977},{"$f":"VLOOKUP(A184,'Состояние  фонда'!C:AB,20,FALSE)","v":-0.65833333333333333},{"$f":"VLOOKUP(A184,Тнав!A:E,4,FALSE)","v":216.80837045093449},{"$f":"VLOOKUP(A184,'Состояние  фонда'!C:AB,21,FALSE)","v":96.2},null,"гидратный",{"$f":"IFERROR([1]!Скорость_газа(AA184,X184,18.8,46.8,190.24,IF(MID(J184,1,2)=\"73\",6,IF(MID(J184,1,2)=\"89\",7.6,IF(MID(J184,1,2)=\"11\",10,0)))),\"\")","v":""},280.54231915159875,0.97610044424247955,{"$error":"#VALUE!"},{"$error":"#VALUE!"}]
[1003,null,"ГС",null,null,null,null,null,null,null,"26.07.2023",56.9,{"$f":"VLOOKUP(A185,Турон!B:K,5,FALSE)","v":61.834955317399},{"$f":"VLOOKUP(A185,Турон!B:K,7,FALSE)","v":0},{"$f":"VLOOKUP(A185,Турон!B:K,8,FALSE)","v":0},{"$f":"VLOOKUP(A185,Турон!B:M,11,FALSE)","v":{"$error":"#NAME?"}},{"$f":"VLOOKUP(A185,Турон!B:M,12,FALSE)","v":{"$error":"#NAME?"}},50.89,{"$f":"VLOOKUP(A185,Турон!B:M,9,FALSE)","v":0},{"$f":"VLOOKUP(A185,Турон!B:M,6,FALSE)","v":0},{"$f":"VLOOKUP(A185,Турон!B:M,10,FALSE)","v":0},{"$f":"VLOOKUP(A185,Тнав!A:D,2,FALSE)","v":10.0879397619738},{"$error":"#VALUE!"},34.914903389244991,{"$f":"VLOOKUP(A185,Тнав!A:D,3,FALSE)","v":26.92005192815401},{"$f":"VLOOKUP(A185,'Состояние  фонда'!C:AB,20,FALSE)","v":-1.2375},{"$f":"VLOOKUP(A185,Тнав!A:E,4,FALSE)","v":214.72461729763481},{"$f":"VLOOKUP(A185,'Состояние  фонда'!C:AB,21,FALSE)","v":98.4},null,"гидратный",{"$f":"IFERROR([1]!Скорость_газа(AA185,X185,18.8,46.8,190.24,IF(MID(J185,1,2)=\"73\",6,IF(MID(J185,1,2)=\"89\",7.6,IF(MID(J185,1,2)=\"11\",10,0)))),\"\")","v":""},280.24695400449281,0.97645179635975465,{"$error":"#VALUE!"},{"$error":"#VALUE!"}]
[701,6,"ГС",null,null,null,null,null,null,null,"24.07.2023",63.59,{"$f":"VLOOKUP(A186,Турон!B:K,5,FALSE)","v":68.613576071094357},{"$f":"VLOOKUP(A186,Турон!B:K,7,FALSE)","v":0},{"$f":"VLOOKUP(A186,Турон!B:K,8,FALSE)","v":0},{"$f":"VLOOKUP(A186,Турон!B:M,11,FALSE)","v":{"$error":"#NAME?"}},{"$f":"VLOOKUP(A186,Турон!B:M,12,FALSE)","v":{"$error":"#NAME?"}},50.89,{"$f":"VLOOKUP(A186,Турон!B:M,9,FALSE)","v":0},{"$f":"VLOOKUP(A186,Турон!B:M,6,FALSE)","v":0},{"$f":"VLOOKUP(A186,Турон!B:M,10,FALSE)","v":0},{"$f":"VLOOKUP(A186,Тнав!A:D,2,FALSE)","v":20.40953365078796},{"$error":"#VALUE!"},45.205926444213645,{"$f":"VLOOKUP(A186,Тнав!A:D,3,FALSE)","v":23.407649626880708},{"$f":"VLOOKUP(A186,'Состояние  фонда'!C:AB,20,FALSE)","v":-0.65833333333333355},{"$f":"VLOOKUP(A186,Тнав!A:E,4,FALSE)","v":262.37417642059449},{"$f":"VLOOKUP(A186,'Состояние  фонда'!C:AB,21,FALSE)","v":97.2},null,"гидратный",{"$f":"IFERROR([1]!Скорость_газа(AA186,X186,18.8,46.8,190.24,IF(MID(J186,1,2)=\"73\",6,IF(MID(J186,1,2)=\"89\",7.6,IF(MID(J186,1,2)=\"11\",10,0)))),\"\")","v":""},280.54231915159875,0.95383870172699758,{"$error":"#VALUE!"},{"$error":"#VALUE!"}]
[702,null,"ГС",null,null,null,null,null,null,null,"24.07.2023",67.13,{"$f":"VLOOKUP(A187,Турон!B:K,5,FALSE)","v":70.557589478307648},{"$f":"VLOOKUP(A187,Турон!B:K,7,FALSE)","v":0},{"$f":"VLOOKUP(A187,Турон!B:K,8,FALSE)","v":0},{"$f":"VLOOKUP(A187,Турон!B:M,11,FALSE)","v":{"$error":"#NAME?"}},{"$f":"VLOOKUP(A187,Турон!B:M,12,FALSE)","v":{"$error":"#NAME?"}},50.89,{"$f":"VLOOKUP(A187,Турон!B:M,9,FALSE)","v":0},{"$f":"VLOOKUP(A187,Турон!B:M,6,FALSE)","v":0},{"$f":"VLOOKUP(A187,Турон!B:M,10,FALSE)","v":0},{"$f":"VLOOKUP(A187,Тнав!A:D,2,FALSE)","v":16.565559932293748},{"$error":"#VALUE!"},42.806297364693378,{"$f":"VLOOKUP(A187,Тнав!A:D,3,FALSE)","v":27.751292113614269},{"$f":"VLOOKUP(A187,'Состояние  фонда'!C:AB,20,FALSE)","v":-3.0375000000000001},{"$f":"VLOOKUP(A187,Тнав!A:E,4,FALSE)","v":297.40180368749492},{"$f":"VLOOKUP(A187,'Состояние  фонда'!C:AB,21,FALSE)","v":97.5},null,"гидратный",{"$f":"IFERROR([1]!Скорость_газа(AA187,X187,18.8,46.8,190.24,IF(MID(J187,1,2)=\"73\",6,IF(MID(J187,1,2)=\"89\",7.6,IF(MID(J187,1,2)=\"11\",10,0)))),\"\")","v":""},279.32762895921638,0.96096524391623028,{"$error":"#VALUE!"},{"$error":"#VALUE!"}]
[703,null,"ГС",null,null,null,null,null,null,null,"24.07.2023",60.48,{"$f":"VLOOKUP(A188,Турон!B:K,5,FALSE)","v":69.23338143404203},{"$f":"VLOOKUP(A188,Турон!B:K,7,FALSE)","v":0},{"$f":"VLOOKUP(A188,Турон!B:K,8,FALSE)","v":0},{"$f":"VLOOKUP(A188,Турон!B:M,11,FALSE)","v":{"$error":"#NAME?"}},{"$f":"VLOOKUP(A188,Турон!B:M,12,FALSE)","v":{"$error":"#NAME?"}},50.89,{"$f":"VLOOKUP(A188,Турон!B:M,9,FALSE)","v":0},{"$f":"VLOOKUP(A188,Турон!B:M,6,FALSE)","v":0},{"$f":"VLOOKUP(A188,Турон!B:M,10,FALSE)","v":0},{"$f":"VLOOKUP(A188,Тнав!A:D,2,FALSE)","v":17.432409146584739},{"$error":"#VALUE!"},47.942425641906972,{"$f":"VLOOKUP(A188,Тнав!A:D,3,FALSE)","v":21.290955792135058},{"$f":"VLOOKUP(A188,'Состояние  фонда'!C:AB,20,FALSE)","v":-0.95833333333333337},{"$f":"VLOOKUP(A188,Тнав!A:E,4,FALSE)","v":255.58682215572051},{"$f":"VLOOKUP(A188,'Состояние  фонда'!C:AB,21,FALSE)","v":96.6},null,"гидратный",{"$f":"IFERROR([1]!Скорость_газа(AA188,X188,18.8,46.8,190.24,IF(MID(J188,1,2)=\"73\",6,IF(MID(J188,1,2)=\"89\",7.6,IF(MID(J188,1,2)=\"11\",10,0)))),\"\")","v":""},280.38935066557809,0.96014400462062643,{"$error":"#VALUE!"},{"$error":"#VALUE!"}]
[1501,3,"ГС",null,null,null,null,null,null,null,"26.07.2023",60.77,{"$f":"VLOOKUP(A189,Турон!B:K,5,FALSE)","v":69.227312158997591},{"$f":"VLOOKUP(A189,Турон!B:K,7,FALSE)","v":0},{"$f":"VLOOKUP(A189,Турон!B:K,8,FALSE)","v":0},{"$f":"VLOOKUP(A189,Турон!B:M,11,FALSE)","v":{"$error":"#NAME?"}},{"$f":"VLOOKUP(A189,Турон!B:M,12,FALSE)","v":{"$error":"#NAME?"}},50.89,{"$f":"VLOOKUP(A189,Турон!B:M,9,FALSE)","v":0},{"$f":"VLOOKUP(A189,Турон!B:M,6,FALSE)","v":0},{"$f":"VLOOKUP(A189,Турон!B:M,10,FALSE)","v":0},{"$f":"VLOOKUP(A189,Тнав!A:D,2,FALSE)","v":19.375644243614431},{"$error":"#VALUE!"},41.320622596188421,{"$f":"VLOOKUP(A189,Тнав!A:D,3,FALSE)","v":27.90668956280917},{"$f":"VLOOKUP(A189,'Состояние  фонда'!C:AB,20,FALSE)","v":2.7041666666666671},{"$f":"VLOOKUP(A189,Тнав!A:E,4,FALSE)","v":361.02584412857368},{"$f":"VLOOKUP(A189,'Состояние  фонда'!C:AB,21,FALSE)","v":99.3},null,"гидратный",{"$f":"IFERROR([1]!Скорость_газа(AA189,X189,18.8,46.8,190.24,IF(MID(J189,1,2)=\"73\",6,IF(MID(J189,1,2)=\"89\",7.6,IF(MID(J189,1,2)=\"11\",10,0)))),\"\")","v":""},282.25298531948857,0.95800285540434871,{"$error":"#VALUE!"},{"$error":"#VALUE!"}]
[1502,null,"ГС",null,null,null,null,null,null,null,"26.07.2023",59.24,{"$f":"VLOOKUP(A190,Турон!B:K,5,FALSE)","v":66.904174149370775},{"$f":"VLOOKUP(A190,Турон!B:K,7,FALSE)","v":0},{"$f":"VLOOKUP(A190,Турон!B:K,8,FALSE)","v":0},{"$f":"VLOOKUP(A190,Турон!B:M,11,FALSE)","v":{"$error":"#NAME?"}},{"$f":"VLOOKUP(A190,Турон!B:M,12,FALSE)","v":{"$error":"#NAME?"}},50.89,{"$f":"VLOOKUP(A190,Турон!B:M,9,FALSE)","v":0},{"$f":"VLOOKUP(A190,Турон!B:M,6,FALSE)","v":0},{"$f":"VLOOKUP(A190,Турон!B:M,10,FALSE)","v":0},{"$f":"VLOOKUP(A190,Тнав!A:D,2,FALSE)","v":15.69407153670789},{"$error":"#VALUE!"},42.984151533354094,{"$f":"VLOOKUP(A190,Тнав!A:D,3,FALSE)","v":23.920022616016681},{"$f":"VLOOKUP(A190,'Состояние  фонда'!C:AB,20,FALSE)","v":2.7041666666666671},{"$f":"VLOOKUP(A190,Тнав!A:E,4,FALSE)","v":243.11697165596061},{"$f":"VLOOKUP(A190,'Состояние  фонда'!C:AB,21,FALSE)","v":95.8},null,"гидратный",{"$f":"IFERROR([1]!Скорость_газа(AA190,X190,18.8,46.8,190.24,IF(MID(J190,1,2)=\"73\",6,IF(MID(J190,1,2)=\"89\",7.6,IF(MID(J190,1,2)=\"11\",10,0)))),\"\")","v":""},282.25298531948857,0.96570910944310473,{"$error":"#VALUE!"},{"$error":"#VALUE!"}]
[1503,null,"ГС",null,null,null,null,null,null,null,"26.07.2023",55.44,{"$f":"VLOOKUP(A191,Турон!B:K,5,FALSE)","v":62.284542442690331},{"$f":"VLOOKUP(A191,Турон!B:K,7,FALSE)","v":0},{"$f":"VLOOKUP(A191,Турон!B:K,8,FALSE)","v":0},{"$f":"VLOOKUP(A191,Турон!B:M,11,FALSE)","v":{"$error":"#NAME?"}},{"$f":"VLOOKUP(A191,Турон!B:M,12,FALSE)","v":{"$error":"#NAME?"}},50.89,{"$f":"VLOOKUP(A191,Турон!B:M,9,FALSE)","v":0},{"$f":"VLOOKUP(A191,Турон!B:M,6,FALSE)","v":0},{"$f":"VLOOKUP(A191,Турон!B:M,10,FALSE)","v":0},{"$f":"VLOOKUP(A191,Тнав!A:D,2,FALSE)","v":14.685511625058201},{"$error":"#VALUE!"},43.600943591759332,{"$f":"VLOOKUP(A191,Тнав!A:D,3,FALSE)","v":18.683598850930998},{"$f":"VLOOKUP(A191,'Состояние  фонда'!C:AB,20,FALSE)","v":2.7041666666666671},{"$f":"VLOOKUP(A191,Тнав!A:E,4,FALSE)","v":234.65797426059089},{"$f":"VLOOKUP(A191,'Состояние  фонда'!C:AB,21,FALSE)","v":85},null,"гидратный",{"$f":"IFERROR([1]!Скорость_газа(AA191,X191,18.8,46.8,190.24,IF(MID(J191,1,2)=\"73\",6,IF(MID(J191,1,2)=\"89\",7.6,IF(MID(J191,1,2)=\"11\",10,0)))),\"\")","v":""},282.25298531948857,0.96784190516106916,{"$error":"#VALUE!"},{"$error":"#VALUE!"}]
[501,7,"ГС",null,null,null,null,null,null,null,"24.07.2023",64.739999999999995,{"$f":"VLOOKUP(A192,Турон!B:K,5,FALSE)","v":70.860410507331039},{"$f":"VLOOKUP(A192,Турон!B:K,7,FALSE)","v":0},{"$f":"VLOOKUP(A192,Турон!B:K,8,FALSE)","v":0},{"$f":"VLOOKUP(A192,Турон!B:M,11,FALSE)","v":{"$error":"#NAME?"}},{"$f":"VLOOKUP(A192,Турон!B:M,12,FALSE)","v":{"$error":"#NAME?"}},50.89,{"$f":"VLOOKUP(A192,Турон!B:M,9,FALSE)","v":0},{"$f":"VLOOKUP(A192,Турон!B:M,6,FALSE)","v":0},{"$f":"VLOOKUP(A192,Турон!B:M,10,FALSE)","v":0},{"$f":"VLOOKUP(A192,Тнав!A:D,2,FALSE)","v":12.407070398306949},{"$error":"#VALUE!"},45.898111403586014,{"$f":"VLOOKUP(A192,Тнав!A:D,3,FALSE)","v":24.962299103745021},{"$f":"VLOOKUP(A192,'Состояние  фонда'!C:AB,20,FALSE)","v":-6.2833333333333359},{"$f":"VLOOKUP(A192,Тнав!A:E,4,FALSE)","v":308.17946216925128},{"$f":"VLOOKUP(A192,'Состояние  фонда'!C:AB,21,FALSE)","v":61.5},null,"гидратный",{"$f":"IFERROR([1]!Скорость_газа(AA192,X192,18.8,46.8,190.24,IF(MID(J192,1,2)=\"73\",6,IF(MID(J192,1,2)=\"89\",7.6,IF(MID(J192,1,2)=\"11\",10,0)))),\"\")","v":""},277.66462558120799,0.96912070458744515,{"$error":"#VALUE!"},{"$error":"#VALUE!"}]
[502,null,"ГС",null,null,null,null,null,null,null,"07.07.2023",65.63,{"$f":"VLOOKUP(A193,Турон!B:K,5,FALSE)","v":70.450333693775178},{"$f":"VLOOKUP(A193,Турон!B:K,7,FALSE)","v":0},{"$f":"VLOOKUP(A193,Турон!B:K,8,FALSE)","v":0},{"$f":"VLOOKUP(A193,Турон!B:M,11,FALSE)","v":{"$error":"#NAME?"}},{"$f":"VLOOKUP(A193,Турон!B:M,12,FALSE)","v":{"$error":"#NAME?"}},9.1,{"$f":"VLOOKUP(A193,Турон!B:M,9,FALSE)","v":0},{"$f":"VLOOKUP(A193,Турон!B:M,6,FALSE)","v":0},{"$f":"VLOOKUP(A193,Турон!B:M,10,FALSE)","v":0},{"$f":"VLOOKUP(A193,Тнав!A:D,2,FALSE)","v":23.23239828893508},{"$error":"#VALUE!"},44.654214566141775,{"$f":"VLOOKUP(A193,Тнав!A:D,3,FALSE)","v":25.7961191276334},{"$f":"VLOOKUP(A193,'Состояние  фонда'!C:AB,20,FALSE)","v":-1.425},{"$f":"VLOOKUP(A193,Тнав!A:E,4,FALSE)","v":257.95668385003131},{"$f":"VLOOKUP(A193,'Состояние  фонда'!C:AB,21,FALSE)","v":17.2},null,"гидратный",{"$f":"IFERROR([1]!Скорость_газа(AA193,X193,18.8,46.8,190.24,IF(MID(J193,1,2)=\"73\",6,IF(MID(J193,1,2)=\"89\",7.6,IF(MID(J193,1,2)=\"11\",10,0)))),\"\")","v":""},280.15128682415104,0.94725154580847981,{"$error":"#VALUE!"},{"$error":"#VALUE!"}]
[503,null,"ГС",null,null,null,null,null,null,null,"24.07.2023",68.06,{"$f":"VLOOKUP(A194,Турон!B:K,5,FALSE)","v":72.98622653495373},{"$f":"VLOOKUP(A194,Турон!B:K,7,FALSE)","v":0},{"$f":"VLOOKUP(A194,Турон!B:K,8,FALSE)","v":0},{"$f":"VLOOKUP(A194,Турон!B:M,11,FALSE)","v":{"$error":"#NAME?"}},{"$f":"VLOOKUP(A194,Турон!B:M,12,FALSE)","v":{"$error":"#NAME?"}},11.12,{"$f":"VLOOKUP(A194,Турон!B:M,9,FALSE)","v":0},{"$f":"VLOOKUP(A194,Турон!B:M,6,FALSE)","v":0},{"$f":"VLOOKUP(A194,Турон!B:M,10,FALSE)","v":0},{"$f":"VLOOKUP(A194,Тнав!A:D,2,FALSE)","v":25.227361137905412},{"$error":"#VALUE!"},52.494962383181345,{"$f":"VLOOKUP(A194,Тнав!A:D,3,FALSE)","v":20.491264151772381},{"$f":"VLOOKUP(A194,'Состояние  фонда'!C:AB,20,FALSE)","v":-1.9333333333333329},{"$f":"VLOOKUP(A194,Тнав!A:E,4,FALSE)","v":333.37194692684687},{"$f":"VLOOKUP(A194,'Состояние  фонда'!C:AB,21,FALSE)","v":21},null,"гидратный",{"$f":"IFERROR([1]!Скорость_газа(AA194,X194,18.8,46.8,190.24,IF(MID(J194,1,2)=\"73\",6,IF(MID(J194,1,2)=\"89\",7.6,IF(MID(J194,1,2)=\"11\",10,0)))),\"\")","v":""},279.89181056691064,0.94259398032844532,{"$error":"#VALUE!"},{"$error":"#VALUE!"}]
[1801,2,"ГС",null,null,null,null,null,null,null,"25.07.2023",51.71,{"$f":"VLOOKUP(A195,Турон!B:K,5,FALSE)","v":57.329047413708352},{"$f":"VLOOKUP(A195,Турон!B:K,7,FALSE)","v":0},{"$f":"VLOOKUP(A195,Турон!B:K,8,FALSE)","v":0},{"$f":"VLOOKUP(A195,Турон!B:M,11,FALSE)","v":{"$error":"#NAME?"}},{"$f":"VLOOKUP(A195,Турон!B:M,12,FALSE)","v":{"$error":"#NAME?"}},50.89,{"$f":"VLOOKUP(A195,Турон!B:M,9,FALSE)","v":0},{"$f":"VLOOKUP(A195,Турон!B:M,6,FALSE)","v":0},{"$f":"VLOOKUP(A195,Турон!B:M,10,FALSE)","v":0},{"$f":"VLOOKUP(A195,Тнав!A:D,2,FALSE)","v":0},{"$f":"X195/AI195","v":{"$error":"#VALUE!"}},{"$f":"M195-Y195","v":57.329047413708352},{"$f":"VLOOKUP(A195,Тнав!A:D,3,FALSE)","v":0},{"$f":"VLOOKUP(A195,'Состояние  фонда'!C:AB,20,FALSE)","v":-1.0249999999999999},{"$f":"VLOOKUP(A195,Тнав!A:E,4,FALSE)","v":0},{"$f":"VLOOKUP(A195,'Состояние  фонда'!C:AB,21,FALSE)","v":98.1},null,"гидратный",{"$f":"IFERROR([1]!Скорость_газа(AA195,X195,18.8,46.8,190.24,IF(MID(J195,1,2)=\"73\",6,IF(MID(J195,1,2)=\"89\",7.6,IF(MID(J195,1,2)=\"11\",10,0)))),\"\")","v":""},{"$f":"(($AF$162+273.15)-(Z195+273.15))/(LN(($AF$162+273.15)/(Z195+273.15)))","v":280.35534996321445},{"$f":"1/(1+(5*10^7*0.098*V195)/(Z195+273.15)^3.825)","v":1},{"$f":"(0.5647*0.03415*MID(J195,4,7)/(AF195*AG195))","v":{"$error":"#VALUE!"}},{"$f":"ROUND(EXP(AH195),4)","v":{"$error":"#VALUE!"}}]
[1802,null,"ГС",null,null,null,null,null,null,null,"25.07.2023",58.37,{"$f":"VLOOKUP(A196,Турон!B:K,5,FALSE)","v":65.88709304497263},{"$f":"VLOOKUP(A196,Турон!B:K,7,FALSE)","v":0},{"$f":"VLOOKUP(A196,Турон!B:K,8,FALSE)","v":0},{"$f":"VLOOKUP(A196,Турон!B:M,11,FALSE)","v":{"$error":"#NAME?"}},{"$f":"VLOOKUP(A196,Турон!B:M,12,FALSE)","v":{"$error":"#NAME?"}},18.41,{"$f":"VLOOKUP(A196,Турон!B:M,9,FALSE)","v":0},{"$f":"VLOOKUP(A196,Турон!B:M,6,FALSE)","v":0},{"$f":"VLOOKUP(A196,Турон!B:M,10,FALSE)","v":0},{"$f":"VLOOKUP(A196,Тнав!A:D,2,FALSE)","v":0},{"$error":"#VALUE!"},65.88709304497263,{"$f":"VLOOKUP(A196,Тнав!A:D,3,FALSE)","v":0},{"$f":"VLOOKUP(A196,'Состояние  фонда'!C:AB,20,FALSE)","v":-1.0249999999999999},{"$f":"VLOOKUP(A196,Тнав!A:E,4,FALSE)","v":0},{"$f":"VLOOKUP(A196,'Состояние  фонда'!C:AB,21,FALSE)","v":27.4},null,"гидратный",{"$f":"IFERROR([1]!Скорость_газа(AA196,X196,18.8,46.8,190.24,IF(MID(J196,1,2)=\"73\",6,IF(MID(J196,1,2)=\"89\",7.6,IF(MID(J196,1,2)=\"11\",10,0)))),\"\")","v":""},280.35534996321445,1,{"$error":"#VALUE!"},{"$error":"#VALUE!"}]
[1803,null,"ГС",null,null,null,null,null,null,null,"25.07.2023",54.34,{"$f":"VLOOKUP(A197,Турон!B:K,5,FALSE)","v":60.875281422834369},{"$f":"VLOOKUP(A197,Турон!B:K,7,FALSE)","v":0},{"$f":"VLOOKUP(A197,Турон!B:K,8,FALSE)","v":0},{"$f":"VLOOKUP(A197,Турон!B:M,11,FALSE)","v":{"$error":"#NAME?"}},{"$f":"VLOOKUP(A197,Турон!B:M,12,FALSE)","v":{"$error":"#NAME?"}},32.25,{"$f":"VLOOKUP(A197,Турон!B:M,9,FALSE)","v":0},{"$f":"VLOOKUP(A197,Турон!B:M,6,FALSE)","v":0},{"$f":"VLOOKUP(A197,Турон!B:M,10,FALSE)","v":0},{"$f":"VLOOKUP(A197,Тнав!A:D,2,FALSE)","v":0},{"$error":"#VALUE!"},60.875281422834369,{"$f":"VLOOKUP(A197,Тнав!A:D,3,FALSE)","v":0},{"$f":"VLOOKUP(A197,'Состояние  фонда'!C:AB,20,FALSE)","v":-1.0249999999999999},{"$f":"VLOOKUP(A197,Тнав!A:E,4,FALSE)","v":0},{"$f":"VLOOKUP(A197,'Состояние  фонда'!C:AB,21,FALSE)","v":97.1},null,"гидратный",{"$f":"IFERROR([1]!Скорость_газа(AA197,X197,18.8,46.8,190.24,IF(MID(J197,1,2)=\"73\",6,IF(MID(J197,1,2)=\"89\",7.6,IF(MID(J197,1,2)=\"11\",10,0)))),\"\")","v":""},280.35534996321445,1,{"$error":"#VALUE!"},{"$error":"#VALUE!"}]
[1701,3,"ГС",null,null,null,null,null,null,null,"23.07.2023",62.75,{"$f":"VLOOKUP(A198,Турон!B:K,5,FALSE)","v":69.097170505910896},{"$f":"VLOOKUP(A198,Турон!B:K,7,FALSE)","v":0},{"$f":"VLOOKUP(A198,Турон!B:K,8,FALSE)","v":0},{"$f":"VLOOKUP(A198,Турон!B:M,11,FALSE)","v":{"$error":"#NAME?"}},{"$f":"VLOOKUP(A198,Турон!B:M,12,FALSE)","v":{"$error":"#NAME?"}},27.61,{"$f":"VLOOKUP(A198,Турон!B:M,9,FALSE)","v":0},{"$f":"VLOOKUP(A198,Турон!B:M,6,FALSE)","v":0},{"$f":"VLOOKUP(A198,Турон!B:M,10,FALSE)","v":0},{"$f":"VLOOKUP(A198,Тнав!A:D,2,FALSE)","v":16.996332695234539},{"$error":"#VALUE!"},42.705689264335092,{"$f":"VLOOKUP(A198,Тнав!A:D,3,FALSE)","v":26.3914812415758},{"$f":"VLOOKUP(A198,'Состояние  фонда'!C:AB,20,FALSE)","v":2.7041666666666671},{"$f":"VLOOKUP(A198,Тнав!A:E,4,FALSE)","v":239.14142112281439},{"$f":"VLOOKUP(A198,'Состояние  фонда'!C:AB,21,FALSE)","v":97},null,"гидратный",{"$f":"IFERROR([1]!Скорость_газа(AA198,X198,18.8,46.8,190.24,IF(MID(J198,1,2)=\"73\",6,IF(MID(J198,1,2)=\"89\",7.6,IF(MID(J198,1,2)=\"11\",10,0)))),\"\")","v":""},282.25298531948857,0.96296909046420553,{"$error":"#VALUE!"},{"$error":"#VALUE!"}]
[1702,null,"ГС",null,null,null,null,null,null,null,"23.07.2023",55.26,{"$f":"VLOOKUP(A199,Турон!B:K,5,FALSE)","v":63.083442808402751},{"$f":"VLOOKUP(A199,Турон!B:K,7,FALSE)","v":0},{"$f":"VLOOKUP(A199,Турон!B:K,8,FALSE)","v":0},{"$f":"VLOOKUP(A199,Турон!B:M,11,FALSE)","v":{"$error":"#NAME?"}},{"$f":"VLOOKUP(A199,Турон!B:M,12,FALSE)","v":{"$error":"#NAME?"}},25.13,{"$f":"VLOOKUP(A199,Турон!B:M,9,FALSE)","v":0},{"$f":"VLOOKUP(A199,Турон!B:M,6,FALSE)","v":0},{"$f":"VLOOKUP(A199,Турон!B:M,10,FALSE)","v":0},{"$f":"VLOOKUP(A199,Тнав!A:D,2,FALSE)","v":14.628293576842109},{"$error":"#VALUE!"},37.159297760176692,{"$f":"VLOOKUP(A199,Тнав!A:D,3,FALSE)","v":25.924145048226059},{"$f":"VLOOKUP(A199,'Состояние  фонда'!C:AB,20,FALSE)","v":2.7041666666666671},{"$f":"VLOOKUP(A199,Тнав!A:E,4,FALSE)","v":189.78053378156659},{"$f":"VLOOKUP(A199,'Состояние  фонда'!C:AB,21,FALSE)","v":98.6},null,"гидратный",{"$f":"IFERROR([1]!Скорость_газа(AA199,X199,18.8,46.8,190.24,IF(MID(J199,1,2)=\"73\",6,IF(MID(J199,1,2)=\"89\",7.6,IF(MID(J199,1,2)=\"11\",10,0)))),\"\")","v":""},282.25298531948857,0.96796318625626565,{"$error":"#VALUE!"},{"$error":"#VALUE!"}]
[1703,null,"ГС",null,null,null,null,null,null,null,"23.07.2023",54.18,{"$f":"VLOOKUP(A200,Турон!B:K,5,FALSE)","v":60.897417025484941},{"$f":"VLOOKUP(A200,Турон!B:K,7,FALSE)","v":0},{"$f":"VLOOKUP(A200,Турон!B:K,8,FALSE)","v":0},{"$f":"VLOOKUP(A200,Турон!B:M,11,FALSE)","v":{"$error":"#NAME?"}},{"$f":"VLOOKUP(A200,Турон!B:M,12,FALSE)","v":{"$error":"#NAME?"}},50.89,{"$f":"VLOOKUP(A200,Турон!B:M,9,FALSE)","v":0},{"$f":"VLOOKUP(A200,Турон!B:M,6,FALSE)","v":0},{"$f":"VLOOKUP(A200,Турон!B:M,10,FALSE)","v":0},{"$f":"VLOOKUP(A200,Тнав!A:D,2,FALSE)","v":15.872644002308901},{"$error":"#VALUE!"},38.586321948148324,{"$f":"VLOOKUP(A200,Тнав!A:D,3,FALSE)","v":22.311095077336621},{"$f":"VLOOKUP(A200,'Состояние  фонда'!C:AB,20,FALSE)","v":2.7041666666666671},{"$f":"VLOOKUP(A200,Тнав!A:E,4,FALSE)","v":203.96799934990639},{"$f":"VLOOKUP(A200,'Состояние  фонда'!C:AB,21,FALSE)","v":97.6},null,"гидратный",{"$f":"IFERROR([1]!Скорость_газа(AA200,X200,18.8,46.8,190.24,IF(MID(J200,1,2)=\"73\",6,IF(MID(J200,1,2)=\"89\",7.6,IF(MID(J200,1,2)=\"11\",10,0)))),\"\")","v":""},282.25298531948857,0.96533246241729742,{"$error":"#VALUE!"},{"$error":"#VALUE!"}]
[901,5,"ГС",null,null,null,null,null,null,null,"26.07.2023",61.77,{"$f":"VLOOKUP(A201,Турон!B:K,5,FALSE)","v":68.274228927538672},{"$f":"VLOOKUP(A201,Турон!B:K,7,FALSE)","v":0},{"$f":"VLOOKUP(A201,Турон!B:K,8,FALSE)","v":0},{"$f":"VLOOKUP(A201,Турон!B:M,11,FALSE)","v":{"$error":"#NAME?"}},{"$f":"VLOOKUP(A201,Турон!B:M,12,FALSE)","v":{"$error":"#NAME?"}},50.89,{"$f":"VLOOKUP(A201,Турон!B:M,9,FALSE)","v":0},{"$f":"VLOOKUP(A201,Турон!B:M,6,FALSE)","v":0},{"$f":"VLOOKUP(A201,Турон!B:M,10,FALSE)","v":0},{"$f":"VLOOKUP(A201,Тнав!A:D,2,FALSE)","v":16.036473763483411},{"$error":"#VALUE!"},41.039977567262298,{"$f":"VLOOKUP(A201,Тнав!A:D,3,FALSE)","v":27.234251360276371},{"$f":"VLOOKUP(A201,'Состояние  фонда'!C:AB,20,FALSE)","v":-1.28},{"$f":"VLOOKUP(A201,Тнав!A:E,4,FALSE)","v":236.2999404652407},{"$f":"VLOOKUP(A201,'Состояние  фонда'!C:AB,21,FALSE)","v":97.8},null,"гидратный",{"$f":"IFERROR([1]!Скорость_газа(AA201,X201,18.8,46.8,190.24,IF(MID(J201,1,2)=\"73\",6,IF(MID(J201,1,2)=\"89\",7.6,IF(MID(J201,1,2)=\"11\",10,0)))),\"\")","v":""},280.22527139084048,0.96305758435276223,{"$error":"#VALUE!"},{"$error":"#VALUE!"}]
[902,null,"ГС + МГРП",null,null,null,null,null,null,null,"26.07.2023",58.59,{"$f":"VLOOKUP(A202,Турон!B:K,5,FALSE)","v":64.449758869198632},{"$f":"VLOOKUP(A202,Турон!B:K,7,FALSE)","v":0},{"$f":"VLOOKUP(A202,Турон!B:K,8,FALSE)","v":0},{"$f":"VLOOKUP(A202,Турон!B:M,11,FALSE)","v":{"$error":"#NAME?"}},{"$f":"VLOOKUP(A202,Турон!B:M,12,FALSE)","v":{"$error":"#NAME?"}},50.89,{"$f":"VLOOKUP(A202,Турон!B:M,9,FALSE)","v":0},{"$f":"VLOOKUP(A202,Турон!B:M,6,FALSE)","v":0},{"$f":"VLOOKUP(A202,Турон!B:M,10,FALSE)","v":0},{"$f":"VLOOKUP(A202,Тнав!A:D,2,FALSE)","v":21.525417432695669},{"$error":"#VALUE!"},42.040505380033942,{"$f":"VLOOKUP(A202,Тнав!A:D,3,FALSE)","v":22.409253489164691},{"$f":"VLOOKUP(A202,'Состояние  фонда'!C:AB,20,FALSE)","v":1.5},{"$f":"VLOOKUP(A202,Тнав!A:E,4,FALSE)","v":295.39884853497051},{"$f":"VLOOKUP(A202,'Состояние  фонда'!C:AB,21,FALSE)","v":98},29,"гидратный",{"$f":"IFERROR([1]!Скорость_газа(AA202,X202,18.8,46.8,190.24,IF(MID(J202,1,2)=\"73\",6,IF(MID(J202,1,2)=\"89\",7.6,IF(MID(J202,1,2)=\"11\",10,0)))),\"\")","v":""},281.64117760723263,0.95281289789676948,{"$error":"#VALUE!"},{"$error":"#VALUE!"}]
["301Т",8,"ГС",null,null,null,null,null,null,null,"24.07.2023",67.510000000000005,{"$f":"VLOOKUP(A203,Турон!B:K,5,FALSE)","v":74.747993934068063},{"$f":"VLOOKUP(A203,Турон!B:K,7,FALSE)","v":0},{"$f":"VLOOKUP(A203,Турон!B:K,8,FALSE)","v":0},{"$f":"VLOOKUP(A203,Турон!B:M,11,FALSE)","v":{"$error":"#NAME?"}},{"$f":"VLOOKUP(A203,Турон!B:M,12,FALSE)","v":{"$error":"#NAME?"}},50.89,{"$f":"VLOOKUP(A203,Турон!B:M,9,FALSE)","v":0},{"$f":"VLOOKUP(A203,Турон!B:M,6,FALSE)","v":0},{"$f":"VLOOKUP(A203,Турон!B:M,10,FALSE)","v":0},{"$f":"VLOOKUP(A203,Тнав!A:D,2,FALSE)","v":18.14229176586317},{"$error":"#VALUE!"},45.648954306702464,{"$f":"VLOOKUP(A203,Тнав!A:D,3,FALSE)","v":29.099039627365599},{"$f":"VLOOKUP(A203,'Состояние  фонда'!C:AB,20,FALSE)","v":-1.754166666666666},{"$f":"VLOOKUP(A203,Тнав!A:E,4,FALSE)","v":260.41065606159452},{"$f":"VLOOKUP(A203,'Состояние  фонда'!C:AB,21,FALSE)","v":96.5},null,"гидратный",{"$f":"IFERROR([1]!Скорость_газа(AA203,X203,18.8,46.8,190.24,IF(MID(J203,1,2)=\"73\",6,IF(MID(J203,1,2)=\"89\",7.6,IF(MID(J203,1,2)=\"11\",10,0)))),\"\")","v":""},279.98328398870257,0.95814130887730409,{"$error":"#VALUE!"},{"$error":"#VALUE!"}]
["302Т",null,"ГС",null,null,null,null,null,null,null,"24.07.2023",68.16,{"$f":"VLOOKUP(A204,Турон!B:K,5,FALSE)","v":76.08060436066819},{"$f":"VLOOKUP(A204,Турон!B:K,7,FALSE)","v":0},{"$f":"VLOOKUP(A204,Турон!B:K,8,FALSE)","v":0},{"$f":"VLOOKUP(A204,Турон!B:M,11,FALSE)","v":{"$error":"#NAME?"}},{"$f":"VLOOKUP(A204,Турон!B:M,12,FALSE)","v":{"$error":"#NAME?"}},50.89,{"$f":"VLOOKUP(A204,Турон!B:M,9,FALSE)","v":0},{"$f":"VLOOKUP(A204,Турон!B:M,6,FALSE)","v":0},{"$f":"VLOOKUP(A204,Турон!B:M,10,FALSE)","v":0},{"$f":"VLOOKUP(A204,Тнав!A:D,2,FALSE)","v":15.42909394998069},{"$error":"#VALUE!"},44.441962264143626,{"$f":"VLOOKUP(A204,Тнав!A:D,3,FALSE)","v":31.63864209652456},{"$f":"VLOOKUP(A204,'Состояние  фонда'!C:AB,20,FALSE)","v":-2.958333333333333},{"$f":"VLOOKUP(A204,Тнав!A:E,4,FALSE)","v":244.63925107281091},{"$f":"VLOOKUP(A204,'Состояние  фонда'!C:AB,21,FALSE)","v":97},null,"гидратный",{"$f":"IFERROR([1]!Скорость_газа(AA204,X204,18.8,46.8,190.24,IF(MID(J204,1,2)=\"73\",6,IF(MID(J204,1,2)=\"89\",7.6,IF(MID(J204,1,2)=\"11\",10,0)))),\"\")","v":""},279.36810554604807,0.96358491836958871,{"$error":"#VALUE!"},{"$error":"#VALUE!"}]
["101Т",8,"ГС",null,null,null,null,null,null,null,"25.07.2023",64.209999999999994,{"$f":"VLOOKUP(A205,Турон!B:K,5,FALSE)","v":73.733380992637336},{"$f":"VLOOKUP(A205,Турон!B:K,7,FALSE)","v":0},{"$f":"VLOOKUP(A205,Турон!B:K,8,FALSE)","v":0},{"$f":"VLOOKUP(A205,Турон!B:M,11,FALSE)","v":{"$error":"#NAME?"}},{"$f":"VLOOKUP(A205,Турон!B:M,12,FALSE)","v":{"$error":"#NAME?"}},50.89,{"$f":"VLOOKUP(A205,Турон!B:M,9,FALSE)","v":0},{"$f":"VLOOKUP(A205,Турон!B:M,6,FALSE)","v":0},{"$f":"VLOOKUP(A205,Турон!B:M,10,FALSE)","v":0},{"$f":"VLOOKUP(A205,Тнав!A:D,2,FALSE)","v":19.582496504771999},{"$error":"#VALUE!"},50.351806532869119,{"$f":"VLOOKUP(A205,Тнав!A:D,3,FALSE)","v":23.38157445976822},{"$f":"VLOOKUP(A205,'Состояние  фонда'!C:AB,20,FALSE)","v":0.29583333333333328},{"$f":"VLOOKUP(A205,Тнав!A:E,4,FALSE)","v":217.7687758570834},{"$f":"VLOOKUP(A205,'Состояние  фонда'!C:AB,21,FALSE)","v":98.3},null,"гидратный",{"$f":"IFERROR([1]!Скорость_газа(AA205,X205,18.8,46.8,190.24,IF(MID(J205,1,2)=\"73\",6,IF(MID(J205,1,2)=\"89\",7.6,IF(MID(J205,1,2)=\"11\",10,0)))),\"\")","v":""},281.02846761066417,0.95618977615081713,{"$error":"#VALUE!"},{"$error":"#VALUE!"}]
["102Т",null,"ГС",null,null,null,null,null,null,null,"25.07.2023",66.48,{"$f":"VLOOKUP(A206,Турон!B:K,5,FALSE)","v":76.722096778502106},{"$f":"VLOOKUP(A206,Турон!B:K,7,FALSE)","v":0},{"$f":"VLOOKUP(A206,Турон!B:K,8,FALSE)","v":0},{"$f":"VLOOKUP(A206,Турон!B:M,11,FALSE)","v":{"$error":"#NAME?"}},{"$f":"VLOOKUP(A206,Турон!B:M,12,FALSE)","v":{"$error":"#NAME?"}},50.89,{"$f":"VLOOKUP(A206,Турон!B:M,9,FALSE)","v":0},{"$f":"VLOOKUP(A206,Турон!B:M,6,FALSE)","v":0},{"$f":"VLOOKUP(A206,Турон!B:M,10,FALSE)","v":0},{"$f":"VLOOKUP(A206,Тнав!A:D,2,FALSE)","v":18.160099527235118},{"$error":"#VALUE!"},51.022441901563198,{"$f":"VLOOKUP(A206,Тнав!A:D,3,FALSE)","v":25.699654876938911},{"$f":"VLOOKUP(A206,'Состояние  фонда'!C:AB,20,FALSE)","v":-1.0874999999999999},{"$f":"VLOOKUP(A206,Тнав!A:E,4,FALSE)","v":237.9885502864382},{"$f":"VLOOKUP(A206,'Состояние  фонда'!C:AB,21,FALSE)","v":97.3},null,"гидратный",{"$f":"IFERROR([1]!Скорость_газа(AA206,X206,18.8,46.8,190.24,IF(MID(J206,1,2)=\"73\",6,IF(MID(J206,1,2)=\"89\",7.6,IF(MID(J206,1,2)=\"11\",10,0)))),\"\")","v":""},280.32347175796332,0.95847704044628768,{"$error":"#VALUE!"},{"$error":"#VALUE!"}]
["103Т",null,"ГС + МГРП",null,null,null,null,null,null,null,"25.07.2023",64.61,{"$f":"VLOOKUP(A207,Турон!B:K,5,FALSE)","v":66.653325629418504},{"$f":"VLOOKUP(A207,Турон!B:K,7,FALSE)","v":0},{"$f":"VLOOKUP(A207,Турон!B:K,8,FALSE)","v":0},{"$f":"VLOOKUP(A207,Турон!B:M,11,FALSE)","v":{"$error":"#NAME?"}},{"$f":"VLOOKUP(A207,Турон!B:M,12,FALSE)","v":{"$error":"#NAME?"}},50.9,{"$f":"VLOOKUP(A207,Турон!B:M,9,FALSE)","v":0},{"$f":"VLOOKUP(A207,Турон!B:M,6,FALSE)","v":0},{"$f":"VLOOKUP(A207,Турон!B:M,10,FALSE)","v":0},{"$f":"VLOOKUP(A207,Тнав!A:D,2,FALSE)","v":28.295657055765741},{"$error":"#VALUE!"},55.717093062254889,{"$f":"VLOOKUP(A207,Тнав!A:D,3,FALSE)","v":10.936232567163611},{"$f":"VLOOKUP(A207,'Состояние  фонда'!C:AB,20,FALSE)","v":0.95416666666666627},{"$f":"VLOOKUP(A207,Тнав!A:E,4,FALSE)","v":341.00911407643349},{"$f":"VLOOKUP(A207,'Состояние  фонда'!C:AB,21,FALSE)","v":100},31,"гидратный",{"$f":"IFERROR([1]!Скорость_газа(AA207,X207,18.8,46.8,190.24,IF(MID(J207,1,2)=\"73\",6,IF(MID(J207,1,2)=\"89\",7.6,IF(MID(J207,1,2)=\"11\",10,0)))),\"\")","v":""},281.36355616850977,0.93844047220281779,{"$error":"#VALUE!"},{"$error":"#VALUE!"}]
[1201,6,"ГС",null,null,null,null,null,null,null,"23.07.2023",63.34,{"$f":"VLOOKUP(A208,Турон!B:K,5,FALSE)","v":69.78421725629893},{"$f":"VLOOKUP(A208,Турон!B:K,7,FALSE)","v":0},{"$f":"VLOOKUP(A208,Турон!B:K,8,FALSE)","v":0},{"$f":"VLOOKUP(A208,Турон!B:M,11,FALSE)","v":{"$error":"#NAME?"}},{"$f":"VLOOKUP(A208,Турон!B:M,12,FALSE)","v":{"$error":"#NAME?"}},50.89,{"$f":"VLOOKUP(A208,Турон!B:M,9,FALSE)","v":0},{"$f":"VLOOKUP(A208,Турон!B:M,6,FALSE)","v":0},{"$f":"VLOOKUP(A208,Турон!B:M,10,FALSE)","v":0},{"$f":"VLOOKUP(A208,Тнав!A:D,2,FALSE)","v":15.68935070442198},{"$error":"#VALUE!"},43.775334462682068,{"$f":"VLOOKUP(A208,Тнав!A:D,3,FALSE)","v":26.008882793616859},{"$f":"VLOOKUP(A208,'Состояние  фонда'!C:AB,20,FALSE)","v":-1.9624999999999999},{"$f":"VLOOKUP(A208,Тнав!A:E,4,FALSE)","v":262.04688946198718},{"$f":"VLOOKUP(A208,'Состояние  фонда'!C:AB,21,FALSE)","v":94.9},null,"гидратный",{"$f":"IFERROR([1]!Скорость_газа(AA208,X208,18.8,46.8,190.24,IF(MID(J208,1,2)=\"73\",6,IF(MID(J208,1,2)=\"89\",7.6,IF(MID(J208,1,2)=\"11\",10,0)))),\"\")","v":""},279.87691761868433,0.96349162386316212,{"$error":"#VALUE!"},{"$error":"#VALUE!"}]
[1202,null,"ГС",null,null,null,null,null,null,null,"23.07.2023",62.15,{"$f":"VLOOKUP(A209,Турон!B:K,5,FALSE)","v":68.413246960319199},{"$f":"VLOOKUP(A209,Турон!B:K,7,FALSE)","v":0},{"$f":"VLOOKUP(A209,Турон!B:K,8,FALSE)","v":0},{"$f":"VLOOKUP(A209,Турон!B:M,11,FALSE)","v":{"$error":"#NAME?"}},{"$f":"VLOOKUP(A209,Турон!B:M,12,FALSE)","v":{"$error":"#NAME?"}},50.89,{"$f":"VLOOKUP(A209,Турон!B:M,9,FALSE)","v":0},{"$f":"VLOOKUP(A209,Турон!B:M,6,FALSE)","v":0},{"$f":"VLOOKUP(A209,Турон!B:M,10,FALSE)","v":0},{"$f":"VLOOKUP(A209,Тнав!A:D,2,FALSE)","v":14.56623840940054},{"$error":"#VALUE!"},43.612185044851259,{"$f":"VLOOKUP(A209,Тнав!A:D,3,FALSE)","v":24.80106191546794},{"$f":"VLOOKUP(A209,'Состояние  фонда'!C:AB,20,FALSE)","v":-2.1916666666666669},{"$f":"VLOOKUP(A209,Тнав!A:E,4,FALSE)","v":247.5884795120981},{"$f":"VLOOKUP(A209,'Состояние  фонда'!C:AB,21,FALSE)","v":98.1},null,"гидратный",{"$f":"IFERROR([1]!Скорость_газа(AA209,X209,18.8,46.8,190.24,IF(MID(J209,1,2)=\"73\",6,IF(MID(J209,1,2)=\"89\",7.6,IF(MID(J209,1,2)=\"11\",10,0)))),\"\")","v":""},279.75988281626132,0.96590992073357906,{"$error":"#VALUE!"},{"$error":"#VALUE!"}]
[4101,8,"ГС",null,null,null,null,null,null,null,"25.07.2023",63.15,{"$f":"VLOOKUP(A210,Турон!B:K,5,FALSE)","v":65.968141550082237},{"$f":"VLOOKUP(A210,Турон!B:K,7,FALSE)","v":0},{"$f":"VLOOKUP(A210,Турон!B:K,8,FALSE)","v":0},{"$f":"VLOOKUP(A210,Турон!B:M,11,FALSE)","v":{"$error":"#NAME?"}},{"$f":"VLOOKUP(A210,Турон!B:M,12,FALSE)","v":{"$error":"#NAME?"}},18.97,{"$f":"VLOOKUP(A210,Турон!B:M,9,FALSE)","v":0},{"$f":"VLOOKUP(A210,Турон!B:M,6,FALSE)","v":0},{"$f":"VLOOKUP(A210,Турон!B:M,10,FALSE)","v":0},{"$f":"VLOOKUP(A210,Тнав!A:D,2,FALSE)","v":21.548847395799111},{"$error":"#VALUE!"},42.123639617487548,{"$f":"VLOOKUP(A210,Тнав!A:D,3,FALSE)","v":23.844501932594689},{"$f":"VLOOKUP(A210,'Состояние  фонда'!C:AB,20,FALSE)","v":1.0913043478260871},{"$f":"VLOOKUP(A210,Тнав!A:E,4,FALSE)","v":207.55709402743389},{"$f":"VLOOKUP(A210,'Состояние  фонда'!C:AB,21,FALSE)","v":98.6},null,"гидратный",{"$f":"IFERROR([1]!Скорость_газа(AA210,X210,18.8,46.8,190.24,IF(MID(J210,1,2)=\"73\",6,IF(MID(J210,1,2)=\"89\",7.6,IF(MID(J210,1,2)=\"11\",10,0)))),\"\")","v":""},281.43332452600549,0.95250694936057501,{"$error":"#VALUE!"},{"$error":"#VALUE!"}]
[4102,null,"ГС",null,null,null,null,null,null,null,"25.07.2023",62.22,{"$f":"VLOOKUP(A211,Турон!B:K,5,FALSE)","v":66.144982103541182},{"$f":"VLOOKUP(A211,Турон!B:K,7,FALSE)","v":0},{"$f":"VLOOKUP(A211,Турон!B:K,8,FALSE)","v":0},{"$f":"VLOOKUP(A211,Турон!B:M,11,FALSE)","v":{"$error":"#NAME?"}},{"$f":"VLOOKUP(A211,Турон!B:M,12,FALSE)","v":{"$error":"#NAME?"}},50.89,{"$f":"VLOOKUP(A211,Турон!B:M,9,FALSE)","v":0},{"$f":"VLOOKUP(A211,Турон!B:M,6,FALSE)","v":0},{"$f":"VLOOKUP(A211,Турон!B:M,10,FALSE)","v":0},{"$f":"VLOOKUP(A211,Тнав!A:D,2,FALSE)","v":20.929378773104471},{"$error":"#VALUE!"},44.377981791280689,{"$f":"VLOOKUP(A211,Тнав!A:D,3,FALSE)","v":21.767000312260489},{"$f":"VLOOKUP(A211,'Состояние  фонда'!C:AB,20,FALSE)","v":1.0913043478260871},{"$f":"VLOOKUP(A211,Тнав!A:E,4,FALSE)","v":221.5693993267177},{"$f":"VLOOKUP(A211,'Состояние  фонда'!C:AB,21,FALSE)","v":97.4},null,"гидратный",{"$f":"IFERROR([1]!Скорость_газа(AA211,X211,18.8,46.8,190.24,IF(MID(J211,1,2)=\"73\",6,IF(MID(J211,1,2)=\"89\",7.6,IF(MID(J211,1,2)=\"11\",10,0)))),\"\")","v":""},281.43332452600549,0.95380917676655985,{"$error":"#VALUE!"},{"$error":"#VALUE!"}]
[4103,null,"ГС + МГРП",null,null,null,null,null,null,null,"25.07.2023",61.91,{"$f":"VLOOKUP(A212,Турон!B:K,5,FALSE)","v":60.467164163034397},{"$f":"VLOOKUP(A212,Турон!B:K,7,FALSE)","v":0},{"$f":"VLOOKUP(A212,Турон!B:K,8,FALSE)","v":0},{"$f":"VLOOKUP(A212,Турон!B:M,11,FALSE)","v":{"$error":"#NAME?"}},{"$f":"VLOOKUP(A212,Турон!B:M,12,FALSE)","v":{"$error":"#NAME?"}},8.06,{"$f":"VLOOKUP(A212,Турон!B:M,9,FALSE)","v":0},{"$f":"VLOOKUP(A212,Турон!B:M,6,FALSE)","v":0},{"$f":"VLOOKUP(A212,Турон!B:M,10,FALSE)","v":0},{"$f":"VLOOKUP(A212,Тнав!A:D,2,FALSE)","v":36.325872328918422},{"$error":"#VALUE!"},46.939982246124018,{"$f":"VLOOKUP(A212,Тнав!A:D,3,FALSE)","v":13.527181916910379},{"$f":"VLOOKUP(A212,'Состояние  фонда'!C:AB,20,FALSE)","v":1.0913043478260871},{"$f":"VLOOKUP(A212,Тнав!A:E,4,FALSE)","v":188.19774937117319},{"$f":"VLOOKUP(A212,'Состояние  фонда'!C:AB,21,FALSE)","v":97.7},26,"гидратный",{"$f":"IFERROR([1]!Скорость_газа(AA212,X212,18.8,46.8,190.24,IF(MID(J212,1,2)=\"73\",6,IF(MID(J212,1,2)=\"89\",7.6,IF(MID(J212,1,2)=\"11\",10,0)))),\"\")","v":""},281.43332452600549,0.92246400751214397,{"$error":"#VALUE!"},{"$error":"#VALUE!"}]
[4001,8,"ГС",null,null,null,null,null,null,null,"24.07.2023",60.48,{"$f":"VLOOKUP(A213,Турон!B:K,5,FALSE)","v":67.304507905216028},{"$f":"VLOOKUP(A213,Турон!B:K,7,FALSE)","v":0},{"$f":"VLOOKUP(A213,Турон!B:K,8,FALSE)","v":0},{"$f":"VLOOKUP(A213,Турон!B:M,11,FALSE)","v":{"$error":"#NAME?"}},{"$f":"VLOOKUP(A213,Турон!B:M,12,FALSE)","v":{"$error":"#NAME?"}},50.89,{"$f":"VLOOKUP(A213,Турон!B:M,9,FALSE)","v":0},{"$f":"VLOOKUP(A213,Турон!B:M,6,FALSE)","v":0},{"$f":"VLOOKUP(A213,Турон!B:M,10,FALSE)","v":0},{"$f":"VLOOKUP(A213,Тнав!A:D,2,FALSE)","v":16.191201368414969},{"$error":"#VALUE!"},40.394647012337536,{"$f":"VLOOKUP(A213,Тнав!A:D,3,FALSE)","v":26.909860892878491},{"$f":"VLOOKUP(A213,'Состояние  фонда'!C:AB,20,FALSE)","v":1.0913043478260871},{"$f":"VLOOKUP(A213,Тнав!A:E,4,FALSE)","v":194.7458163370911},{"$f":"VLOOKUP(A213,'Состояние  фонда'!C:AB,21,FALSE)","v":95.5},null,"гидратный",{"$f":"IFERROR([1]!Скорость_газа(AA213,X213,18.8,46.8,190.24,IF(MID(J213,1,2)=\"73\",6,IF(MID(J213,1,2)=\"89\",7.6,IF(MID(J213,1,2)=\"11\",10,0)))),\"\")","v":""},281.43332452600549,0.96388864325842238,{"$error":"#VALUE!"},{"$error":"#VALUE!"}]
[4002,null,"ГС",null,null,null,null,null,null,null,"24.07.2023",67.19,{"$f":"VLOOKUP(A214,Турон!B:K,5,FALSE)","v":81.620328999549315},{"$f":"VLOOKUP(A214,Турон!B:K,7,FALSE)","v":0},{"$f":"VLOOKUP(A214,Турон!B:K,8,FALSE)","v":0},{"$f":"VLOOKUP(A214,Турон!B:M,11,FALSE)","v":{"$error":"#NAME?"}},{"$f":"VLOOKUP(A214,Турон!B:M,12,FALSE)","v":{"$error":"#NAME?"}},50.89,{"$f":"VLOOKUP(A214,Турон!B:M,9,FALSE)","v":0},{"$f":"VLOOKUP(A214,Турон!B:M,6,FALSE)","v":0},{"$f":"VLOOKUP(A214,Турон!B:M,10,FALSE)","v":0},{"$f":"VLOOKUP(A214,Тнав!A:D,2,FALSE)","v":18.81131868653425},{"$error":"#VALUE!"},50.539580362149586,{"$f":"VLOOKUP(A214,Тнав!A:D,3,FALSE)","v":31.080748637399729},{"$f":"VLOOKUP(A214,'Состояние  фонда'!C:AB,20,FALSE)","v":1.0913043478260871},{"$f":"VLOOKUP(A214,Тнав!A:E,4,FALSE)","v":215.70802370922661},{"$f":"VLOOKUP(A214,'Состояние  фонда'!C:AB,21,FALSE)","v":89.4},null,"гидратный",{"$f":"IFERROR([1]!Скорость_газа(AA214,X214,18.8,46.8,190.24,IF(MID(J214,1,2)=\"73\",6,IF(MID(J214,1,2)=\"89\",7.6,IF(MID(J214,1,2)=\"11\",10,0)))),\"\")","v":""},281.43332452600549,0.95828872295017176,{"$error":"#VALUE!"},{"$error":"#VALUE!"}]
[4003,null,"ГС",null,null,null,null,null,null,null,"24.07.2023",68.040000000000006,{"$f":"VLOOKUP(A215,Турон!B:K,5,FALSE)","v":73.765429649597863},{"$f":"VLOOKUP(A215,Турон!B:K,7,FALSE)","v":0},{"$f":"VLOOKUP(A215,Турон!B:K,8,FALSE)","v":0},{"$f":"VLOOKUP(A215,Турон!B:M,11,FALSE)","v":{"$error":"#NAME?"}},{"$f":"VLOOKUP(A215,Турон!B:M,12,FALSE)","v":{"$error":"#NAME?"}},50.89,{"$f":"VLOOKUP(A215,Турон!B:M,9,FALSE)","v":0},{"$f":"VLOOKUP(A215,Турон!B:M,6,FALSE)","v":0},{"$f":"VLOOKUP(A215,Турон!B:M,10,FALSE)","v":0},{"$f":"VLOOKUP(A215,Тнав!A:D,2,FALSE)","v":26.076458923271758},{"$error":"#VALUE!"},48.629271552208962,{"$f":"VLOOKUP(A215,Тнав!A:D,3,FALSE)","v":25.136158097388901},{"$f":"VLOOKUP(A215,'Состояние  фонда'!C:AB,20,FALSE)","v":1.0913043478260871},{"$f":"VLOOKUP(A215,Тнав!A:E,4,FALSE)","v":223.54684503536271},{"$f":"VLOOKUP(A215,'Состояние  фонда'!C:AB,21,FALSE)","v":99.8},null,"гидратный",{"$f":"IFERROR([1]!Скорость_газа(AA215,X215,18.8,46.8,190.24,IF(MID(J215,1,2)=\"73\",6,IF(MID(J215,1,2)=\"89\",7.6,IF(MID(J215,1,2)=\"11\",10,0)))),\"\")","v":""},281.43332452600549,0.94309605053993939,{"$error":"#VALUE!"},{"$error":"#VALUE!"}]
[4004,null,"ГС",null,null,null,null,null,null,null,"24.07.2023",61.36,{"$f":"VLOOKUP(A216,Турон!B:K,5,FALSE)","v":66.427476297913486},{"$f":"VLOOKUP(A216,Турон!B:K,7,FALSE)","v":0},{"$f":"VLOOKUP(A216,Турон!B:K,8,FALSE)","v":0},{"$f":"VLOOKUP(A216,Турон!B:M,11,FALSE)","v":{"$error":"#NAME?"}},{"$f":"VLOOKUP(A216,Турон!B:M,12,FALSE)","v":{"$error":"#NAME?"}},50.89,{"$f":"VLOOKUP(A216,Турон!B:M,9,FALSE)","v":0},{"$f":"VLOOKUP(A216,Турон!B:M,6,FALSE)","v":0},{"$f":"VLOOKUP(A216,Турон!B:M,10,FALSE)","v":0},{"$f":"VLOOKUP(A216,Тнав!A:D,2,FALSE)","v":20.293817836209669},{"$error":"#VALUE!"},46.81179162565941,{"$f":"VLOOKUP(A216,Тнав!A:D,3,FALSE)","v":19.61568467225408},{"$f":"VLOOKUP(A216,'Состояние  фонда'!C:AB,20,FALSE)","v":1.0913043478260871},{"$f":"VLOOKUP(A216,Тнав!A:E,4,FALSE)","v":255.16007439476891},{"$f":"VLOOKUP(A216,'Состояние  фонда'!C:AB,21,FALSE)","v":97.5},null,"гидратный",{"$f":"IFERROR([1]!Скорость_газа(AA216,X216,18.8,46.8,190.24,IF(MID(J216,1,2)=\"73\",6,IF(MID(J216,1,2)=\"89\",7.6,IF(MID(J216,1,2)=\"11\",10,0)))),\"\")","v":""},281.43332452600549,0.95514893877632212,{"$error":"#VALUE!"},{"$error":"#VALUE!"}]
[1601,2,"ГС",null,null,null,null,null,null,null,"23.07.2023",49.41,{"$f":"VLOOKUP(A217,Турон!B:K,5,FALSE)","v":57.043386167263982},{"$f":"VLOOKUP(A217,Турон!B:K,7,FALSE)","v":0},{"$f":"VLOOKUP(A217,Турон!B:K,8,FALSE)","v":0},{"$f":"VLOOKUP(A217,Турон!B:M,11,FALSE)","v":{"$error":"#NAME?"}},{"$f":"VLOOKUP(A217,Турон!B:M,12,FALSE)","v":{"$error":"#NAME?"}},50.89,{"$f":"VLOOKUP(A217,Турон!B:M,9,FALSE)","v":0},{"$f":"VLOOKUP(A217,Турон!B:M,6,FALSE)","v":0},{"$f":"VLOOKUP(A217,Турон!B:M,10,FALSE)","v":0},{"$f":"VLOOKUP(A217,Тнав!A:D,2,FALSE)","v":9.6426238581280703},{"$error":"#VALUE!"},34.145782948376592,{"$f":"VLOOKUP(A217,Тнав!A:D,3,FALSE)","v":22.89760321888739},{"$f":"VLOOKUP(A217,'Состояние  фонда'!C:AB,20,FALSE)","v":2.7041666666666671},{"$f":"VLOOKUP(A217,Тнав!A:E,4,FALSE)","v":162.89916463077421},{"$f":"VLOOKUP(A217,'Состояние  фонда'!C:AB,21,FALSE)","v":98.2},null,"гидратный",{"$f":"IFERROR([1]!Скорость_газа(AA217,X217,18.8,46.8,190.24,IF(MID(J217,1,2)=\"73\",6,IF(MID(J217,1,2)=\"89\",7.6,IF(MID(J217,1,2)=\"11\",10,0)))),\"\")","v":""},282.25298531948857,0.97864896293584258,{"$error":"#VALUE!"},{"$error":"#VALUE!"}]
[1602,null,"ГС",null,null,null,null,null,null,null,"23.07.2023",53.45,{"$f":"VLOOKUP(A218,Турон!B:K,5,FALSE)","v":62.255910478149097},{"$f":"VLOOKUP(A218,Турон!B:K,7,FALSE)","v":0},{"$f":"VLOOKUP(A218,Турон!B:K,8,FALSE)","v":0},{"$f":"VLOOKUP(A218,Турон!B:M,11,FALSE)","v":{"$error":"#NAME?"}},{"$f":"VLOOKUP(A218,Турон!B:M,12,FALSE)","v":{"$error":"#NAME?"}},50.89,{"$f":"VLOOKUP(A218,Турон!B:M,9,FALSE)","v":0},{"$f":"VLOOKUP(A218,Турон!B:M,6,FALSE)","v":0},{"$f":"VLOOKUP(A218,Турон!B:M,10,FALSE)","v":0},{"$f":"VLOOKUP(A218,Тнав!A:D,2,FALSE)","v":9.825934446386027},{"$error":"#VALUE!"},40.992857869338792,{"$f":"VLOOKUP(A218,Тнав!A:D,3,FALSE)","v":21.263052608810309},{"$f":"VLOOKUP(A218,'Состояние  фонда'!C:AB,20,FALSE)","v":2.7041666666666671},{"$f":"VLOOKUP(A218,Тнав!A:E,4,FALSE)","v":209.4612882260752},{"$f":"VLOOKUP(A218,'Состояние  фонда'!C:AB,21,FALSE)","v":99.4},null,"гидратный",{"$f":"IFERROR([1]!Скорость_газа(AA218,X218,18.8,46.8,190.24,IF(MID(J218,1,2)=\"73\",6,IF(MID(J218,1,2)=\"89\",7.6,IF(MID(J218,1,2)=\"11\",10,0)))),\"\")","v":""},282.25298531948857,0.97825189757795505,{"$error":"#VALUE!"},{"$error":"#VALUE!"}]
[1603,null,"ГС",null,null,null,null,null,null,null,"23.07.2023",57.04,{"$f":"VLOOKUP(A219,Турон!B:K,5,FALSE)","v":68.22392025511877},{"$f":"VLOOKUP(A219,Турон!B:K,7,FALSE)","v":0},{"$f":"VLOOKUP(A219,Турон!B:K,8,FALSE)","v":0},{"$f":"VLOOKUP(A219,Турон!B:M,11,FALSE)","v":{"$error":"#NAME?"}},{"$f":"VLOOKUP(A219,Турон!B:M,12,FALSE)","v":{"$error":"#NAME?"}},50.89,{"$f":"VLOOKUP(A219,Турон!B:M,9,FALSE)","v":0},{"$f":"VLOOKUP(A219,Турон!B:M,6,FALSE)","v":0},{"$f":"VLOOKUP(A219,Турон!B:M,10,FALSE)","v":0},{"$f":"VLOOKUP(A219,Тнав!A:D,2,FALSE)","v":15.43784598824058},{"$error":"#VALUE!"},52.841638467392329,{"$f":"VLOOKUP(A219,Тнав!A:D,3,FALSE)","v":15.38228178772644},{"$f":"VLOOKUP(A219,'Состояние  фонда'!C:AB,20,FALSE)","v":2.7041666666666671},{"$f":"VLOOKUP(A219,Тнав!A:E,4,FALSE)","v":238.72208791509581},{"$f":"VLOOKUP(A219,'Состояние  фонда'!C:AB,21,FALSE)","v":97.6},null,"гидратный",{"$f":"IFERROR([1]!Скорость_газа(AA219,X219,18.8,46.8,190.24,IF(MID(J219,1,2)=\"73\",6,IF(MID(J219,1,2)=\"89\",7.6,IF(MID(J219,1,2)=\"11\",10,0)))),\"\")","v":""},282.25298531948857,0.96625005692094856,{"$error":"#VALUE!"},{"$error":"#VALUE!"}]
[3901,8,"ГС",null,null,null,null,null,null,null,"25.07.2023",63.06,{"$f":"VLOOKUP(A220,Турон!B:K,5,FALSE)","v":68.798703342528398},{"$f":"VLOOKUP(A220,Турон!B:K,7,FALSE)","v":0},{"$f":"VLOOKUP(A220,Турон!B:K,8,FALSE)","v":0},{"$f":"VLOOKUP(A220,Турон!B:M,11,FALSE)","v":{"$error":"#NAME?"}},{"$f":"VLOOKUP(A220,Турон!B:M,12,FALSE)","v":{"$error":"#NAME?"}},17.239999999999998,{"$f":"VLOOKUP(A220,Турон!B:M,9,FALSE)","v":0},{"$f":"VLOOKUP(A220,Турон!B:M,6,FALSE)","v":0},{"$f":"VLOOKUP(A220,Турон!B:M,10,FALSE)","v":0},{"$f":"VLOOKUP(A220,Тнав!A:D,2,FALSE)","v":32.507463674082821},{"$error":"#VALUE!"},54.932146506453478,{"$f":"VLOOKUP(A220,Тнав!A:D,3,FALSE)","v":13.866556836074921},{"$f":"VLOOKUP(A220,'Состояние  фонда'!C:AB,20,FALSE)","v":1.0913043478260871},{"$f":"VLOOKUP(A220,Тнав!A:E,4,FALSE)","v":200.13414474883979},{"$f":"VLOOKUP(A220,'Состояние  фонда'!C:AB,21,FALSE)","v":0},null,"гидратный",{"$f":"IFERROR([1]!Скорость_газа(AA220,X220,18.8,46.8,190.24,IF(MID(J220,1,2)=\"73\",6,IF(MID(J220,1,2)=\"89\",7.6,IF(MID(J220,1,2)=\"11\",10,0)))),\"\")","v":""},281.43332452600549,0.9300440778492931,{"$error":"#VALUE!"},{"$error":"#VALUE!"}]
[3902,null,"ГС",null,null,null,null,null,null,null,"25.07.2023",64.709999999999994,{"$f":"VLOOKUP(A221,Турон!B:K,5,FALSE)","v":71.611843055371551},{"$f":"VLOOKUP(A221,Турон!B:K,7,FALSE)","v":0},{"$f":"VLOOKUP(A221,Турон!B:K,8,FALSE)","v":0},{"$f":"VLOOKUP(A221,Турон!B:M,11,FALSE)","v":{"$error":"#NAME?"}},{"$f":"VLOOKUP(A221,Турон!B:M,12,FALSE)","v":{"$error":"#NAME?"}},22.01,{"$f":"VLOOKUP(A221,Турон!B:M,9,FALSE)","v":0},{"$f":"VLOOKUP(A221,Турон!B:M,6,FALSE)","v":0},{"$f":"VLOOKUP(A221,Турон!B:M,10,FALSE)","v":0},{"$f":"VLOOKUP(A221,Тнав!A:D,2,FALSE)","v":31.26340997763446},{"$error":"#VALUE!"},56.364661832653724,{"$f":"VLOOKUP(A221,Тнав!A:D,3,FALSE)","v":15.247181222717829},{"$f":"VLOOKUP(A221,'Состояние  фонда'!C:AB,20,FALSE)","v":1.0913043478260871},{"$f":"VLOOKUP(A221,Тнав!A:E,4,FALSE)","v":240.31639005684951},{"$f":"VLOOKUP(A221,'Состояние  фонда'!C:AB,21,FALSE)","v":10},null,"гидратный",{"$f":"IFERROR([1]!Скорость_газа(AA221,X221,18.8,46.8,190.24,IF(MID(J221,1,2)=\"73\",6,IF(MID(J221,1,2)=\"89\",7.6,IF(MID(J221,1,2)=\"11\",10,0)))),\"\")","v":""},281.43332452600549,0.93254067407210162,{"$error":"#VALUE!"},{"$error":"#VALUE!"}]
[3903,null,"ГС",null,null,null,null,null,null,null,"25.07.2023",64.56,{"$f":"VLOOKUP(A222,Турон!B:K,5,FALSE)","v":71.78835973494941},{"$f":"VLOOKUP(A222,Турон!B:K,7,FALSE)","v":0},{"$f":"VLOOKUP(A222,Турон!B:K,8,FALSE)","v":0},{"$f":"VLOOKUP(A222,Турон!B:M,11,FALSE)","v":{"$error":"#NAME?"}},{"$f":"VLOOKUP(A222,Турон!B:M,12,FALSE)","v":{"$error":"#NAME?"}},19.98,{"$f":"VLOOKUP(A222,Турон!B:M,9,FALSE)","v":0},{"$f":"VLOOKUP(A222,Турон!B:M,6,FALSE)","v":0},{"$f":"VLOOKUP(A222,Турон!B:M,10,FALSE)","v":0},{"$f":"VLOOKUP(A222,Тнав!A:D,2,FALSE)","v":36.054700789477927},{"$error":"#VALUE!"},59.660291287733948,{"$f":"VLOOKUP(A222,Тнав!A:D,3,FALSE)","v":12.12806844721546},{"$f":"VLOOKUP(A222,'Состояние  фонда'!C:AB,20,FALSE)","v":1.0913043478260871},{"$f":"VLOOKUP(A222,Тнав!A:E,4,FALSE)","v":199.86244064141431},{"$f":"VLOOKUP(A222,'Состояние  фонда'!C:AB,21,FALSE)","v":44.1},null,"гидратный",{"$f":"IFERROR([1]!Скорость_газа(AA222,X222,18.8,46.8,190.24,IF(MID(J222,1,2)=\"73\",6,IF(MID(J222,1,2)=\"89\",7.6,IF(MID(J222,1,2)=\"11\",10,0)))),\"\")","v":""},281.43332452600549,0.92299824244044326,{"$error":"#VALUE!"},{"$error":"#VALUE!"}]
[3904,null,"ГС",null,null,null,null,null,null,null,"25.07.2023",66.16,{"$f":"VLOOKUP(A223,Турон!B:K,5,FALSE)","v":74.913116082051502},{"$f":"VLOOKUP(A223,Турон!B:K,7,FALSE)","v":0},{"$f":"VLOOKUP(A223,Турон!B:K,8,FALSE)","v":0},{"$f":"VLOOKUP(A223,Турон!B:M,11,FALSE)","v":{"$error":"#NAME?"}},{"$f":"VLOOKUP(A223,Турон!B:M,12,FALSE)","v":{"$error":"#NAME?"}},15.93,{"$f":"VLOOKUP(A223,Турон!B:M,9,FALSE)","v":0},{"$f":"VLOOKUP(A223,Турон!B:M,6,FALSE)","v":0},{"$f":"VLOOKUP(A223,Турон!B:M,10,FALSE)","v":0},{"$f":"VLOOKUP(A223,Тнав!A:D,2,FALSE)","v":36.989061897715388},{"$error":"#VALUE!"},53.694778692306798,{"$f":"VLOOKUP(A223,Тнав!A:D,3,FALSE)","v":21.218337389744701},{"$f":"VLOOKUP(A223,'Состояние  фонда'!C:AB,20,FALSE)","v":1.0913043478260871},{"$f":"VLOOKUP(A223,Тнав!A:E,4,FALSE)","v":169.17412655835139},{"$f":"VLOOKUP(A223,'Состояние  фонда'!C:AB,21,FALSE)","v":36.5},null,"гидратный",{"$f":"IFERROR([1]!Скорость_газа(AA223,X223,18.8,46.8,190.24,IF(MID(J223,1,2)=\"73\",6,IF(MID(J223,1,2)=\"89\",7.6,IF(MID(J223,1,2)=\"11\",10,0)))),\"\")","v":""},281.43332452600549,0.92116006007760087,{"$error":"#VALUE!"},{"$error":"#VALUE!"}]
[601,13,"ГС",null,null,null,null,null,null,null,"24.07.2023",70.099999999999994,{"$f":"VLOOKUP(A224,Турон!B:K,5,FALSE)","v":84.781206452985387},{"$f":"VLOOKUP(A224,Турон!B:K,7,FALSE)","v":0},{"$f":"VLOOKUP(A224,Турон!B:K,8,FALSE)","v":0},{"$f":"VLOOKUP(A224,Турон!B:M,11,FALSE)","v":{"$error":"#NAME?"}},{"$f":"VLOOKUP(A224,Турон!B:M,12,FALSE)","v":{"$error":"#NAME?"}},50.89,{"$f":"VLOOKUP(A224,Турон!B:M,9,FALSE)","v":0},{"$f":"VLOOKUP(A224,Турон!B:M,6,FALSE)","v":0},{"$f":"VLOOKUP(A224,Турон!B:M,10,FALSE)","v":0},{"$f":"VLOOKUP(A224,Тнав!A:D,2,FALSE)","v":16.166018712044352},{"$error":"#VALUE!"},56.074446938602108,{"$f":"VLOOKUP(A224,Тнав!A:D,3,FALSE)","v":28.706759514383279},{"$f":"VLOOKUP(A224,'Состояние  фонда'!C:AB,20,FALSE)","v":-3.4521739130434779},{"$f":"VLOOKUP(A224,Тнав!A:E,4,FALSE)","v":282.88885159376707},{"$f":"VLOOKUP(A224,'Состояние  фонда'!C:AB,21,FALSE)","v":99.3},null,"гидратный",{"$f":"IFERROR([1]!Скорость_газа(AA224,X224,18.8,46.8,190.24,IF(MID(J224,1,2)=\"73\",6,IF(MID(J224,1,2)=\"89\",7.6,IF(MID(J224,1,2)=\"11\",10,0)))),\"\")","v":""},279.11554778365047,0.96165470462073965,{"$error":"#VALUE!"},{"$error":"#VALUE!"}]
[602,null,"ГС",null,null,null,null,null,null,null,"24.07.2023",62.44,{"$f":"VLOOKUP(A225,Турон!B:K,5,FALSE)","v":68.303306283587077},{"$f":"VLOOKUP(A225,Турон!B:K,7,FALSE)","v":0},{"$f":"VLOOKUP(A225,Турон!B:K,8,FALSE)","v":0},{"$f":"VLOOKUP(A225,Турон!B:M,11,FALSE)","v":{"$error":"#NAME?"}},{"$f":"VLOOKUP(A225,Турон!B:M,12,FALSE)","v":{"$error":"#NAME?"}},50.89,{"$f":"VLOOKUP(A225,Турон!B:M,9,FALSE)","v":0},{"$f":"VLOOKUP(A225,Турон!B:M,6,FALSE)","v":0},{"$f":"VLOOKUP(A225,Турон!B:M,10,FALSE)","v":0},{"$f":"VLOOKUP(A225,Тнав!A:D,2,FALSE)","v":10.17546146030776},{"$error":"#VALUE!"},41.261052384236585,{"$f":"VLOOKUP(A225,Тнав!A:D,3,FALSE)","v":27.042253899350492},{"$f":"VLOOKUP(A225,'Состояние  фонда'!C:AB,20,FALSE)","v":-3.7041666666666671},{"$f":"VLOOKUP(A225,Тнав!A:E,4,FALSE)","v":249.22432924192091},{"$f":"VLOOKUP(A225,'Состояние  фонда'!C:AB,21,FALSE)","v":98},null,"гидратный",{"$f":"IFERROR([1]!Скорость_газа(AA225,X225,18.8,46.8,190.24,IF(MID(J225,1,2)=\"73\",6,IF(MID(J225,1,2)=\"89\",7.6,IF(MID(J225,1,2)=\"11\",10,0)))),\"\")","v":""},278.98661469666689,0.97543067517960136,{"$error":"#VALUE!"},{"$error":"#VALUE!"}]
[2201,10,"ГС",null,null,null,null,null,null,null,"25.07.2023",68.400000000000006,{"$f":"VLOOKUP(A226,Турон!B:K,5,FALSE)","v":75.837714223342758},{"$f":"VLOOKUP(A226,Турон!B:K,7,FALSE)","v":0},{"$f":"VLOOKUP(A226,Турон!B:K,8,FALSE)","v":0},{"$f":"VLOOKUP(A226,Турон!B:M,11,FALSE)","v":{"$error":"#NAME?"}},{"$f":"VLOOKUP(A226,Турон!B:M,12,FALSE)","v":{"$error":"#NAME?"}},23.9,{"$f":"VLOOKUP(A226,Турон!B:M,9,FALSE)","v":0},{"$f":"VLOOKUP(A226,Турон!B:M,6,FALSE)","v":0},{"$f":"VLOOKUP(A226,Турон!B:M,10,FALSE)","v":0},{"$f":"VLOOKUP(A226,Тнав!A:D,2,FALSE)","v":12.169463046805889},{"$error":"#VALUE!"},43.621247098694425,{"$f":"VLOOKUP(A226,Тнав!A:D,3,FALSE)","v":32.216467124648332},{"$f":"VLOOKUP(A226,'Состояние  фонда'!C:AB,20,FALSE)","v":-1.0249999999999999},{"$f":"VLOOKUP(A226,Тнав!A:E,4,FALSE)","v":229.390223758323},{"$f":"VLOOKUP(A226,'Состояние  фонда'!C:AB,21,FALSE)","v":61.8},null,"гидратный",{"$f":"IFERROR([1]!Скорость_газа(AA226,X226,18.8,46.8,190.24,IF(MID(J226,1,2)=\"73\",6,IF(MID(J226,1,2)=\"89\",7.6,IF(MID(J226,1,2)=\"11\",10,0)))),\"\")","v":""},280.35534996321445,0.97181223968036468,{"$error":"#VALUE!"},{"$error":"#VALUE!"}]
[2202,null,"ГС",null,null,null,null,null,null,null,"25.07.2023",72.58,{"$f":"VLOOKUP(A227,Турон!B:K,5,FALSE)","v":80.626062846918558},{"$f":"VLOOKUP(A227,Турон!B:K,7,FALSE)","v":0},{"$f":"VLOOKUP(A227,Турон!B:K,8,FALSE)","v":0},{"$f":"VLOOKUP(A227,Турон!B:M,11,FALSE)","v":{"$error":"#NAME?"}},{"$f":"VLOOKUP(A227,Турон!B:M,12,FALSE)","v":{"$error":"#NAME?"}},11.77,{"$f":"VLOOKUP(A227,Турон!B:M,9,FALSE)","v":0},{"$f":"VLOOKUP(A227,Турон!B:M,6,FALSE)","v":0},{"$f":"VLOOKUP(A227,Турон!B:M,10,FALSE)","v":0},{"$f":"VLOOKUP(A227,Тнав!A:D,2,FALSE)","v":16.676227510507641},{"$f":"X227/AI227","v":{"$error":"#VALUE!"}},{"$f":"M227-Y227","v":49.456919875395798},{"$f":"VLOOKUP(A227,Тнав!A:D,3,FALSE)","v":31.16914297152276},{"$f":"VLOOKUP(A227,'Состояние  фонда'!C:AB,20,FALSE)","v":-1.0249999999999999},{"$f":"VLOOKUP(A227,Тнав!A:E,4,FALSE)","v":292.43674556660937},{"$f":"VLOOKUP(A227,'Состояние  фонда'!C:AB,21,FALSE)","v":55.1},null,"гидратный",{"$f":"IFERROR([1]!Скорость_газа(AA227,X227,18.8,46.8,190.24,IF(MID(J227,1,2)=\"73\",6,IF(MID(J227,1,2)=\"89\",7.6,IF(MID(J227,1,2)=\"11\",10,0)))),\"\")","v":""},{"$f":"(($AF$162+273.15)-(Z227+273.15))/(LN(($AF$162+273.15)/(Z227+273.15)))","v":280.35534996321445},{"$f":"1/(1+(5*10^7*0.098*V227)/(Z227+273.15)^3.825)","v":0.9617724103635763},{"$f":"(0.5647*0.03415*MID(J227,4,7)/(AF227*AG227))","v":{"$error":"#VALUE!"}},{"$f":"ROUND(EXP(AH227),4)","v":{"$error":"#VALUE!"}}]
[2203,null,"ГС",null,null,null,null,null,null,null,"25.07.2023",67.75,{"$f":"VLOOKUP(A228,Турон!B:K,5,FALSE)","v":75.868881941440989},{"$f":"VLOOKUP(A228,Турон!B:K,7,FALSE)","v":0},{"$f":"VLOOKUP(A228,Турон!B:K,8,FALSE)","v":0},{"$f":"VLOOKUP(A228,Турон!B:M,11,FALSE)","v":{"$error":"#NAME?"}},{"$f":"VLOOKUP(A228,Турон!B:M,12,FALSE)","v":{"$error":"#NAME?"}},21.3,{"$f":"VLOOKUP(A228,Турон!B:M,9,FALSE)","v":0},{"$f":"VLOOKUP(A228,Турон!B:M,6,FALSE)","v":0},{"$f":"VLOOKUP(A228,Турон!B:M,10,FALSE)","v":0},{"$f":"VLOOKUP(A228,Тнав!A:D,2,FALSE)","v":15.562103127174179},{"$error":"#VALUE!"},50.613429820259398,{"$f":"VLOOKUP(A228,Тнав!A:D,3,FALSE)","v":25.255452121181591},{"$f":"VLOOKUP(A228,'Состояние  фонда'!C:AB,20,FALSE)","v":-1.0249999999999999},{"$f":"VLOOKUP(A228,Тнав!A:E,4,FALSE)","v":298.45210975234892},{"$f":"VLOOKUP(A228,'Состояние  фонда'!C:AB,21,FALSE)","v":19.7},null,"гидратный",{"$f":"IFERROR([1]!Скорость_газа(AA228,X228,18.8,46.8,190.24,IF(MID(J228,1,2)=\"73\",6,IF(MID(J228,1,2)=\"89\",7.6,IF(MID(J228,1,2)=\"11\",10,0)))),\"\")","v":""},280.35534996321445,0.96423502061941047,{"$error":"#VALUE!"},{"$error":"#VALUE!"}]
[2401,11,"ГС",null,null,null,null,null,null,null,"25.07.2023",70.739999999999995,{"$f":"VLOOKUP(A229,Турон!B:K,5,FALSE)","v":81.222135886607248},{"$f":"VLOOKUP(A229,Турон!B:K,7,FALSE)","v":0},{"$f":"VLOOKUP(A229,Турон!B:K,8,FALSE)","v":0},{"$f":"VLOOKUP(A229,Турон!B:M,11,FALSE)","v":{"$error":"#NAME?"}},{"$f":"VLOOKUP(A229,Турон!B:M,12,FALSE)","v":{"$error":"#NAME?"}},24.11,{"$f":"VLOOKUP(A229,Турон!B:M,9,FALSE)","v":0},{"$f":"VLOOKUP(A229,Турон!B:M,6,FALSE)","v":0},{"$f":"VLOOKUP(A229,Турон!B:M,10,FALSE)","v":0},{"$f":"VLOOKUP(A229,Тнав!A:D,2,FALSE)","v":15.17927388640878},{"$error":"#VALUE!"},50.389142685253645,{"$f":"VLOOKUP(A229,Тнав!A:D,3,FALSE)","v":30.832993201353599},{"$f":"VLOOKUP(A229,'Состояние  фонда'!C:AB,20,FALSE)","v":-1.0249999999999999},{"$f":"VLOOKUP(A229,Тнав!A:E,4,FALSE)","v":261.65294215685162},{"$f":"VLOOKUP(A229,'Состояние  фонда'!C:AB,21,FALSE)","v":94.2},null,"гидратный",{"$f":"IFERROR([1]!Скорость_газа(AA229,X229,18.8,46.8,190.24,IF(MID(J229,1,2)=\"73\",6,IF(MID(J229,1,2)=\"89\",7.6,IF(MID(J229,1,2)=\"11\",10,0)))),\"\")","v":""},280.35534996321445,0.96508412281319189,{"$error":"#VALUE!"},{"$error":"#VALUE!"}]
[2402,null,"ГС",null,null,null,null,null,null,null,"25.07.2023",7.81,{"$f":"VLOOKUP(A230,Турон!B:K,5,FALSE)","v":85.361607421026832},{"$f":"VLOOKUP(A230,Турон!B:K,7,FALSE)","v":0},{"$f":"VLOOKUP(A230,Турон!B:K,8,FALSE)","v":0},{"$f":"VLOOKUP(A230,Турон!B:M,11,FALSE)","v":{"$error":"#NAME?"}},{"$f":"VLOOKUP(A230,Турон!B:M,12,FALSE)","v":{"$error":"#NAME?"}},10.1,{"$f":"VLOOKUP(A230,Турон!B:M,9,FALSE)","v":0},{"$f":"VLOOKUP(A230,Турон!B:M,6,FALSE)","v":0},{"$f":"VLOOKUP(A230,Турон!B:M,10,FALSE)","v":0},{"$f":"VLOOKUP(A230,Тнав!A:D,2,FALSE)","v":39.179280295993848},{"$error":"#VALUE!"},65.74991160265462,{"$f":"VLOOKUP(A230,Тнав!A:D,3,FALSE)","v":19.611695818372208},{"$f":"VLOOKUP(A230,'Состояние  фонда'!C:AB,20,FALSE)","v":-1.0249999999999999},{"$f":"VLOOKUP(A230,Тнав!A:E,4,FALSE)","v":220.12963291538591},{"$f":"VLOOKUP(A230,'Состояние  фонда'!C:AB,21,FALSE)","v":45},null,"гидратный",{"$f":"IFERROR([1]!Скорость_газа(AA230,X230,18.8,46.8,190.24,IF(MID(J230,1,2)=\"73\",6,IF(MID(J230,1,2)=\"89\",7.6,IF(MID(J230,1,2)=\"11\",10,0)))),\"\")","v":""},280.35534996321445,0.91459342283132872,{"$error":"#VALUE!"},{"$error":"#VALUE!"}]
[2601,null,"ГС",null,null,null,null,null,null,null,"23.07.2023",67.760000000000005,{"$f":"VLOOKUP(A231,Турон!B:K,5,FALSE)","v":80.082827630982464},{"$f":"VLOOKUP(A231,Турон!B:K,7,FALSE)","v":0},{"$f":"VLOOKUP(A231,Турон!B:K,8,FALSE)","v":0},{"$f":"VLOOKUP(A231,Турон!B:M,11,FALSE)","v":{"$error":"#NAME?"}},{"$f":"VLOOKUP(A231,Турон!B:M,12,FALSE)","v":{"$error":"#NAME?"}},29.17,{"$f":"VLOOKUP(A231,Турон!B:M,9,FALSE)","v":0},{"$f":"VLOOKUP(A231,Турон!B:M,6,FALSE)","v":0},{"$f":"VLOOKUP(A231,Турон!B:M,10,FALSE)","v":0},{"$f":"VLOOKUP(A231,Тнав!A:D,2,FALSE)","v":14.24441419788873},{"$error":"#VALUE!"},52.940328121037908,{"$f":"VLOOKUP(A231,Тнав!A:D,3,FALSE)","v":27.14249950994456},{"$f":"VLOOKUP(A231,'Состояние  фонда'!C:AB,20,FALSE)","v":-1.0249999999999999},{"$f":"VLOOKUP(A231,Тнав!A:E,4,FALSE)","v":260.77680090944199},{"$f":"VLOOKUP(A231,'Состояние  фонда'!C:AB,21,FALSE)","v":95.3},null,"гидратный",{"$f":"IFERROR([1]!Скорость_газа(AA231,X231,18.8,46.8,190.24,IF(MID(J231,1,2)=\"73\",6,IF(MID(J231,1,2)=\"89\",7.6,IF(MID(J231,1,2)=\"11\",10,0)))),\"\")","v":""},280.35534996321445,0.96716390797158447,{"$error":"#VALUE!"},{"$error":"#VALUE!"}]
[2602,null,"ГС + МГРП",null,null,null,null,null,null,null,"23.07.2023",73.38,{"$f":"VLOOKUP(A232,Турон!B:K,5,FALSE)","v":87.763211982172791},{"$f":"VLOOKUP(A232,Турон!B:K,7,FALSE)","v":0},{"$f":"VLOOKUP(A232,Турон!B:K,8,FALSE)","v":0},{"$f":"VLOOKUP(A232,Турон!B:M,11,FALSE)","v":{"$error":"#NAME?"}},{"$f":"VLOOKUP(A232,Турон!B:M,12,FALSE)","v":{"$error":"#NAME?"}},19.079999999999998,{"$f":"VLOOKUP(A232,Турон!B:M,9,FALSE)","v":0},{"$f":"VLOOKUP(A232,Турон!B:M,6,FALSE)","v":0},{"$f":"VLOOKUP(A232,Турон!B:M,10,FALSE)","v":0},{"$f":"VLOOKUP(A232,Тнав!A:D,2,FALSE)","v":30.385461339492021},{"$error":"#VALUE!"},60.349205579513125,{"$f":"VLOOKUP(A232,Тнав!A:D,3,FALSE)","v":27.41400640265967},{"$f":"VLOOKUP(A232,'Состояние  фонда'!C:AB,20,FALSE)","v":-1.0249999999999999},{"$f":"VLOOKUP(A232,Тнав!A:E,4,FALSE)","v":287.65535491199518},{"$f":"VLOOKUP(A232,'Состояние  фонда'!C:AB,21,FALSE)","v":30.2},null,"гидратный",{"$f":"IFERROR([1]!Скорость_газа(AA232,X232,18.8,46.8,190.24,IF(MID(J232,1,2)=\"73\",6,IF(MID(J232,1,2)=\"89\",7.6,IF(MID(J232,1,2)=\"11\",10,0)))),\"\")","v":""},280.35534996321445,0.93246844241391857,{"$error":"#VALUE!"},{"$error":"#VALUE!"}]
[3601,12,"ГС",null,null,null,null,null,null,null,"27.07.2023",74.63,{"$f":"VLOOKUP(A233,Турон!B:K,5,FALSE)","v":81.447163136955439},{"$f":"VLOOKUP(A233,Турон!B:K,7,FALSE)","v":0},{"$f":"VLOOKUP(A233,Турон!B:K,8,FALSE)","v":0},{"$f":"VLOOKUP(A233,Турон!B:M,11,FALSE)","v":{"$error":"#NAME?"}},{"$f":"VLOOKUP(A233,Турон!B:M,12,FALSE)","v":{"$error":"#NAME?"}},50.89,{"$f":"VLOOKUP(A233,Турон!B:M,9,FALSE)","v":0},{"$f":"VLOOKUP(A233,Турон!B:M,6,FALSE)","v":0},{"$f":"VLOOKUP(A233,Турон!B:M,10,FALSE)","v":0},{"$f":"VLOOKUP(A233,Тнав!A:D,2,FALSE)","v":15.647327458765259},{"$error":"#VALUE!"},30.516486303529518,{"$f":"VLOOKUP(A233,Тнав!A:D,3,FALSE)","v":50.93067683342592},{"$f":"VLOOKUP(A233,'Состояние  фонда'!C:AB,20,FALSE)","v":1.0913043478260871},{"$f":"VLOOKUP(A233,Тнав!A:E,4,FALSE)","v":163.90599250109261},{"$f":"VLOOKUP(A233,'Состояние  фонда'!C:AB,21,FALSE)","v":97.5},null,"гидратный",{"$f":"IFERROR([1]!Скорость_газа(AA233,X233,18.8,46.8,190.24,IF(MID(J233,1,2)=\"73\",6,IF(MID(J233,1,2)=\"89\",7.6,IF(MID(J233,1,2)=\"11\",10,0)))),\"\")","v":""},281.43332452600549,0.96505926596024461,{"$error":"#VALUE!"},{"$error":"#VALUE!"}]
[3602,null,"ГС",null,null,null,null,null,null,null,"27.07.2023",75.17,{"$f":"VLOOKUP(A234,Турон!B:K,5,FALSE)","v":81.44418542123816},{"$f":"VLOOKUP(A234,Турон!B:K,7,FALSE)","v":0},{"$f":"VLOOKUP(A234,Турон!B:K,8,FALSE)","v":0},{"$f":"VLOOKUP(A234,Турон!B:M,11,FALSE)","v":{"$error":"#NAME?"}},{"$f":"VLOOKUP(A234,Турон!B:M,12,FALSE)","v":{"$error":"#NAME?"}},50.89,{"$f":"VLOOKUP(A234,Турон!B:M,9,FALSE)","v":0},{"$f":"VLOOKUP(A234,Турон!B:M,6,FALSE)","v":0},{"$f":"VLOOKUP(A234,Турон!B:M,10,FALSE)","v":0},{"$f":"VLOOKUP(A234,Тнав!A:D,2,FALSE)","v":18.25589055856884},{"$error":"#VALUE!"},49.569190681223631,{"$f":"VLOOKUP(A234,Тнав!A:D,3,FALSE)","v":31.874994740014529},{"$f":"VLOOKUP(A234,'Состояние  фонда'!C:AB,20,FALSE)","v":1.0913043478260871},{"$f":"VLOOKUP(A234,Тнав!A:E,4,FALSE)","v":218.756010040847},{"$f":"VLOOKUP(A234,'Состояние  фонда'!C:AB,21,FALSE)","v":97.7},null,"гидратный",{"$f":"IFERROR([1]!Скорость_газа(AA234,X234,18.8,46.8,190.24,IF(MID(J234,1,2)=\"73\",6,IF(MID(J234,1,2)=\"89\",7.6,IF(MID(J234,1,2)=\"11\",10,0)))),\"\")","v":""},281.43332452600549,0.95947038609374424,{"$error":"#VALUE!"},{"$error":"#VALUE!"}]
[3603,null,"ГС",null,null,null,null,null,null,null,"27.07.2023",73.59,{"$f":"VLOOKUP(A235,Турон!B:K,5,FALSE)","v":81.615339943704612},{"$f":"VLOOKUP(A235,Турон!B:K,7,FALSE)","v":0},{"$f":"VLOOKUP(A235,Турон!B:K,8,FALSE)","v":0},{"$f":"VLOOKUP(A235,Турон!B:M,11,FALSE)","v":{"$error":"#NAME?"}},{"$f":"VLOOKUP(A235,Турон!B:M,12,FALSE)","v":{"$error":"#NAME?"}},50.89,{"$f":"VLOOKUP(A235,Турон!B:M,9,FALSE)","v":0},{"$f":"VLOOKUP(A235,Турон!B:M,6,FALSE)","v":0},{"$f":"VLOOKUP(A235,Турон!B:M,10,FALSE)","v":0},{"$f":"VLOOKUP(A235,Тнав!A:D,2,FALSE)","v":22.802139436984842},{"$error":"#VALUE!"},59.700506852683191,{"$f":"VLOOKUP(A235,Тнав!A:D,3,FALSE)","v":21.914833091021421},{"$f":"VLOOKUP(A235,'Состояние  фонда'!C:AB,20,FALSE)","v":1.0913043478260871},{"$f":"VLOOKUP(A235,Тнав!A:E,4,FALSE)","v":245.13096536539109},{"$f":"VLOOKUP(A235,'Состояние  фонда'!C:AB,21,FALSE)","v":96.9},null,"гидратный",{"$f":"IFERROR([1]!Скорость_газа(AA235,X235,18.8,46.8,190.24,IF(MID(J235,1,2)=\"73\",6,IF(MID(J235,1,2)=\"89\",7.6,IF(MID(J235,1,2)=\"11\",10,0)))),\"\")","v":""},281.43332452600549,0.94988316286456154,{"$error":"#VALUE!"},{"$error":"#VALUE!"}]
[383,null,"ННС",144.9,144.69999999999999,168,1275.7,"1126,45-1275,7",936.61300000000006,"114/871,532",null,null,{"$f":"VLOOKUP(A236,Турон!B:K,5,FALSE)","v":53.208024126257001},{"$f":"VLOOKUP(A236,Турон!B:K,7,FALSE)","v":46.41},{"$f":"VLOOKUP(A236,Турон!B:K,8,FALSE)","v":49.15},{"$f":"VLOOKUP(A236,Турон!B:M,11,FALSE)","v":55.657867828735277},{"$f":"VLOOKUP(A236,Турон!B:M,12,FALSE)","v":-2.449843702478276},null,{"$f":"VLOOKUP(A236,Турон!B:M,9,FALSE)","v":3.5},{"$f":"VLOOKUP(A236,Турон!B:M,6,FALSE)","v":201},{"$f":"VLOOKUP(A236,Турон!B:M,10,FALSE)","v":5.1457176208496103},{"$f":"VLOOKUP(A236,Тнав!A:D,2,FALSE)","v":32.113528464883622},{"$error":"#VALUE!"},8.5351314528191082,{"$f":"VLOOKUP(A236,Тнав!A:D,3,FALSE)","v":44.672892673437893},{"$f":"VLOOKUP(A236,'Состояние  фонда'!C:AB,20,FALSE)","v":1.404166666666667},{"$f":"VLOOKUP(A236,Тнав!A:E,4,FALSE)","v":68.905450072657729},{"$f":"VLOOKUP(A236,'Состояние  фонда'!C:AB,21,FALSE)","v":97.4},10,"гидратный",12.08451097058734,281.59244834495149,0.93111344670311535,{"$error":"#VALUE!"},{"$error":"#VALUE!"}]
[3801,null,"ГС",null,null,null,null,null,null,null,"29.07.2023",76.709999999999994,{"$f":"VLOOKUP(A237,Турон!B:K,5,FALSE)","v":84.735440320445321},{"$f":"VLOOKUP(A237,Турон!B:K,7,FALSE)","v":0},{"$f":"VLOOKUP(A237,Турон!B:K,8,FALSE)","v":0},{"$f":"VLOOKUP(A237,Турон!B:M,11,FALSE)","v":{"$error":"#NAME?"}},{"$f":"VLOOKUP(A237,Турон!B:M,12,FALSE)","v":{"$error":"#NAME?"}},50.89,{"$f":"VLOOKUP(A237,Турон!B:M,9,FALSE)","v":0},{"$f":"VLOOKUP(A237,Турон!B:M,6,FALSE)","v":0},{"$f":"VLOOKUP(A237,Турон!B:M,10,FALSE)","v":0},{"$f":"VLOOKUP(A237,Тнав!A:D,2,FALSE)","v":17.227255020798701},{"$error":"#VALUE!"},37.958902715533128,{"$f":"VLOOKUP(A237,Тнав!A:D,3,FALSE)","v":46.776537604912193},{"$f":"VLOOKUP(A237,'Состояние  фонда'!C:AB,20,FALSE)","v":1.0913043478260871},{"$f":"VLOOKUP(A237,Тнав!A:E,4,FALSE)","v":211.70706018899091},{"$f":"VLOOKUP(A237,'Состояние  фонда'!C:AB,21,FALSE)","v":91.5},null,"гидратный",{"$f":"IFERROR([1]!Скорость_газа(AA237,X237,18.8,46.8,190.24,IF(MID(J237,1,2)=\"73\",6,IF(MID(J237,1,2)=\"89\",7.6,IF(MID(J237,1,2)=\"11\",10,0)))),\"\")","v":""},281.43332452600549,0.96166650300544465,{"$error":"#VALUE!"},{"$error":"#VALUE!"}]
[3802,null,"ГС",null,null,null,null,null,null,null,"29.07.2023",77.28,{"$f":"VLOOKUP(A238,Турон!B:K,5,FALSE)","v":87.184289682578694},{"$f":"VLOOKUP(A238,Турон!B:K,7,FALSE)","v":0},{"$f":"VLOOKUP(A238,Турон!B:K,8,FALSE)","v":0},{"$f":"VLOOKUP(A238,Турон!B:M,11,FALSE)","v":{"$error":"#NAME?"}},{"$f":"VLOOKUP(A238,Турон!B:M,12,FALSE)","v":{"$error":"#NAME?"}},50.89,{"$f":"VLOOKUP(A238,Турон!B:M,9,FALSE)","v":0},{"$f":"VLOOKUP(A238,Турон!B:M,6,FALSE)","v":0},{"$f":"VLOOKUP(A238,Турон!B:M,10,FALSE)","v":0},{"$f":"VLOOKUP(A238,Тнав!A:D,2,FALSE)","v":18.088269961258948},{"$error":"#VALUE!"},43.785778715643431,{"$f":"VLOOKUP(A238,Тнав!A:D,3,FALSE)","v":43.398510966935262},{"$f":"VLOOKUP(A238,'Состояние  фонда'!C:AB,20,FALSE)","v":1.0913043478260871},{"$f":"VLOOKUP(A238,Тнав!A:E,4,FALSE)","v":235.56902715297159},{"$f":"VLOOKUP(A238,'Состояние  фонда'!C:AB,21,FALSE)","v":100},null,"гидратный",{"$f":"IFERROR([1]!Скорость_газа(AA238,X238,18.8,46.8,190.24,IF(MID(J238,1,2)=\"73\",6,IF(MID(J238,1,2)=\"89\",7.6,IF(MID(J238,1,2)=\"11\",10,0)))),\"\")","v":""},281.43332452600549,0.95982756849011863,{"$error":"#VALUE!"},{"$error":"#VALUE!"}]
[1901,10,"ГС",null,null,null,null,null,null,null,"23.07.2023",67,{"$f":"VLOOKUP(A239,Турон!B:K,5,FALSE)","v":74.834943400413195},{"$f":"VLOOKUP(A239,Турон!B:K,7,FALSE)","v":0},{"$f":"VLOOKUP(A239,Турон!B:K,8,FALSE)","v":0},{"$f":"VLOOKUP(A239,Турон!B:M,11,FALSE)","v":{"$error":"#NAME?"}},{"$f":"VLOOKUP(A239,Турон!B:M,12,FALSE)","v":{"$error":"#NAME?"}},28.45,{"$f":"VLOOKUP(A239,Турон!B:M,9,FALSE)","v":0},{"$f":"VLOOKUP(A239,Турон!B:M,6,FALSE)","v":0},{"$f":"VLOOKUP(A239,Турон!B:M,10,FALSE)","v":0},{"$f":"VLOOKUP(A239,Тнав!A:D,2,FALSE)","v":16.305691378311099},{"$error":"#VALUE!"},44.207364812546174,{"$f":"VLOOKUP(A239,Тнав!A:D,3,FALSE)","v":30.627578587867021},{"$f":"VLOOKUP(A239,'Состояние  фонда'!C:AB,20,FALSE)","v":-1.0249999999999999},{"$f":"VLOOKUP(A239,Тнав!A:E,4,FALSE)","v":247.80589138621389},{"$f":"VLOOKUP(A239,'Состояние  фонда'!C:AB,21,FALSE)","v":99.3},null,"гидратный",{"$f":"IFERROR([1]!Скорость_газа(AA239,X239,18.8,46.8,190.24,IF(MID(J239,1,2)=\"73\",6,IF(MID(J239,1,2)=\"89\",7.6,IF(MID(J239,1,2)=\"11\",10,0)))),\"\")","v":""},280.35534996321445,0.96259002946050987,{"$error":"#VALUE!"},{"$error":"#VALUE!"}]
[1903,null,"ГС",null,null,null,null,null,null,null,"23.07.2023",68.03,{"$f":"VLOOKUP(A240,Турон!B:K,5,FALSE)","v":77.133058239339789},{"$f":"VLOOKUP(A240,Турон!B:K,7,FALSE)","v":0},{"$f":"VLOOKUP(A240,Турон!B:K,8,FALSE)","v":0},{"$f":"VLOOKUP(A240,Турон!B:M,11,FALSE)","v":{"$error":"#NAME?"}},{"$f":"VLOOKUP(A240,Турон!B:M,12,FALSE)","v":{"$error":"#NAME?"}},24.11,{"$f":"VLOOKUP(A240,Турон!B:M,9,FALSE)","v":0},{"$f":"VLOOKUP(A240,Турон!B:M,6,FALSE)","v":0},{"$f":"VLOOKUP(A240,Турон!B:M,10,FALSE)","v":0},{"$f":"VLOOKUP(A240,Тнав!A:D,2,FALSE)","v":20.042685431467401},{"$error":"#VALUE!"},50.372617145281936,{"$f":"VLOOKUP(A240,Тнав!A:D,3,FALSE)","v":26.76044109405785},{"$f":"VLOOKUP(A240,'Состояние  фонда'!C:AB,20,FALSE)","v":-1.0249999999999999},{"$f":"VLOOKUP(A240,Тнав!A:E,4,FALSE)","v":275.11424454980602},{"$f":"VLOOKUP(A240,'Состояние  фонда'!C:AB,21,FALSE)","v":80.900000000000006},null,"гидратный",{"$f":"IFERROR([1]!Скорость_газа(AA240,X240,18.8,46.8,190.24,IF(MID(J240,1,2)=\"73\",6,IF(MID(J240,1,2)=\"89\",7.6,IF(MID(J240,1,2)=\"11\",10,0)))),\"\")","v":""},280.35534996321445,0.9544071857693891,{"$error":"#VALUE!"},{"$error":"#VALUE!"}]
[2801,11,"ГС",null,null,null,null,null,null,null,"26.07.2023",72.58,{"$f":"VLOOKUP(A241,Турон!B:K,5,FALSE)","v":80.991237477537751},{"$f":"VLOOKUP(A241,Турон!B:K,7,FALSE)","v":0},{"$f":"VLOOKUP(A241,Турон!B:K,8,FALSE)","v":0},{"$f":"VLOOKUP(A241,Турон!B:M,11,FALSE)","v":{"$error":"#NAME?"}},{"$f":"VLOOKUP(A241,Турон!B:M,12,FALSE)","v":{"$error":"#NAME?"}},50.89,{"$f":"VLOOKUP(A241,Турон!B:M,9,FALSE)","v":0},{"$f":"VLOOKUP(A241,Турон!B:M,6,FALSE)","v":0},{"$f":"VLOOKUP(A241,Турон!B:M,10,FALSE)","v":0},{"$f":"VLOOKUP(A241,Тнав!A:D,2,FALSE)","v":20.529936927685711},{"$error":"#VALUE!"},50.193594551214474,{"$f":"VLOOKUP(A241,Тнав!A:D,3,FALSE)","v":30.797642926323281},{"$f":"VLOOKUP(A241,'Состояние  фонда'!C:AB,20,FALSE)","v":-1.0249999999999999},{"$f":"VLOOKUP(A241,Тнав!A:E,4,FALSE)","v":249.36268838037589},{"$f":"VLOOKUP(A241,'Состояние  фонда'!C:AB,21,FALSE)","v":99.6},null,"гидратный",{"$f":"IFERROR([1]!Скорость_газа(AA241,X241,18.8,46.8,190.24,IF(MID(J241,1,2)=\"73\",6,IF(MID(J241,1,2)=\"89\",7.6,IF(MID(J241,1,2)=\"11\",10,0)))),\"\")","v":""},280.35534996321445,0.95335049900103019,{"$error":"#VALUE!"},{"$error":"#VALUE!"}]
[2802,null,"ГС",null,null,null,null,null,null,null,"26.07.2023",71.400000000000006,{"$f":"VLOOKUP(A242,Турон!B:K,5,FALSE)","v":78.151491242894409},{"$f":"VLOOKUP(A242,Турон!B:K,7,FALSE)","v":0},{"$f":"VLOOKUP(A242,Турон!B:K,8,FALSE)","v":0},{"$f":"VLOOKUP(A242,Турон!B:M,11,FALSE)","v":{"$error":"#NAME?"}},{"$f":"VLOOKUP(A242,Турон!B:M,12,FALSE)","v":{"$error":"#NAME?"}},50.89,{"$f":"VLOOKUP(A242,Турон!B:M,9,FALSE)","v":0},{"$f":"VLOOKUP(A242,Турон!B:M,6,FALSE)","v":0},{"$f":"VLOOKUP(A242,Турон!B:M,10,FALSE)","v":0},{"$f":"VLOOKUP(A242,Тнав!A:D,2,FALSE)","v":18.68192113937431},{"$error":"#VALUE!"},49.455466798594642,{"$f":"VLOOKUP(A242,Тнав!A:D,3,FALSE)","v":28.69602444429977},{"$f":"VLOOKUP(A242,'Состояние  фонда'!C:AB,20,FALSE)","v":-1.0249999999999999},{"$f":"VLOOKUP(A242,Тнав!A:E,4,FALSE)","v":302.28728484175821},{"$f":"VLOOKUP(A242,'Состояние  фонда'!C:AB,21,FALSE)","v":98.7},null,"гидратный",{"$f":"IFERROR([1]!Скорость_газа(AA242,X242,18.8,46.8,190.24,IF(MID(J242,1,2)=\"73\",6,IF(MID(J242,1,2)=\"89\",7.6,IF(MID(J242,1,2)=\"11\",10,0)))),\"\")","v":""},280.35534996321445,0.95737067610423543,{"$error":"#VALUE!"},{"$error":"#VALUE!"}]
["201Т",9,"ГС",null,null,null,null,null,null,null,"25.07.2023",69.94,{"$f":"VLOOKUP(A243,Турон!B:K,5,FALSE)","v":74.865218766559494},{"$f":"VLOOKUP(A243,Турон!B:K,7,FALSE)","v":0},{"$f":"VLOOKUP(A243,Турон!B:K,8,FALSE)","v":0},{"$f":"VLOOKUP(A243,Турон!B:M,11,FALSE)","v":{"$error":"#NAME?"}},{"$f":"VLOOKUP(A243,Турон!B:M,12,FALSE)","v":{"$error":"#NAME?"}},26.59,{"$f":"VLOOKUP(A243,Турон!B:M,9,FALSE)","v":0},{"$f":"VLOOKUP(A243,Турон!B:M,6,FALSE)","v":0},{"$f":"VLOOKUP(A243,Турон!B:M,10,FALSE)","v":0},{"$f":"VLOOKUP(A243,Тнав!A:D,2,FALSE)","v":18.28745238243495},{"$error":"#VALUE!"},44.914141401802809,{"$f":"VLOOKUP(A243,Тнав!A:D,3,FALSE)","v":29.951077364756689},{"$f":"VLOOKUP(A243,'Состояние  фонда'!C:AB,20,FALSE)","v":37.562500000000007},{"$f":"VLOOKUP(A243,Тнав!A:E,4,FALSE)","v":249.9768781159095},{"$f":"VLOOKUP(A243,'Состояние  фонда'!C:AB,21,FALSE)","v":95.2},null,"гидратный",{"$f":"IFERROR([1]!Скорость_газа(AA243,X243,18.8,46.8,190.24,IF(MID(J243,1,2)=\"73\",6,IF(MID(J243,1,2)=\"89\",7.6,IF(MID(J243,1,2)=\"11\",10,0)))),\"\")","v":""},299.59709532537732,0.97442442964917642,{"$error":"#VALUE!"},{"$error":"#VALUE!"}]
["202Т",null,"ГС",null,null,null,null,null,null,null,"25.07.2023",68.45,{"$f":"VLOOKUP(A244,Турон!B:K,5,FALSE)","v":71.381682337892997},{"$f":"VLOOKUP(A244,Турон!B:K,7,FALSE)","v":0},{"$f":"VLOOKUP(A244,Турон!B:K,8,FALSE)","v":0},{"$f":"VLOOKUP(A244,Турон!B:M,11,FALSE)","v":{"$error":"#NAME?"}},{"$f":"VLOOKUP(A244,Турон!B:M,12,FALSE)","v":{"$error":"#NAME?"}},50.89,{"$f":"VLOOKUP(A244,Турон!B:M,9,FALSE)","v":0},{"$f":"VLOOKUP(A244,Турон!B:M,6,FALSE)","v":0},{"$f":"VLOOKUP(A244,Турон!B:M,10,FALSE)","v":0},{"$f":"VLOOKUP(A244,Тнав!A:D,2,FALSE)","v":15.822542399519151},{"$error":"#VALUE!"},42.905403671156037,{"$f":"VLOOKUP(A244,Тнав!A:D,3,FALSE)","v":28.47627866673696},{"$f":"VLOOKUP(A244,'Состояние  фонда'!C:AB,20,FALSE)","v":-3.620833333333334},{"$f":"VLOOKUP(A244,Тнав!A:E,4,FALSE)","v":279.96698723220459},{"$f":"VLOOKUP(A244,'Состояние  фонда'!C:AB,21,FALSE)","v":98.1},null,"гидратный",{"$f":"IFERROR([1]!Скорость_газа(AA244,X244,18.8,46.8,190.24,IF(MID(J244,1,2)=\"73\",6,IF(MID(J244,1,2)=\"89\",7.6,IF(MID(J244,1,2)=\"11\",10,0)))),\"\")","v":""},279.02925702319936,0.9623522230047814,{"$error":"#VALUE!"},{"$error":"#VALUE!"}]
["203Т",null,"ГС",null,null,null,null,null,null,null,"25.07.2023",66.88,{"$f":"VLOOKUP(A245,Турон!B:K,5,FALSE)","v":72.695209241893068},{"$f":"VLOOKUP(A245,Турон!B:K,7,FALSE)","v":0},{"$f":"VLOOKUP(A245,Турон!B:K,8,FALSE)","v":0},{"$f":"VLOOKUP(A245,Турон!B:M,11,FALSE)","v":{"$error":"#NAME?"}},{"$f":"VLOOKUP(A245,Турон!B:M,12,FALSE)","v":{"$error":"#NAME?"}},50.9,{"$f":"VLOOKUP(A245,Турон!B:M,9,FALSE)","v":0},{"$f":"VLOOKUP(A245,Турон!B:M,6,FALSE)","v":0},{"$f":"VLOOKUP(A245,Турон!B:M,10,FALSE)","v":0},{"$f":"VLOOKUP(A245,Тнав!A:D,2,FALSE)","v":17.137969723584408},{"$error":"#VALUE!"},39.21283995533819,{"$f":"VLOOKUP(A245,Тнав!A:D,3,FALSE)","v":33.482369286554878},{"$f":"VLOOKUP(A245,'Состояние  фонда'!C:AB,20,FALSE)","v":-0.21249999999999991},{"$f":"VLOOKUP(A245,Тнав!A:E,4,FALSE)","v":227.65681458785289},{"$f":"VLOOKUP(A245,'Состояние  фонда'!C:AB,21,FALSE)","v":97.2},null,"гидратный",{"$f":"IFERROR([1]!Скорость_газа(AA245,X245,18.8,46.8,190.24,IF(MID(J245,1,2)=\"73\",6,IF(MID(J245,1,2)=\"89\",7.6,IF(MID(J245,1,2)=\"11\",10,0)))),\"\")","v":""},280.76954265740693,0.96118318992118623,{"$error":"#VALUE!"},{"$error":"#VALUE!"}]
["204Т",null,"ГС",null,null,null,null,null,null,null,"25.07.2023",63.28,{"$f":"VLOOKUP(A246,Турон!B:K,5,FALSE)","v":66.856498917004828},{"$f":"VLOOKUP(A246,Турон!B:K,7,FALSE)","v":0},{"$f":"VLOOKUP(A246,Турон!B:K,8,FALSE)","v":0},{"$f":"VLOOKUP(A246,Турон!B:M,11,FALSE)","v":{"$error":"#NAME?"}},{"$f":"VLOOKUP(A246,Турон!B:M,12,FALSE)","v":{"$error":"#NAME?"}},50.89,{"$f":"VLOOKUP(A246,Турон!B:M,9,FALSE)","v":0},{"$f":"VLOOKUP(A246,Турон!B:M,6,FALSE)","v":0},{"$f":"VLOOKUP(A246,Турон!B:M,10,FALSE)","v":0},{"$f":"VLOOKUP(A246,Тнав!A:D,2,FALSE)","v":16.477041057846879},{"$error":"#VALUE!"},35.609533747953229,{"$f":"VLOOKUP(A246,Тнав!A:D,3,FALSE)","v":31.246965169051599},{"$f":"VLOOKUP(A246,'Состояние  фонда'!C:AB,20,FALSE)","v":0.7583333333333333},{"$f":"VLOOKUP(A246,Тнав!A:E,4,FALSE)","v":202.25933499401839},{"$f":"VLOOKUP(A246,'Состояние  фонда'!C:AB,21,FALSE)","v":98.9},null,"гидратный",{"$f":"IFERROR([1]!Скорость_газа(AA246,X246,18.8,46.8,190.24,IF(MID(J246,1,2)=\"73\",6,IF(MID(J246,1,2)=\"89\",7.6,IF(MID(J246,1,2)=\"11\",10,0)))),\"\")","v":""},281.26390623483417,0.96310979732444435,{"$error":"#VALUE!"},{"$error":"#VALUE!"}]
[2701,12,"ГС",null,null,null,null,null,null,null,"26.07.2023",74.66,{"$f":"VLOOKUP(A247,Турон!B:K,5,FALSE)","v":88.231098144326396},{"$f":"VLOOKUP(A247,Турон!B:K,7,FALSE)","v":0},{"$f":"VLOOKUP(A247,Турон!B:K,8,FALSE)","v":0},{"$f":"VLOOKUP(A247,Турон!B:M,11,FALSE)","v":{"$error":"#NAME?"}},{"$f":"VLOOKUP(A247,Турон!B:M,12,FALSE)","v":{"$error":"#NAME?"}},50.89,{"$f":"VLOOKUP(A247,Турон!B:M,9,FALSE)","v":0},{"$f":"VLOOKUP(A247,Турон!B:M,6,FALSE)","v":0},{"$f":"VLOOKUP(A247,Турон!B:M,10,FALSE)","v":0},{"$f":"VLOOKUP(A247,Тнав!A:D,2,FALSE)","v":19.206438223368249},{"$error":"#VALUE!"},52.587400015797208,{"$f":"VLOOKUP(A247,Тнав!A:D,3,FALSE)","v":35.643698128529188},{"$f":"VLOOKUP(A247,'Состояние  фонда'!C:AB,20,FALSE)","v":-1.0249999999999999},{"$f":"VLOOKUP(A247,Тнав!A:E,4,FALSE)","v":279.29154088266853},{"$f":"VLOOKUP(A247,'Состояние  фонда'!C:AB,21,FALSE)","v":93.4},null,"гидратный",{"$f":"IFERROR([1]!Скорость_газа(AA247,X247,18.8,46.8,190.24,IF(MID(J247,1,2)=\"73\",6,IF(MID(J247,1,2)=\"89\",7.6,IF(MID(J247,1,2)=\"11\",10,0)))),\"\")","v":""},280.35534996321445,0.9562261987946723,{"$error":"#VALUE!"},{"$error":"#VALUE!"}]
[2702,null,"ГС",null,null,null,null,null,null,null,"26.07.2023",74.040000000000006,{"$f":"VLOOKUP(A248,Турон!B:K,5,FALSE)","v":93.702353576482622},{"$f":"VLOOKUP(A248,Турон!B:K,7,FALSE)","v":0},{"$f":"VLOOKUP(A248,Турон!B:K,8,FALSE)","v":0},{"$f":"VLOOKUP(A248,Турон!B:M,11,FALSE)","v":{"$error":"#NAME?"}},{"$f":"VLOOKUP(A248,Турон!B:M,12,FALSE)","v":{"$error":"#NAME?"}},50.89,{"$f":"VLOOKUP(A248,Турон!B:M,9,FALSE)","v":0},{"$f":"VLOOKUP(A248,Турон!B:M,6,FALSE)","v":0},{"$f":"VLOOKUP(A248,Турон!B:M,10,FALSE)","v":0},{"$f":"VLOOKUP(A248,Тнав!A:D,2,FALSE)","v":18.734644053863981},{"$error":"#VALUE!"},60.22624518038905,{"$f":"VLOOKUP(A248,Тнав!A:D,3,FALSE)","v":33.476108396093572},{"$f":"VLOOKUP(A248,'Состояние  фонда'!C:AB,20,FALSE)","v":-1.0249999999999999},{"$f":"VLOOKUP(A248,Тнав!A:E,4,FALSE)","v":284.7110584050302},{"$f":"VLOOKUP(A248,'Состояние  фонда'!C:AB,21,FALSE)","v":99},null,"гидратный",{"$f":"IFERROR([1]!Скорость_газа(AA248,X248,18.8,46.8,190.24,IF(MID(J248,1,2)=\"73\",6,IF(MID(J248,1,2)=\"89\",7.6,IF(MID(J248,1,2)=\"11\",10,0)))),\"\")","v":""},280.35534996321445,0.95725551277902532,{"$error":"#VALUE!"},{"$error":"#VALUE!"}]
[3001,null,"ГС",null,null,null,null,null,null,null,"26.07.2023",70.16,{"$f":"VLOOKUP(A249,Турон!B:K,5,FALSE)","v":71.530688154833541},{"$f":"VLOOKUP(A249,Турон!B:K,7,FALSE)","v":0},{"$f":"VLOOKUP(A249,Турон!B:K,8,FALSE)","v":0},{"$f":"VLOOKUP(A249,Турон!B:M,11,FALSE)","v":{"$error":"#NAME?"}},{"$f":"VLOOKUP(A249,Турон!B:M,12,FALSE)","v":{"$error":"#NAME?"}},50.89,{"$f":"VLOOKUP(A249,Турон!B:M,9,FALSE)","v":0},{"$f":"VLOOKUP(A249,Турон!B:M,6,FALSE)","v":0},{"$f":"VLOOKUP(A249,Турон!B:M,10,FALSE)","v":0},{"$f":"VLOOKUP(A249,Тнав!A:D,2,FALSE)","v":19.693511854678182},{"$error":"#VALUE!"},45.077516225977718,{"$f":"VLOOKUP(A249,Тнав!A:D,3,FALSE)","v":26.45317192885582},{"$f":"VLOOKUP(A249,'Состояние  фонда'!C:AB,20,FALSE)","v":-1.0249999999999999},{"$f":"VLOOKUP(A249,Тнав!A:E,4,FALSE)","v":282.89593366078429},{"$f":"VLOOKUP(A249,'Состояние  фонда'!C:AB,21,FALSE)","v":99.6},null,"гидратный",{"$f":"IFERROR([1]!Скорость_газа(AA249,X249,18.8,46.8,190.24,IF(MID(J249,1,2)=\"73\",6,IF(MID(J249,1,2)=\"89\",7.6,IF(MID(J249,1,2)=\"11\",10,0)))),\"\")","v":""},280.35534996321445,0.95516586930054248,{"$error":"#VALUE!"},{"$error":"#VALUE!"}]
[3002,null,"ГС",null,null,null,null,null,null,null,"26.07.2023",73.88,{"$f":"VLOOKUP(A250,Турон!B:K,5,FALSE)","v":85.234639504781384},{"$f":"VLOOKUP(A250,Турон!B:K,7,FALSE)","v":0},{"$f":"VLOOKUP(A250,Турон!B:K,8,FALSE)","v":0},{"$f":"VLOOKUP(A250,Турон!B:M,11,FALSE)","v":{"$error":"#NAME?"}},{"$f":"VLOOKUP(A250,Турон!B:M,12,FALSE)","v":{"$error":"#NAME?"}},50.89,{"$f":"VLOOKUP(A250,Турон!B:M,9,FALSE)","v":0},{"$f":"VLOOKUP(A250,Турон!B:M,6,FALSE)","v":0},{"$f":"VLOOKUP(A250,Турон!B:M,10,FALSE)","v":0},{"$f":"VLOOKUP(A250,Тнав!A:D,2,FALSE)","v":20.021051727943529},{"$error":"#VALUE!"},58.919684325186644,{"$f":"VLOOKUP(A250,Тнав!A:D,3,FALSE)","v":26.31495517959474},{"$f":"VLOOKUP(A250,'Состояние  фонда'!C:AB,20,FALSE)","v":-1.0249999999999999},{"$f":"VLOOKUP(A250,Тнав!A:E,4,FALSE)","v":293.47600002151381},{"$f":"VLOOKUP(A250,'Состояние  фонда'!C:AB,21,FALSE)","v":99.2},null,"гидратный",{"$f":"IFERROR([1]!Скорость_газа(AA250,X250,18.8,46.8,190.24,IF(MID(J250,1,2)=\"73\",6,IF(MID(J250,1,2)=\"89\",7.6,IF(MID(J250,1,2)=\"11\",10,0)))),\"\")","v":""},280.35534996321445,0.95445415640497522,{"$error":"#VALUE!"},{"$error":"#VALUE!"}]
[3003,null,"ГС",null,null,null,null,null,null,null,"26.07.2023",72.44,{"$f":"VLOOKUP(A251,Турон!B:K,5,FALSE)","v":89.969890913046981},{"$f":"VLOOKUP(A251,Турон!B:K,7,FALSE)","v":0},{"$f":"VLOOKUP(A251,Турон!B:K,8,FALSE)","v":0},{"$f":"VLOOKUP(A251,Турон!B:M,11,FALSE)","v":{"$error":"#NAME?"}},{"$f":"VLOOKUP(A251,Турон!B:M,12,FALSE)","v":{"$error":"#NAME?"}},50.89,{"$f":"VLOOKUP(A251,Турон!B:M,9,FALSE)","v":0},{"$f":"VLOOKUP(A251,Турон!B:M,6,FALSE)","v":0},{"$f":"VLOOKUP(A251,Турон!B:M,10,FALSE)","v":0},{"$f":"VLOOKUP(A251,Тнав!A:D,2,FALSE)","v":16.0544766991495},{"$error":"#VALUE!"},60.069369777904043,{"$f":"VLOOKUP(A251,Тнав!A:D,3,FALSE)","v":29.900521135142942},{"$f":"VLOOKUP(A251,'Состояние  фонда'!C:AB,20,FALSE)","v":-1.0249999999999999},{"$f":"VLOOKUP(A251,Тнав!A:E,4,FALSE)","v":235.5069942369168},{"$f":"VLOOKUP(A251,'Состояние  фонда'!C:AB,21,FALSE)","v":99.7},null,"гидратный",{"$f":"IFERROR([1]!Скорость_газа(AA251,X251,18.8,46.8,190.24,IF(MID(J251,1,2)=\"73\",6,IF(MID(J251,1,2)=\"89\",7.6,IF(MID(J251,1,2)=\"11\",10,0)))),\"\")","v":""},280.35534996321445,0.96314514693877007,{"$error":"#VALUE!"},{"$error":"#VALUE!"}]
[2001,10,"ГС",null,null,null,null,null,null,null,"25.07.2023",62.49,{"$f":"VLOOKUP(A252,Турон!B:K,5,FALSE)","v":81.825327093495375},{"$f":"VLOOKUP(A252,Турон!B:K,7,FALSE)","v":0},{"$f":"VLOOKUP(A252,Турон!B:K,8,FALSE)","v":0},{"$f":"VLOOKUP(A252,Турон!B:M,11,FALSE)","v":{"$error":"#NAME?"}},{"$f":"VLOOKUP(A252,Турон!B:M,12,FALSE)","v":{"$error":"#NAME?"}},21.3,{"$f":"VLOOKUP(A252,Турон!B:M,9,FALSE)","v":0},{"$f":"VLOOKUP(A252,Турон!B:M,6,FALSE)","v":0},{"$f":"VLOOKUP(A252,Турон!B:M,10,FALSE)","v":0},{"$f":"VLOOKUP(A252,Тнав!A:D,2,FALSE)","v":11.766737578792039},{"$error":"#VALUE!"},52.775270655235275,{"$f":"VLOOKUP(A252,Тнав!A:D,3,FALSE)","v":29.0500564382601},{"$f":"VLOOKUP(A252,'Состояние  фонда'!C:AB,20,FALSE)","v":-1.0249999999999999},{"$f":"VLOOKUP(A252,Тнав!A:E,4,FALSE)","v":232.78429542398769},{"$f":"VLOOKUP(A252,'Состояние  фонда'!C:AB,21,FALSE)","v":95.2},null,"гидратный",{"$f":"IFERROR([1]!Скорость_газа(AA252,X252,18.8,46.8,190.24,IF(MID(J252,1,2)=\"73\",6,IF(MID(J252,1,2)=\"89\",7.6,IF(MID(J252,1,2)=\"11\",10,0)))),\"\")","v":""},280.35534996321445,0.97271961282469421,{"$error":"#VALUE!"},{"$error":"#VALUE!"}]
[2002,null,"ГС",null,null,null,null,null,null,null,"25.07.2023",64.650000000000006,{"$f":"VLOOKUP(A253,Турон!B:K,5,FALSE)","v":70.169574573470413},{"$f":"VLOOKUP(A253,Турон!B:K,7,FALSE)","v":0},{"$f":"VLOOKUP(A253,Турон!B:K,8,FALSE)","v":0},{"$f":"VLOOKUP(A253,Турон!B:M,11,FALSE)","v":{"$error":"#NAME?"}},{"$f":"VLOOKUP(A253,Турон!B:M,12,FALSE)","v":{"$error":"#NAME?"}},20.58,{"$f":"VLOOKUP(A253,Турон!B:M,9,FALSE)","v":0},{"$f":"VLOOKUP(A253,Турон!B:M,6,FALSE)","v":0},{"$f":"VLOOKUP(A253,Турон!B:M,10,FALSE)","v":0},{"$f":"VLOOKUP(A253,Тнав!A:D,2,FALSE)","v":12.12223730029223},{"$error":"#VALUE!"},40.049494186641304,{"$f":"VLOOKUP(A253,Тнав!A:D,3,FALSE)","v":30.120080386829109},{"$f":"VLOOKUP(A253,'Состояние  фонда'!C:AB,20,FALSE)","v":-1.0249999999999999},{"$f":"VLOOKUP(A253,Тнав!A:E,4,FALSE)","v":223.87913660394241},{"$f":"VLOOKUP(A253,'Состояние  фонда'!C:AB,21,FALSE)","v":95.1},null,"гидратный",{"$f":"IFERROR([1]!Скорость_газа(AA253,X253,18.8,46.8,190.24,IF(MID(J253,1,2)=\"73\",6,IF(MID(J253,1,2)=\"89\",7.6,IF(MID(J253,1,2)=\"11\",10,0)))),\"\")","v":""},280.35534996321445,0.97191855549200334,{"$error":"#VALUE!"},{"$error":"#VALUE!"}]
[2003,null,"ГС",null,null,null,null,null,null,null,"25.07.2023",66.930000000000007,{"$f":"VLOOKUP(A254,Турон!B:K,5,FALSE)","v":81.198254784713086},{"$f":"VLOOKUP(A254,Турон!B:K,7,FALSE)","v":0},{"$f":"VLOOKUP(A254,Турон!B:K,8,FALSE)","v":0},{"$f":"VLOOKUP(A254,Турон!B:M,11,FALSE)","v":{"$error":"#NAME?"}},{"$f":"VLOOKUP(A254,Турон!B:M,12,FALSE)","v":{"$error":"#NAME?"}},22.05,{"$f":"VLOOKUP(A254,Турон!B:M,9,FALSE)","v":0},{"$f":"VLOOKUP(A254,Турон!B:M,6,FALSE)","v":0},{"$f":"VLOOKUP(A254,Турон!B:M,10,FALSE)","v":0},{"$f":"VLOOKUP(A254,Тнав!A:D,2,FALSE)","v":20.157786681840641},{"$error":"#VALUE!"},57.201320013640547,{"$f":"VLOOKUP(A254,Тнав!A:D,3,FALSE)","v":23.996934771072539},{"$f":"VLOOKUP(A254,'Состояние  фонда'!C:AB,20,FALSE)","v":-1.0249999999999999},{"$f":"VLOOKUP(A254,Тнав!A:E,4,FALSE)","v":227.59744022816031},{"$f":"VLOOKUP(A254,'Состояние  фонда'!C:AB,21,FALSE)","v":75.3},null,"гидратный",{"$f":"IFERROR([1]!Скорость_газа(AA254,X254,18.8,46.8,190.24,IF(MID(J254,1,2)=\"73\",6,IF(MID(J254,1,2)=\"89\",7.6,IF(MID(J254,1,2)=\"11\",10,0)))),\"\")","v":""},280.35534996321445,0.95415735810089808,{"$error":"#VALUE!"},{"$error":"#VALUE!"}]
[2004,null,"ГС",null,null,null,null,null,null,null,"25.07.2023",63.03,{"$f":"VLOOKUP(A255,Турон!B:K,5,FALSE)","v":62.644408768765182},{"$f":"VLOOKUP(A255,Турон!B:K,7,FALSE)","v":0},{"$f":"VLOOKUP(A255,Турон!B:K,8,FALSE)","v":0},{"$f":"VLOOKUP(A255,Турон!B:M,11,FALSE)","v":{"$error":"#NAME?"}},{"$f":"VLOOKUP(A255,Турон!B:M,12,FALSE)","v":{"$error":"#NAME?"}},18.25,{"$f":"VLOOKUP(A255,Турон!B:M,9,FALSE)","v":0},{"$f":"VLOOKUP(A255,Турон!B:M,6,FALSE)","v":0},{"$f":"VLOOKUP(A255,Турон!B:M,10,FALSE)","v":0},{"$f":"VLOOKUP(A255,Тнав!A:D,2,FALSE)","v":12.04721168613853},{"$error":"#VALUE!"},41.4973980644668,{"$f":"VLOOKUP(A255,Тнав!A:D,3,FALSE)","v":21.147010704298381},{"$f":"VLOOKUP(A255,'Состояние  фонда'!C:AB,20,FALSE)","v":-1.0249999999999999},{"$f":"VLOOKUP(A255,Тнав!A:E,4,FALSE)","v":244.62415820025831},{"$f":"VLOOKUP(A255,'Состояние  фонда'!C:AB,21,FALSE)","v":94.6},null,"гидратный",{"$f":"IFERROR([1]!Скорость_газа(AA255,X255,18.8,46.8,190.24,IF(MID(J255,1,2)=\"73\",6,IF(MID(J255,1,2)=\"89\",7.6,IF(MID(J255,1,2)=\"11\",10,0)))),\"\")","v":""},280.35534996321445,0.97208750291895052,{"$error":"#VALUE!"},{"$error":"#VALUE!"}]
["401Т",9,"ГС",null,null,null,null,null,null,null,"24.07.2023",73.97,{"$f":"VLOOKUP(A256,Турон!B:K,5,FALSE)","v":78.923294771424693},{"$f":"VLOOKUP(A256,Турон!B:K,7,FALSE)","v":0},{"$f":"VLOOKUP(A256,Турон!B:K,8,FALSE)","v":0},{"$f":"VLOOKUP(A256,Турон!B:M,11,FALSE)","v":{"$error":"#NAME?"}},{"$f":"VLOOKUP(A256,Турон!B:M,12,FALSE)","v":{"$error":"#NAME?"}},13.16,{"$f":"VLOOKUP(A256,Турон!B:M,9,FALSE)","v":0},{"$f":"VLOOKUP(A256,Турон!B:M,6,FALSE)","v":0},{"$f":"VLOOKUP(A256,Турон!B:M,10,FALSE)","v":0},{"$f":"VLOOKUP(A256,Тнав!A:D,2,FALSE)","v":36.667735630265852},{"$error":"#VALUE!"},58.328999065494415,{"$f":"VLOOKUP(A256,Тнав!A:D,3,FALSE)","v":20.594295705930278},{"$f":"VLOOKUP(A256,'Состояние  фонда'!C:AB,20,FALSE)","v":2.12608695652174},{"$f":"VLOOKUP(A256,Тнав!A:E,4,FALSE)","v":271.84950331429542},{"$f":"VLOOKUP(A256,'Состояние  фонда'!C:AB,21,FALSE)","v":50.3},null,"гидратный",{"$f":"IFERROR([1]!Скорость_газа(AA256,X256,18.8,46.8,190.24,IF(MID(J256,1,2)=\"73\",6,IF(MID(J256,1,2)=\"89\",7.6,IF(MID(J256,1,2)=\"11\",10,0)))),\"\")","v":""},281.9593893498145,0.92282361837205129,{"$error":"#VALUE!"},{"$error":"#VALUE!"}]
["402Т",null,"ГС",null,null,null,null,null,null,null,"24.07.2023",69.7,{"$f":"VLOOKUP(A257,Турон!B:K,5,FALSE)","v":82.327191964022518},{"$f":"VLOOKUP(A257,Турон!B:K,7,FALSE)","v":0},{"$f":"VLOOKUP(A257,Турон!B:K,8,FALSE)","v":0},{"$f":"VLOOKUP(A257,Турон!B:M,11,FALSE)","v":{"$error":"#NAME?"}},{"$f":"VLOOKUP(A257,Турон!B:M,12,FALSE)","v":{"$error":"#NAME?"}},50.89,{"$f":"VLOOKUP(A257,Турон!B:M,9,FALSE)","v":0},{"$f":"VLOOKUP(A257,Турон!B:M,6,FALSE)","v":0},{"$f":"VLOOKUP(A257,Турон!B:M,10,FALSE)","v":0},{"$f":"VLOOKUP(A257,Тнав!A:D,2,FALSE)","v":16.100529074358001},{"$error":"#VALUE!"},58.140677495682738,{"$f":"VLOOKUP(A257,Тнав!A:D,3,FALSE)","v":24.18651446833978},{"$f":"VLOOKUP(A257,'Состояние  фонда'!C:AB,20,FALSE)","v":-3.278260869565218},{"$f":"VLOOKUP(A257,Тнав!A:E,4,FALSE)","v":254.48630929447771},{"$f":"VLOOKUP(A257,'Состояние  фонда'!C:AB,21,FALSE)","v":98.5},null,"гидратный",{"$f":"IFERROR([1]!Скорость_газа(AA257,X257,18.8,46.8,190.24,IF(MID(J257,1,2)=\"73\",6,IF(MID(J257,1,2)=\"89\",7.6,IF(MID(J257,1,2)=\"11\",10,0)))),\"\")","v":""},279.20450739105968,0.96189459117724874,{"$error":"#VALUE!"},{"$error":"#VALUE!"}]
["403Т",null,"ГС",null,null,null,null,null,null,null,"24.07.2023",72.400000000000006,{"$f":"VLOOKUP(A258,Турон!B:K,5,FALSE)","v":85.810447305959727},{"$f":"VLOOKUP(A258,Турон!B:K,7,FALSE)","v":0},{"$f":"VLOOKUP(A258,Турон!B:K,8,FALSE)","v":0},{"$f":"VLOOKUP(A258,Турон!B:M,11,FALSE)","v":{"$error":"#NAME?"}},{"$f":"VLOOKUP(A258,Турон!B:M,12,FALSE)","v":{"$error":"#NAME?"}},17.2,{"$f":"VLOOKUP(A258,Турон!B:M,9,FALSE)","v":0},{"$f":"VLOOKUP(A258,Турон!B:M,6,FALSE)","v":0},{"$f":"VLOOKUP(A258,Турон!B:M,10,FALSE)","v":0},{"$f":"VLOOKUP(A258,Тнав!A:D,2,FALSE)","v":18.264014671663631},{"$error":"#VALUE!"},59.38101310406708,{"$f":"VLOOKUP(A258,Тнав!A:D,3,FALSE)","v":26.429434201892651},{"$f":"VLOOKUP(A258,'Состояние  фонда'!C:AB,20,FALSE)","v":-4.8190476190476206},{"$f":"VLOOKUP(A258,Тнав!A:E,4,FALSE)","v":276.17438784127341},{"$f":"VLOOKUP(A258,'Состояние  фонда'!C:AB,21,FALSE)","v":32.1},null,"гидратный",{"$f":"IFERROR([1]!Скорость_газа(AA258,X258,18.8,46.8,190.24,IF(MID(J258,1,2)=\"73\",6,IF(MID(J258,1,2)=\"89\",7.6,IF(MID(J258,1,2)=\"11\",10,0)))),\"\")","v":""},278.41569271488413,0.95608400985069408,{"$error":"#VALUE!"},{"$error":"#VALUE!"}]
[3701,12,"ГС",null,null,null,null,null,null,null,"28.07.2023",76.069999999999993,{"$f":"VLOOKUP(A259,Турон!B:K,5,FALSE)","v":78.303716723819136},{"$f":"VLOOKUP(A259,Турон!B:K,7,FALSE)","v":0},{"$f":"VLOOKUP(A259,Турон!B:K,8,FALSE)","v":0},{"$f":"VLOOKUP(A259,Турон!B:M,11,FALSE)","v":{"$error":"#NAME?"}},{"$f":"VLOOKUP(A259,Турон!B:M,12,FALSE)","v":{"$error":"#NAME?"}},50.89,{"$f":"VLOOKUP(A259,Турон!B:M,9,FALSE)","v":0},{"$f":"VLOOKUP(A259,Турон!B:M,6,FALSE)","v":0},{"$f":"VLOOKUP(A259,Турон!B:M,10,FALSE)","v":0},{"$f":"VLOOKUP(A259,Тнав!A:D,2,FALSE)","v":19.398140799446409},{"$f":"X259/AI259","v":{"$error":"#VALUE!"}},{"$f":"M259-Y259","v":45.141459164392103},{"$f":"VLOOKUP(A259,Тнав!A:D,3,FALSE)","v":33.162257559427033},{"$f":"VLOOKUP(A259,'Состояние  фонда'!C:AB,20,FALSE)","v":1.0913043478260871},{"$f":"VLOOKUP(A259,Тнав!A:E,4,FALSE)","v":244.39815316708811},{"$f":"VLOOKUP(A259,'Состояние  фонда'!C:AB,21,FALSE)","v":95.1},null,"гидратный",{"$f":"IFERROR([1]!Скорость_газа(AA259,X259,18.8,46.8,190.24,IF(MID(J259,1,2)=\"73\",6,IF(MID(J259,1,2)=\"89\",7.6,IF(MID(J259,1,2)=\"11\",10,0)))),\"\")","v":""},{"$f":"(($AF$162+273.15)-(Z259+273.15))/(LN(($AF$162+273.15)/(Z259+273.15)))","v":281.43332452600549},{"$f":"1/(1+(5*10^7*0.098*V259)/(Z259+273.15)^3.825)","v":0.95704342761417593},{"$f":"(0.5647*0.03415*MID(J259,4,7)/(AF259*AG259))","v":{"$error":"#VALUE!"}},{"$f":"ROUND(EXP(AH259),4)","v":{"$error":"#VALUE!"}}]
[3702,null,"ГС",null,null,null,null,null,null,null,"28.07.2023",75.3,{"$f":"VLOOKUP(A260,Турон!B:K,5,FALSE)","v":79.471506612050561},{"$f":"VLOOKUP(A260,Турон!B:K,7,FALSE)","v":0},{"$f":"VLOOKUP(A260,Турон!B:K,8,FALSE)","v":0},{"$f":"VLOOKUP(A260,Турон!B:M,11,FALSE)","v":{"$error":"#NAME?"}},{"$f":"VLOOKUP(A260,Турон!B:M,12,FALSE)","v":{"$error":"#NAME?"}},50.89,{"$f":"VLOOKUP(A260,Турон!B:M,9,FALSE)","v":0},{"$f":"VLOOKUP(A260,Турон!B:M,6,FALSE)","v":0},{"$f":"VLOOKUP(A260,Турон!B:M,10,FALSE)","v":0},{"$f":"VLOOKUP(A260,Тнав!A:D,2,FALSE)","v":18.880803853454321},{"$error":"#VALUE!"},45.306101077927615,{"$f":"VLOOKUP(A260,Тнав!A:D,3,FALSE)","v":34.165405534122947},{"$f":"VLOOKUP(A260,'Состояние  фонда'!C:AB,20,FALSE)","v":1.0913043478260871},{"$f":"VLOOKUP(A260,Тнав!A:E,4,FALSE)","v":268.03980149709543},{"$f":"VLOOKUP(A260,'Состояние  фонда'!C:AB,21,FALSE)","v":98.3},null,"гидратный",{"$f":"IFERROR([1]!Скорость_газа(AA260,X260,18.8,46.8,190.24,IF(MID(J260,1,2)=\"73\",6,IF(MID(J260,1,2)=\"89\",7.6,IF(MID(J260,1,2)=\"11\",10,0)))),\"\")","v":""},281.43332452600549,0.95814109934053293,{"$error":"#VALUE!"},{"$error":"#VALUE!"}]
[3703,null,"ГС",null,null,null,null,null,null,null,"28.07.2023",78.56,{"$f":"VLOOKUP(A261,Турон!B:K,5,FALSE)","v":82.123431302105473},{"$f":"VLOOKUP(A261,Турон!B:K,7,FALSE)","v":0},{"$f":"VLOOKUP(A261,Турон!B:K,8,FALSE)","v":0},{"$f":"VLOOKUP(A261,Турон!B:M,11,FALSE)","v":{"$error":"#NAME?"}},{"$f":"VLOOKUP(A261,Турон!B:M,12,FALSE)","v":{"$error":"#NAME?"}},50.89,{"$f":"VLOOKUP(A261,Турон!B:M,9,FALSE)","v":0},{"$f":"VLOOKUP(A261,Турон!B:M,6,FALSE)","v":0},{"$f":"VLOOKUP(A261,Турон!B:M,10,FALSE)","v":0},{"$f":"VLOOKUP(A261,Тнав!A:D,2,FALSE)","v":22.247928169115418},{"$error":"#VALUE!"},55.817732773877353,{"$f":"VLOOKUP(A261,Тнав!A:D,3,FALSE)","v":26.30569852822812},{"$f":"VLOOKUP(A261,'Состояние  фонда'!C:AB,20,FALSE)","v":1.0913043478260871},{"$f":"VLOOKUP(A261,Тнав!A:E,4,FALSE)","v":286.02661095448673},{"$f":"VLOOKUP(A261,'Состояние  фонда'!C:AB,21,FALSE)","v":98.3},null,"гидратный",{"$f":"IFERROR([1]!Скорость_газа(AA261,X261,18.8,46.8,190.24,IF(MID(J261,1,2)=\"73\",6,IF(MID(J261,1,2)=\"89\",7.6,IF(MID(J261,1,2)=\"11\",10,0)))),\"\")","v":""},281.43332452600549,0.9510416279145294,{"$error":"#VALUE!"},{"$error":"#VALUE!"}]
[3101,null,"ГС",null,null,null,null,null,null,null,"28.07.2023",73.680000000000007,{"$f":"VLOOKUP(A262,Турон!B:K,5,FALSE)","v":77.897025929484371},{"$f":"VLOOKUP(A262,Турон!B:K,7,FALSE)","v":0},{"$f":"VLOOKUP(A262,Турон!B:K,8,FALSE)","v":0},{"$f":"VLOOKUP(A262,Турон!B:M,11,FALSE)","v":{"$error":"#NAME?"}},{"$f":"VLOOKUP(A262,Турон!B:M,12,FALSE)","v":{"$error":"#NAME?"}},50.89,{"$f":"VLOOKUP(A262,Турон!B:M,9,FALSE)","v":0},{"$f":"VLOOKUP(A262,Турон!B:M,6,FALSE)","v":0},{"$f":"VLOOKUP(A262,Турон!B:M,10,FALSE)","v":0},{"$f":"VLOOKUP(A262,Тнав!A:D,2,FALSE)","v":19.303157739504179},{"$error":"#VALUE!"},59.233485664448331,{"$f":"VLOOKUP(A262,Тнав!A:D,3,FALSE)","v":18.66354026503604},{"$f":"VLOOKUP(A262,'Состояние  фонда'!C:AB,20,FALSE)","v":-1.0249999999999999},{"$f":"VLOOKUP(A262,Тнав!A:E,4,FALSE)","v":296.79540139899962},{"$f":"VLOOKUP(A262,'Состояние  фонда'!C:AB,21,FALSE)","v":98},null,"гидратный",{"$f":"IFERROR([1]!Скорость_газа(AA262,X262,18.8,46.8,190.24,IF(MID(J262,1,2)=\"73\",6,IF(MID(J262,1,2)=\"89\",7.6,IF(MID(J262,1,2)=\"11\",10,0)))),\"\")","v":""},280.35534996321445,0.95601545904601215,{"$error":"#VALUE!"},{"$error":"#VALUE!"}]
[3102,null,"ГС",null,null,null,null,null,null,null,"28.07.2023",74.650000000000006,{"$f":"VLOOKUP(A263,Турон!B:K,5,FALSE)","v":75.324969987844682},{"$f":"VLOOKUP(A263,Турон!B:K,7,FALSE)","v":0},{"$f":"VLOOKUP(A263,Турон!B:K,8,FALSE)","v":0},{"$f":"VLOOKUP(A263,Турон!B:M,11,FALSE)","v":{"$error":"#NAME?"}},{"$f":"VLOOKUP(A263,Турон!B:M,12,FALSE)","v":{"$error":"#NAME?"}},50.89,{"$f":"VLOOKUP(A263,Турон!B:M,9,FALSE)","v":0},{"$f":"VLOOKUP(A263,Турон!B:M,6,FALSE)","v":0},{"$f":"VLOOKUP(A263,Турон!B:M,10,FALSE)","v":0},{"$f":"VLOOKUP(A263,Тнав!A:D,2,FALSE)","v":15.080155915732441},{"$error":"#VALUE!"},45.271256582052423,{"$f":"VLOOKUP(A263,Тнав!A:D,3,FALSE)","v":30.053713405792259},{"$f":"VLOOKUP(A263,'Состояние  фонда'!C:AB,20,FALSE)","v":1.0913043478260871},{"$f":"VLOOKUP(A263,Тнав!A:E,4,FALSE)","v":257.76854691256619},{"$f":"VLOOKUP(A263,'Состояние  фонда'!C:AB,21,FALSE)","v":95.6},null,"гидратный",{"$f":"IFERROR([1]!Скорость_газа(AA263,X263,18.8,46.8,190.24,IF(MID(J263,1,2)=\"73\",6,IF(MID(J263,1,2)=\"89\",7.6,IF(MID(J263,1,2)=\"11\",10,0)))),\"\")","v":""},281.43332452600549,0.96628306654019436,{"$error":"#VALUE!"},{"$error":"#VALUE!"}]
[3401,null,"ГС",null,null,null,null,null,null,null,"23.07.2023",72.66,{"$f":"VLOOKUP(A264,Турон!B:K,5,FALSE)","v":106.93276433354259},{"$f":"VLOOKUP(A264,Турон!B:K,7,FALSE)","v":0},{"$f":"VLOOKUP(A264,Турон!B:K,8,FALSE)","v":0},{"$f":"VLOOKUP(A264,Турон!B:M,11,FALSE)","v":{"$error":"#NAME?"}},{"$f":"VLOOKUP(A264,Турон!B:M,12,FALSE)","v":{"$error":"#NAME?"}},50.89,{"$f":"VLOOKUP(A264,Турон!B:M,9,FALSE)","v":0},{"$f":"VLOOKUP(A264,Турон!B:M,6,FALSE)","v":0},{"$f":"VLOOKUP(A264,Турон!B:M,10,FALSE)","v":0},{"$f":"VLOOKUP(A264,Тнав!A:D,2,FALSE)","v":17.36583395178393},{"$error":"#VALUE!"},67.669031805784613,{"$f":"VLOOKUP(A264,Тнав!A:D,3,FALSE)","v":39.263732527757973},{"$f":"VLOOKUP(A264,'Состояние  фонда'!C:AB,20,FALSE)","v":1.0913043478260871},{"$f":"VLOOKUP(A264,Тнав!A:E,4,FALSE)","v":229.71227056415731},{"$f":"VLOOKUP(A264,'Состояние  фонда'!C:AB,21,FALSE)","v":98},null,"гидратный",{"$f":"IFERROR([1]!Скорость_газа(AA264,X264,18.8,46.8,190.24,IF(MID(J264,1,2)=\"73\",6,IF(MID(J264,1,2)=\"89\",7.6,IF(MID(J264,1,2)=\"11\",10,0)))),\"\")","v":""},281.43332452600549,0.96137005389339647,{"$error":"#VALUE!"},{"$error":"#VALUE!"}]
[3402,null,"ГС",null,null,null,null,null,null,null,"23.07.2023",71.39,{"$f":"VLOOKUP(A265,Турон!B:K,5,FALSE)","v":76.261053232960194},{"$f":"VLOOKUP(A265,Турон!B:K,7,FALSE)","v":0},{"$f":"VLOOKUP(A265,Турон!B:K,8,FALSE)","v":0},{"$f":"VLOOKUP(A265,Турон!B:M,11,FALSE)","v":{"$error":"#NAME?"}},{"$f":"VLOOKUP(A265,Турон!B:M,12,FALSE)","v":{"$error":"#NAME?"}},50.89,{"$f":"VLOOKUP(A265,Турон!B:M,9,FALSE)","v":0},{"$f":"VLOOKUP(A265,Турон!B:M,6,FALSE)","v":0},{"$f":"VLOOKUP(A265,Турон!B:M,10,FALSE)","v":0},{"$f":"VLOOKUP(A265,Тнав!A:D,2,FALSE)","v":20.952189314061641},{"$error":"#VALUE!"},54.74892843312999,{"$f":"VLOOKUP(A265,Тнав!A:D,3,FALSE)","v":21.5121247998302},{"$f":"VLOOKUP(A265,'Состояние  фонда'!C:AB,20,FALSE)","v":1.0913043478260871},{"$f":"VLOOKUP(A265,Тнав!A:E,4,FALSE)","v":296.07707472183301},{"$f":"VLOOKUP(A265,'Состояние  фонда'!C:AB,21,FALSE)","v":98.3},null,"гидратный",{"$f":"IFERROR([1]!Скорость_газа(AA265,X265,18.8,46.8,190.24,IF(MID(J265,1,2)=\"73\",6,IF(MID(J265,1,2)=\"89\",7.6,IF(MID(J265,1,2)=\"11\",10,0)))),\"\")","v":""},281.43332452600549,0.95376116202637939,{"$error":"#VALUE!"},{"$error":"#VALUE!"}]
[3403,null,"ГС",null,null,null,null,null,null,null,"23.07.2023",75.37,{"$f":"VLOOKUP(A266,Турон!B:K,5,FALSE)","v":82.258202156529862},{"$f":"VLOOKUP(A266,Турон!B:K,7,FALSE)","v":0},{"$f":"VLOOKUP(A266,Турон!B:K,8,FALSE)","v":0},{"$f":"VLOOKUP(A266,Турон!B:M,11,FALSE)","v":{"$error":"#NAME?"}},{"$f":"VLOOKUP(A266,Турон!B:M,12,FALSE)","v":{"$error":"#NAME?"}},30.93,{"$f":"VLOOKUP(A266,Турон!B:M,9,FALSE)","v":0},{"$f":"VLOOKUP(A266,Турон!B:M,6,FALSE)","v":0},{"$f":"VLOOKUP(A266,Турон!B:M,10,FALSE)","v":0},{"$f":"VLOOKUP(A266,Тнав!A:D,2,FALSE)","v":19.049224197744621},{"$error":"#VALUE!"},48.691259453798018,{"$f":"VLOOKUP(A266,Тнав!A:D,3,FALSE)","v":33.566942702731843},{"$f":"VLOOKUP(A266,'Состояние  фонда'!C:AB,20,FALSE)","v":1.0913043478260871},{"$f":"VLOOKUP(A266,Тнав!A:E,4,FALSE)","v":274.9110518950248},{"$f":"VLOOKUP(A266,'Состояние  фонда'!C:AB,21,FALSE)","v":98.7},null,"гидратный",{"$f":"IFERROR([1]!Скорость_газа(AA266,X266,18.8,46.8,190.24,IF(MID(J266,1,2)=\"73\",6,IF(MID(J266,1,2)=\"89\",7.6,IF(MID(J266,1,2)=\"11\",10,0)))),\"\")","v":""},281.43332452600549,0.95778347322335677,{"$error":"#VALUE!"},{"$error":"#VALUE!"}]
[3301,null,"ГС",null,null,null,null,null,null,null,"27.07.2023",75.599999999999994,{"$f":"VLOOKUP(A267,Турон!B:K,5,FALSE)","v":102.7096620785335},{"$f":"VLOOKUP(A267,Турон!B:K,7,FALSE)","v":0},{"$f":"VLOOKUP(A267,Турон!B:K,8,FALSE)","v":0},{"$f":"VLOOKUP(A267,Турон!B:M,11,FALSE)","v":{"$error":"#NAME?"}},{"$f":"VLOOKUP(A267,Турон!B:M,12,FALSE)","v":{"$error":"#NAME?"}},50.89,{"$f":"VLOOKUP(A267,Турон!B:M,9,FALSE)","v":0},{"$f":"VLOOKUP(A267,Турон!B:M,6,FALSE)","v":0},{"$f":"VLOOKUP(A267,Турон!B:M,10,FALSE)","v":0},{"$f":"VLOOKUP(A267,Тнав!A:D,2,FALSE)","v":18.060784097601491},{"$error":"#VALUE!"},64.485957534212361,{"$f":"VLOOKUP(A267,Тнав!A:D,3,FALSE)","v":38.22370454432113},{"$f":"VLOOKUP(A267,'Состояние  фонда'!C:AB,20,FALSE)","v":1.0913043478260871},{"$f":"VLOOKUP(A267,Тнав!A:E,4,FALSE)","v":256.79268026402951},{"$f":"VLOOKUP(A267,'Состояние  фонда'!C:AB,21,FALSE)","v":99.2},null,"гидратный",{"$f":"IFERROR([1]!Скорость_газа(AA267,X267,18.8,46.8,190.24,IF(MID(J267,1,2)=\"73\",6,IF(MID(J267,1,2)=\"89\",7.6,IF(MID(J267,1,2)=\"11\",10,0)))),\"\")","v":""},281.43332452600549,0.95988616344271316,{"$error":"#VALUE!"},{"$error":"#VALUE!"}]
[3302,null,"ГС",null,null,null,null,null,null,null,"27.07.2023",74.81,{"$f":"VLOOKUP(A268,Турон!B:K,5,FALSE)","v":73.037724737229837},{"$f":"VLOOKUP(A268,Турон!B:K,7,FALSE)","v":0},{"$f":"VLOOKUP(A268,Турон!B:K,8,FALSE)","v":0},{"$f":"VLOOKUP(A268,Турон!B:M,11,FALSE)","v":{"$error":"#NAME?"}},{"$f":"VLOOKUP(A268,Турон!B:M,12,FALSE)","v":{"$error":"#NAME?"}},50.89,{"$f":"VLOOKUP(A268,Турон!B:M,9,FALSE)","v":0},{"$f":"VLOOKUP(A268,Турон!B:M,6,FALSE)","v":0},{"$f":"VLOOKUP(A268,Турон!B:M,10,FALSE)","v":0},{"$f":"VLOOKUP(A268,Тнав!A:D,2,FALSE)","v":16.147878947278901},{"$error":"#VALUE!"},29.410654874278137,{"$f":"VLOOKUP(A268,Тнав!A:D,3,FALSE)","v":43.6270698629517},{"$f":"VLOOKUP(A268,'Состояние  фонда'!C:AB,20,FALSE)","v":1.0913043478260871},{"$f":"VLOOKUP(A268,Тнав!A:E,4,FALSE)","v":201.6531606272797},{"$f":"VLOOKUP(A268,'Состояние  фонда'!C:AB,21,FALSE)","v":98},null,"гидратный",{"$f":"IFERROR([1]!Скорость_газа(AA268,X268,18.8,46.8,190.24,IF(MID(J268,1,2)=\"73\",6,IF(MID(J268,1,2)=\"89\",7.6,IF(MID(J268,1,2)=\"11\",10,0)))),\"\")","v":""},281.43332452600549,0.96398178541286805,{"$error":"#VALUE!"},{"$error":"#VALUE!"}]
[3303,null,"ГС",null,null,null,null,null,null,null,"27.07.2023",74.180000000000007,{"$f":"VLOOKUP(A269,Турон!B:K,5,FALSE)","v":77.88022214160614},{"$f":"VLOOKUP(A269,Турон!B:K,7,FALSE)","v":0},{"$f":"VLOOKUP(A269,Турон!B:K,8,FALSE)","v":0},{"$f":"VLOOKUP(A269,Турон!B:M,11,FALSE)","v":{"$error":"#NAME?"}},{"$f":"VLOOKUP(A269,Турон!B:M,12,FALSE)","v":{"$error":"#NAME?"}},50.89,{"$f":"VLOOKUP(A269,Турон!B:M,9,FALSE)","v":0},{"$f":"VLOOKUP(A269,Турон!B:M,6,FALSE)","v":0},{"$f":"VLOOKUP(A269,Турон!B:M,10,FALSE)","v":0},{"$f":"VLOOKUP(A269,Тнав!A:D,2,FALSE)","v":19.567708796055381},{"$error":"#VALUE!"},47.444546640571289,{"$f":"VLOOKUP(A269,Тнав!A:D,3,FALSE)","v":30.435675501034851},{"$f":"VLOOKUP(A269,'Состояние  фонда'!C:AB,20,FALSE)","v":1.0913043478260871},{"$f":"VLOOKUP(A269,Тнав!A:E,4,FALSE)","v":241.428930154298},{"$f":"VLOOKUP(A269,'Состояние  фонда'!C:AB,21,FALSE)","v":99.1},null,"гидратный",{"$f":"IFERROR([1]!Скорость_газа(AA269,X269,18.8,46.8,190.24,IF(MID(J269,1,2)=\"73\",6,IF(MID(J269,1,2)=\"89\",7.6,IF(MID(J269,1,2)=\"11\",10,0)))),\"\")","v":""},281.43332452600549,0.95668418983793924,{"$error":"#VALUE!"},{"$error":"#VALUE!"}]
["ИТОГО ПО Т1-2",null,null,null,null,null,null,null,null,null,null,{"$f":"AVERAGE(L163:L269)","v":63.819716981132061},71.10662758411199,2.2785981308411212,2.0153271028037385,{"$error":"#NAME?"},{"$error":"#NAME?"},null,{"$f":"AVERAGE(S163:S269)","v":8.1308411214953261E-2},{"$f":"SUM(T163:T269)","v":765},{"$f":"AVERAGE(U163:U269)","v":0.30623819449237533},17.948622797525307,{"$error":"#VALUE!"},45.293153247533283,25.813474336578761,0.3482006927110548,{"$f":"SUM(AA163:AA269)","v":24191.678014753354},{"$f":"AVERAGE(AB163:AB269)","v":84.817757009345812},null,null,{"$f":"AVERAGE(AE163:AE269)","v":8.4027597242760947}]
[]
["Итого по УКПГ",null,null,null,null,null,null,null,null,null,null,null,null,null,null,null,null,null,null,null,null,"Суточная добыча газа по месторождению:",null,null,null,null,{"$f":"AA270+AA161","v":64846}]
[]
[null,null,null,null,null,null,null,null,null,null,null,"Количество скважин в работе",null,null,null,"объект ПК1",null,null,{"$f":"COUNT(S21:S160)","v":137},"   ед.",null,"Намечаемое количество скважин в работе:",null,null,null,"объект ПК1",{"$f":"COUNT(AA21:AA160)","v":137}]
[null,null,null,null,null,null,null,null,null,null,null,null,null,null,null,"объект Т1-2",null,null,{"$f":"(COUNTA(T163:T269)-1)","v":106},"   ед.",null,null,null,null,null,"объект Т1-2",{"$f":"(COUNTIF(AA163:AA269,\">0\")-1)","v":103}]
[null,null,null,null,null,null,null,null,null,null,null,null,{"$f":"(COUNTA(T163:T230)-1)","v":67},null,null,"Всего:",null,null,{"$f":"COUNTA(T163:T269,T21:T160)-1","v":243},"   ед.",null,null,null,null,null,"Всего:",{"$f":"AA274+AA275","v":240},null," ед."]
[null,null,null,null,null,null,null,null,null,null,null,"Средний дебит 1-й скважины (объект ПК1)",null,null,null,null,null,null,{"$f":"AVERAGE(T21:T160)","v":517.37956204379566},"тыс,м3/сут",null,"Средний дебит 1-й скважины (объект ПК1)",null,null,null,null,{"$f":"AVERAGE(AA21:AA160)","v":296.74687580472005},null,"тыс,м3/сут"]
[null,null,null,null,null,null,null,null,null,null,null,"Средний дебит 1-й скважины (объект Т1-2)",null,null,null,null,null,null,{"$f":"SUM(T163:T269)/S275","v":7.216981132075472},"тыс,м3/сут",null,"Средний дебит 1-й скважины (объект Т1-2)",null,null,null,null,{"$f":"SUM(AA163:AA269)/AA275","v":234.87066033741121},null,"тыс,м3/сут"]
[]
[null,null,null,null,null,null,{"$f":"V14","v":"Кран 12-П закрыт"}]
[]
[]
[]
[null,null,null,null,null,null,"Q, тыс.м3.","Рвх на ЗПА,     кгс/см2","Средняя скорость газа, м/с"]
[null,null,null,null,null,"Шлейф1",{"$f":"Шлейфы!H2","v":956.64493270946946},{"$f":"Шлейфы!L2","v":5.3686572958219374},{"$f":"Шлейфы!K2","v":24.625564583102779},null,null,null,null,null,null,null,null,null,null,null,null,null,null,null,null,null," "]
[null,null,null,null,null,"Шлейф2",{"$f":"Шлейфы!H3","v":1946.6211071509538},{"$f":"Шлейфы!L3","v":5.3705093999933897},{"$f":"Шлейфы!K3","v":28.84604207812755}]
[null,null,null,null,null,"Шлейф3",{"$f":"Шлейфы!H4","v":5755.5806834170389},{"$f":"Шлейфы!L4","v":5.3798554739057947},{"$f":"Шлейфы!K4","v":52.479833180434952}]
[null,null,null,null,null,"Шлейф4",{"$f":"Шлейфы!H5","v":2111.3258684511384},{"$f":"Шлейфы!L5","v":5.3952732359505218},{"$f":"Шлейфы!K5","v":54.176572595144201}]
[null,null,null,null,null,"Шлейф5",{"$f":"Шлейфы!H6","v":4850.3376270930275},{"$f":"Шлейфы!L6","v":5.3963156199489362},{"$f":"Шлейфы!K6","v":71.693005446206442}]
[null,null,null,null,null,"Шлейф6",{"$f":"Шлейфы!H7","v":3767.5363579526961},{"$f":"Шлейфы!L7","v":5.3709407420951134},{"$f":"Шлейфы!K7","v":34.392665441583887}]
[null,null,null,null,null,"Шлейф7",{"$f":"Шлейфы!H8","v":1969.4354266538494},{"$f":"Шлейфы!L8","v":5.3685402500820905},{"$f":"Шлейфы!K8","v":17.98195606383943}]
[null,null,null,null,null,"Шлейф8",{"$f":"Шлейфы!H9","v":9743.7400896192921},{"$f":"Шлейфы!L9","v":5.3764439782444891},{"$f":"Шлейфы!K9","v":24.140371407719659}]
[null,null,null,null,null,"Шлейф9",{"$f":"Шлейфы!H10","v":4335.3573761176795},{"$f":"Шлейфы!L10","v":5.398189817533714},{"$f":"Шлейфы!K10","v":64.028769868059328}]
[null,null,null,null,null,"Шлейф10",{"$f":"Шлейфы!H11","v":6941.5340130218638},{"$f":"Шлейфы!L11","v":5.3763832281718527},{"$f":"Шлейфы!K11","v":33.709916109568873}]
[null,null,null,null,null,"Шлейф11",{"$f":"Шлейфы!H12","v":8315.3651203217833},{"$f":"Шлейфы!L12","v":5.3906640847268212},{"$f":"Шлейфы!K12","v":52.302376496848673}]
[null,null,null,null,null,"Шлейф12",16901,{"$f":"Шлейфы!L13","v":5.3770886084980267},{"$f":"Шлейфы!K13","v":55.379132230992973}]
[null,null,null,null,null,"Шлейф13",{"$f":"Шлейфы!H14","v":532.11318083568801},{"$f":"Шлейфы!L14","v":7.0452703980619056},{"$f":"Шлейфы!K14","v":48.839307561167821}]
[null,null,null,null,null,"ИТОГО",{"$f":"SUM(G285:G297)","v":68126.591783344469},{"$f":"AVERAGE(H285:H296)","v":5.3807384779143907},{"$f":"AVERAGE(I285:I297)","v":43.276577927907439}]
[null,null,null,null,null,null,null,"Рвых на ЗПА,    кгс/см2"]
[null,null,null,null,null,null,null,{"$f":"Шлейфы!L16","v":5.364563180039096}]
["Начальник ОРМ",null,null,null,null,null,null,null,null,null,null,"А.В. Плотников"]

{"sheet":"Состояние  фонда","index":2,"n_rows":321,"n_cols":111,"rows_kept":321,"cut":false,"hidden":false,"merged":[[0,107,2,107],[61,4,75,4],[6,31,6,32],[82,3,85,3],[6,33,6,34],[8,58,10,58],[34,3,37,3],[194,3,196,3],[50,97,53,97],[29,58,31,58],[0,106,2,106],[0,108,2,108],[317,107,318,110],[140,97,142,97],[78,97,80,97],[134,97,136,97],[160,33,160,34],[2,2,6,2],[177,3,179,3],[2,4,6,4],[117,97,120,97],[124,97,126,97],[32,58,34,58],[41,58,43,58],[58,97,61,97],[12,97,14,97],[160,39,160,40],[43,97,45,97],[244,3,245,3],[200,3,201,3],[89,3,91,3],[156,2,160,2],[260,3,262,3],[16,3,18,3],[0,103,2,103],[0,105,2,105],[38,58,40,58],[257,3,259,3],[120,3,123,3],[46,97,49,97],[76,4,81,4],[210,3,211,3],[72,97,74,97],[42,3,45,3],[57,3,60,3],[88,97,91,97],[8,3,11,3],[148,19,148,20],[38,3,41,3],[131,3,134,3],[76,3,78,3],[12,4,18,4],[19,3,22,3],[156,31,159,50],[14,58,16,58],[189,3,190,3],[223,4,229,4],[27,3,29,3],[254,3,256,3],[141,3,143,3],[27,97,30,97],[189,4,192,4],[128,3,130,3],[103,97,105,97],[95,4,115,4],[8,4,11,4],[50,3,52,3],[185,3,188,3],[252,3,253,3],[19,97,22,97],[180,3,181,3],[249,3,251,3],[227,3,229,3],[34,4,41,4],[61,3,63,3],[82,4,94,4],[30,3,33,3],[65,97,67,97],[204,3,206,3],[247,3,248,3],[173,4,184,4],[166,3,168,3],[2,59,6,59],[0,98,2,98],[240,4,245,4],[0,100,2,100],[42,4,52,4],[231,3,232,3],[116,3,119,3],[160,37,160,38],[19,4,29,4],[109,3,112,3],[156,17,159,29],[99,97,102,97],[160,31,160,32],[26,58,28,58],[86,3,88,3],[160,41,160,42],[73,3,75,3],[95,3,98,3],[70,3,72,3],[6,37,6,38],[113,3,115,3],[162,4,165,4],[144,3,146,3],[138,3,140,3],[162,3,165,3],[233,3,236,3],[116,4,147,4],[99,3,101,3],[114,97,116,97],[92,97,94,97],[182,3,184,3],[85,97,87,97],[237,3,239,3],[197,3,199,3],[202,3,203,3],[0,110,2,110],[135,3,137,3],[240,3,241,3],[0,104,2,104],[317,103,318,106],[6,39,6,40],[6,41,6,42],[204,4,206,4],[53,4,60,4],[3,97,5,97],[53,3,56,3],[81,97,84,97],[106,3,108,3],[242,3,243,3],[127,97,129,97],[35,58,37,58],[156,4,160,4],[170,3,172,3],[110,97,113,97],[92,3,94,3],[266,3,267,3],[207,4,222,4],[216,3,219,3],[30,4,33,4],[0,102,2,102],[137,97,139,97],[75,97,77,97],[39,97,42,97],[173,3,176,3],[156,5,159,16],[106,97,109,97],[156,3,160,3],[23,97,26,97],[68,97,71,97],[124,3,127,3],[102,3,105,3],[9,97,11,97],[31,97,34,97],[23,58,25,58],[12,3,15,3],[17,58,19,58],[64,3,66,3],[46,3,49,3],[15,97,18,97],[2,31,5,50],[79,3,81,3],[2,5,5,16],[54,97,57,97],[202,4,203,4],[62,97,64,97],[0,99,2,99],[0,101,2,101],[2,3,6,3],[95,97,98,97],[263,3,265,3],[220,3,222,3],[67,3,69,3],[166,4,172,4],[212,3,215,3],[246,4,268,4],[191,3,192,3],[207,3,209,3],[223,3,226,3],[23,3,26,3],[2,17,5,29],[193,4,201,4],[11,58,13,58],[121,97,123,97],[20,58,22,58],[130,97,132,97],[230,4,239,4],[185,4,188,4]]}
[null,null,null,null,"Суточная добыча газа по месторождению:",null,null,66103.66083173154,"тыс.м³/сут",null,null,null,null,null,null,null,null,null,null,null,null,null,null,null,null,null,null,null,null,null,null,null,null,null,null,null,null,null,null,null,null,null,null,null,null,null,null,null,null,null,null,null,null,null,null,null,null,null,null,null,null,null,null,null,null,null,null,null,"ρ газа по воздуху","Ркр, ата ","Ткр, К","Тустья","Тпласт",null,null,null,null,null,null,null,null,null,null,null,null,null,null,null,null,null,null,null,null,null,null,null,null,null,"Давл. труб., кгс/см2","Давл. затр., кгс/см2","Давл. забойн., кгс/см2","Депр., кгс/см2","Т уст., 0С","Дебит газа, тыс.м3 ","Диаметр штуцера, %","Лимитная шайба ,мм","Гидратный / безгидратный режим ","Скорость газа в НКТ м/сек","Предельная депрессия, обеспечивающя запас 3°C, кгс/см2 (изб.)",null,"Давл. пласт, кгс/см2"]
[null,null,null,"сентябрь 2024 г.",null,null,null,"  План-факт",null,null,null,null,null,null,null,null,null,null,null,null,null,"Технологический режим работы газовых скважин",null,null,null,null,null,null,null,null,null,null,null,null,null,null,null,null,null,null,null,null,null,null,null,null,null,null,null,null,null,null,null,null,null,null,null,null,null,null,null,null,null,null,null,null,null,"Сеноман",0.56469999999999998,46.8,190.24,5,18.8]
[null,null,"№ скв","№ куста","Шлейф","Плановый режим",null,null,null,null,null,null,null,null,null,null,null,"Фактический режим на 8:00",null,null,null,null,null,null,null,null,null,null,null,null,"Разница факт/план","Разница факт/план",null,null,null,null,null,null,null,null,null,null,null,null,null,null,null,null,null,null,null,null,null,null,null,null,null,null,"№ шлейфа","Статисти-ческие параметры","Разница факт/план",null,null,null,null,"Разница факт/план",null,"Турон",0.56299999999999994,46.91,191.3,null,16.5]
[null,null,null,null,null,null,null,null,null,null,null,null,null,null,null,null,null,null,null,null,null,null,null,null,null,null,null,null,null,null,null,null,null,null,null,null,null,null,null,null,null,null,null,null,null,null,null,null,null,null,null,null,null,null,null,null,null,null,null,null,null,null,null,null,null,null,null,null,null,null,null,null,null,null,null,null,null,null,null,null,null,null,null,null,null,null,null,null,null,null,null,null,null,null,null,null,11,1,19.564746042638209,24.892345409160601,26.582535662442609,6.8163718799140476,8.3684809999999992,383.10581159539959,95.208169999999996,null,"безгидратный",20.678140640258789,8,null,31.414325714111332]
[null,null,null,null,null,null,null,null,null,null,null,null,null,null,null,null,null,null,null,null,null,null,null,null,null,null,null,null,null,null,null,null,null,null,null,null,null,null,null,null,null,null,null,null,null,null,null,null,null,null,null,null,null,null,null,null,null,null,null,null,null,null,null,null,null,null,null,null,null,null,null,null,null,null,null,null,null,null,null,null,null,null,null,null,null,null,null,null,null,null,null,null,null,null,null,null,12,null,20.466435488014561,27.528157850307409,29.40282539991335,0.56676556888092056,8.3721160000000001,480.80163689306278,56.855797000000003,null,"безгидратный",23.31954193115234,8,null,31.389102935791019]
[null,null,null,null,null,null,null,null,null,null,null,null,null,null,null,null,null,null,null,null,null,null,null,null,null,null,null,null,null,null,null,null,null,null,null,null,null,null,null,null,null,null,null,null,null,null,null,null,null,null,null,null,null,null,null,null,null,null,null,null,null,null,null,null,null,"Шлейф",null,null,null,null,null,null,null,null,null,null,null,null,null,null,null,null,null,null,null,null,null,null,null,null,null,null,null,null,null,null,13,null,20.249671709871869,27.439871486068199,29.308526734269449,0.88041050715403113,8.1969259999999995,511.67506308472821,54.954535999999997,null,"безгидратный",24.901594161987301,8,null,31.761016845703121]
[null,null,null,null,null,"Давл. труб., кгс/см2","Давл. затр., кгс/см2","Давл. забойн., кгс/см2","Депр., кгс/см2","Т уст., 0С","Процент открытия УР, %","Лимитная шайба, мм","Скорость газа в НКТ, м/сек","Скорость газа на устье, м/сек","Давл. ЗПА, кгс/см2","Давл. ЗПА, кгс/см2","Дебит газа, тыс.м3 ","Давл. тр., кгс/см2","Давл. затр., кгс/см2","Давл. забойн., кгс/см2","Депр.(норма 8 кгс/см2), кгс/см2","Т уст., 0С","Диаметр штуцера, %","Лимитная шайба, мм","Скорость газа в НКТ, м/сек","Скорость газа на устье, м/сек","Давл. ЗПА, кгс/см2","Т ЗПА, 0С","Дата/Время","Дебит газа, тыс.м3 ","Давл. тр., кгс/см2","Давл. труб.",null,"Давл. затр.",null,"Дебит газа, тыс.м3 ","Дебит газа, %","Депр.",null,"Т уст., 0С",null,"Диаметр штуцера, мм",null,"Лимитная шайба, мм","Лимитная шайба, %","Скорость газа в НКТ, м/сек","Скорость газа в НКТ, %","Давл. ЗПА, кгс/см2","Давл. ЗПА, %","Дебит газа, тыс.м3 ","Дебит газа, %","Скорость газа на устье, м/сек","Скорость газа на устье, %","Давл. ЗПА, кгс/см2","Давл. ЗПА, %","Дебит газа, тыс.м3 ","Дебит газа, %",null,null,null,"Давл. ЗПА, кгс/см2","%Давл. ЗПА, кгс/см2",null,null,"Pпл, кгс/см2","%Давл. ЗПА, кгс/см2",null,null,null,null,null,null,null,null,null,null,null,null,null,null,null,null,null,null,null,null,null,null,null,null,null,null,null,null,null,null,21,2,19.74356183417181,23.96820643142372,25.60523493068996,3.0375159398988552,8.4216280000000001,319.75929488730651,100,null,"безгидратный",17.95732307434082,8,null,29.57133674621582]
[1,2,1,2,3,4,5,6,7,8,9,10,11,12,13,13,14,15,16,17,18,19,20,21,22,23,24,25,26,26,27,"кгс/см2","%","кгс/см2","%","тыс.м3","%","кгс/см2","%","оС","%","%","отл. %","мм","%","м/сек","%","кгс/см2","%","тыс.м3","%",48,49,50,51,50,51,null,null,null,null,null,null,null,null,null,null,null,null,null,null,null,null,null,null,null,null,null,null,null,null,null,null,null,null,null,null,null,null,null,null,null,null,null,null,null,22,null,19.802535364975601,26.142905083919469,27.92846550115117,4.3135645516607806,8.4216280000000001,348.99611412951037,96.594999999999999,null,"безгидратный",17.87474250793457,8,null,30.098691940307621]
[6.2,967.25,131,13,1,{"$f":"VLOOKUP($C9,Тнав!$A$3:$E$250,2,FALSE)","v":0},{"$f":"VLOOKUP($C9,$CS:$DG,3,FALSE)","v":15.749263070774729},{"$f":"VLOOKUP($C9,$CS:$DG,5,FALSE)","v":25.517108629881498},{"$f":"VLOOKUP($C9,Тнав!$A$3:$E$250,3,FALSE)","v":0},{"$f":"VLOOKUP($C9,$CS:$DG,7,FALSE)","v":4.4986305},{"$f":"VLOOKUP($C9,$CS:$DG,9,FALSE)","v":40.234859999999998},{"$f":"VLOOKUP($C9,$CS:$DG,10,FALSE)","v":0},{"$f":"VLOOKUP($C9,$CS:$DG,12,FALSE)","v":19.4748649597168},null,null,{"$f":"Шлейфы!$L$2","v":5.3686572958219374},{"$f":"VLOOKUP($C9,Тнав!$A$3:$E$250,4,FALSE)","v":0},15.91,23.81,25.66,{"$f":"(H9+I9)-S9","v":1.7071086298814997},3.82,40.200000000000003,"0.0",{"$f":"(AD9*(1/(1+(5*10^7*0.098*R9)/(18.8+273.15)^3.825))*(18.8+273.15)*0.052)/((POWER(A9,2))*(R9/10.197))","v":27.866218251675857},7.8335494995117188,null,25,"1900-01-26",113.28,-2.2390678633557961,{"$f":"IF(R9=\"\",\"\",(R9-F9))","v":15.91},{"$f":"IF(R9=\"\",\"\",(R9/F9*100-100))","v":{"$error":"#DIV/0!"}},{"$f":"IF(R9=\"\",\"\",(S9-G9))","v":8.0607369292252695},{"$f":"IF(R9=\"\",\"\",(S9/G9*100-100))","v":51.181676837840456},{"$f":"IF(AD9=\"\",\"\",(Q9-E9))","v":-1},{"$f":"IF(AD9=\"\",\"\",(AD9/Q9*100-100))","v":{"$error":"#DIV/0!"}},-3.0629142890148842,0.19133150554483791,-2.6639644552524828,0.74499584136953567,71.283451751265119,-3.357669,-56.792209329860292,-0.1651700000000034,-0.41292500000000132,null,0,-56.792209329860292,5.6922826177668107,26.680707079597749,7.8335494995117188,{"$error":"#DIV/0!"},-0.7491722009589985,-5.0722559306634878,-1.5066734258320049,-1.2407565898957811,null,1,"минимум",-0.7491722009589985,-5.0722559306634878,null,null,29.497066497802731,null,null,null,null,null,null,null,null,null,null,null,null,null,null,null,null,null,null,null,null,null,null,null,null,null,null,null,null,null,null,null,23,null,19.67128078456405,25.166284084928542,26.885141287929159,3.0192234289045392,8.488702,383.15767234496678,100,null,"безгидратный",20.43418121337891,8,null,30.825811386108398]
[6.2,867.11,132,null,null,{"$f":"VLOOKUP($C10,Тнав!$A$3:$E$250,2,FALSE)","v":0},20.805972629340911,24.719552857317261,{"$f":"VLOOKUP($C10,Тнав!$A$3:$E$250,3,FALSE)","v":0},2.1788596999999998,19.939820000000001,0,11.15800762176514,null,null,{"$f":"Шлейфы!$L$2","v":5.3686572958219374},{"$f":"VLOOKUP($C10,Тнав!$A$3:$E$250,4,FALSE)","v":0},20.350000000000001,22.82,25.05,1.8995528573172606,1.17,19.899999999999999,"0.0",12.182141864521588,{"$error":"#VALUE!"},null,25,"1900-01-26",63.84,-0.49691269699576068,20.350000000000001,{"$error":"#DIV/0!"},2.0140273706590897,9.6800443148659951,0,{"$error":"#DIV/0!"},-6.3021688740399213,-1.1070829401617459,-6.132611785238268,1.6336283674118599,104.6947255979684,0.85046569999999999,1063.0821249999999,-17.18994,-34.37988,null,0,1063.0821249999999,15.94097835311945,294.11428912513833,{"$error":"#VALUE!"},{"$error":"#VALUE!"},-0.7491722009589985,-5.0722559306634878,-12.356916310867989,-11.09914955018748,null,null,"максимум",-0.7491722009589985,-5.0722559306634878,null,null,28.63228607177734,null,null,null,null,null,null,null,null,null,null,null,null,null,null,null,null,null,null,null,null,null,null,null,null,null,null,null,null,null,null,null,31,3,20.196271520139799,22.316222591121409,23.86720006120435,4.8152477107412306,6.1320420000000002,220.16263087733489,47.195296999999997,null,"безгидратный",13.316432952880859,8,null,28.901433944702148]
[6.2,928.03,133,null,null,{"$f":"VLOOKUP($C11,Тнав!$A$3:$E$250,2,FALSE)","v":13.9875148941529},17.039253140995751,20.454868460104048,{"$f":"VLOOKUP($C11,Тнав!$A$3:$E$250,3,FALSE)","v":6.2569342121404814},3.5617752,23.049675000000001,0,13.220703125,null,null,{"$f":"Шлейфы!$L$2","v":5.3686572958219374},{"$f":"VLOOKUP($C11,Тнав!$A$3:$E$250,4,FALSE)","v":71.176830307845819},17.059999999999999,19.09,20.47,7.6218026722445309,2.5,23.1,"0.0",13.791699234254599,7.7332019805908203,null,25,null,60.239999999999988,-1.3373690323193119,3.0724851058470986,21.965911236537579,2.0507468590042492,12.035426917100224,71.176830307845819,-15.365716990407009,-13.388818357958741,-0.213307650216606,-12.907548832395889,2.9339163910197348,45.334715397142112,3.6784200000000038E-2,1.709541292931178,-19.847999999999999,-33.08,null,0,1.709541292931178,6.4345788896406564,50.337783072362157,7.7332019805908203,{"$error":"#DIV/0!"},-0.7491722009589985,-5.0722559306634878,-4.5743297516954016,-5.7113876038185083,null,null,"ср.значение",-0.7491722009589985,-5.0722559306634878,null,null,29.63418006896973,null,null,null,null,null,null,null,null,null,null,null,null,null,null,null,null,null,null,null,null,null,null,null,null,null,null,null,null,null,null,null,32,null,17.364664675551388,23.457095164048049,25.07094331133456,3.665495119145131,7.7260437,362.51160876971397,99.055750000000003,null,"безгидратный",20.8171501159668,8,null,28.302507400512699]
[6.2,899.74,134,null,null,{"$f":"VLOOKUP($C12,Тнав!$A$3:$E$250,2,FALSE)","v":17.594285493162829},18.473008835000439,21.267000544238361,{"$f":"VLOOKUP($C12,Тнав!$A$3:$E$250,3,FALSE)","v":7.044164931782861},2.2335167,15.169774,0,4.8040337562561044,null,null,{"$f":"Шлейфы!$L$2","v":5.3686572958219374},{"$f":"VLOOKUP($C12,Тнав!$A$3:$E$250,4,FALSE)","v":54.555020785247983},19.09,19.57,20.93,8.741165476021223,0.78,14.9,"0.0",8.2689298619537883,10.096164703369141,null,25,"00:00:00",40.56,-0.44453573917456518,1.4957145068371709,8.5011380963347989,1.0969911649995616,5.938345912124035,54.555020785247983,-25.653039049033453,-12.646537176803889,-2.4618901989751119,-12.06130928410842,2.461890198975111,31.163167075634309,-0.63099729999999998,-43.400323268450371,-9.5831009999999992,-23.957752500000002,null,null,-43.400323268450371,7.6541634910323397,106.8405504621421,10.096164703369141,{"$error":"#DIV/0!"},-0.7491722009589985,-5.0722559306634878,-2.6900354882020991,-4.2067418064011832,null,2,"минимум",-0.32508086291499971,-2.200953709647933,null,null,29.460624694824219,null,null,null,null,null,null,null,null,null,null,null,null,null,null,null,null,null,null,null,null,null,null,null,null,null,null,null,null,null,null,null,33,null,17.681456800963229,24.526996810550202,26.216906890797109,2.6749502326703212,7.3031654000000001,413.72323521842827,99.10557,null,"безгидратный",22.660856246948239,8,null,28.776580810546879]
[10,930.88,161,16,2,{"$f":"VLOOKUP($C13,Тнав!$A$3:$E$250,2,FALSE)","v":0},16.837129521699559,21.662990744207541,{"$f":"VLOOKUP($C13,Тнав!$A$3:$E$250,3,FALSE)","v":0},8.2721479999999996,95.403175000000005,0,17.667949676513668,null,null,{"$f":"Шлейфы!$L$2","v":5.3686572958219374},{"$f":"VLOOKUP($C13,Тнав!$A$3:$E$250,4,FALSE)","v":0},17.02,20.38,21.93,1.2829907442075417,7.99,97.9,"0.0",21.490357290698473,20.312835693359379,null,0.52990119612903241,null,243.6,-1.4221185178165181,17.02,{"$error":"#DIV/0!"},3.5428704783004399,21.042010003750434,-2,{"$error":"#DIV/0!"},-4.2351493203721162,-1.3270140491066189,-5.2499237597720594,1.32701404910662,52.581062107280268,0.27241399999999949,3.9284437009690691,13.92032,16.37684705882354,null,null,3.9284437009690691,3.1970865498164578,17.141250653644409,20.312835693359379,{"$error":"#DIV/0!"},-0.32508086291499971,-2.200953709647933,6.4492552715820466,2.4583495502793511,null,null,"максимум",-0.32508086291499971,-2.200953709647933,null,null,28.068754196166989,-100,null,null,null,null,null,null,null,null,null,null,null,null,null,null,null,null,null,null,null,null,null,null,null,null,null,null,null,null,null,null,41,4,20.87017404809961,25.530546261823709,27.292153953889549,2.4636130090972248,8.7253039999999995,354.54149708662209,95.218185000000005,null,"безгидратный",18.608930587768551,8,null,30.680217742919918]
[10,931.58,162,null,null,{"$f":"VLOOKUP($C14,Тнав!$A$3:$E$250,2,FALSE)","v":0},17.23752205853701,21.911558728209691,{"$f":"VLOOKUP($C14,Тнав!$A$3:$E$250,3,FALSE)","v":0},8.9367979999999996,95.021929999999998,0,21.796169281005859,null,null,{"$f":"Шлейфы!$L$2","v":5.3686572958219374},{"$f":"VLOOKUP($C14,Тнав!$A$3:$E$250,4,FALSE)","v":0},17.28,20.52,22.08,1.3915587282096915,8.66,97,"0.0",25.826484115418186,18.970611572265621,null,0.52990119612903241,"00:00:00",297.36,-0.24093414048906331,17.28,{"$error":"#DIV/0!"},3.2824779414629894,19.042632289699199,0,{"$error":"#DIV/0!"},-11.876895101707889,-3.192466226569366,-11.74114248816441,3.1924662265693668,663.27021419135178,-0.34289799999999993,-4.187657999829014,5.0006939999999958,6.250867499999984,null,null,-4.187657999829014,4.8752749916366938,22.585021505387289,18.970611572265621,{"$error":"#DIV/0!"},-0.32508086291499971,-2.200953709647933,17.45287199999996,5.3566255225210986,null,null,"ср.значение",-0.32508086291499971,-2.200953709647933,null,null,28.050327301025391,-100,null,null,null,null,null,null,null,null,null,null,null,null,null,null,null,null,null,null,null,null,null,null,null,null,null,null,null,null,null,null,42,null,20.9254104996484,26.313657168181329,28.129299512785838,1.9976148878804789,8.5696980000000007,363.03095847983161,92.109579999999994,null,"безгидратный",18.45262336730957,8,null,30.993911743164059]
[10,931,163,null,null,{"$f":"VLOOKUP($C15,Тнав!$A$3:$E$250,2,FALSE)","v":0},16.849097467294438,19.098155188986421,{"$f":"VLOOKUP($C15,Тнав!$A$3:$E$250,3,FALSE)","v":0},7.0033493,47.642386999999999,0,9.4452362060546875,null,null,{"$f":"Шлейфы!$L$2","v":5.3686572958219374},{"$f":"VLOOKUP($C15,Тнав!$A$3:$E$250,4,FALSE)","v":0},17.12,17.97,19.34,1.1281551889864225,6.56,49.4,"0.0",10.122825508022732,6.7345304489135742,null,0.52990119612903241,"00:00:00",115.44,-0.53327355050128844,17.12,{"$error":"#DIV/0!"},1.1209025327055606,6.6525968817103092,0,{"$error":"#DIV/0!"},-9.1496640895685601,1.1774990797013341,-8.6149801089478615,2.0711226081705858,54.239425104498928,-1.439808999999999,-25.738912029174632,0.1600600000000014,0.53353333333335229,null,0,-25.738912029174632,-1.2987976647004069,-15.186445497045909,6.7345304489135742,{"$error":"#DIV/0!"},-0.32508086291499971,-2.200953709647933,-102.136776,-51.0538948203384,null,3,"минимум",-0.64222763267999916,-4.3481897947190191,null,null,27.82273101806641,-100,null,null,null,null,null,null,null,null,null,null,null,null,null,null,null,null,null,null,null,null,null,null,null,null,null,null,null,null,null,null,43,null,20.895712895779699,26.554858252990439,28.38714347244678,1.7870261522950961,8.5492209999999993,321.665321810813,60.158405000000002,null,"безгидратный",16.192998886108398,8,null,30.827777862548832]
[10,929.58,164,null,null,{"$f":"VLOOKUP($C16,Тнав!$A$3:$E$250,2,FALSE)","v":0},15.92830564237706,21.830012240310449,{"$f":"VLOOKUP($C16,Тнав!$A$3:$E$250,3,FALSE)","v":0},8.6679534999999994,98.414406,0,19.713314056396481,null,null,{"$f":"Шлейфы!$L$2","v":5.3686572958219374},{"$f":"VLOOKUP($C16,Тнав!$A$3:$E$250,4,FALSE)","v":0},16.68,21.12,22.73,0.71001224031044785,8.42,98.4,"0.0",24.881545816936999,20.275295257568359,null,0.52990119612903241,"00:00:00",276.24,-0.62720891000583379,16.68,{"$error":"#DIV/0!"},5.1916943576229411,32.594140734030759,0,{"$error":"#DIV/0!"},-3.8622750728921029,3.5315016789070062,-3.8434598671076969,0.98718225085097477,129.3766855637071,-0.2223116999999997,-2.855018172011242,-1.1622849999999969,-1.1622849999999969,null,null,-2.855018172011242,5.145767122973794,27.20313854356429,20.275295257568359,{"$error":"#DIV/0!"},-0.32508086291499971,-2.200953709647933,12.41308461658201,4.2878189104519322,null,null,"максимум",-0.64222763267999916,-4.3481897947190191,null,null,28.138265609741211,-100,null,null,null,null,null,null,null,null,null,null,null,null,null,null,null,null,null,null,null,null,null,null,null,null,null,null,null,null,null,null,51,5,23.819937451236459,26.562505289354888,28.419224409080801,0.79389614755687321,9.9990844999999995E-2,73.961932463304535,20.162614999999999,null,"безгидратный",3.718881368637085,9,null,29.85118293762207]
[10,932.36,181,18,null,{"$f":"VLOOKUP($C17,Тнав!$A$3:$E$250,2,FALSE)","v":16.038390051250591},18.33418655489724,23.320424087188719,{"$f":"VLOOKUP($C17,Тнав!$A$3:$E$250,3,FALSE)","v":3.2065833959077068},9.4416960000000003,97.94153,0,17.082517623901371,null,null,{"$f":"Шлейфы!$L$2","v":5.3686572958219374},{"$f":"VLOOKUP($C17,Тнав!$A$3:$E$250,4,FALSE)","v":402.35661006900261},18.190000000000001,21.78,23.45,4.7470074830964251,9.14,98.1,"0.0",21.351652401671039,17.639791488647461,null,0.52990119612903241,null,259.2,-0.40488130371749159,2.1516099487494103,13.415373624621623,3.4458134451027611,18.79447138156425,402.35661006900261,-35.579534792395179,-5.2168021865384731,1.1523102100637741,-5.7609685646096409,1.5736501393599129,82.163034772716486,-0.1541885037781672,-1.8369263632319099,0,0,null,null,-1.8369263632319099,-1.902042227532565,-8.619611032022263,17.639791488647461,{"$error":"#DIV/0!"},-0.32508086291499971,-2.200953709647933,6.4696580896970204,2.4163376166212061,null,null,"ср.значение",-0.64222763267999916,-4.3481897947190191,null,null,28.229990005493161,-100,null,null,null,null,null,null,null,null,null,null,null,null,null,null,null,null,null,null,null,null,null,null,null,null,null,null,null,null,null,null,52,null,23.111564890457501,26.016535514498369,27.824684732756001,1.610867485632117,1.6818542000000001,82.909130581790578,50.235810000000001,16,"безгидратный",11.842354774475099,8,null,29.966554641723629]
[10,928.86,182,null,null,{"$f":"VLOOKUP($C18,Тнав!$A$3:$E$250,2,FALSE)","v":15.08008316017008},18.300686983183041,23.295348618109639,{"$f":"VLOOKUP($C18,Тнав!$A$3:$E$250,3,FALSE)","v":4.9448381413109681},9.2623709999999999,98.355829999999997,0,15.8743953704834,null,null,{"$f":"Шлейфы!$L$2","v":5.3686572958219374},{"$f":"VLOOKUP($C18,Тнав!$A$3:$E$250,4,FALSE)","v":349.97493974476367},18.13,21.74,23.39,6.5001867594206075,8.99,98,"0.0",20.075625383069941,15.13817024230957,null,0.52990119612903241,"00:00:00",242.88,-0.84448073662411716,3.049916839829919,20.224801199276143,3.439313016816957,18.793354697435277,349.97493974476367,-30.600745248464904,-3.3105810308617549,0.65159022384453635,-3.4686892444275088,0.91392824801045691,47.717797331746539,-0.34838350377816601,-4.1504705404362028,0,0,null,null,-4.1504705404362028,-3.3200763094369741,-15.045810218999859,15.13817024230957,{"$error":"#DIV/0!"},-0.32508086291499971,-2.200953709647933,5.4711796260729946,2.2046508449105322,null,4,"минимум",{"$error":"#REF!"},{"$error":"#REF!"},null,null,28.448873519897461,-100,null,null,null,null,null,null,null,null,null,null,null,null,null,null,null,null,null,null,null,null,null,null,null,null,null,null,null,null,null,null,53,null,26.064471327666631,27.14126115401498,29.049291813142229,0.25696143857626003,1.4709473000000001E-2,65.988843058532098,17.153393000000001,null,"безгидратный",3.2418441772460942,8,null,29.81619834899902]
[10,887.45999999999992,183,null,null,{"$f":"VLOOKUP($C19,Тнав!$A$3:$E$250,2,FALSE)","v":15.01106535521833},18.521255634312428,23.69409815627813,{"$f":"VLOOKUP($C19,Тнав!$A$3:$E$250,3,FALSE)","v":5.0319477379769211},9.4039570000000001,98.481489999999994,0,18.877887725830082,null,null,{"$f":"Шлейфы!$L$2","v":5.3686572958219374},{"$f":"VLOOKUP($C19,Тнав!$A$3:$E$250,4,FALSE)","v":419.39827046589909},18.350000000000001,22.04,23.61,6.6860458942550522,9.15,98.2,"0.0",24.353030369334896,17.844022750854489,null,0.52990119612903241,"00:00:00",298.32,-0.26677549389550848,3.3389346447816717,22.243155737250532,3.5187443656875708,18.99841152869115,419.39827046589909,-28.869520690058224,-4.1326888399353123,0.93343144384976995,-4.0084478143019453,1.0674902702753071,55.73553994145243,-0.1216375037781656,-1.4491296819982009,0,0,null,null,-1.4491296819982009,-0.33182168869912593,-1.503738375086243,17.844022750854489,{"$error":"#DIV/0!"},-0.32508086291499971,-2.200953709647933,1.9848141698150239,0.67205767120969995,null,null,"максимум",{"$error":"#REF!"},{"$error":"#REF!"},null,null,28.586709976196289,-100,null,null,null,null,null,null,null,null,null,null,null,null,null,null,null,null,null,null,null,null,null,null,null,null,null,null,null,null,null,null,54,null,24.60088110569491,25.96043291056424,27.7620869545574,0.91604926800403397,3.7744521999999998,205.95795932842969,32.343440000000001,null,"безгидратный",10.61589241027832,8,null,29.225997924804691]
[10,868.95,141,14,3,{"$f":"VLOOKUP($C20,Тнав!$A$3:$E$250,2,FALSE)","v":15.165060830322849},16.797495282482199,22.144601109871719,{"$f":"VLOOKUP($C20,Тнав!$A$3:$E$250,3,FALSE)","v":2.818392525362678},8.9791830000000008,95.063730000000007,0,19.733091354370121,null,null,{"$f":"Шлейфы!$L$2","v":5.3686572958219374},{"$f":"VLOOKUP($C20,Тнав!$A$3:$E$250,4,FALSE)","v":473.34507183493719},16.989999999999998,20.8,22.38,4.1629936352343968,8.7799999999999994,96.9,"0.0",24.689924845842693,24.166019439697269,null,0.7037411319354836,null,279.36,0.63277837810192139,1.8249391696771493,12.033840088713305,4.0025047175178017,23.827985364531941,470.34507183493719,-40.981745322275756,-8.3201034545670893,0.30439650667115359,-8.8886469525596681,2.4290771489595948,254.73258869728281,0.33730700000000002,4.8026853473438544,34.784260000000003,115.9475333333334,null,null,4.8026853473438544,1.072793022063202,5.7606686920274228,24.166019439697269,{"$error":"#DIV/0!"},-0.64222763267999916,-4.3481897947190191,-70.546707211290936,-21.018450781853549,null,null,"ср.значение",{"$error":"#REF!"},{"$error":"#REF!"},null,null,28.509092330932621,null,null,null,null,null,null,null,null,null,null,null,null,null,null,null,null,null,null,null,null,null,null,null,null,null,null,null,null,null,null,null,61,6,16.24187618437081,25.12522844718513,26.848819118662028,4.9399921875194179,3.6549873000000002,112.3662805292809,38.399684999999998,null,"безгидратный",6.0012059211730957,8,null,28.285593032836911]
[10,923.48,142,null,null,{"$f":"VLOOKUP($C21,Тнав!$A$3:$E$250,2,FALSE)","v":0},16.440227637965972,22.286666343011149,{"$f":"VLOOKUP($C21,Тнав!$A$3:$E$250,3,FALSE)","v":0},9.0555000000000003,99.545649999999995,0,19.895151138305661,null,null,{"$f":"Шлейфы!$L$2","v":5.3686572958219374},{"$f":"VLOOKUP($C21,Тнав!$A$3:$E$250,4,FALSE)","v":0},16.489999999999998,20.87,22.46,1.4166663430111477,8.83,99.6,"0.0",26.029766343619269,23.128168106079102,null,0.7037411319354836,"00:00:00",285.60000000000002,0.96997905835752718,16.489999999999998,{"$error":"#DIV/0!"},4.4297723620340292,26.944714267849974,0,{"$error":"#DIV/0!"},-7.2290245710189254,0.1170219316328058,-6.8919716922823966,1.8566869818798579,119.7801387353162,-0.2437306000000001,-3.2130695001054761,34.917689999999993,116.39229999999991,null,null,-3.2130695001054761,1.161733788110052,6.1915184830640442,23.128168106079102,{"$error":"#DIV/0!"},-0.64222763267999916,-4.3481897947190191,-92.679652874257044,-25.572341287596231,null,5,"минимум",-0.56847159775099776,-3.8488259834190761,null,null,28.75413703918457,null,null,null,null,null,null,null,null,null,null,null,null,null,null,null,null,null,null,null,null,null,null,null,null,null,null,null,null,null,null,null,62,null,22.402553586950081,24.71195071188491,26.424488896218541,1.0541747041323279,4.8542212999999999,252.47530410206051,42.067276,null,"безгидратный",13.713760375976561,8,null,27.60423469543457]
[10,865.20999999999992,143,null,null,{"$f":"VLOOKUP($C22,Тнав!$A$3:$E$250,2,FALSE)","v":0},16.395018936711619,22.518361237613011,{"$f":"VLOOKUP($C22,Тнав!$A$3:$E$250,3,FALSE)","v":0},9.1916689999999992,98.491510000000005,0,21.628681182861332,null,null,{"$f":"Шлейфы!$L$2","v":5.3686572958219374},{"$f":"VLOOKUP($C22,Тнав!$A$3:$E$250,4,FALSE)","v":0},16.649999999999999,21.16,22.77,1.3583612376130105,8.9700000000000006,98.5,"0.0",28.306258053904692,22.14073371887207,null,0.7037411319354836,"00:00:00",313.68,1.5536687489586139E-2,16.649999999999999,{"$error":"#DIV/0!"},4.7649810632883813,29.06358987252321,0,{"$error":"#DIV/0!"},-6.175964682218094,-0.52610952952096568,-6.1975563265546043,1.6611562999252509,139.89348773260571,0.34746400000000038,4.6123743910371502,40.058920000000001,100.1473,null,null,4.6123743910371502,5.3418218973112674,28.764912622379232,22.14073371887207,{"$error":"#DIV/0!"},-0.64222763267999916,-4.3481897947190191,-47.354216390301993,-13.260614418508601,null,null,"максимум",-0.56847159775099776,-3.8488259834190761,null,null,28.780912399291989,null,null,null,null,null,null,null,null,null,null,null,null,null,null,null,null,null,null,null,null,null,null,null,null,null,null,null,null,null,null,null,63,null,null,null,null,null,0,0,0]
[10,862.19999999999993,144,null,null,{"$f":"VLOOKUP($C23,Тнав!$A$3:$E$250,2,FALSE)","v":0},17.19896214352822,22.77433167148865,{"$f":"VLOOKUP($C23,Тнав!$A$3:$E$250,3,FALSE)","v":0},8.4612079999999992,95.221689999999995,0,21.130838394165039,null,null,{"$f":"Шлейфы!$L$2","v":5.3686572958219374},{"$f":"VLOOKUP($C23,Тнав!$A$3:$E$250,4,FALSE)","v":0},17.23,21.33,22.95,1.4443316714886514,8.2799999999999994,96.8,"0.0",26.844530360188447,28.343412399291989,null,0.7037411319354836,"00:00:00",308.16000000000003,0.39844335919890739,17.23,{"$error":"#DIV/0!"},4.131037856471778,24.019111281236476,0,{"$error":"#DIV/0!"},-9.3549663236217526,-2.5222802370794351,-9.098188311438804,2.5222802370794368,275.86972878423671,-0.69547199999999965,-8.9609977967040777,39.941820000000007,133.13940000000011,null,null,-8.9609977967040777,3.1508558976925829,16.11947456690288,28.343412399291989,{"$error":"#DIV/0!"},-0.64222763267999916,-4.3481897947190191,-114.669215251577,-27.420064395481418,null,null,"ср.значение",-0.56847159775099776,-3.8488259834190761,null,null,28.815862655639648,null,null,null,null,null,null,null,null,null,null,null,null,null,null,null,null,null,null,null,null,null,null,null,null,null,null,null,null,null,null,null,64,null,22.5628076095369,24.372121811339799,26.061109852865641,1.5633146661460131,4.4547080000000001,236.59281750961981,40.6051,null,"безгидратный",13.040950775146481,8,null,28.03109169006348]
[10,862.31999999999994,151,15,null,{"$f":"VLOOKUP($C24,Тнав!$A$3:$E$250,2,FALSE)","v":13.8422394090483},17.580845593580271,23.515770416165481,{"$f":"VLOOKUP($C24,Тнав!$A$3:$E$250,3,FALSE)","v":5.9887022540289214},8.8478390000000005,95.957409999999996,0,22.02190017700195,null,null,{"$f":"Шлейфы!$L$2","v":5.3686572958219374},{"$f":"VLOOKUP($C24,Тнав!$A$3:$E$250,4,FALSE)","v":442.53656130719128},17.61,21.99,23.66,7.5144726701944045,8.6199999999999992,96.9,"0.0",1.1881966900888061,25.188161849975589,null,0.7037411319354836,null,13.95,-1.097629144463717,3.7677605909516991,27.219299418335567,4.4091544064197272,25.079307948815341,442.53656130719128,-96.847718082593303,-1.5180949821461951,-0.43093803332426361,-1.6512907700145261,0.4309380333242645,15.62351559130148,0.6295894999999998,8.8911256725650105,73.869254999999995,295.47701999999998,null,null,8.8911256725650105,7.4051785364544926,38.993584609207183,25.188161849975589,{"$error":"#DIV/0!"},-0.64222763267999916,-4.3481897947190191,-24.92128075347205,-6.6450915038080183,null,6,"минимум",-0.64591456775199774,-4.3731521174813679,null,null,28.863542556762699,-100,null,null,null,null,null,null,null,null,null,null,null,null,null,null,null,null,null,null,null,null,null,null,null,null,null,null,null,null,null,null,71,7,22.58670180206126,24.991120458264451,26.683019313288959,1.0630543964047861,9.3858230000000002,272.3451242161392,49.820509999999999,null,"безгидратный",14.64114952087402,8,null,28.436342239379879]
[10,902.12,152,null,null,{"$f":"VLOOKUP($C25,Тнав!$A$3:$E$250,2,FALSE)","v":15.15369245843031},17.46897706546283,22.05988119883212,{"$f":"VLOOKUP($C25,Тнав!$A$3:$E$250,3,FALSE)","v":5.0769180973290231},8.8576320000000006,95.655760000000001,0,17.614484786987301,null,null,{"$f":"Шлейфы!$L$2","v":5.3686572958219374},{"$f":"VLOOKUP($C25,Тнав!$A$3:$E$250,4,FALSE)","v":396.73755295869603},17.54,20.7,22.27,6.4367992961611442,8.6,97.7,"0.0",21.224102310698328,19.781015396118161,null,0.7037411319354836,"00:00:00",248.16,0.43743617851117728,2.3863075415696891,15.747366842212358,3.2310229345371688,18.495776383638884,396.73755295869603,-37.449833485806749,-7.1064802880281954,-1.796987629482413,-6.8489986081443703,1.796987629482413,76.837344469327604,-0.3488194,-4.6204916947042136,40.008156,133.36052000000001,null,null,-4.6204916947042136,0.37143276849543128,2.0859758004766888,19.781015396118161,{"$error":"#DIV/0!"},-0.64222763267999916,-4.3481897947190191,-50.77611232552303,-17.053132369633492,null,null,"максимум",-0.64591456775199774,-4.3731521174813679,null,null,28.708913803100589,-100,null,null,null,null,null,null,null,null,null,null,null,null,null,null,null,null,null,null,null,null,null,null,null,null,null,null,null,null,null,null,72,null,22.46700373096888,25.343810046580611,27.05958598673412,0.53907472755159302,9.3845089999999995,306.72832397540247,95.517579999999995,null,"безгидратный",16.24626350402832,8,null,28.399185180664059]
[10,892.38,153,null,null,{"$f":"VLOOKUP($C26,Тнав!$A$3:$E$250,2,FALSE)","v":14.34774736486739},18.23339158347866,22.380932969311498,{"$f":"VLOOKUP($C26,Тнав!$A$3:$E$250,3,FALSE)","v":5.0444579354893113},8.1870379999999994,99.537384000000003,0,18.543586730957031,null,null,{"$f":"Шлейфы!$L$2","v":5.3686572958219374},{"$f":"VLOOKUP($C26,Тнав!$A$3:$E$250,4,FALSE)","v":510.11820332424128},17.57,20.78,22.36,6.6453909048008093,8.27,99.5,"0.0",26.55514187736572,18.040189743041989,null,0.7037411319354836,"00:00:00",311.04000000000002,0.99347174766283786,3.2222526351326106,22.458247648148429,2.546608416521341,13.966729145601377,510.11820332424128,-39.025896748425424,-2.139637762571283,-0.88093261614195484,-3.393626826174085,0.88093261614195484,35.446031084349237,-2.5017390000000002,-27.45302212272847,53.958869999999997,119.90860000000001,null,null,-27.45302212272847,-0.35690521680770709,-1.9926889473525049,18.040189743041989,{"$error":"#DIV/0!"},-0.64222763267999916,-4.3481897947190191,-50.264897061469007,-17.00549649661389,null,null,"ср.значение",-0.64591456775199774,-4.3731521174813679,null,null,28.752851486206051,-100,null,null,null,null,null,null,null,null,null,null,null,null,null,null,null,null,null,null,null,null,null,null,null,null,null,null,null,null,null,null,73,null,22.373210044290762,26.214628051613321,27.98673690790239,0.46587757036253258,9.9599430000000009,295.28341593130529,96.267070000000004,null,"безгидратный",15.09022426605225,8,null,28.921794891357418]
[10,919.77,154,null,null,{"$f":"VLOOKUP($C27,Тнав!$A$3:$E$250,2,FALSE)","v":15.60976497760887},17.567364864246301,22.61103815114209,{"$f":"VLOOKUP($C27,Тнав!$A$3:$E$250,3,FALSE)","v":3.7445740815097359},8.7921370000000003,20.094774000000001,0,18.761354446411129,null,null,{"$f":"Шлейфы!$L$2","v":5.3686572958219374},{"$f":"VLOOKUP($C27,Тнав!$A$3:$E$250,4,FALSE)","v":444.01669744381411},17.66,21.23,22.84,5.1256122326518252,8.57,32.1,"0.0",23.134044757690223,19.84080696105957,null,0.7037411319354836,"00:00:00",272.39999999999998,0.21822473036814929,2.0502350223911296,13.134310640371922,3.6626351357536997,20.849086724486597,444.01669744381411,-38.650955793285348,-7.3032288604434399,-0.53874720346472316,-7.4190869563360451,2.0066129605112328,116.68702328024661,-0.88687779999999972,-10.95208328187903,19.85005,36.09099999999998,null,null,-10.95208328187903,0.41278034316366069,2.1485240088180011,19.84080696105957,{"$error":"#DIV/0!"},-0.64222763267999916,-4.3481897947190191,-54.451085893762979,-16.95801890282749,null,7,"минимум",{"$error":"#VALUE!"},{"$error":"#VALUE!"},null,null,29.076822280883789,-100,null,null,null,null,null,null,null,null,null,null,null,null,null,null,null,null,null,null,null,null,null,null,null,null,null,null,null,null,null,null,74,null,22.563052281455029,25.47267527521322,27.19462812381764,0.41279292817973312,9.775264,273.03022161315158,100,null,"безгидратный",14.385190010070801,8,null,28.26911544799805]
[10,929.73,171,17,null,{"$f":"VLOOKUP($C28,Тнав!$A$3:$E$250,2,FALSE)","v":16.688806363775299},17.770110220158571,22.41110064664786,{"$f":"VLOOKUP($C28,Тнав!$A$3:$E$250,3,FALSE)","v":2.990846701767222},9.3556069999999991,95.046710000000004,0,18.606765747070309,null,null,{"$f":"Шлейфы!$L$2","v":5.3686572958219374},{"$f":"VLOOKUP($C28,Тнав!$A$3:$E$250,4,FALSE)","v":442.82385543375892},17.899999999999999,20.97,22.56,4.4319473484150826,9.0399999999999991,97.1,"0.0",21.809174714556057,19.65361404418945,null,0.7037411319354836,null,260.39999999999998,-0.36438663446110198,1.2111936362246993,7.2575210582688214,3.1998897798414276,18.007146495982028,442.82385543375892,-41.195579956971706,-10.2661217397972,-0.24991863736732969,-10.52712926061673,2.896411261034292,475.82070795878047,1.2538815999999999,19.415041109889589,4.450599999999838E-2,0.12715999999998931,null,null,19.415041109889589,2.724157149211333,15.186715127024209,19.65361404418945,{"$error":"#DIV/0!"},-0.64222763267999916,-4.3481897947190191,-39.870945270063999,-12.736487392212149,null,null,"максимум",{"$error":"#VALUE!"},{"$error":"#VALUE!"},null,null,28.237312316894531,-100,null,null,null,null,null,null,null,null,null,null,null,null,null,null,null,null,null,null,null,null,null,null,null,null,null,null,null,null,null,null,81,8,18.74968982793462,24.433961044825232,26.090583603664381,0.98991687490288527,8.0989229999999992,374.09173391430949,100,null,"безгидратный",20.595197677612301,8,null,27.967269897460941]
[10,928.94999999999993,172,null,null,{"$f":"VLOOKUP($C29,Тнав!$A$3:$E$250,2,FALSE)","v":15.221967682842671},17.835857086073428,22.233055239478809,{"$f":"VLOOKUP($C29,Тнав!$A$3:$E$250,3,FALSE)","v":6.7078382207425058},8.9765280000000001,99.675315999999995,0,13.99503326416016,null,null,{"$f":"Шлейфы!$L$2","v":5.3686572958219374},{"$f":"VLOOKUP($C29,Тнав!$A$3:$E$250,4,FALSE)","v":292.45026791460981},17.87,20.8,22.39,8.1408934602213137,8.66,99.5,"0.0",16.692273188676651,15.0376443862915,null,0.7037411319354836,"00:00:00",198.96,-1.1435788940985181,2.6480323171573303,17.396123630863045,2.9641429139265725,16.619010231030785,292.45026791460981,-31.967920077921505,-6.7127651049407149,-0.54630340759523222,-6.872334439953292,1.786514746829803,58.094829523326382,0.76581900000000047,11.35943456398239,21.285796999999999,60.816562857142863,null,null,11.35943456398239,2.003160663764803,13.257223760426751,15.0376443862915,{"$error":"#DIV/0!"},-0.64222763267999916,-4.3481897947190191,-27.052037286358001,-10.91032649369842,null,null,"ср.значение",{"$error":"#VALUE!"},{"$error":"#VALUE!"},null,null,28.61665153503418,-100,null,null,null,null,null,null,null,null,null,null,null,null,null,null,null,null,null,null,null,null,null,null,null,null,null,null,null,null,null,null,82,null,19.239700058395989,23.659915903926251,25.266424193802841,1.951045969470635,7.8528824000000004,270.03977915875481,100,null,"безгидратный",15.380227088928221,8,null,27.96019172668457]
[10,915.76,173,null,null,{"$f":"VLOOKUP($C30,Тнав!$A$3:$E$250,2,FALSE)","v":14.62696576641493},17.93359297433436,23.513630301697511,{"$f":"VLOOKUP($C30,Тнав!$A$3:$E$250,3,FALSE)","v":6.3966685145031974},9.0393504999999994,98.283479999999997,0,17.352853775024411,null,null,{"$f":"Шлейфы!$L$2","v":5.3686572958219374},{"$f":"VLOOKUP($C30,Тнав!$A$3:$E$250,4,FALSE)","v":339.50318536463232},17.97,21.97,23.65,7.9402988162007091,8.76,98,"0.0",21.681498038667165,18.76523590087891,null,0.7037411319354836,"00:00:00",259.92,-1.379301210176141,3.3430342335850689,22.855281723985655,4.036407025665639,22.507520001387007,339.50318536463232,-23.441071776442556,-1.6428421364472141,-0.4622527071412037,-1.5138976062791869,0.39042609389533212,11.41945348284897,-0.26452930000000041,-3.2960688297448262,20.137329999999999,80.549319999999994,null,null,-3.2960688297448262,4.4175879688006852,24.273870718640499,18.76523590087891,{"$error":"#DIV/0!"},-0.64222763267999916,-4.3481897947190191,-16.932334123391971,-5.4908106121099678,null,8,"минимум",-0.18420845739164091,-1.247179806307656,null,null,28.745645523071289,-100,null,null,null,null,null,null,null,null,null,null,null,null,null,null,null,null,null,null,null,null,null,null,null,null,null,null,null,null,null,null,83,null,19.864628742165468,24.820372081560361,26.510639420314622,0.66862563167442401,7.6504706999999996,385.13592948922098,100,null,"безгидратный",20.847478866577148,8,null,28.112274169921879]
[10,924.33,111,11,4,{"$f":"VLOOKUP($C31,Тнав!$A$3:$E$250,2,FALSE)","v":10.93487055283123},21.173304061612889,26.6367627322437,{"$f":"VLOOKUP($C31,Тнав!$A$3:$E$250,3,FALSE)","v":0},4.3109665000000001,29.126446000000001,0,5.3792071342468262,null,null,{"$f":"Шлейфы!$L$2","v":5.3686572958219374},{"$f":"VLOOKUP($C31,Тнав!$A$3:$E$250,4,FALSE)","v":182.0131981061925},19.8,24.77,26.7,1.8667627322436999,4.2699999999999996,34.9,"0.0",7.7515417514984071,23.938419342041019,null,0.89303957838709658,null,102.72,{"$error":"#REF!"},8.8651294471687709,81.072102356743812,3.5966959383871107,16.986937550799681,178.0131981061925,-43.564532095046339,{"$error":"#REF!"},0.48238957705501662,null,null,null,{"$error":"#REF!"},{"$error":"#REF!"},null,{"$error":"#REF!"},{"$error":"#VALUE!"},null,{"$error":"#REF!"},{"$error":"#REF!"},{"$error":"#REF!"},{"$error":"#REF!"},{"$error":"#REF!"},{"$error":"#REF!"},{"$error":"#REF!"},{"$error":"#REF!"},{"$error":"#REF!"},null,null,"максимум",-0.18420845739164091,-1.247179806307656,null,null,0,null,null,null,null,null,null,null,null,null,null,null,null,null,null,null,null,null,null,null,null,null,null,null,null,null,null,null,null,null,null,null,84,null,19.221619592544851,24.224978357331441,25.869854387794248,1.614575403693657,7.6334114,407.0504683068408,100,null,"безгидратный",22.612173080444339,8,null,28.087015151977539]
[10,905.63,112,null,null,{"$f":"VLOOKUP($C32,Тнав!$A$3:$E$250,2,FALSE)","v":18.787458427562971},20.38835658078477,26.000392966507281,{"$f":"VLOOKUP($C32,Тнав!$A$3:$E$250,3,FALSE)","v":1.660368078884487},7.0800666999999997,64.256810000000002,0,15.735280990600589,null,null,{"$f":"Шлейфы!$L$2","v":5.3686572958219374},{"$f":"VLOOKUP($C32,Тнав!$A$3:$E$250,4,FALSE)","v":386.68938233361843},19.850000000000001,24.14,25.99,3.5207610453917688,7.01,69.900000000000006,"0.0",21.387623558159277,27.388040542602539,null,0.89303957838709658,"00:00:00",284.16000000000003,-8.6444156769111657E-2,1.0625415724370306,5.6555897463926357,3.751643419215231,18.400911345404893,386.68938233361843,-26.5146619012054,-4.1649328272610546,6.7426296736726954E-2,-4.0971573881906096,1.178600154313022,139.65033024304049,-0.84598330000000033,-12.0634168948209,44.771996000000001,223.85998000000001,null,null,-12.0634168948209,2.0475669206786549,9.6251305551812578,27.388040542602539,{"$error":"#DIV/0!"},-0.69016798478599917,-4.6727690236018873,-37.750731739537002,-9.988090977683413,null,null,"ср.значение",-0.18420845739164091,-1.247179806307656,null,null,29.807992935180661,null,null,null,null,null,null,null,null,null,null,null,null,null,null,null,null,null,null,null,null,null,null,null,null,null,null,null,null,null,null,null,91,9,18.398496236265089,23.794081057824648,25.400181529227819,1.5951685046146951,8.3214749999999995,396.41143208112038,98.047420000000002,null,"безгидратный",22.452117919921879,8,null,27.698541641235352]
[10,921.93,113,null,null,{"$f":"VLOOKUP($C33,Тнав!$A$3:$E$250,2,FALSE)","v":16.484076031136809},20.008294525462421,25.742016172113889,{"$f":"VLOOKUP($C33,Тнав!$A$3:$E$250,3,FALSE)","v":4.8589715850190789},7.6894416999999997,65.109189999999998,0,19.313680648803711,null,null,{"$f":"Шлейфы!$L$2","v":5.3686572958219374},{"$f":"VLOOKUP($C33,Тнав!$A$3:$E$250,4,FALSE)","v":403.73671387146601},19.420000000000002,23.94,25.78,6.6609877571329683,7.68,73,"0.0",25.831978559585025,24.2901611328125,null,0.89303957838709658,"00:00:00",335.52,0.29016134977691271,2.9359239688631931,17.810667478829373,3.9317054745375799,19.650377844718946,403.73671387146601,-16.896336530143643,3.8942665873741329,0.54060810002441428,3.7013813024008329,-0.99303167403928816,-34.633015761758898,-1.7884910000000001,-21.616057723685319,45.140884,300.93922666666668,null,null,-21.616057723685319,8.0613429456114716E-2,0.38616393880404593,24.2901611328125,{"$error":"#DIV/0!"},-0.69016798478599917,-4.6727690236018873,-31.539902281011958,-9.1906747334616057,null,9,"минимум",-0.74548424626999932,-5.0472867046039198,null,null,29.897891998291019,null,null,null,null,null,null,null,null,null,null,null,null,null,null,null,null,null,null,null,null,null,null,null,null,null,null,null,null,null,null,null,92,null,18.88474372822391,24.46101847989927,26.11947553283645,0.60802781560802521,7.3013779999999997,394.94452096493069,95.159099999999995,null,"безгидратный",21.717758178710941,8,null,27.40467643737793]
[10,853.41,114,null,null,{"$f":"VLOOKUP($C34,Тнав!$A$3:$E$250,2,FALSE)","v":20.734367467940221},22.931189794211171,26.33681604520908,{"$f":"VLOOKUP($C34,Тнав!$A$3:$E$250,3,FALSE)","v":2.1107601467306361},6.6932450000000001,65.121210000000005,0,18.279367446899411,null,null,{"$f":"Шлейфы!$L$2","v":5.3686572958219374},{"$f":"VLOOKUP($C34,Тнав!$A$3:$E$250,4,FALSE)","v":416.56549514301042},21.49,24.57,26.8,3.8775761919397169,6.37,60,"0.0",21.728409084850583,27.35855674743652,null,0.89303957838709658,"00:00:00",313.44,1.8636444608189111,0.75563253205977787,3.6443481250544494,1.638810205788829,7.1466427189161124,416.56549514301042,-24.756129911241587,-3.665727853640504,0.68832362030526895,-3.231236929665243,0.92903667991217453,99.545041984537988,-1.0614967,-15.88282285697186,40.021976000000002,200.10988,null,null,-15.88282285697186,0.45638237941918902,2.110152451081035,27.35855674743652,{"$error":"#DIV/0!"},-0.69016798478599917,-4.6727690236018873,-70.129670060973012,-17.08767697129846,null,null,"максимум",-0.74548424626999932,-5.0472867046039198,null,null,29.731082916259769,null,null,null,null,null,null,null,null,null,null,null,null,null,null,null,null,null,null,null,null,null,null,null,null,null,null,null,null,null,null,null,93,null,18.157665827273838,23.818080287307449,25.425800706700699,5.8158151327047056,8.2201009999999997,288.68214888627881,95.936385999999999,null,"безгидратный",16.33308219909668,8,null,27.48121452331543]
[10,924.13,81,8,5,{"$f":"VLOOKUP($C35,Тнав!$A$3:$E$250,2,FALSE)","v":15.2683378891525},18.74968982793462,26.090583603664381,{"$f":"VLOOKUP($C35,Тнав!$A$3:$E$250,3,FALSE)","v":4.8333133641371919},8.0989229999999992,100,0,20.595197677612301,null,null,{"$f":"Шлейфы!$L$2","v":5.3686572958219374},{"$f":"VLOOKUP($C35,Тнав!$A$3:$E$250,4,FALSE)","v":432.60139067582372},18.72,24.35,26.22,6.5738969678015735,7.97,100,"0.0",28.001692745812218,16.424867630004879,null,0.93066615935483887,null,350.16,-1.7031306898627321,3.451662110847499,22.606665741264194,5.600310172065381,29.868815022857831,427.60139067582372,-19.05712567105509,-3.0111955713620659,-0.83884067374869531,-2.936438711922591,0.83884067374869398,47.732228681219112,0.44183199999999978,6.5955903207989337,8.6344449999999995,9.5938277777777756,null,null,6.5955903207989337,5.8129136059402056,28.42931345689448,16.424867630004879,{"$error":"#DIV/0!"},-0.56847159775099776,-3.8488259834190761,23.87857744659004,7.1445979558503856,null,null,"ср.значение",-0.74548424626999932,-5.0472867046039198,null,null,30.292972564697269,-100,null,null,null,null,null,null,null,null,null,null,null,null,null,null,null,null,null,null,null,null,null,null,null,null,null,null,null,null,null,null,94,null,19.409643494440711,23.409270366989841,24.996418897871749,1.3267390675470621,7.5592556000000002,376.45509021246079,98.593890000000002,null,"безгидратный",21.685943603515621,8,null,27.467775344848629]
[10,902.49,82,null,null,{"$f":"VLOOKUP($C36,Тнав!$A$3:$E$250,2,FALSE)","v":17.733228781021591},19.239700058395989,25.266424193802841,{"$f":"VLOOKUP($C36,Тнав!$A$3:$E$250,3,FALSE)","v":2.2092309354732729},7.8528824000000004,100,0,15.380227088928221,null,null,{"$f":"Шлейфы!$L$2","v":5.3686572958219374},{"$f":"VLOOKUP($C36,Тнав!$A$3:$E$250,4,FALSE)","v":376.18051228064633},19.21,23.62,25.43,3.8556551292761121,7.67,100,"0.0",19.58367116163797,16.827285766601559,null,0.93066615935483887,"00:00:00",251.52,-0.2432108103693231,1.4767712189784099,8.3277063484280802,4.3802999416040116,22.766986638611854,376.18051228064633,-33.138482247491964,-8.2784255221954339,-2.3091770970019891,-7.8827801725729927,2.3091770970019878,308.63734081426679,0.33430330000000019,5.3134017833018126,-25.426570000000002,-25.426570000000002,null,null,5.3134017833018126,4.8574786373173318,25.782759596693609,16.827285766601559,{"$error":"#DIV/0!"},-0.56847159775099776,-3.8488259834190761,-30.26127746515704,-8.1526333294258819,null,10,"минимум",-0.59797421564599951,-4.0485728885985139,null,null,30.259181976318359,-100,null,null,null,null,null,null,null,null,null,null,null,null,null,null,null,null,null,null,null,null,null,null,null,null,null,null,null,null,null,null,101,10,22.600997771333329,23.62449592783792,25.254586146858738,1.89497746737988,5.2681846999999999,133.41028262038179,30.097227,null,"безгидратный",7.6022038459777832,8,null,27.707160949707031]
[10,909.59999999999991,83,null,null,{"$f":"VLOOKUP($C37,Тнав!$A$3:$E$250,2,FALSE)","v":17.206976325840358},19.864628742165468,26.510639420314622,{"$f":"VLOOKUP($C37,Тнав!$A$3:$E$250,3,FALSE)","v":2.9729333618526792},7.6504706999999996,100,0,20.847478866577148,null,null,{"$f":"Шлейфы!$L$2","v":5.3686572958219374},{"$f":"VLOOKUP($C37,Тнав!$A$3:$E$250,4,FALSE)","v":471.60233705311748},19.55,24.74,26.64,4.7435727821673019,7.52,100,"0.0",27.287555182738597,15.522480964660639,null,0.93066615935483887,"00:00:00",356.88,0.33404169286272628,2.3430236741596424,13.616707722442982,4.8753712578345301,24.542976972360279,471.60233705311748,-24.3260747539926,-3.4182205008573452,-1.1186938111479281,-3.7940811940299142,1.1186938111479261,120.0011226350077,-0.55470700000000051,-8.2853920836445099,-14.99244,-18.740549999999999,null,null,-8.2853920836445099,4.7767082235682574,23.691874798397251,15.522480964660639,{"$error":"#DIV/0!"},-0.56847159775099776,-3.8488259834190761,-23.64122838526697,-5.7275435252037434,null,null,"максимум",-0.59797421564599951,-4.0485728885985139,null,null,30.34172439575195,-100,null,null,null,null,null,null,null,null,null,null,null,null,null,null,null,null,null,null,null,null,null,null,null,null,null,null,null,null,null,null,102,null,20.784328703619892,24.944235486835041,26.662893311877969,0.14905542012276471,4.2761189999999996,59.816107651018037,83.026343999999995,16,"безгидратный",8.9396114349365234,8,null,28.225831985473629]
[10,864.36,84,null,null,{"$f":"VLOOKUP($C38,Тнав!$A$3:$E$250,2,FALSE)","v":17.66290272984855},19.221619592544851,25.869854387794248,{"$f":"VLOOKUP($C38,Тнав!$A$3:$E$250,3,FALSE)","v":1.294436423984378},7.6334114,100,0,22.612173080444339,null,null,{"$f":"Шлейфы!$L$2","v":5.3686572958219374},{"$f":"VLOOKUP($C38,Тнав!$A$3:$E$250,4,FALSE)","v":525.31298169123227},19.809999999999999,24.64,26.54,2.5242908117786271,7.53,100,"0.0",27.840288868614024,29.721050262451168,null,0.93066615935483887,"00:00:00",369.12,1.4142683971305909,2.1470972701514484,12.155970640788667,5.4183804074551496,28.188989909865256,525.31298169123227,-29.733318447294565,-2.720244347816859,-1.171575803210644,-4.0347508663796674,1.171575803210642,246.39371955483469,0.96554099999999998,16.392886247877751,33.366590000000002,51.333215384615393,null,null,16.392886247877751,5.9053951023310667,30.952553556500671,29.721050262451168,{"$error":"#DIV/0!"},-0.56847159775099776,-3.8488259834190761,-7.2913480278110114,-2.0127869965169078,null,null,"ср.значение",-0.59797421564599951,-4.0485728885985139,null,null,30.286489486694339,-100,null,null,null,null,null,null,null,null,null,null,null,null,null,null,null,null,null,null,null,null,null,null,null,null,null,null,null,null,null,null,103,null,24.38703938381262,25.48827419563073,27.257160424807498,0.31107854109130029,4.4784620000000004,132.06789580542829,97.938280000000006,20,"безгидратный",6.9413390159606934,8,null,28.031606674194339]
[10,875.11,91,9,null,{"$f":"VLOOKUP($C39,Тнав!$A$3:$E$250,2,FALSE)","v":15.845383317148089},18.398496236265089,25.400181529227819,{"$f":"VLOOKUP($C39,Тнав!$A$3:$E$250,3,FALSE)","v":2.8086766350385748},8.3214749999999995,98.047420000000002,0,22.452117919921879,null,null,{"$f":"Шлейфы!$L$2","v":5.3686572958219374},{"$f":"VLOOKUP($C39,Тнав!$A$3:$E$250,4,FALSE)","v":527.40143714494434},18.440000000000001,23.73,25.55,4.4788581642663949,7.99,98.1,"0.0",30.838598354169314,29.721050262451168,null,0.93066615935483887,"1900-01-01",379.68,2.41426839713059,2.5946166828519122,16.37459082510162,5.3315037637349114,28.977932192230128,527.40143714494434,-28.009297423348968,-4.1323855349322116,1.519505395411443,-4.5706438732823784,1.3065908300113731,116.44700065327871,0.92345400000000044,15.18414259170957,-10.569699999999999,-10.569699999999999,null,0,15.18414259170957,9.2260152547589023,45.924277873950473,25.052206039428711,{"$error":"#DIV/0!"},-0.56847159775099776,-3.8488259834190761,-2.2377612468479811,-0.56209396681910562,null,11,"минимум",-0.54634590885099854,-3.6990244336560489,null,null,29.88630485534668,-100,null,null,null,null,null,null,null,null,null,null,null,null,null,null,null,null,null,null,null,null,null,null,null,null,null,null,null,null,null,null,104,null,22.37059248249076,24.78097091738552,26.483423619409901,0.77311862235276574,6.6509704999999997,241.38326233605301,45.063231999999999,null,"безгидратный",13.08035182952881,8,null,27.908035278320309]
[10,918.42,92,null,null,{"$f":"VLOOKUP($C40,Тнав!$A$3:$E$250,2,FALSE)","v":15.991515390500361},18.88474372822391,26.11947553283645,{"$f":"VLOOKUP($C40,Тнав!$A$3:$E$250,3,FALSE)","v":2.991035504559171},7.3013779999999997,95.159099999999995,0,21.717758178710941,null,null,{"$f":"Шлейфы!$L$2","v":5.3686572958219374},{"$f":"VLOOKUP($C40,Тнав!$A$3:$E$250,4,FALSE)","v":494.97077103836011},18.84,24.36,26.23,4.7505110373956221,7.29,97.3,"0.0",29.971929420010959,29.721050262451168,null,0.93066615935483887,"1900-01-02",377.28,3.41426839713059,2.8484846094996392,17.812474552547769,5.4752562717760895,28.993013358148602,494.97077103836011,-23.777317353803724,-3.24273617421251,2.0664926588305832,-3.0328051167963541,0.87550984098997409,101.3127863846742,-0.21147500000000011,-3.3149669247891609,9.5046899999999965,13.57812857142858,null,0,-3.3149669247891609,4.5603724585486596,22.076066569108079,25.51333045959473,{"$error":"#DIV/0!"},-0.56847159775099776,-3.8488259834190761,0.34034631169799923,9.1437132345873806E-2,null,null,"максимум",-0.54634590885099854,-3.6990244336560489,null,null,29.948356628417969,-100,null,null,null,null,null,null,null,null,null,null,null,null,null,null,null,null,null,null,null,null,null,null,null,null,null,null,null,null,null,null,111,11,21.173304061612889,24.945460509686921,26.6367627322437,0.95595752674974421,4.3109665000000001,99.876609324133923,29.126446000000001,null,"безгидратный",5.3792071342468262,8,null,28.09780311584473]
[10,923.12,93,null,null,{"$f":"VLOOKUP($C41,Тнав!$A$3:$E$250,2,FALSE)","v":17.397271455518371},{"$f":"VLOOKUP($C41,$CS:$DG,3,FALSE)","v":18.157665827273838},{"$f":"VLOOKUP($C41,$CS:$DG,5,FALSE)","v":25.425800706700699},{"$f":"VLOOKUP($C41,Тнав!$A$3:$E$250,3,FALSE)","v":6.8723529147971192},{"$f":"VLOOKUP($C41,$CS:$DG,7,FALSE)","v":8.2201009999999997},{"$f":"VLOOKUP($C41,$CS:$DG,9,FALSE)","v":95.936385999999999},{"$f":"VLOOKUP($C41,$CS:$DG,10,FALSE)","v":0},{"$f":"VLOOKUP($C41,$CS:$DG,12,FALSE)","v":16.33308219909668},null,null,{"$f":"Шлейфы!$L$2","v":5.3686572958219374},{"$f":"VLOOKUP($C41,Тнав!$A$3:$E$250,4,FALSE)","v":507.16711177340608},18.329999999999998,24.07,25.92,{"$f":"(H41+I41)-S41","v":8.2281536214978175},8.24,98,"0.0",{"$f":"(AD41*(1/(1+(5*10^7*0.098*R41)/(18.8+273.15)^3.825))*(18.8+273.15)*0.052)/((POWER(A41,2))*(R41/10.197))","v":21.536401249111481},29.721050262451168,null,0.93066615935483887,"1900-01-03",263.52,4.4142683971305896,{"$f":"IF(R41=\"\",\"\",(R41-F41))","v":0.9327285444816269},{"$f":"IF(R41=\"\",\"\",(R41/F41*100-100))","v":5.3613496051173399},{"$f":"IF(R41=\"\",\"\",(S41-G41))","v":5.9123341727261618},{"$f":"IF(R41=\"\",\"\",(S41/G41*100-100))","v":32.561091436353564},{"$f":"IF(AD41=\"\",\"\",(Q41-E41))","v":507.16711177340608},{"$f":"IF(AD41=\"\",\"\",(AD41/Q41*100-100))","v":-48.040794861766123},3.9951965831665319,1.694266141604643,3.9654106101501871,-1.0514120815201,-32.782407299667298,-0.14476900000000009,-1.972625325321232,29.613040000000002,49.355066666666659,null,0,-1.972625325321232,1.952811226788679,10.104138551720499,17.831600189208981,{"$error":"#DIV/0!"},-0.56847159775099776,-3.8488259834190761,12.89255688995399,4.8481373905417087,null,null,"ср.значение",-0.54634590885099854,-3.6990244336560489,null,null,29.97275352478027,-100,null,null,null,null,null,null,null,null,null,null,null,null,null,null,null,null,null,null,null,null,null,null,null,null,null,null,null,null,null,null,112,null,20.38835658078477,24.360904119279748,26.000392966507281,1.5051539041917781,7.0800666999999997,284.77005560957798,64.256810000000002,null,"безгидратный",15.735280990600589,8,null,27.979656219482418]
[10,874.44,94,null,null,{"$f":"VLOOKUP($C42,Тнав!$A$3:$E$250,2,FALSE)","v":17.89115634673691},19.409643494440711,24.996418897871749,{"$f":"VLOOKUP($C42,Тнав!$A$3:$E$250,3,FALSE)","v":2.760651204919208},7.5592556000000002,98.593890000000002,0,21.685943603515621,null,null,{"$f":"Шлейфы!$L$2","v":5.3686572958219374},{"$f":"VLOOKUP($C42,Тнав!$A$3:$E$250,4,FALSE)","v":504.5842322303854},19.420000000000002,23.39,25.19,4.3670701027909544,7.53,97.8,"0.0",27.735193002816256,29.721050262451168,null,0.93066615935483887,"1900-01-04",360.24,5.4142683971305896,1.5288436532630918,8.5452478511369776,3.9803565055592891,20.507107751357395,504.5842322303854,-28.606568142715972,-6.6843500850626469,1.9375287480307719,-6.3578164059076272,1.819921108052188,262.5013803021825,0.1978270000000002,3.1260686124235662,9.9033699999999953,15.23595384615383,null,0,3.1260686124235662,4.8147268482028238,23.273457512448029,23.802581787109379,{"$error":"#DIV/0!"},-0.56847159775099776,-3.8488259834190761,-5.4218209528400507,-1.4437451754187689,null,12,"минимум",-0.7491722009589985,{"$error":"#DIV/0!"},null,null,30.038694381713871,null,null,null,null,null,null,null,null,null,null,null,null,null,null,null,null,null,null,null,null,null,null,null,null,null,null,null,null,null,null,null,113,null,20.008294525462421,24.121079621545999,25.742016172113889,1.9349468300434911,7.6894416999999997,345.85525528110162,65.109189999999998,null,"безгидратный",19.313680648803711,8,null,28.100519180297852]
[10,927.85,71,7,6,{"$f":"VLOOKUP($C43,Тнав!$A$3:$E$250,2,FALSE)","v":0},22.58670180206126,26.683019313288959,{"$f":"VLOOKUP($C43,Тнав!$A$3:$E$250,3,FALSE)","v":0},9.3858230000000002,49.820509999999999,0,14.64114952087402,null,null,{"$f":"Шлейфы!$L$2","v":5.3686572958219374},{"$f":"VLOOKUP($C43,Тнав!$A$3:$E$250,4,FALSE)","v":0},22.66,24.92,13.54,1.7630193132889573,9.0399999999999991,59.8,"0.0",16.407381802211255,13.358034133911129,null,-0.782647039677419,"00:00:00",250.08,-1.43591790342731,22.66,{"$error":"#DIV/0!"},2.3332981979387419,10.330406884487246,-6,{"$error":"#DIV/0!"},-6.4141854600696178,0.71848570980037607,-6.3375026799542269,1.915765429884458,378.55594530913299,-0.2063782999999999,-2.6481503342614729,0.39597299999999791,1.131351428571421,null,null,-2.6481503342614729,0.4580496157225209,3.129818365377687,12.206459999084471,{"$error":"#DIV/0!"},-0.64591456775199774,-4.3731521174813679,-12.69559030062203,-4.8124790479842972,null,null,"максимум",0,{"$error":"#DIV/0!"},null,null,30.996988296508789,null,null,null,null,null,null,null,null,null,null,null,null,null,null,null,null,null,null,null,null,null,null,null,null,null,null,null,null,null,null,null,114,null,22.931189794211171,24.66455894850073,26.33681604520908,1.0531239220699731,6.6932450000000001,335.34686968741818,65.121210000000005,null,"безгидратный",18.279367446899411,8,null,28.03609657287598]
[10,915.4,72,null,null,{"$f":"VLOOKUP($C44,Тнав!$A$3:$E$250,2,FALSE)","v":0},22.46700373096888,27.05958598673412,{"$f":"VLOOKUP($C44,Тнав!$A$3:$E$250,3,FALSE)","v":0},9.3845089999999995,95.517579999999995,0,16.24626350402832,null,null,{"$f":"Шлейфы!$L$2","v":5.3686572958219374},{"$f":"VLOOKUP($C44,Тнав!$A$3:$E$250,4,FALSE)","v":0},22.56,25.34,27.28,1.7195859867341206,9.01,95.2,"0.0",18.618505169148797,13.358034133911129,null,-0.782647039677419,"00:00:00",282.48,-0.43591790342730619,22.56,{"$error":"#DIV/0!"},2.8729962690311197,12.787625370226536,0,{"$error":"#DIV/0!"},-1.584969961439427,0.70697092150579977,-1.751984310673649,0.51627453268725099,61.774959234135679,0.95938040000000058,14.21999496049922,0.58171999999999713,1.6620571428571369,null,null,14.21999496049922,0.44769562149044079,2.8746480752347172,13.358034133911129,{"$error":"#DIV/0!"},-0.64591456775199774,-4.3731521174813679,-7.6266582587259677,-2.7888309608402442,null,null,"ср.значение",-0.52559128919798803,{"$error":"#DIV/0!"},null,null,30.438371658325199,null,null,null,null,null,null,null,null,null,null,null,null,null,null,null,null,null,null,null,null,null,null,null,null,null,null,null,null,null,null,null,121,12,21.15618087692933,24.04020816350533,25.679750360256399,0.69239247566819973,7.1808205000000003,288.2976172554433,38.684814000000003,null,"безгидратный",16.140777587890621,8,null,27.823318481445309]
[10,879.51,73,null,null,{"$f":"VLOOKUP($C45,Тнав!$A$3:$E$250,2,FALSE)","v":0},22.373210044290762,27.98673690790239,{"$f":"VLOOKUP($C45,Тнав!$A$3:$E$250,3,FALSE)","v":0},9.9599430000000009,96.267070000000004,0,15.09022426605225,null,null,{"$f":"Шлейфы!$L$2","v":5.3686572958219374},{"$f":"VLOOKUP($C45,Тнав!$A$3:$E$250,4,FALSE)","v":0},22.54,26.21,28.22,1.7767369079023894,9.57,94.2,"0.0",17.954849983116233,13.1273307800293,null,-0.782647039677419,"00:00:00",272.16000000000003,-0.37618227119795478,22.54,{"$error":"#DIV/0!"},3.8367899557092393,17.149036495495281,0,{"$error":"#DIV/0!"},0.36849651919538928,1.5419776121110831,1.235546479026155,0.23440349313503919,20.508811568375211,1.040628000000001,13.81370714029708,45.66798,130.4799428571429,null,null,13.81370714029708,0.44935312712888731,2.837503700956717,13.1273307800293,{"$error":"#DIV/0!"},-0.64591456775199774,-4.3731521174813679,6.6493155948559766,2.5357978956852349,null,null,null,null,null,null,null,30.788675308227539,null,null,null,null,null,null,null,null,null,null,null,null,null,null,null,null,null,null,null,null,null,null,null,null,null,null,null,null,null,null,null,122,null,16.674495345699199,24.080447246093598,25.71310156937875,0.85764097503374448,5.7038650000000004,109.6668801742069,57.508659999999999,null,"безгидратный",17.031780242919918,8,null,27.85207366943359]
[10,875.26,74,null,null,{"$f":"VLOOKUP($C46,Тнав!$A$3:$E$250,2,FALSE)","v":0},22.563052281455029,27.19462812381764,{"$f":"VLOOKUP($C46,Тнав!$A$3:$E$250,3,FALSE)","v":0},9.775264,100,0,14.385190010070801,null,null,{"$f":"Шлейфы!$L$2","v":5.3686572958219374},{"$f":"VLOOKUP($C46,Тнав!$A$3:$E$250,4,FALSE)","v":0},22.56,25.36,27.3,1.834628123817641,9.52,100,"0.0",17.131555733379901,12.0991096496582,null,-0.782647039677419,"00:00:00",259.92,-0.82463480650494958,22.56,{"$error":"#DIV/0!"},2.7969477185449705,12.396140751062433,0,{"$error":"#DIV/0!"},-4.0260029405880857,0.3772151491598521,-4.1263428190269593,1.237248572507117,181.67356782958851,-0.47422499999999879,-5.4894141615251897,21.237079999999999,53.092699999999979,null,null,-5.4894141615251897,0.10122657324691001,0.63701010151685011,12.0991096496582,{"$error":"#DIV/0!"},-0.64591456775199774,-4.3731521174813679,1.992620251986978,0.76845646760472164,null,null,null,null,null,null,null,30.7765998840332,-100,null,null,null,null,null,null,null,null,null,null,null,null,null,null,null,null,null,null,null,null,null,null,null,null,null,null,null,null,null,null,123,null,18.885998921641342,22.422997767367761,23.943277015995289,2.5871944251300998,7.5288240000000002,290.71903306357922,68.807075999999995,null,"безгидратный",17.525138854980469,8,null,28.085203170776371]
[10,939.25,101,10,null,{"$f":"VLOOKUP($C47,Тнав!$A$3:$E$250,2,FALSE)","v":21.850232737434251},22.600997771333329,25.254586146858738,{"$f":"VLOOKUP($C47,Тнав!$A$3:$E$250,3,FALSE)","v":3.7363126297206191},5.2681846999999999,30.097227,0,7.6022038459777832,null,null,{"$f":"Шлейфы!$L$2","v":5.3686572958219374},{"$f":"VLOOKUP($C47,Тнав!$A$3:$E$250,4,FALSE)","v":162.56912427989869},24,23.53,25.35,5.4608987765793557,5,32,"0.0",7.9796854045100432,18.964508056640621,null,-0.782647039677419,null,129.12,-0.90829875618608469,2.1497672625657493,9.8386469764357543,0.92900222866667193,4.1104478575056476,162.56912427989869,-20.575324144767265,-2.7710690051340801,-0.67117653272052991,-2.6247632723882788,0.67117653272052902,17.92441544712311,0.45482159999999983,7.4779125974154113,-5.9880100000000027,-8.5542999999999978,null,null,7.4779125974154113,2.9334754584396499,19.45884727450942,18.964508056640621,{"$error":"#DIV/0!"},-0.64591456775199774,-4.3731521174813679,14.53122507202605,6.4113791355811003,null,null,null,null,null,null,null,29.985809326171879,-100,null,null,null,null,null,null,null,null,null,null,null,null,null,null,null,null,null,null,null,null,null,null,null,null,null,null,null,null,null,null,131,13,15.749263070774729,23.903614641575182,25.517108629881498,0.83862078310134958,4.4986305,124.3869855420668,40.234859999999998,null,"безгидратный",19.4748649597168,8,null,27.186250686645511]
[6.2,933.74,102,null,null,{"$f":"VLOOKUP($C48,Тнав!$A$3:$E$250,2,FALSE)","v":18.419420621361201},20.784328703619892,26.662893311877969,{"$f":"VLOOKUP($C48,Тнав!$A$3:$E$250,3,FALSE)","v":2.779883820720952},4.2761189999999996,83.026343999999995,16,8.9396114349365234,null,null,{"$f":"Шлейфы!$L$2","v":5.3686572958219374},{"$f":"VLOOKUP($C48,Тнав!$A$3:$E$250,4,FALSE)","v":73.56655557154248},20.43,24.56,26.47,4.8827771325989211,3.08,84.8,"16.0",10.399486512697129,2.9646413326263432,null,-0.782647039677419,"00:00:00",54.72,-1.1567336287793279,2.0105793786387984,10.915540830351134,3.7756712963801071,18.165952580044205,73.56655557154248,-25.618374307621977,-3.372482240453849,-1.213033035083747,-4.2094795277875514,1.2130330350837459,136.25233523083179,0.49841691999999999,-606.18437887669972,-18.495159999999998,-18.495159999999998,{"$error":"#VALUE!"},null,-606.18437887669972,5.3615314564372802,94.569850222754752,2.9646413326263432,{"$error":"#DIV/0!"},-0.64591456775199774,-4.3731521174813679,-3.2851406826882941,-4.9089162454060897,null,null,null,null,null,null,null,null,-100,null,null,null,null,null,null,null,null,null,null,null,null,null,null,null,null,null,null,null,null,null,null,null,null,null,null,null,null,null,null,132,null,20.805972629340911,23.13048831039324,24.719552857317261,0.88080105347519488,2.1788596999999998,68.915372229141653,19.939820000000001,null,"безгидратный",11.15800762176514,8,null,26.53346061706543]
[10,910.99,103,null,null,{"$f":"VLOOKUP($C49,Тнав!$A$3:$E$250,2,FALSE)","v":24.525971652820349},24.38703938381262,27.257160424807498,{"$f":"VLOOKUP($C49,Тнав!$A$3:$E$250,3,FALSE)","v":1.6513099400274489},4.4784620000000004,97.938280000000006,20,6.9413390159606934,null,null,{"$f":"Шлейфы!$L$2","v":5.3686572958219374},{"$f":"VLOOKUP($C49,Тнав!$A$3:$E$250,4,FALSE)","v":147.3107988782474},24.75,25.41,27.39,3.4984703648349473,3.88,98,"20.0",7.2106633352427778,22.066946029663089,null,-0.782647039677419,"00:00:00",120.48,2.198605319180988,0.22402834717965092,0.91343311633440294,1.0229606161873797,4.1946896467735684,147.3107988782474,-18.213735233642367,-0.53564515204082852,-0.47201239404347822,-1.6020023283869309,0.4720123940434785,74.551904150009875,-4.0004049999999998,-49.749474574374148,39.777450000000002,66.295749999999998,{"$error":"#VALUE!"},null,-49.749474574374148,-9.0641050653344148,-47.251430708070558,22.066946029663089,{"$error":"#DIV/0!"},-0.64591456775199774,-4.3731521174813679,-144.18644159999999,-44.711353199444673,null,null,null,null,null,null,null,29.920475006103519,-100,null,null,null,null,null,null,null,null,null,null,null,null,null,null,null,null,null,null,null,null,null,null,null,null,null,null,null,null,null,null,133,null,17.039253140995751,19.15429203118649,20.454868460104048,2.159177361970082,3.5617752,66.94252056470232,23.049675000000001,null,"безгидратный",13.220703125,8,null,27.303167343139648]
[10,886.29,104,null,null,{"$f":"VLOOKUP($C50,Тнав!$A$3:$E$250,2,FALSE)","v":21.985464507654491},22.37059248249076,26.483423619409901,{"$f":"VLOOKUP($C50,Тнав!$A$3:$E$250,3,FALSE)","v":2.4005987460689471},6.6509704999999997,45.063231999999999,0,13.08035182952881,null,null,{"$f":"Шлейфы!$L$2","v":5.3686572958219374},{"$f":"VLOOKUP($C50,Тнав!$A$3:$E$250,4,FALSE)","v":300.39569329836468},22.6,25.16,27.11,3.7240223654788487,6.44,47,"0.0",15.410560349651426,22.8779296875,null,-0.782647039677419,"00:00:00",234.24,-0.36896814108964188,0.61453549234551019,2.7951899407517828,2.7894075175092397,12.469081986507419,300.39569329836468,-22.022850118778592,-3.763900273753336,-1.2364331784749609,-4.1832740190329929,1.236433178474962,176.0554204347703,-1.5788829999999989,-20.276664055376472,-1.172699999999999,-2.132181818181806,null,null,-20.276664055376472,2.3954205776323789E-2,0.13045749929163719,22.8779296875,{"$error":"#DIV/0!"},-0.64591456775199774,-4.3731521174813679,-19.707072000000039,-6.4309398876820856,null,null,null,null,null,null,null,30.002107620239261,-100,null,null,null,null,null,null,null,null,null,null,null,null,null,null,null,null,null,null,null,null,null,null,null,null,null,null,null,null,null,null,134,null,18.473008835000439,19.905466626954659,21.267000544238361,4.6322983939210021,2.2335167,40.648497286660671,15.169774,null,"безгидратный",4.8040337562561044,8,null,26.851566314697269]
[10,932.58,121,12,null,{"$f":"VLOOKUP($C51,Тнав!$A$3:$E$250,2,FALSE)","v":19.256183807215919},21.15618087692933,25.679750360256399,{"$f":"VLOOKUP($C51,Тнав!$A$3:$E$250,3,FALSE)","v":2.874435866694796},7.1808205000000003,38.684814000000003,0,16.140777587890621,null,null,{"$f":"Шлейфы!$L$2","v":5.3686572958219374},{"$f":"VLOOKUP($C51,Тнав!$A$3:$E$250,4,FALSE)","v":333.94344585419259},20.43,23.84,25.68,4.7141862269511954,7.2,47.1,"0.0",19.812481383742451,15.20769786834717,null,-0.782647039677419,null,271.2,7.9481960493357207E-2,1.1738161927840807,6.0957882648804684,2.6838191230706698,12.68574483590919,333.94344585419259,-18.788644195037691,-5.3446454129246064,-1.523235056070231,-5.3253247092028033,1.5232350560702319,175.30905337888379,-1.3188506,-17.206139595564249,-5.2865800000000007,-11.747955555555549,null,null,-17.206139595564249,0.87119305684299064,4.9117714989322678,15.20769786834717,{"$error":"#DIV/0!"},-0.64591456775199774,-4.3731521174813679,1.637050811457982,0.58087067937495362,null,null,null,null,null,null,null,29.46805572509766,-100,null,null,null,null,null,null,null,null,null,null,null,null,null,null,null,null,null,null,null,null,null,null,null,null,null,null,null,null,null,null,141,14,16.797495282482199,20.757968794405429,22.144601109871719,3.1797173907255591,8.9791830000000008,301.56941055305248,95.063730000000007,null,"безгидратный",19.733091354370121,8,null,25.855880737304691]
[6.2,931.43999999999994,122,null,null,{"$f":"VLOOKUP($C52,Тнав!$A$3:$E$250,2,FALSE)","v":10.75179159527438},16.674495345699199,25.71310156937875,{"$f":"VLOOKUP($C52,Тнав!$A$3:$E$250,3,FALSE)","v":3.779708309698401},5.7038650000000004,57.508659999999999,0,17.031780242919918,null,null,{"$f":"Шлейфы!$L$2","v":5.3686572958219374},{"$f":"VLOOKUP($C52,Тнав!$A$3:$E$250,4,FALSE)","v":147.6815593048519},16.34,24.02,25.88,5.4728098790771504,5.14,68,"0.0",25.159259155002303,{"$error":"#VALUE!"},null,-0.782647039677419,"00:00:00",105.12,-3.4276007502335588,5.58820840472562,51.974671897302613,7.3455046543008002,44.052335630027954,147.6815593048519,-28.81981982394575,-2.943047738268874,-0.88552514797007476,-3.110485531341098,0.88552514797007453,69.182828283607734,-1.2790482999999999,-25.04402216478697,8.1310299999999955,9.0344777777777665,null,null,-25.04402216478697,5.1489816503781398,26.16265508359368,{"$error":"#VALUE!"},{"$error":"#VALUE!"},-0.64591456775199774,-4.3731521174813679,1.9592261480599831,1.7764600019485359,null,null,null,null,null,null,null,29.630363464355469,-100,null,null,null,null,null,null,null,null,null,null,null,null,null,null,null,null,null,null,null,null,null,null,null,null,null,null,null,null,null,null,142,null,16.440227637965972,20.891138304284919,22.286666343011149,2.913692487565692,9.0555000000000003,306.09015414482502,99.545649999999995,null,"безгидратный",19.895151138305661,8,null,26.101396560668949]
[10,934.45,123,null,null,{"$f":"VLOOKUP($C53,Тнав!$A$3:$E$250,2,FALSE)","v":15.329486271752179},18.885998921641342,23.943277015995289,{"$f":"VLOOKUP($C53,Тнав!$A$3:$E$250,3,FALSE)","v":6.1581461845258936},7.5288240000000002,68.807075999999995,0,17.525138854980469,null,null,{"$f":"Шлейфы!$L$2","v":5.3686572958219374},{"$f":"VLOOKUP($C53,Тнав!$A$3:$E$250,4,FALSE)","v":383.77903169448859},18.53,22.26,23.97,7.8414232005211808,7.41,73,"0.0",22.867494479675134,16.079778671264648,null,-0.782647039677419,"00:00:00",282.95999999999998,-0.64716287668401407,3.200513728247822,20.878153850109427,3.3740010783586598,17.865091978229515,383.77903169448859,-26.270072976458664,-6.2512954559851286,-1.683978223096418,-6.202835920860224,1.683978223096416,67.933714486813443,-0.53160700000000016,-7.37257648461987,-0.41715000000000663,-0.59592857142858691,null,null,-7.37257648461987,2.0254771097909732,10.362148679687319,16.079778671264648,{"$error":"#DIV/0!"},-0.64591456775199774,-4.3731521174813679,7.3626634635600112,2.593025749084461,null,null,null,null,null,null,null,29.68186187744141,null,null,null,null,null,null,null,null,null,null,null,null,null,null,null,null,null,null,null,null,null,null,null,null,null,null,null,null,null,null,null,143,null,16.395018936711619,21.110303963263341,22.518361237613011,3.15769359841532,9.1916689999999992,336.38798223011162,98.491510000000005,null,"безгидратный",21.628681182861332,8,null,26.26533126831055]
[10,929.31999999999994,51,5,7,{"$f":"VLOOKUP($C54,Тнав!$A$3:$E$250,2,FALSE)","v":24.693043056160761},23.819937451236459,28.419224409080801,{"$f":"VLOOKUP($C54,Тнав!$A$3:$E$250,3,FALSE)","v":0},9.9990844999999995E-2,20.162614999999999,0,3.718881368637085,null,null,{"$f":"Шлейфы!$L$2","v":5.3686572958219374},{"$f":"VLOOKUP($C54,Тнав!$A$3:$E$250,4,FALSE)","v":72.950822767997153},24,26.69,28.8,1.7292244090807998,-0.79,20.2,"0.0",4.0640033472783488,29.395101547241211,null,-0.2048339843870968,null,65.760000000000005,{"$error":"#VALUE!"},-0.69304305616076078,-2.8066328422322613,2.8700625487635421,12.048992801257597,65.950822767997153,-9.857082477144715,{"$error":"#DIV/0!"},2.172191044240023,{"$error":"#REF!"},null,null,0,{"$error":"#DIV/0!"},0,{"$error":"#DIV/0!"},{"$error":"#VALUE!"},null,{"$error":"#DIV/0!"},{"$error":"#VALUE!"},{"$error":"#VALUE!"},29.395101547241211,{"$error":"#DIV/0!"},-0.738109356508998,-4.9973551557819746,0,{"$error":"#DIV/0!"},null,null,null,null,null,null,null,31.611698150634769,null,null,null,null,null,null,null,null,null,null,null,null,null,null,null,null,null,null,null,null,null,null,null,null,null,null,null,null,null,null,null,144,null,17.19896214352822,21.3462664462355,22.77433167148865,2.8048614588209331,8.4612079999999992,332.56412866612692,95.221689999999995,null,"безгидратный",21.130838394165039,8,null,26.381841659545898]
[6.2,939.38,52,null,null,{"$f":"VLOOKUP($C55,Тнав!$A$3:$E$250,2,FALSE)","v":22.744756390869512},23.111564890457501,27.824684732756001,{"$f":"VLOOKUP($C55,Тнав!$A$3:$E$250,3,FALSE)","v":3.7164655597516569},1.6818542000000001,50.235810000000001,16,11.842354774475099,null,null,{"$f":"Шлейфы!$L$2","v":5.3686572958219374},{"$f":"VLOOKUP($C55,Тнав!$A$3:$E$250,4,FALSE)","v":89.463666715893439},23.12,26.1,28.14,5.4411502925076576,0.71,50.2,"16.0",12.957269375935116,10.35002613067627,null,-0.2048339843870968,"00:00:00",77.52,2.6236392219749649,0.37524360913048938,1.6498027179623733,2.9884351095425004,12.930474953586497,89.463666715893439,-13.350298679152644,0.51284778796411956,4.1675870507160937,0.35936823015367741,-0.10570982133425399,-3.6719816126832678,-3.5438320000000001,-166.7214904027098,-1.544044,-1.544044,{"$error":"#VALUE!"},null,-166.7214904027098,3.1683512451305549,32.876843980558448,10.35002613067627,{"$error":"#DIV/0!"},-0.738109356508998,-4.9973551557819746,-28.535285149265011,-25.909257075217671,null,null,null,null,null,null,null,31.870975494384769,null,null,null,null,null,null,null,null,null,null,null,null,null,null,null,null,null,null,null,null,null,null,null,null,null,null,null,null,null,null,null,151,15,17.580845593580271,22.04327935523574,23.515770416165481,1.7922210766234139,8.8478390000000005,358.44749585653949,95.957409999999996,null,"безгидратный",22.02190017700195,8,null,26.337566375732418]
[10,881.28,53,null,null,{"$f":"VLOOKUP($C56,Тнав!$A$3:$E$250,2,FALSE)","v":25.951644031770488},26.064471327666631,29.049291813142229,{"$f":"VLOOKUP($C56,Тнав!$A$3:$E$250,3,FALSE)","v":2.1655560891236552},1.4709473000000001E-2,17.153393000000001,0,3.2418441772460942,null,null,{"$f":"Шлейфы!$L$2","v":5.3686572958219374},{"$f":"VLOOKUP($C56,Тнав!$A$3:$E$250,4,FALSE)","v":67.956216624397314},26.95,27.03,29.17,4.1848479022658829,-1.1100000000000001,17.2,"0.0",3.3903590265621903,25.298042297363281,null,-0.2048339843870968,"00:00:00",61.92,3.606141357920023,0.99835596822951089,3.8469854434166137,0.96552867233337025,3.7043861745566602,67.956216624397314,-8.8825083623478491,0.92433356806915867,-1.036887463350936,0.83056471755422479,-0.2497276448361021,-12.721870747011121,-11.137407400000001,-153.16098573923571,-44.224677,-73.707795000000004,null,null,-153.16098573923571,-17.084019620720461,-84.024941670239045,25.298042297363281,{"$error":"#DIV/0!"},-0.738109356508998,-4.9973551557819746,-178.78231761072999,-74.008876765266777,null,null,null,null,null,null,null,31.59853363037109,null,null,null,null,null,null,null,null,null,null,null,null,null,null,null,null,null,null,null,null,null,null,null,null,null,null,null,null,null,null,null,152,null,17.46897706546283,20.680492358518912,22.05988119883212,3.1403984414189252,8.8576320000000006,268.11319536514588,95.655760000000001,null,"безгидратный",17.614484786987301,8,null,25.96355056762695]
[10,910.66000000000008,54,null,null,{"$f":"VLOOKUP($C57,Тнав!$A$3:$E$250,2,FALSE)","v":24.87882312503109},24.60088110569491,27.7620869545574,{"$f":"VLOOKUP($C57,Тнав!$A$3:$E$250,3,FALSE)","v":2.57713461368219},3.7744521999999998,32.343440000000001,0,10.61589241027832,null,null,{"$f":"Шлейфы!$L$2","v":5.3686572958219374},{"$f":"VLOOKUP($C57,Тнав!$A$3:$E$250,4,FALSE)","v":206.15466310414041},24.69,25.9,27.92,4.4392215682395921,3.36,32.299999999999997,"0.0",11.131418838918382,25.705038070678711,null,-0.2048339843870968,"00:00:00",185.52,5.1567241070127778E-2,-0.18882312503108878,-0.75897129089321425,1.2991188943050886,5.2807819716845614,206.15466310414041,-10.0093118406527,-6.4529612843669497,-0.70117422186341116,-6.4698891205117803,1.95132308051874,137.86229348165449,-2.4087926,-37.316694035631294,-10.50567,-17.509450000000001,null,null,-37.316694035631294,0.2348036137759664,1.168760394401815,25.705038070678711,{"$error":"#DIV/0!"},-0.738109356508998,-4.9973551557819746,30.69100013540799,10.39927642284621,null,null,null,null,null,null,null,31.294683456420898,-100,null,null,null,null,null,null,null,null,null,null,null,null,null,null,null,null,null,null,null,null,null,null,null,null,null,null,null,null,null,null,153,null,18.23339158347866,20.977535822768299,22.380932969311498,3.3100200168842768,8.1870379999999994,286.56097795817908,99.537384000000003,null,"безгидратный",18.543586730957031,8,null,26.101278305053711]
[6.2,913.53,61,6,null,{"$f":"VLOOKUP($C58,Тнав!$A$3:$E$250,2,FALSE)","v":12.21616841268686},16.24187618437081,26.848819118662028,{"$f":"VLOOKUP($C58,Тнав!$A$3:$E$250,3,FALSE)","v":9.7905742636096651},3.6549873000000002,38.399684999999998,0,6.0012059211730957,null,null,{"$f":"Шлейфы!$L$2","v":5.3686572958219374},{"$f":"VLOOKUP($C58,Тнав!$A$3:$E$250,4,FALSE)","v":116.9345587755396},17,25.88,27.9,10.759393382271693,3.12,40.4,"0.0",23.878557633820812,30.284297943115231,null,-0.2048339843870968,null,103.92,-5.3767900457579998,4.7838315873131396,39.159836584644552,9.6381238156291893,59.341197446781024,116.9345587755396,-11.12977969200837,9.1736911349209436,-0.94110228284203856,9.0265741571054434,0.46059531529386533,9.3833758253768735,-0.93644799999999995,-28.377212121212121,-19.591010000000001,-24.488762499999989,null,null,-28.377212121212121,{"$error":"#VALUE!"},{"$error":"#VALUE!"},30.284297943115231,{"$error":"#DIV/0!"},-0.738109356508998,-4.9973551557819746,-20.079999999999998,-15.44615384615385,null,null,null,null,null,null,null,33.716135816562073,-100,null,null,null,null,null,null,null,null,null,null,null,null,null,null,null,null,null,null,null,null,null,null,null,null,null,null,null,null,null,null,154,null,17.567364864246301,21.197185854637748,22.61103815114209,3.1030790078916239,8.7921370000000003,293.05215100852081,20.094774000000001,null,"безгидратный",18.761354446411129,8,null,26.470279693603519]
[10,926.8,62,null,null,{"$f":"VLOOKUP($C59,Тнав!$A$3:$E$250,2,FALSE)","v":21.854452939606009},22.402553586950081,26.424488896218541,{"$f":"VLOOKUP($C59,Тнав!$A$3:$E$250,3,FALSE)","v":4.5387951103623818},4.8542212999999999,42.067276,0,13.713760375976561,null,null,{"$f":"Шлейфы!$L$2","v":5.3686572958219374},{"$f":"VLOOKUP($C59,Тнав!$A$3:$E$250,4,FALSE)","v":278.34359920341791},21.99,24.48,26.38,6.4832840065809236,-1.1100000000000001,240.96,"0.0",16.309821793811086,24.911308288574219,null,-0.2048339843870968,"00:00:00",240.96,3.2818244611936191,0.13554706039398923,0.62022627959881049,2.0774464130499197,9.2732571980547363,278.34359920341791,-13.430737875921977,-3.0386420018386389,-0.9315794376214761,-3.254362147260593,0.93157943762147521,33.979880409969347,-3.3177417,-42.775901548458627,-24.943928,-33.258570666666671,null,null,-42.775901548458627,2.116300645929865,10.40780615581718,24.911308288574219,{"$error":"#DIV/0!"},-0.738109356508998,-4.9973551557819746,-111.50373233209601,-24.41395405574157,null,null,null,null,null,null,null,30.702541351318359,-100,null,null,null,null,null,null,null,null,null,null,null,null,null,null,null,null,null,null,null,null,null,null,null,null,null,null,null,null,null,null,161,16,16.837129521699559,20.295100940797781,21.662990744207541,3.3586712605695221,8.2721479999999996,263.8633378958516,95.403175000000005,null,"безгидратный",17.667949676513668,8,null,25.88408088684082]
[10,929.71,63,null,null,{"$f":"VLOOKUP($C60,Тнав!$A$3:$E$250,2,FALSE)","v":0},0,0,{"$f":"VLOOKUP($C60,Тнав!$A$3:$E$250,3,FALSE)","v":0},0,0,0,0,null,null,{"$f":"Шлейфы!$L$2","v":5.3686572958219374},{"$f":"VLOOKUP($C60,Тнав!$A$3:$E$250,4,FALSE)","v":0},"остановлена 04.01.2024",null,{"$error":"#VALUE!"},0,null,null,"ОКРС",{"$error":"#VALUE!"},23.798677444458011,null,-0.2048339843870968,"00:00:00",null,{"$error":"#VALUE!"},{"$error":"#VALUE!"},{"$error":"#VALUE!"},0,{"$error":"#DIV/0!"},"","",-100,-0.1528406021329296,-0.54644325364998281,0.1528406021329283,4.3382120885754034,-3.2874675999999998,-51.171589564784263,-22.181281999999999,-29.575042666666679,{"$error":"#VALUE!"},null,-51.171589564784263,-15.77386790150633,-78.63887021143691,23.798677444458011,{"$error":"#DIV/0!"},-0.738109356508998,-4.9973551557819746,-226.96416616985701,-78.696562946384546,null,null,null,null,null,null,null,31.057651519775391,-100,null,null,null,null,null,null,null,null,null,null,null,null,null,null,null,null,null,null,null,null,null,null,null,null,null,null,null,null,null,null,162,null,17.23752205853701,20.529896681541921,21.911558728209691,3.1536623308709899,8.9367979999999996,329.42757683999588,95.021929999999998,null,"безгидратный",21.796169281005859,8,null,25.878511428833011]
[10,919.72,64,null,null,{"$f":"VLOOKUP($C61,Тнав!$A$3:$E$250,2,FALSE)","v":21.623307413833849},22.5628076095369,26.061109852865641,{"$f":"VLOOKUP($C61,Тнав!$A$3:$E$250,3,FALSE)","v":4.844794855119372},4.4547080000000001,40.6051,0,13.040950775146481,null,null,{"$f":"Шлейфы!$L$2","v":5.3686572958219374},{"$f":"VLOOKUP($C61,Тнав!$A$3:$E$250,4,FALSE)","v":238.12380651633379},22.35,24.29,26.17,6.6159047079850133,4.22,41.9,"0.0",14.743181044779549,23.8052978515625,null,-0.2048339843870968,"00:00:00",221.52,3.512569484616979,0.72669258616615195,3.3606911850184247,1.7271923904630988,7.6550419626546926,238.12380651633379,-6.9727620934847039,2.4209091839053372,0.58589630970578455,2.204795959184167,-0.58589630970578543,-13.553776142615931,-1.0737080000000001,-20.382474657352219,-24.915890000000001,-33.221186666666647,null,null,-20.382474657352219,3.4745205794705432,18.176171816901359,23.8052978515625,{"$error":"#DIV/0!"},-0.738109356508998,-4.9973551557819746,-63.458136618147989,-15.81972570621036,null,null,null,null,null,null,null,30.510383605957031,-100,null,null,null,null,null,null,null,null,null,null,null,null,null,null,null,null,null,null,null,null,null,null,null,null,null,null,null,null,null,null,163,null,16.849097467294438,17.8905435025634,19.098155188986421,5.0617854834871441,7.0033493,123.6777156543243,47.642386999999999,null,"безгидратный",9.4452362060546875,8,null,25.745182037353519]
[10,936.21,11,1,8,{"$f":"VLOOKUP($C62,Тнав!$A$3:$E$250,2,FALSE)","v":17.730056737948178},19.564746042638209,26.582535662442609,{"$f":"VLOOKUP($C62,Тнав!$A$3:$E$250,3,FALSE)","v":11.80917920075272},8.3684809999999992,95.208169999999996,0,20.678140640258789,null,null,{"$f":"Шлейфы!$L$2","v":5.3686572958219374},{"$f":"VLOOKUP($C62,Тнав!$A$3:$E$250,4,FALSE)","v":470.41201849930798},20.32,25.6,27.57,12.791714863195331,8.18,97,"0.0",25.953551623476177,26.464599609375,null,-0.7272281019354836,null,353.28,-0.92310863652449271,2.5899432620518219,14.607642267204298,6.0352539573617925,30.847596714053594,462.41201849930798,-24.899877956557845,0.54537978825297273,0.15675354783218509,0.53290207967779679,-0.15675354783218601,-2.5979451587666058,0.52331300000000081,7.763596712458849,-0.98180000000000689,-0.98180000000000689,null,null,7.763596712458849,6.3281887373450729,33.14564041472525,26.464599609375,{"$error":"#DIV/0!"},-0.18420845739164091,-1.247179806307656,0.95270753996697977,0.25154613144484023,null,null,null,null,null,null,null,33.815807342529297,-100,null,null,null,null,null,null,null,null,null,null,null,null,null,null,null,null,null,null,null,null,null,null,null,null,null,null,null,null,null,null,164,null,15.92830564237706,20.457325686730812,21.830012240310449,2.9275393054746108,8.6679534999999994,296.78642790531842,98.414406,null,"безгидратный",19.713314056396481,8,null,25.988460540771481]
[10,926.98,12,null,null,{"$f":"VLOOKUP($C63,Тнав!$A$3:$E$250,2,FALSE)","v":18.29913763210369},20.466435488014561,29.40282539991335,{"$f":"VLOOKUP($C63,Тнав!$A$3:$E$250,3,FALSE)","v":2.8389585844757179},8.3721160000000001,56.855797000000003,0,23.31954193115234,null,null,{"$f":"Шлейфы!$L$2","v":5.3686572958219374},{"$f":"VLOOKUP($C63,Тнав!$A$3:$E$250,4,FALSE)","v":553.73043591749843},20.6,27.38,29.5,4.8617839843890671,8.1999999999999993,59,"0.0",31.65496909399652,26.0838623046875,null,-0.7272281019354836,"00:00:00",437.04,-2.392765872250965,2.3008623678963112,12.573610921750316,6.9135645119854381,33.780012723926063,553.73043591749843,-21.07350948194663,-2.3152763133933969,-1.0945149599491091,-2.5209843046525009,0.81576015003740321,94.388679750212759,-0.66127300000000044,-8.3242865594984892,19.962,28.517142857142861,null,null,-8.3242865594984892,11.913756580493869,59.447544688119223,26.0838623046875,{"$error":"#DIV/0!"},-0.18420845739164091,-1.247179806307656,21.64226648951092,4.5564650273499439,null,null,null,null,null,null,null,33.414096832275391,-100,null,null,null,null,null,null,null,null,null,null,null,null,null,null,null,null,null,null,null,null,null,null,null,null,null,null,null,null,null,null,171,17,17.770110220158571,20.992038822262881,22.41110064664786,2.228378883948932,9.3556069999999991,287.94353027037488,95.046710000000004,null,"безгидратный",18.606765747070309,8,null,25.889163970947269]
[10,933.82999999999993,13,null,null,{"$f":"VLOOKUP($C64,Тнав!$A$3:$E$250,2,FALSE)","v":18.370192834510132},20.249671709871869,29.308526734269449,{"$f":"VLOOKUP($C64,Тнав!$A$3:$E$250,3,FALSE)","v":2.2604616234653441},8.1969259999999995,54.954535999999997,0,24.901594161987301,null,null,{"$f":"Шлейфы!$L$2","v":5.3686572958219374},{"$f":"VLOOKUP($C64,Тнав!$A$3:$E$250,4,FALSE)","v":694.0809368669228},20.43,27.32,29.43,4.2489883577347918,8.01,50.1,"0.0",38.783370637909989,16.713409423828121,null,-0.7272281019354836,"00:00:00",530.88,-0.78092797095804301,2.0598071654898682,11.21276833643428,7.0703282901281312,34.915767482202142,694.0809368669228,-23.513242937287814,-3.4952165768427221,0.19483618487063839,-3.6601275175556078,1.2002337013243809,242.8084203452436,-0.97626540000000084,-12.04522393584209,13.998430000000001,16.468741176470591,null,null,-12.04522393584209,8.6614208005044091,42.834424415717621,16.713409423828121,{"$error":"#DIV/0!"},-0.18420845739164091,-1.247179806307656,-15.926660264068,-3.4628695485762222,null,null,null,null,null,null,null,33.570785522460938,null,null,null,null,null,null,null,null,null,null,null,null,null,null,null,null,null,null,null,null,null,null,null,null,null,null,null,null,null,null,null,172,null,17.835857086073428,20.82331669895926,22.233055239478809,3.138395153080491,8.9765280000000001,214.77312569753201,99.675315999999995,null,"безгидратный",13.99503326416016,8,null,26.210273742675781]
[10,944.65,31,3,null,{"$f":"VLOOKUP($C65,Тнав!$A$3:$E$250,2,FALSE)","v":16.017344431821421},20.196271520139799,23.86720006120435,{"$f":"VLOOKUP($C65,Тнав!$A$3:$E$250,3,FALSE)","v":11.527347909156621},6.1320420000000002,47.195296999999997,0,13.316432952880859,null,null,{"$f":"Шлейфы!$L$2","v":5.3686572958219374},{"$f":"VLOOKUP($C65,Тнав!$A$3:$E$250,4,FALSE)","v":254.85036433665891},19.29,21.78,23.45,13.614547970360974,6.08,54.1,"0.0",17.062244535937161,20.955696105957031,null,-0.7272281019354836,null,220.08,-1.1902878467207709,3.2726555681785783,20.431948517488593,1.583728479860202,7.8416874039394031,254.85036433665891,-13.643443056148442,-2.746323633022854,-5.1405744091197363,-2.9893478075945978,0.73912236230586892,10.57399659951173,0.30860169999999959,5.4358081448601334,19.194479999999999,27.42068571428571,null,0,5.4358081448601334,3.6544439107306879,19.281906259090871,20.955696105957031,{"$error":"#DIV/0!"},-0.18420845739164091,-1.247179806307656,20.588859533634949,7.9519535956175531,null,null,null,null,null,null,null,33.012889862060547,null,null,null,null,null,null,null,null,null,null,null,null,null,null,null,null,null,null,null,null,null,null,null,null,null,null,null,null,null,null,null,173,null,17.93359297433436,22.022693923103411,23.513630301697511,1.783249248604059,9.0393504999999994,282.42299508964561,98.283479999999997,null,"безгидратный",17.352853775024411,8,null,26.137222290039059]
[10,950.06000000000006,32,null,null,{"$f":"VLOOKUP($C66,Тнав!$A$3:$E$250,2,FALSE)","v":12.47393673689027},17.364664675551388,25.07094331133456,{"$f":"VLOOKUP($C66,Тнав!$A$3:$E$250,3,FALSE)","v":12.19181935382402},7.7260437,99.055750000000003,0,20.8171501159668,null,null,{"$f":"Шлейфы!$L$2","v":5.3686572958219374},{"$f":"VLOOKUP($C66,Тнав!$A$3:$E$250,4,FALSE)","v":363.92715882814491},17.329999999999998,23.3,25.09,13.962762665158575,7.44,98.9,"0.0",30.176400257871308,32.264610290527337,null,-0.7272281019354836,"00:00:00",348.48,-2.6914392531501541,4.8560632631097285,38.929676857735416,5.9353353244486122,34.180535215317349,363.92715882814491,-4.2445743477582596,-3.3105044361494582,-4.039705984638303,-3.1731210904640079,0.89828384810462758,17.227634383669969,-0.91515600000000052,-13.02713167259787,9.2824499999999972,15.470750000000001,null,null,-13.02713167259787,3.523777131638639,17.084364332405119,32.264610290527337,{"$error":"#DIV/0!"},-0.18420845739164091,-1.247179806307656,36.434039999999982,12.2599935763815,null,null,null,null,null,null,null,33.478435516357422,null,null,null,null,null,null,null,null,null,null,null,null,null,null,null,null,null,null,null,null,null,null,null,null,null,null,null,null,null,null,null,181,18,18.33418655489724,21.843784270502731,23.320424087188719,1.3706730060409109,9.4416960000000003,275.62115683647932,97.94153,null,"безгидратный",17.082517623901371,8,null,25.932292938232418]
[10,948.79000000000008,33,null,null,{"$f":"VLOOKUP($C67,Тнав!$A$3:$E$250,2,FALSE)","v":13.146214553385491},17.681456800963229,26.216906890797109,{"$f":"VLOOKUP($C67,Тнав!$A$3:$E$250,3,FALSE)","v":10.27446168907146},7.3031654000000001,99.10557,0,22.660856246948239,null,null,{"$f":"Шлейфы!$L$2","v":5.3686572958219374},{"$f":"VLOOKUP($C67,Тнав!$A$3:$E$250,4,FALSE)","v":411.72287904846371},17.690000000000001,24.31,26.18,12.181368579868572,7.07,98.9,"0.0",32.371719313077641,21.296073913574219,null,-0.7272281019354836,"00:00:00",381.84,-1.345787704598806,4.5437854466145104,34.563451160504371,6.6285431990367698,37.488671174852897,411.72287904846371,-7.2580078905321699,-4.701124138997173,-2.5748560507362579,-3.7945935677694109,1.1273717414492499,30.218992387803642,-1.2148536999999999,-18.260787938912941,-0.63714199999999721,-1.061903333333319,null,null,-18.260787938912941,0.97319395213938265,4.837821813660284,21.296073913574219,{"$error":"#DIV/0!"},-0.18420845739164091,-1.247179806307656,24.03356847545604,8.1012040349957744,null,null,null,null,null,null,null,33.181411743164063,null,null,null,null,null,null,null,null,null,null,null,null,null,null,null,null,null,null,null,null,null,null,null,null,null,null,null,null,null,null,null,182,null,18.300686983183041,21.818252896983829,23.295348618109639,1.681949123774938,9.2623709999999999,255.8392491163132,98.355829999999997,null,"безгидратный",15.8743953704834,8,null,26.25375938415527]
[10,946.93,391,39,null,{"$f":"VLOOKUP($C68,Тнав!$A$3:$E$250,2,FALSE)","v":24.511454312144171},26.542102792899001,36.005104725421113,{"$f":"VLOOKUP($C68,Тнав!$A$3:$E$250,3,FALSE)","v":4.2240680025044268},9.6041869999999996,99.007935000000003,0,19.152091979980469,null,null,{"$f":"Шлейфы!$L$2","v":5.3686572958219374},{"$f":"VLOOKUP($C68,Тнав!$A$3:$E$250,4,FALSE)","v":541.66882931709836},26.47,33.57,36.200000000000003,6.6591727279255366,9.33,99,"0.0",25.080180388925264,16.68897819519043,null,-0.7272281019354836,null,449.52,-1.104665453190893,1.9585456878558283,7.9903283702161616,7.0278972071009989,26.478298505351376,541.66882931709836,-17.012023644276113,-1.2766315316247729,-1.5707994001109711,-1.327504311200371,0.51649311290873956,26.55885747503849,-0.59344600000000014,-6.4598386798306251,24.930049999999991,35.614357142857159,null,null,-6.4598386798306251,0.84384586895399494,4.0074200056400713,16.68897819519043,{"$error":"#DIV/0!"},-0.18420845739164091,-1.247179806307656,40.634424524914948,10.078771789955869,null,null,null,null,null,null,null,40.939586639404297,-100,null,null,null,null,null,null,null,null,null,null,null,null,null,null,null,null,null,null,null,null,null,null,null,null,null,null,null,null,null,null,183,null,18.521255634312428,22.19171879392913,23.69409815627813,1.3092741397065659,9.4039570000000001,309.72693740189078,98.481489999999994,null,"безгидратный",18.877887725830082,8,null,26.538114547729489]
[10,947.07,392,null,null,{"$f":"VLOOKUP($C69,Тнав!$A$3:$E$250,2,FALSE)","v":25.699864872580019},26.178333550120989,34.271564565362553,{"$f":"VLOOKUP($C69,Тнав!$A$3:$E$250,3,FALSE)","v":2.254319421034459},8.9818499999999997,99.124589999999998,0,18.665300369262699,null,null,{"$f":"Шлейфы!$L$2","v":5.3686572958219374},{"$f":"VLOOKUP($C69,Тнав!$A$3:$E$250,4,FALSE)","v":562.13740314745644},26.33,32.15,34.67,4.3758839863970138,8.69,99.2,"0.0",23.294195876955797,18.780927658081051,null,-0.7272281019354836,0,415.2,-0.27698281889961862,0.63013512741997957,2.4519005471203457,5.9716664498790095,22.811484307989531,562.13740314745644,-26.139054673242001,-2.4156618960875851,-2.0198445174803652,-3.3752426854234732,1.297931333011922,93.200186514426264,-0.1577549999999999,-1.909219634990549,23.104996,30.806661333333349,null,null,-1.909219634990549,1.2576585347320941,6.5472307048792544,18.780927658081051,{"$error":"#DIV/0!"},-0.18420845739164091,-1.247179806307656,13.96630708894895,3.5352811470737038,null,null,null,null,null,null,null,40.917861938476563,-100,null,null,null,null,null,null,null,null,null,null,null,null,null,null,null,null,null,null,null,null,null,null,null,null,null,null,null,null,null,null,191,19,16.236585247291579,20.972090152569439,22.37722019279159,2.6603227543326309,8.897475,308.46584156758593,100,null,"безгидратный",19.964540481567379,8,null,25.52846717834473]
[10,938.84999999999991,393,null,null,{"$f":"VLOOKUP($C70,Тнав!$A$3:$E$250,2,FALSE)","v":23.292725058300249},26.331430799618829,35.645111725955431,{"$f":"VLOOKUP($C70,Тнав!$A$3:$E$250,3,FALSE)","v":6.052467075229},9.0698589999999992,98.869749999999996,0,17.13216400146484,null,null,{"$f":"Шлейфы!$L$2","v":5.3686572958219374},{"$f":"VLOOKUP($C70,Тнав!$A$3:$E$250,4,FALSE)","v":445.56199409552102},26.24,33.24,35.85,8.4575788011844324,8.81,98.9,"0.0",22.256157442415258,18.27484130859375,null,-0.7272281019354836,0,395.28,-1.73093814609074,2.9472749416997495,12.653199375869079,6.9085692003811729,26.236968484375637,445.56199409552102,-11.285072506597459,8.5436898128207872E-2,-1.233213209647388,0.38676951334051068,-0.1448562219099476,-4.7162513446106118,0.1039340000000006,1.2795341507854521,24.949479999999991,38.38381538461536,null,null,1.2795341507854521,-3.2880660728890798,-14.268070184168881,18.27484130859375,{"$error":"#DIV/0!"},-0.18420845739164091,-1.247179806307656,21.670836665943909,5.8363559493522814,null,null,null,null,null,null,null,40.549846649169922,-100,null,null,null,null,null,null,null,null,null,null,null,null,null,null,null,null,null,null,null,null,null,null,null,null,null,null,null,null,null,null,192,null,16.230791820063221,22.117127359280531,23.598974892352331,1.6851432011186489,8.7883060000000004,369.15707153607059,100,null,"безгидратный",22.59568023681641,8,null,25.729803085327148]
[10,909.87079999999992,401,40,null,{"$f":"VLOOKUP($C71,Тнав!$A$3:$E$250,2,FALSE)","v":20.48702511230038},22.919354180319989,31.645643257457309,{"$f":"VLOOKUP($C71,Тнав!$A$3:$E$250,3,FALSE)","v":6.8449993712079156},7.5346869999999999,77.571640000000002,0,18.582941055297852,null,null,{"$f":"Шлейфы!$L$2","v":5.3686572958219374},{"$f":"VLOOKUP($C71,Тнав!$A$3:$E$250,4,FALSE)","v":452.15859587192477},23.04,29.7,32.01,8.7906426286652284,7.36,80.400000000000006,"0.0",24.22003510548771,11.13677978515625,null,-0.7272281019354836,null,375.6,-1.9753174373989779,2.5529748876996194,12.461423138329721,6.7806458196800108,29.584803159516184,452.15859587192477,-16.931801489760943,-0.2199450098743938,-0.20727566521888721,-0.6044304449341098,0.20727566521888721,4.7780164161736991,1.0927389999999999,19.081477989068741,37.978430000000003,94.946075000000008,null,0,19.081477989068741,4.0212942236117293,19.433320147148379,11.13677978515625,{"$error":"#DIV/0!"},-0.18420845739164091,-1.247179806307656,34.493766077639982,9.0317421530394313,null,null,null,null,null,null,null,38.886238098144531,-100,null,null,null,null,null,null,null,null,null,null,null,null,null,null,null,null,null,null,null,null,null,null,null,null,null,null,null,null,null,null,193,null,16.43973187772195,22.06784422715425,23.54418300595087,1.433910441115559,9.2523879999999998,396.92050383753451,61.174247999999999,null,"безгидратный",24.35457611083984,8,null,25.468557357788089]
[10,967.92000000000007,402,null,null,{"$f":"VLOOKUP($C72,Тнав!$A$3:$E$250,2,FALSE)","v":23.72513178384434},26.76278086546915,33.970301606016307,{"$f":"VLOOKUP($C72,Тнав!$A$3:$E$250,3,FALSE)","v":6.8300746784054134},7.2691306999999998,57.662112999999998,0,16.657232284545898,null,null,{"$f":"Шлейфы!$L$2","v":5.3686572958219374},{"$f":"VLOOKUP($C72,Тнав!$A$3:$E$250,4,FALSE)","v":408.34392070205018},26.55,31.54,34.020000000000003,9.2603762844217172,7.13,59.7,"0.0",20.849851142937151,26.36170768737793,null,-0.7272281019354836,0,374.88,0.28299462119218077,2.8248682161556609,11.906649210181655,4.7772191345308492,17.850234467579895,408.34392070205018,-8.1950334033421939,9.9660794351030972,3.1090037212707671,9.3111559832627364,-3.1090037212707649,-56.00879416831603,-1.2059759999999999,-15.81379735382437,18.51023,46.275575000000003,null,0,-15.81379735382437,2.9170045818245849,14.46940634760195,26.36170768737793,{"$error":"#DIV/0!"},-0.18420845739164091,-1.247179806307656,11.12443637553196,2.5237178623261509,null,null,null,null,null,null,null,39.249946594238281,-100,null,null,null,null,null,null,null,null,null,null,null,null,null,null,null,null,null,null,null,null,null,null,null,null,null,null,null,null,null,null,194,null,16.303939687116809,21.528019832391699,22.968244359178701,1.805592579176732,9.0222680000000004,304.01758106036198,99.896360000000001,null,"безгидратный",19.145929336547852,8,null,25.223161697387699]
[6.2,919.37,403,null,null,{"$f":"VLOOKUP($C73,Тнав!$A$3:$E$250,2,FALSE)","v":26.93662844444539},{"$f":"VLOOKUP($C73,$CS:$DG,3,FALSE)","v":27.09205188979896},{"$f":"VLOOKUP($C73,$CS:$DG,5,FALSE)","v":33.024388315242902},{"$f":"VLOOKUP($C73,Тнав!$A$3:$E$250,3,FALSE)","v":3.002655973449925},{"$f":"VLOOKUP($C73,$CS:$DG,7,FALSE)","v":6.3999176000000002},{"$f":"VLOOKUP($C73,$CS:$DG,9,FALSE)","v":90.912750000000003},{"$f":"VLOOKUP($C73,$CS:$DG,10,FALSE)","v":16},{"$f":"VLOOKUP($C73,$CS:$DG,12,FALSE)","v":10.40372276306152},null,null,{"$f":"Шлейфы!$L$2","v":5.3686572958219374},{"$f":"VLOOKUP($C73,Тнав!$A$3:$E$250,4,FALSE)","v":100.6928251110804},27.01,30.74,33.15,{"$f":"(H73+I73)-S73","v":5.2870442886928295},5.77,92.8,"16.0",{"$f":"(AD73*(1/(1+(5*10^7*0.098*R73)/(18.8+273.15)^3.825))*(18.8+273.15)*0.052)/((POWER(A73,2))*(R73/10.197))","v":11.459636226174732},26.36170768737793,null,-0.7272281019354836,"00:00:00",80.64,-1.777158735117254,{"$f":"IF(R73=\"\",\"\",(R73-F73))","v":7.3371555554611945E-2},{"$f":"IF(R73=\"\",\"\",(R73/F73*100-100))","v":0.2723858173488054},{"$f":"IF(R73=\"\",\"\",(S73-G73))","v":3.6479481102010389},{"$f":"IF(R73=\"\",\"\",(S73/G73*100-100))","v":13.465012266474403},{"$f":"IF(AD73=\"\",\"\",(Q73-E73))","v":100.6928251110804},{"$f":"IF(AD73=\"\",\"\",(AD73/Q73*100-100))","v":-19.914850029243794},-5.7779130516635746,-2.1819187609479229,-5.9051064558340158,2.1819187609479251,328.67705122118042,-3.8483556999999999,-50.889366850916403,-0.26030000000000092,-0.2892222222222216,{"$error":"#VALUE!"},{"$error":"#VALUE!"},-50.889366850916403,2.9626762820487009,32.449879136115356,26.36170768737793,{"$error":"#DIV/0!"},-0.18420845739164091,-1.247179806307656,4.5784933813438897,5.3295013284726451,null,null,null,null,null,null,null,37.410148620605469,-100,null,null,null,null,null,null,null,null,null,null,null,null,null,null,null,null,null,null,null,null,null,null,null,null,null,null,null,null,null,null,201,20,16.747110848002219,20.409367472158159,21.79312258677049,3.596646604716442,7.3768630000000002,307.0134005938537,27.911842,null,"безгидратный",20.428754806518551,8,null,25.943033218383789]
[10,932.30000000000007,411,41,null,{"$f":"VLOOKUP($C74,Тнав!$A$3:$E$250,2,FALSE)","v":21.85464130690773},22.52504985444612,27.629598295846659,{"$f":"VLOOKUP($C74,Тнав!$A$3:$E$250,3,FALSE)","v":8.3325598454393397},8.7168200000000002,79.961296000000004,0,13.719118118286129,null,null,{"$f":"Шлейфы!$L$2","v":5.3686572958219374},{"$f":"VLOOKUP($C74,Тнав!$A$3:$E$250,4,FALSE)","v":287.01680407598059},23.44,26.24,28.26,9.7221581412859983,8.51,82.2,"0.0",14.578080712355932,20.262397766113281,null,-0.7272281019354836,null,230.16,-0.73365584381685167,1.585358693092271,7.2541052988647152,3.7149501455538783,16.492527961355876,287.01680407598059,-19.809573261407081,-5.9549614708569152,-2.018292103288061,-6.2110817317738736,2.018292103288061,50.788397904803531,-8.1445999999999685E-2,-1.0389978185714741,18.800415000000001,23.500518750000008,null,null,-1.0389978185714741,-3.859108462585251,-21.623729235851268,20.262397766113281,{"$error":"#DIV/0!"},-0.18420845739164091,-1.247179806307656,2.759250563776988,1.1407875130478971,null,null,null,null,null,null,null,36.854095458984382,-100,null,null,null,null,null,null,null,null,null,null,null,null,null,null,null,null,null,null,null,null,null,null,null,null,null,null,null,null,null,null,202,null,16.506536543520671,21.575786619251929,23.034309794713359,2.2784730028690019,8.7009650000000001,371.03549467410699,34.141064,null,"безгидратный",23.296140670776371,8,null,26.283563613891602]
[10,938.4,412,null,null,{"$f":"VLOOKUP($C75,Тнав!$A$3:$E$250,2,FALSE)","v":23.706843516265501},22.730402162401941,28.07212864584762,{"$f":"VLOOKUP($C75,Тнав!$A$3:$E$250,3,FALSE)","v":6.0279048236657813},8.8546519999999997,93.002759999999995,0,15.144649505615231,null,null,{"$f":"Шлейфы!$L$2","v":5.3686572958219374},{"$f":"VLOOKUP($C75,Тнав!$A$3:$E$250,4,FALSE)","v":354.80060142101121},23.54,26.55,28.6,7.5500334695133979,8.6199999999999992,95.3,"0.0",16.359978609799885,20.0702018737793,null,-0.7272281019354836,"00:00:00",259.44,-1.8584829237188809,-0.16684351626550153,-0.70377786123668784,3.8195978375980602,16.803916667677825,354.80060142101121,-26.87723781726487,-5.8804038794283846,-1.8596548158896411,-7.7092278976883932,2.599269612009258,83.994096092293233,0.44769099999999978,5.9542087273404292,38.543819999999997,64.239699999999999,null,null,5.9542087273404292,-2.5114694489090379,-13.66356794634444,20.0702018737793,{"$error":"#DIV/0!"},-0.18420845739164091,-1.247179806307656,13.800718054941971,5.2342068728924858,null,null,null,null,null,null,null,37.304897308349609,null,null,null,null,null,null,null,null,null,null,null,null,null,null,null,null,null,null,null,null,null,null,null,null,null,null,null,null,null,null,null,203,null,15.364946168608039,21.49095446226756,22.94159388847061,2.57520787041735,8.2673649999999999,302.50372627776318,100,null,"безгидратный",19.073818206787109,8,null,26.173252105712891]
[10,943.72,413,null,null,{"$f":"VLOOKUP($C76,Тнав!$A$3:$E$250,2,FALSE)","v":20.75427289281922},22.55124836809685,27.993512641270151,{"$f":"VLOOKUP($C76,Тнав!$A$3:$E$250,3,FALSE)","v":9.4018674871786629},8.8339689999999997,98.187610000000006,0,11.812130928039551,null,null,{"$f":"Шлейфы!$L$2","v":5.3686572958219374},{"$f":"VLOOKUP($C76,Тнав!$A$3:$E$250,4,FALSE)","v":224.84687081858121},23.45,26.52,28.56,10.875380128448814,8.5500000000000007,98.2,"0.0",12.262032198519178,19.01216888427734,null,-0.7272281019354836,"00:00:00",193.68,-1.1980144622495419,2.6957271071807796,12.988781255321527,3.9687516319031495,17.598811237065377,224.84687081858121,-13.861376280272253,-2.954559656157699,-0.62319753129746402,-2.7424605399212818,0.8649919442137497,17.95270839292218,0.36329960000000039,4.8929239057239036,38.983406000000002,64.972343333333328,null,null,4.8929239057239036,-5.827131769087794,-32.196963167826382,19.01216888427734,{"$error":"#DIV/0!"},-0.18420845739164091,-1.247179806307656,8.926432279766999,4.4032809751157913,null,null,null,null,null,null,null,36.184070587158203,null,null,null,null,null,null,null,null,null,null,null,null,null,null,null,null,null,null,null,null,null,null,null,null,null,null,null,null,null,null,null,211,21,15.53188006176992,19.48097805524872,20.786203584950378,4.4088424641422908,8.4289664999999996,244.41144304107439,97.826880000000003,null,"безгидратный",17.087930679321289,8,null,25.738462448120121]
[10,945.31000000000006,21,2,9,{"$f":"VLOOKUP($C77,Тнав!$A$3:$E$250,2,FALSE)","v":14.78728747174295},19.74356183417181,25.60523493068996,{"$f":"VLOOKUP($C77,Тнав!$A$3:$E$250,3,FALSE)","v":7.3137610101234767},8.4216280000000001,100,0,17.95732307434082,null,null,{"$f":"Шлейфы!$L$2","v":5.3686572958219374},{"$f":"VLOOKUP($C77,Тнав!$A$3:$E$250,4,FALSE)","v":425.41514038491238},19.23,23.83,25.66,9.0889959408134402,7.97,100,"0.0",24.210602495225928,11.783028602600099,null,-0.32587998903225812,null,311.27999999999997,-1.2864454701361121,4.4427125282570508,30.044134441469652,4.0864381658281879,20.697573214755266,416.41514038491238,-26.829120440246626,-1.318815190250618,3.3335662564873019,-0.89829367185380704,0.25037964911274629,5.764450000908127,-1.027511399999999,-12.32441826992275,35,53.846153846153868,null,null,-12.32441826992275,1.786195541232257,8.4556041482811679,11.783028602600099,{"$error":"#DIV/0!"},-0.74548424626999932,-5.0472867046039198,-47.042250461846997,-12.63292161257262,null,null,null,null,null,null,null,32.510303497314453,null,null,null,null,null,null,null,null,null,null,null,null,null,null,null,null,null,null,null,null,null,null,null,null,null,null,null,null,null,null,null,212,null,15.566075319574781,19.749953560583851,21.075175444499031,4.373524738308209,8.2781450000000003,299.94934671589141,97.863929999999996,null,"безгидратный",20.670476913452148,8,null,25.850273132324219]
[10,936.68000000000006,22,null,null,{"$f":"VLOOKUP($C78,Тнав!$A$3:$E$250,2,FALSE)","v":15.36573808826008},19.802535364975601,27.92846550115117,{"$f":"VLOOKUP($C78,Тнав!$A$3:$E$250,3,FALSE)","v":7.1861114677696323},8.4216280000000001,96.594999999999999,0,17.87474250793457,null,null,{"$f":"Шлейфы!$L$2","v":5.3686572958219374},{"$f":"VLOOKUP($C78,Тнав!$A$3:$E$250,4,FALSE)","v":518.3522595009855},19.190000000000001,26.15,28.16,8.9645769689208024,7.97,96.9,"0.0",26.376648607312216,13.578531265258791,null,-0.32587998903225812,"00:00:00",338.4,-0.92980807173108815,3.8242619117399208,24.888240901761691,6.3474646350243979,32.053797748802651,518.3522595009855,-34.716210106660768,6.6241292471378017,-0.92100271964096692,6.6403226236030548,-1.8667258199457,-40.571131062561378,3.1888600000000267E-2,0.43816263156448088,35,53.846153846153868,null,null,0.43816263156448088,2.8994941738140092,13.5672126178616,13.578531265258791,{"$error":"#DIV/0!"},-0.74548424626999932,-5.0472867046039198,-55.141514835795022,-13.7043102165339,null,null,null,null,null,null,null,32.820304870605469,null,null,null,null,null,null,null,null,null,null,null,null,null,null,null,null,null,null,null,null,null,null,null,null,null,null,null,null,null,null,null,213,null,15.75011071321603,22.42795045198153,23.932865927309489,1.320855721265723,8.4866519999999994,415.74071963277362,98.343310000000002,null,"безгидратный",25.07319259643555,8,null,25.752775192260739]
[10,936.99,23,null,null,{"$f":"VLOOKUP($C79,Тнав!$A$3:$E$250,2,FALSE)","v":14.88403426800806},19.67128078456405,26.885141287929159,{"$f":"VLOOKUP($C79,Тнав!$A$3:$E$250,3,FALSE)","v":7.2825288031090274},8.488702,100,0,20.43418121337891,null,null,{"$f":"Шлейфы!$L$2","v":5.3686572958219374},{"$f":"VLOOKUP($C79,Тнав!$A$3:$E$250,4,FALSE)","v":452.85112988326091},19.09,25.01,26.93,9.1576700910381881,8.08,100,"0.0",28.663614187792867,14.228689193725589,null,-0.32587998903225812,"00:00:00",365.76,-0.1367672287661357,4.2059657319919399,28.258237358619198,5.3387192154359511,27.139662505479635,452.85112988326091,-19.231735141239881,3.5573322242861138,6.1977986878082731,3.6230734031806411,-1.007604321886499,-19.594170397519932,0.44781259999999978,6.2791844861673951,18.576865999999999,23.221082499999991,null,null,6.2791844861673951,4.6243635793488096,22.332892285414861,14.228689193725589,{"$error":"#DIV/0!"},-0.74548424626999932,-5.0472867046039198,-42.171875387219977,-10.116331595947051,null,null,null,null,null,null,null,33.15484619140625,-100,null,null,null,null,null,null,null,null,null,null,null,null,null,null,null,null,null,null,null,null,null,null,null,null,null,null,null,null,null,null,221,22,null,null,null,null,0,0,95.285030000000006]
[10,951.16,41,4,null,{"$f":"VLOOKUP($C80,Тнав!$A$3:$E$250,2,FALSE)","v":15.80760374365282},20.87017404809961,27.292153953889549,{"$f":"VLOOKUP($C80,Тнав!$A$3:$E$250,3,FALSE)","v":8.1331947388654715},8.7253039999999995,95.218185000000005,0,18.608930587768551,null,null,{"$f":"Шлейфы!$L$2","v":5.3686572958219374},{"$f":"VLOOKUP($C80,Тнав!$A$3:$E$250,4,FALSE)","v":394.34538775394827},19.96,25.36,27.31,10.065348692755023,8.27,96.8,"0.0",26.204877234634264,8.1075239181518555,null,-0.32587998903225812,null,350.16,-1.162934663294926,4.1523962563471812,26.268347332621374,4.4898259519003894,21.513121747584194,394.34538775394827,-11.20474313281882,-0.46643329660822991,-3.731560054686156E-2,-0.67092492080890054,0.2000151243058923,5.9193116136921731,0.25353699999999968,3.3767563895955131,24.050239999999999,32.066986666666679,null,null,3.3767563895955131,4.1369751517718001,24.514899849613801,8.1075239181518555,{"$error":"#DIV/0!"},-0.74548424626999932,-5.0472867046039198,21.931790100476011,7.1855625019082936,null,null,null,null,null,null,null,33.265689849853523,-100,null,null,null,null,null,null,null,null,null,null,null,null,null,null,null,null,null,null,null,null,null,null,null,null,null,null,null,null,null,null,222,null,18.24082850705858,20.943532624462129,22.355126723350871,2.5508357556328409,7.4382896000000001,224.12514236865309,59.787419999999997,null,"безгидратный",14.520864486694339,8,null,25.436777114868161]
[10,948.79,42,null,null,{"$f":"VLOOKUP($C81,Тнав!$A$3:$E$250,2,FALSE)","v":15.86670850933714},20.9254104996484,28.129299512785838,{"$f":"VLOOKUP($C81,Тнав!$A$3:$E$250,3,FALSE)","v":6.6228295244966526},8.5696980000000007,92.109579999999994,0,18.45262336730957,null,null,{"$f":"Шлейфы!$L$2","v":5.3686572958219374},{"$f":"VLOOKUP($C81,Тнав!$A$3:$E$250,4,FALSE)","v":414.95907819421171},20.010000000000002,26.11,28.13,8.6421290372824942,8.1199999999999992,93.8,"0.0",27.050735149637131,11.937229156494141,null,-0.32587998903225812,"00:00:00",362.4,-0.5122696764373984,4.1432914906628611,26.113112799826396,5.1845895003515992,24.776524696797296,414.95907819421171,-12.666087080907943,4.4380960748009954,3.3034891530195689,3.3966417337985182,-1.0037934045154739,-27.89020074831258,0.91549259999999943,13.73355635228994,9.0712699999999984,10.079188888888879,null,null,13.73355635228994,3.1375616180496699,17.45386852655777,11.937229156494141,{"$error":"#DIV/0!"},-0.74548424626999932,-5.0472867046039198,4.0409665452119157,1.22645372280428,null,null,null,null,null,null,null,33.513317108154297,-100,null,null,null,null,null,null,null,null,null,null,null,null,null,null,null,null,null,null,null,null,null,null,null,null,null,null,null,null,null,null,223,null,15.99306389386498,21.00728245043446,22.423173287593741,1.026151303061678,5.7861022999999996,85.407161801478665,99.119834999999995,null,"безгидратный",15.321811676025391,8,null,25.23336029052734]
[10,948.99,43,null,null,{"$f":"VLOOKUP($C82,Тнав!$A$3:$E$250,2,FALSE)","v":15.94079230824782},20.895712895779699,28.38714347244678,{"$f":"VLOOKUP($C82,Тнав!$A$3:$E$250,3,FALSE)","v":6.8295002781663037},8.5492209999999993,60.158405000000002,0,16.192998886108398,null,null,{"$f":"Шлейфы!$L$2","v":5.3686572958219374},{"$f":"VLOOKUP($C82,Тнав!$A$3:$E$250,4,FALSE)","v":367.06416502032857},19.89,26.38,28.42,8.8366437506130886,8.1300000000000008,71,"0.0",24.083105067456298,12.26891040802002,null,-0.32587998903225812,"00:00:00",320.64,-0.33868030415727191,3.9492076917521803,24.774224614348967,5.4842871042203001,26.245991852845378,367.06416502032857,-12.647425012942236,4.9242575682094412,-1.9117750360861121,4.9310050043974201,-1.4368062197011739,-32.187058585229913,1.079007,16.728790697674409,3.7135499999999979,3.909000000000006,null,null,16.728790697674409,-1.3945744166421969,-6.857945635843393,12.26891040802002,{"$error":"#DIV/0!"},-0.74548424626999932,-5.0472867046039198,-6.9159150701860312,-2.2728144807451538,null,null,null,null,null,null,null,33.382785797119141,-100,null,null,null,null,null,null,null,null,null,null,null,null,null,null,null,null,null,null,null,null,null,null,null,null,null,null,null,null,null,null,231,23,17.666823023079949,19.939403100753381,21.287306750364309,3.0800885213920051,8.6491530000000001,237.80526931101531,98.703789999999998,null,"безгидратный",16.217233657836911,8,null,24.71871185302734]
[10,920.31000000000006,191,19,10,{"$f":"VLOOKUP($C83,Тнав!$A$3:$E$250,2,FALSE)","v":12.18421814405975},16.236585247291579,22.37722019279159,{"$f":"VLOOKUP($C83,Тнав!$A$3:$E$250,3,FALSE)","v":4.6224623548887216},8.897475,100,0,19.964540481567379,null,null,{"$f":"Шлейфы!$L$2","v":5.3686572958219374},{"$f":"VLOOKUP($C83,Тнав!$A$3:$E$250,4,FALSE)","v":394.08319256829128},16.149999999999999,20.83,22.41,6.1696825476803134,8.6,100,"0.0",26.973660279122022,23.23259162902832,null,-1.5243283987096779E-2,null,289.68,-0.56649281523222683,3.9657818559402482,32.548513241070879,4.5934147527084193,28.29052219261834,384.08319256829128,-26.49267833217705,-9.910907821630758,-2.4097884985249149,-9.0384168623418049,2.4097884985249141,124.39250370270319,-0.73126200000000008,-8.7857220092992065,4.8483469999999969,13.85242,null,null,-8.7857220092992065,7.2109019247944843,38.518312901413957,23.23259162902832,{"$error":"#DIV/0!"},-0.59797421564599951,-4.0485728885985139,-54.161465606418012,-14.599005960712301,null,null,null,null,null,null,null,28.15372467041016,-100,null,null,null,null,null,null,null,null,null,null,null,null,null,null,null,null,null,null,null,null,null,null,null,null,null,null,null,null,null,null,232,null,17.6245682365448,20.846622030309049,22.253769017354909,1.4295850738604929,9.33535,284.36607200675292,99.422979999999995,null,"безгидратный",18.51176834106445,8,null,24.539541244506839]
[10,916.79,192,null,null,{"$f":"VLOOKUP($C84,Тнав!$A$3:$E$250,2,FALSE)","v":11.979257458633221},16.230791820063221,23.598974892352331,{"$f":"VLOOKUP($C84,Тнав!$A$3:$E$250,3,FALSE)","v":4.3845103781617496},8.7883060000000004,100,0,22.59568023681641,null,null,{"$f":"Шлейфы!$L$2","v":5.3686572958219374},{"$f":"VLOOKUP($C84,Тнав!$A$3:$E$250,4,FALSE)","v":435.30602190036848},16.29,22.03,23.71,5.9534852705140793,8.35,100,"0.0",31.91835306836774,25.563577651977539,null,-1.5243283987096779E-2,"00:00:00",345.84,-1.2068896059737459,4.3107425413667784,35.985056304638562,5.7992081799367803,35.729668917127356,435.30602190036848,-20.552442970992303,-4.256588359824562,-1.098327786227991,-4.1371226455731724,1.0983277862279921,49.251677450672823,-0.45642300000000002,-5.9447107244262716,11.934853,39.782843333333318,null,null,-5.9447107244262716,9.8434089991783047,50.718581535487942,25.563577651977539,{"$error":"#DIV/0!"},-0.59797421564599951,-4.0485728885985139,-41.526708745858002,-10.42356185291497,null,null,null,null,null,null,null,28.297393798828121,-100,null,null,null,null,null,null,null,null,null,null,null,null,null,null,null,null,null,null,null,null,null,null,null,null,null,null,null,null,null,null,233,null,17.668582065032808,20.83373131634167,22.240008180194721,1.546574856413393,9.4605160000000001,239.98294447891581,100,null,"безгидратный",15.632632255554199,8,null,24.916532516479489]
[10,869,193,null,null,{"$f":"VLOOKUP($C85,Тнав!$A$3:$E$250,2,FALSE)","v":12.411136420956449},16.43973187772195,23.54418300595087,{"$f":"VLOOKUP($C85,Тнав!$A$3:$E$250,3,FALSE)","v":4.0681392877015377},9.2523879999999998,61.174247999999999,0,24.35457611083984,null,null,{"$f":"Шлейфы!$L$2","v":5.3686572958219374},{"$f":"VLOOKUP($C85,Тнав!$A$3:$E$250,4,FALSE)","v":432.99936369834018},16.48,22.06,23.74,5.5523222936524093,8.86,66,"0.0",31.868073559543458,26.332670211791989,null,-1.5243283987096779E-2,"00:00:00",349.44,-1.5132796743309951,4.0688635790435512,32.783972724473443,5.6202681222780484,34.187103318237632,432.99936369834018,-19.29780288466057,-6.6404428757619911,-1.6752212821076851,-6.194297936862057,1.6752212821076851,115.4605274717523,-2.636459999999996E-2,-0.34548885481778768,15.31096,61.243840000000013,null,null,-0.34548885481778768,10.766022056619921,58.26460678208764,26.332670211791989,{"$error":"#DIV/0!"},-0.59797421564599951,-4.0485728885985139,-30.368971393614,-7.6715656986222314,null,null,null,null,null,null,null,28.015298843383789,-100,null,null,null,null,null,null,null,null,null,null,null,null,null,null,null,null,null,null,null,null,null,null,null,null,null,null,null,null,null,null,234,null,17.490714323105038,19.406730482897309,20.71668479049287,3.232876295059516,8.8857929999999996,194.3979196407173,99.264529999999993,null,"безгидратный",13.638895034790041,8,null,24.630544662475589]
[10,926.21,194,null,null,{"$f":"VLOOKUP($C86,Тнав!$A$3:$E$250,2,FALSE)","v":11.79488857026824},16.303939687116809,22.968244359178701,{"$f":"VLOOKUP($C86,Тнав!$A$3:$E$250,3,FALSE)","v":5.8928583499526654},9.0222680000000004,99.896360000000001,0,19.145929336547852,null,null,{"$f":"Шлейфы!$L$2","v":5.3686572958219374},{"$f":"VLOOKUP($C86,Тнав!$A$3:$E$250,4,FALSE)","v":346.37012669734258},16.23,21.42,23.05,7.4411027091313642,8.6199999999999992,100,"0.0",26.636795158825496,21.851655960083011,null,-1.5243283987096779E-2,"00:00:00",287.52,-1.2401148009289431,4.4351114297317604,37.601978206996279,5.1160603128831923,31.379288755133501,346.37012669734258,-16.990531850561609,-1.431519876491322,-0.44493921603437769,-1.754608933236071,0.44493921603437681,13.232562628879631,0.4468987000000002,6.1162864220510036,47.127009999999999,117.817525,null,null,6.1162864220510036,6.4568618097038808,33.834879350390992,21.851655960083011,{"$error":"#DIV/0!"},-0.59797421564599951,-4.0485728885985139,-39.559407177416062,-11.50371193707352,null,null,null,null,null,null,null,28.325363159179691,null,null,null,null,null,null,null,null,null,null,null,null,null,null,null,null,null,null,null,null,null,null,null,null,null,null,null,null,null,null,null,241,24,18.903015321248439,21.57399264583869,23.041024145755721,1.126336161590441,9.4322909999999993,270.32203346686862,98.489249999999998,null,"безгидратный",16.967470169067379,8,null,24.56784820556641]
[10,912.21,201,20,null,{"$f":"VLOOKUP($C87,Тнав!$A$3:$E$250,2,FALSE)","v":14.369644071299099},16.747110848002219,21.79312258677049,{"$f":"VLOOKUP($C87,Тнав!$A$3:$E$250,3,FALSE)","v":2.229407409740146},7.3768630000000002,27.911842,0,20.428754806518551,null,null,{"$f":"Шлейфы!$L$2","v":5.3686572958219374},{"$f":"VLOOKUP($C87,Тнав!$A$3:$E$250,4,FALSE)","v":527.10832807450481},15.88,20.2,21.74,3.8225299965106352,7.23,37.4,"0.0",29.673766170075123,28.012569427490231,null,-1.5243283987096779E-2,null,313.2,-0.46879570287023142,1.5103559287009016,10.510740010029735,3.4528891519977805,20.617819893451525,527.10832807450481,-40.581473803667478,-11.970605660733581,-0.64346315023188083,-10.50803198278278,2.8695289988798298,416.27234887442239,-1.4595180000000001,-20.551670726727391,-19.503195000000002,-48.757987499999999,null,null,-20.551670726727391,1.966275198136181,10.46795243365972,28.012569427490231,{"$error":"#DIV/0!"},-0.59797421564599951,-4.0485728885985139,-52.29058214935003,-15.760945666772001,null,null,null,null,null,null,null,28.609140396118161,null,null,null,null,null,null,null,null,null,null,null,null,null,null,null,null,null,null,null,null,null,null,null,null,null,null,null,null,null,null,null,242,null,18.938696830830509,21.272118608066371,22.716495461554079,0.88920359719662678,9.877955,269.43323827957198,100,null,"безгидратный",17.165281295776371,8,null,24.18289756774902]
[10,888.17000000000007,202,null,null,{"$f":"VLOOKUP($C88,Тнав!$A$3:$E$250,2,FALSE)","v":13.993168256681731},16.506536543520671,23.034309794713359,{"$f":"VLOOKUP($C88,Тнав!$A$3:$E$250,3,FALSE)","v":3.1432059748933678},8.7009650000000001,34.141064,0,23.296140670776371,null,null,{"$f":"Шлейфы!$L$2","v":5.3686572958219374},{"$f":"VLOOKUP($C88,Тнав!$A$3:$E$250,4,FALSE)","v":515.73216445587832},16.190000000000001,21.53,23.17,4.6475157696067271,8.25,36.1,"0.0",32.567001372262389,28.84172439575195,null,-1.5243283987096779E-2,"00:00:00",350.64,-1.610449518579852,2.1968317433182705,15.699316287927047,5.0234634564793303,30.43317684018453,515.73216445587832,-32.011221295468033,-11.67662518853095,0.88639754102020163,-10.9256237284075,3.066496306046639,510.24969143496952,-1.3979969999999999,-16.937411405517391,-14.414978,-36.037444999999998,null,null,-16.937411405517391,5.5847184511865846,28.815547859922528,28.84172439575195,{"$error":"#DIV/0!"},-0.59797421564599951,-4.0485728885985139,-26.306649208246991,-7.4415956700062793,null,null,null,null,null,null,null,28.71917724609375,null,null,null,null,null,null,null,null,null,null,null,null,null,null,null,null,null,null,null,null,null,null,null,null,null,null,null,null,null,null,null,243,null,18.74231191634626,21.07328036844126,22.50626343349527,1.1950488465331179,9.1503099999999993,226.96426378171711,95.532349999999994,null,"безгидратный",14.601309776306151,8,null,24.301145553588871]
[10,934.31000000000006,203,null,null,{"$f":"VLOOKUP($C89,Тнав!$A$3:$E$250,2,FALSE)","v":10.64327540813227},15.364946168608039,22.94159388847061,{"$f":"VLOOKUP($C89,Тнав!$A$3:$E$250,3,FALSE)","v":5.447197029888212},8.2673649999999999,100,0,19.073818206787109,null,null,{"$f":"Шлейфы!$L$2","v":5.3686572958219374},{"$f":"VLOOKUP($C89,Тнав!$A$3:$E$250,4,FALSE)","v":360.04810261241198},null,null,null,28.388790918358822,null,null,null,{"$error":"#DIV/0!"},22.858913421630859,null,-1.5243283987096779E-2,"00:00:00",null,-2.37586797525368,"","","","","","",-8.181959904380534,1.1271112828850249,-7.3318555966569932,1.965475084898338,89.322482696281043,-0.69558700000000062,-9.2184451865988279,-9.0611609999999985,-22.6529025,null,null,-9.2184451865988279,5.4487111709391733,29.45940526628311,22.858913421630859,{"$error":"#DIV/0!"},-0.59797421564599951,-4.0485728885985139,-15.136392850544951,-4.9092747053971104,null,null,null,null,null,null,null,28.775039672851559,null,null,null,null,null,null,null,null,null,null,null,null,null,null,null,null,null,null,null,null,null,null,null,null,null,null,null,null,null,null,null,251,25,17.515481514900909,19.56401474468986,20.89045494437983,2.2920411821863631,10.050616,280.23048605338039,100,null,"безгидратный",19.49007415771484,8,null,23.59617805480957]
[10,924.97,211,21,null,{"$f":"VLOOKUP($C90,Тнав!$A$3:$E$250,2,FALSE)","v":11.51953622625747},15.53188006176992,20.786203584950378,{"$f":"VLOOKUP($C90,Тнав!$A$3:$E$250,3,FALSE)","v":6.2200407793161832},8.4289664999999996,97.826880000000003,0,17.087930679321289,null,null,{"$f":"Шлейфы!$L$2","v":5.3686572958219374},{"$f":"VLOOKUP($C90,Тнав!$A$3:$E$250,4,FALSE)","v":322.72950517125452},15.6,19.47,20.94,7.5362443642665617,8.16,97.8,"0.0",22.532854145033024,21.144098281860352,null,-1.5243283987096779E-2,null,233.52,-0.47060008902548839,4.0804637737425296,35.422118508916867,3.9381199382300789,25.355075641636887,322.72950517125452,-27.642190671074843,-7.1051612406430422,0.15122901840621239,-7.4011190693451852,1.823184304542208,48.694243358838612,-0.30971130000000002,-4.188457481337224,11.368256000000001,22.736512000000001,null,null,-4.188457481337224,8.2724300062246954,47.97609544923759,21.144098281860352,{"$error":"#DIV/0!"},-0.59797421564599951,-4.0485728885985139,-58.771099770058981,-16.483968275745909,null,null,null,null,null,null,null,28.396743774414059,-100,null,null,null,null,null,null,null,null,null,null,null,null,null,null,null,null,null,null,null,null,null,null,null,null,null,null,null,null,null,null,252,null,17.673446232556689,21.048296128642281,22.479580265389959,1.3443776497819739,9.5734499999999993,151.133794272942,100,null,"безгидратный",9.7350015640258789,8,null,24.170675277709961]
[10,914.38,212,null,null,{"$f":"VLOOKUP($C91,Тнав!$A$3:$E$250,2,FALSE)","v":11.845845911296539},15.566075319574781,21.075175444499031,{"$f":"VLOOKUP($C91,Тнав!$A$3:$E$250,3,FALSE)","v":5.5070789725173226},8.2781450000000003,97.863929999999996,0,20.670476913452148,null,null,{"$f":"Шлейфы!$L$2","v":5.3686572958219374},{"$f":"VLOOKUP($C91,Тнав!$A$3:$E$250,4,FALSE)","v":388.56255219551468},15.67,19.72,21.21,6.8622544170163557,8.01,97.9,"0.0",26.878416588768946,18.364442825317379,null,-1.5243283987096779E-2,"00:00:00",279.83999999999997,-0.36489715379589072,3.8241540887034606,32.282659400935103,4.1539246804252183,26.685754727150396,388.56255219551468,-27.980707760229123,-7.4648164416740883,1.113372119831183,-7.4152400687959243,1.8381489918785081,51.770273511914127,0.55444899999999997,6.8643713167929414,15.673190000000011,31.346380000000011,null,null,6.8643713167929414,3.1730193823443358,17.054231055751739,18.364442825317379,{"$error":"#DIV/0!"},-0.59797421564599951,-4.0485728885985139,-46.094044910514981,-15.116384494936771,null,null,null,null,null,null,null,28.462066650390621,-100,null,null,null,null,null,null,null,null,null,null,null,null,null,null,null,null,null,null,null,null,null,null,null,null,null,null,null,null,null,null,253,null,17.690079043740521,19.012292445369869,20.307029560899551,3.4321552104113642,8.7744370000000007,169.43126724647411,71.995530000000002,null,"безгидратный",12.1377010345459,8,null,23.912126541137699]
[10,901,213,null,null,{"$f":"VLOOKUP($C92,Тнав!$A$3:$E$250,2,FALSE)","v":11.40418778858289},15.75011071321603,23.932865927309489,{"$f":"VLOOKUP($C92,Тнав!$A$3:$E$250,3,FALSE)","v":3.9172548177538191},8.4866519999999994,98.343310000000002,0,25.07319259643555,null,null,{"$f":"Шлейфы!$L$2","v":5.3686572958219374},{"$f":"VLOOKUP($C92,Тнав!$A$3:$E$250,4,FALSE)","v":485.39532311428002},15.86,22.28,23.98,5.5701207450633063,8.49,98.4,"0.0",37.885949064288909,28.26860427856445,null,-1.5243283987096779E-2,"00:00:00",399.36,-0.56850699401720206,4.4558122114171095,39.071719038842645,6.5298892867839715,41.459323084660582,485.39532311428002,-17.724794413403131,-5.4636844003757972,0.24450660989714379,-5.4211567753159642,1.4760792417119679,118.66796396672891,-0.34458549999999999,-4.6346402151983881,5.154003000000003,14.72572285714287,null,null,-4.6346402151983881,8.5992754716270667,44.424077471430621,28.26860427856445,{"$error":"#DIV/0!"},-0.59797421564599951,-4.0485728885985139,-54.599994619376957,-13.48047458876759,null,null,null,null,null,null,null,28.24138259887695,-100,null,null,null,null,null,null,null,null,null,null,null,null,null,null,null,null,null,null,null,null,null,null,null,null,null,null,null,null,null,null,254,null,17.887067154119091,19.52715123691096,20.854997521020909,2.9207122720647418,9.7962030000000002,216.31029168693499,32.038539999999998,null,"безгидратный",15.07113647460938,8,null,23.999666213989261]
[10,931.48,221,22,null,{"$f":"VLOOKUP($C93,Тнав!$A$3:$E$250,2,FALSE)","v":0},0,0,{"$f":"VLOOKUP($C93,Тнав!$A$3:$E$250,3,FALSE)","v":0},0,95.285030000000006,0,0,null,null,{"$f":"Шлейфы!$L$2","v":5.3686572958219374},{"$f":"VLOOKUP($C93,Тнав!$A$3:$E$250,4,FALSE)","v":0},null,null,null,0,null,null,null,{"$error":"#DIV/0!"},18.23130035400391,null,-1.5243283987096779E-2,null,null,0.8409627355747169,"","","","","","",-7.6885941995981142,0.97882014658794958,-9.6362004142881403,2.5713212184867289,179.09876171300391,7.8424300000000002E-2,1.128228625685139,4.9851799999999997,16.61726666666668,null,null,1.128228625685139,-0.30940804501980779,-1.7026653069607389,18.23130035400391,{"$error":"#DIV/0!"},-0.59797421564599951,-4.0485728885985139,-61.39140906267798,-21.695328120304811,null,null,null,null,null,null,null,28.138345718383789,-100,null,null,null,null,null,null,null,null,null,null,null,null,null,null,null,null,null,null,null,null,null,null,null,null,null,null,null,null,null,null,261,26,20.040590551780681,21.050012920105662,22.475098794796811,0.32637953249354162,10.06026,247.13009697491171,94.227379999999997,null,"безгидратный",15.92175388336182,8,null,23.259555816650391]
[10,922.41,222,null,null,{"$f":"VLOOKUP($C94,Тнав!$A$3:$E$250,2,FALSE)","v":17.738269698318341},18.24082850705858,22.355126723350871,{"$f":"VLOOKUP($C94,Тнав!$A$3:$E$250,3,FALSE)","v":3.7709050715369901},7.4382896000000001,59.787419999999997,0,14.520864486694339,null,null,{"$f":"Шлейфы!$L$2","v":5.3686572958219374},{"$f":"VLOOKUP($C94,Тнав!$A$3:$E$250,4,FALSE)","v":297.46702112416182},18.100000000000001,20.89,25.33,5.236031794887861,7.2,62,"0.0",17.228595288248624,17.71940803527832,null,-1.5243283987096779E-2,"00:00:00",208.08,0.2438990962433536,0.36173030168166065,2.0392648653659364,2.6491714929414201,14.523306832890185,297.46702112416182,-30.049388596543594,-6.9697370931489502,0.79956059634822907,-6.9821204828404566,1.795550933722722,82.380437527452756,-6.7535700000000531E-2,-0.97243628509720281,-3.9744969999999999,-15.897988,null,null,-0.97243628509720281,0.69329805958133051,3.8943184261780739,17.71940803527832,{"$error":"#DIV/0!"},-0.59797421564599951,-4.0485728885985139,-52.23902280126299,-17.83417819725473,null,null,null,null,null,null,null,28.006423950195309,-100,null,null,null,null,null,null,null,null,null,null,null,null,null,null,null,null,null,null,null,null,null,null,null,null,null,null,null,null,null,null,262,null,18.388033729498041,21.499330548500659,22.948385427469599,0.41536457253037168,10.369687000000001,267.99985610267089,86.982569999999996,null,"безгидратный",16.892990112304691,8,null,23.738632202148441]
[6.2,932.04000000000008,223,null,null,{"$f":"VLOOKUP($C95,Тнав!$A$3:$E$250,2,FALSE)","v":12.341706270788841},15.99306389386498,22.423173287593741,{"$f":"VLOOKUP($C95,Тнав!$A$3:$E$250,3,FALSE)","v":5.7548573601620454},5.7861022999999996,99.119834999999995,0,15.321811676025391,null,null,{"$f":"Шлейфы!$L$2","v":5.3686572958219374},{"$f":"VLOOKUP($C95,Тнав!$A$3:$E$250,4,FALSE)","v":102.1873829921141},16.010000000000002,20.97,22.58,7.2080306477557876,5.12,99.1,"0.0",19.005663166905173,17.71940803527832,null,-1.5243283987096779E-2,"00:00:00",77.760000000000005,-2.3168714188303632,3.668293729211161,29.722743749731904,4.9769361061350192,31.119341104140773,102.1873829921141,-23.904500024234082,-11.99776468585085,-3.3797553679695191,-12.15120281431558,3.37975536796952,275.77261914423048,-0.107151,-3.0268644067796662,0,0,null,null,-3.0268644067796662,3.929999805868778,26.180891018829939,17.71940803527832,{"$error":"#DIV/0!"},-0.59797421564599951,-4.0485728885985139,-13.777863841901009,-13.63569958676565,null,null,null,null,null,null,null,27.399028778076168,-100,null,null,null,null,null,null,null,null,null,null,null,null,null,null,null,null,null,null,null,null,null,null,null,null,null,null,null,null,null,null,263,null,18.36645621382868,20.4280669660703,21.806961486280041,2.8601961994622318,9.9255905000000002,232.00761716019909,97.988594000000006,null,"безгидратный",15.42759418487549,8,null,22.987155914306641]
[10,877.64,231,23,11,{"$f":"VLOOKUP($C96,Тнав!$A$3:$E$250,2,FALSE)","v":17.710048147322269},17.666823023079949,21.287306750364309,{"$f":"VLOOKUP($C96,Тнав!$A$3:$E$250,3,FALSE)","v":1.7707258241381809},8.6491530000000001,98.703789999999998,0,16.217233657836911,null,null,{"$f":"Шлейфы!$L$2","v":5.3686572958219374},{"$f":"VLOOKUP($C96,Тнав!$A$3:$E$250,4,FALSE)","v":383.41509158643532},17.809999999999999,20.03,21.55,3.0280325745024896,8.23,98.7,"0.0",18.609177693108261,19.962104797363281,null,-0.25908611709677409,null,221.04,0.14027638948025609,9.9951852677730102E-2,0.56437933904116733,2.3631769769200517,13.376355068666257,372.41509158643532,-42.349687101408797,-6.4074945778989871,-1.535162526695377,-6.0707277048006736,1.535162526695379,183.7380515905009,-0.2053662999999997,-2.8339285467868081,13.85523999999999,23.09206666666665,null,0,-2.8339285467868081,0.87889499185258657,5.9789034855232188,19.962104797363281,{"$error":"#DIV/0!"},-0.54634590885099854,-3.6990244336560489,-36.729444798426982,-14.64733831685297,null,null,null,null,null,null,null,27.391973495483398,-100,null,null,null,null,null,null,null,null,null,null,null,null,null,null,null,null,null,null,null,null,null,null,null,null,null,null,null,null,null,null,271,27,18.12480595945333,22.530587316634499,24.06942643036064,0.2179190152983547,9.2637049999999999,239.8361640545387,99.807739999999995,null,"безгидратный",14.377964019775391,8,null,25.021677017211911]
[10,931.04000000000008,232,null,null,{"$f":"VLOOKUP($C97,Тнав!$A$3:$E$250,2,FALSE)","v":16.096949747680242},17.6245682365448,22.253769017354909,{"$f":"VLOOKUP($C97,Тнав!$A$3:$E$250,3,FALSE)","v":3.2747786389994138},9.33535,99.422979999999995,0,18.51176834106445,null,null,{"$f":"Шлейфы!$L$2","v":5.3686572958219374},{"$f":"VLOOKUP($C97,Тнав!$A$3:$E$250,4,FALSE)","v":394.83087361416591},17.63,20.74,22.31,4.788547656354325,9.01,99.4,"0.0",22.092473805418734,22.716230392456051,null,-0.25908611709677409,"00:00:00",259.68,-0.61825209420424088,1.5330502523197573,9.523855614574984,3.1154317634551987,17.676641615510931,394.83087361416591,-34.23006726323969,-3.7903858121452738,-1.223308674181862,-4.739036295107482,1.2233086741818611,119.8031370922094,0.21069599999999961,2.673807106598971,34.920592999999997,139.68237199999999,null,null,2.673807106598971,2.3474304627871159,13.62714278676793,22.716230392456051,{"$error":"#DIV/0!"},-0.54634590885099854,-3.6990244336560489,-47.889041912306993,-15.684687624979761,null,null,null,null,null,null,null,27.12510871887207,null,null,null,null,null,null,null,null,null,null,null,null,null,null,null,null,null,null,null,null,null,null,null,null,null,null,null,null,null,null,null,272,null,18.01499325875595,21.439553304854609,22.901730840245701,1.4186031183819749,9.6056620000000006,285.36376061823341,93.908199999999994,null,"безгидратный",18.025955200195309,8,null,24.953952789306641]
[10,938.48,233,null,null,{"$f":"VLOOKUP($C98,Тнав!$A$3:$E$250,2,FALSE)","v":16.353658981373439},17.668582065032808,22.240008180194721,{"$f":"VLOOKUP($C98,Тнав!$A$3:$E$250,3,FALSE)","v":2.5775764382471769},9.4605160000000001,100,0,15.632632255554199,null,null,{"$f":"Шлейфы!$L$2","v":5.3686572958219374},{"$f":"VLOOKUP($C98,Тнав!$A$3:$E$250,4,FALSE)","v":352.12942071541329},17.63,20.75,22.33,4.0675846184418987,9.15,100,"0.0",18.948073651967267,16.730379104614261,null,-0.25908611709677409,"00:00:00",222.72,0.31265685409566762,1.2763410186265602,7.8046204832832302,3.0814179349671917,17.44009747712299,352.12942071541329,-36.750527818009395,-5.9045651977871776,-1.539586968844368,-5.8804391904805016,1.539586968844368,249.91366005343971,-8.7441000000000102E-2,-1.07041339715262,16.285748000000002,65.142991999999992,null,null,-1.07041339715262,-0.61063306108041715,-3.581907738679917,16.730379104614261,{"$error":"#DIV/0!"},-0.54634590885099854,-3.6990244336560489,-38.752737115998997,-14.77423954415271,null,null,null,null,null,null,null,27.02964019775391,null,null,null,null,null,null,null,null,null,null,null,null,null,null,null,null,null,null,null,null,null,null,null,null,null,null,null,null,null,null,null,273,null,17.763034214045671,18.851206883100652,20.140629433904731,4.350275528932837,8.027514,137.2712768279479,99.776449999999997,null,"безгидратный",9.9186077117919922,8,null,25.05428314208984]
[10,931.93000000000006,234,null,null,{"$f":"VLOOKUP($C99,Тнав!$A$3:$E$250,2,FALSE)","v":17.75514517465707},17.490714323105038,20.71668479049287,{"$f":"VLOOKUP($C99,Тнав!$A$3:$E$250,3,FALSE)","v":2.739578337598902},8.8857929999999996,99.264529999999993,0,13.638895034790041,null,null,{"$f":"Шлейфы!$L$2","v":5.3686572958219374},{"$f":"VLOOKUP($C99,Тнав!$A$3:$E$250,4,FALSE)","v":334.10181443280152},17.53,19.440000000000001,20.91,4.0162631280917722,8.57,99.1,"0.0",15.444788676576959,18.790708541870121,null,-0.25908611709677409,"00:00:00",180.48,0.1231174710481255,-0.22514517465706874,-1.2680559490914902,1.9492856768949629,11.144688781063564,334.10181443280152,-45.980538804795913,-7.9497554061974824,1.8581747051733539,-7.3765792641427907,1.850706981148073,137.23047442058569,0.58781999999999979,8.5301330701919937,9.8499000000000052,14.071285714285739,null,null,8.5301330701919937,0.50804746508737431,3.7571830561030879,18.790708541870121,{"$error":"#DIV/0!"},-0.54634590885099854,-3.6990244336560489,-53.087235200404002,-22.08154841308928,null,null,null,null,null,null,null,27.093950271606449,null,null,null,null,null,null,null,null,null,null,null,null,null,null,null,null,null,null,null,null,null,null,null,null,null,null,null,null,null,null,null,274,null,17.70284751691954,18.963738830031129,20.26085856600525,4.0458098076435993,8.1860029999999995,140.55059026460501,99.720129999999997,null,"безгидратный",10.092692375183111,8,null,24.895223617553711]
[10,888.07999999999993,241,24,null,{"$f":"VLOOKUP($C100,Тнав!$A$3:$E$250,2,FALSE)","v":17.776705449629961},18.903015321248439,23.041024145755721,{"$f":"VLOOKUP($C100,Тнав!$A$3:$E$250,3,FALSE)","v":2.2687914079874618},9.4322909999999993,98.489249999999998,0,16.967470169067379,null,null,{"$f":"Шлейфы!$L$2","v":5.3686572958219374},{"$f":"VLOOKUP($C100,Тнав!$A$3:$E$250,4,FALSE)","v":384.03369700005771},18.72,21.43,23.06,3.8798155537431818,9.1199999999999992,97.2,"0.0",19.902505399182498,20.135135650634769,null,-0.25908611709677409,null,248.88,0.34644165888887102,0.9432945503700374,5.3063519167983628,2.5269846787515604,13.368156539084183,384.03369700005771,-35.193186966621155,-2.8281065377593539,1.7950602456670739,-3.3951015431582761,0.88689114774091782,133.0740620874613,0.54176600000000086,6.8995440768192537,-0.2242999999999995,-0.2242999999999995,null,null,6.8995440768192537,3.1950380283789781,20.420974812864781,20.135135650634769,{"$error":"#DIV/0!"},-0.54634590885099854,-3.6990244336560489,-53.600533084516996,-16.949046001663579,null,null,null,null,null,null,null,27.15120887756348,null,null,null,null,null,null,null,null,null,null,null,null,null,null,null,null,null,null,null,null,null,null,null,null,null,null,null,null,null,null,null,281,28,17.353421079970229,18.46929699794569,19.715974545307031,2.984033438264535,8.8599019999999999,191.73557383833281,100,null,"безгидратный",14.165224075317379,8,null,23.179903030395511]
[10,933.35,242,null,null,{"$f":"VLOOKUP($C101,Тнав!$A$3:$E$250,2,FALSE)","v":17.74566573287057},18.938696830830509,22.716495461554079,{"$f":"VLOOKUP($C101,Тнав!$A$3:$E$250,3,FALSE)","v":2.2813030273102748},9.877955,100,0,17.165281295776371,null,null,{"$f":"Шлейфы!$L$2","v":5.3686572958219374},{"$f":"VLOOKUP($C101,Тнав!$A$3:$E$250,4,FALSE)","v":395.75465331992501},18.66,21.11,22.71,3.8877984888643553,9.61,100,"0.0",20.411501901463861,20.411325454711911,null,-0.25908611709677409,"00:00:00",254.4,-0.1066177514678692,0.91433426712942989,5.1524371127750612,2.1713031691694908,11.464902725697598,395.75465331992501,-35.717748896727443,-4.0183200782674362,1.2352459897481369,-4.1889798491581871,1.0786902939213969,170.42595562485229,0.56511099999999992,6.7904039797169133,40.474780000000003,134.9159333333333,null,null,6.7904039797169133,3.9713217716155249,26.861435763673501,20.411325454711911,{"$error":"#DIV/0!"},-0.54634590885099854,-3.6990244336560489,-21.06680412015902,-7.4651950819179547,null,null,null,null,null,null,null,26.907058715820309,-100,null,null,null,null,null,null,null,null,null,null,null,null,null,null,null,null,null,null,null,null,null,null,null,null,null,null,null,null,null,null,282,null,18.871748158607989,19.082802184178359,20.37470789204724,2.4781538595204382,9.3201260000000001,189.99096105413051,98.566860000000005,null,"безгидратный",13.563376426696779,8,null,23.275875091552731]
[10,892.61,243,null,null,{"$f":"VLOOKUP($C102,Тнав!$A$3:$E$250,2,FALSE)","v":17.73369541344724},18.74231191634626,22.50626343349527,{"$f":"VLOOKUP($C102,Тнав!$A$3:$E$250,3,FALSE)","v":3.0945918019729808},9.1503099999999993,95.532349999999994,0,14.601309776306151,null,null,{"$f":"Шлейфы!$L$2","v":5.3686572958219374},{"$f":"VLOOKUP($C102,Тнав!$A$3:$E$250,4,FALSE)","v":325.76079007278042},18.64,21.02,22.61,4.5808552354682526,8.84,97.4,"0.0",16.617182667981918,16.27517127990723,null,-0.25908611709677409,"00:00:00",206.88,-0.40639151244229771,0.90630458655276058,5.1106358005084616,2.2776880836537394,12.15265274540242,325.76079007278042,-36.493277796330389,-6.45999561242769,1.0456266101227809,-6.8249402148109937,1.7993359809669931,277.11382578142081,1.0678426999999999,15.56372447566716,15.990005,22.842864285714271,null,null,15.56372447566716,1.2029641489348479,8.4521769580750288,16.27517127990723,{"$error":"#DIV/0!"},-0.54634590885099854,-3.6990244336560489,-40.389465270253957,-15.97516644980475,null,null,null,null,null,null,null,26.960189819335941,-100,null,null,null,null,null,null,null,null,null,null,null,null,null,null,null,null,null,null,null,null,null,null,null,null,null,null,null,null,null,null,283,null,17.433298916094891,18.84005374434652,20.111757372089901,3.2791552174032419,9.2337959999999999,168.95659348237359,93.731719999999996,null,"безгидратный",12.226327896118161,8,null,23.7755126953125]
[10,938.85,251,25,null,{"$f":"VLOOKUP($C103,Тнав!$A$3:$E$250,2,FALSE)","v":17.18925978328819},17.515481514900909,20.89045494437983,{"$f":"VLOOKUP($C103,Тнав!$A$3:$E$250,3,FALSE)","v":3.3788699247808358},10.050616,100,0,19.49007415771484,null,null,{"$f":"Шлейфы!$L$2","v":5.3686572958219374},{"$f":"VLOOKUP($C103,Тнав!$A$3:$E$250,4,FALSE)","v":432.78469939662529},17.55,19.52,21,4.7493248691606667,9.73,100,"0.0",21.437290114370878,22.74160003662109,null,-0.25908611709677409,null,250.8,-0.36277206228873382,0.360740216711811,2.0986372959615807,2.0045184850990907,11.444267081060786,432.78469939662529,-42.049707314131609,-10.463053043949561,-5.8712217044657677E-2,-10.421085558593701,2.656490790735909,311.12247966288152,0.2562730000000002,3.0502517347679539,10.890274,54.451369999999997,null,null,3.0502517347679539,5.7114767174624426,37.17045702720975,22.74160003662109,{"$error":"#DIV/0!"},-0.54634590885099854,-3.6990244336560489,-23.762762197124001,-7.9951702206249706,null,null,null,null,null,null,null,26.806121826171879,-100,null,null,null,null,null,null,null,null,null,null,null,null,null,null,null,null,null,null,null,null,null,null,null,null,null,null,null,null,null,null,284,null,17.576448384376619,18.92033383863782,20.195564339362011,2.915575382373583,9.7035350000000005,170.8573739556584,99.506095999999999,null,"безгидратный",12.31035900115967,8,null,23.422601699829102]
[10,933.77,252,null,null,{"$f":"VLOOKUP($C104,Тнав!$A$3:$E$250,2,FALSE)","v":15.44012864362535},17.673446232556689,22.479580265389959,{"$f":"VLOOKUP($C104,Тнав!$A$3:$E$250,3,FALSE)","v":4.5287606340871784},9.5734499999999993,100,0,9.7350015640258789,null,null,{"$f":"Шлейфы!$L$2","v":5.3686572958219374},{"$f":"VLOOKUP($C104,Тнав!$A$3:$E$250,4,FALSE)","v":187.08426133444911},17.63,20.9,22.49,6.1083408994771382,9.2799999999999994,100,"0.0",11.78129148403568,12.944765090942379,null,-0.25908611709677409,"00:00:00",138.47999999999999,-0.89023645463704071,2.189871356374649,14.182986469343732,3.2265537674433098,18.256505975046309,187.08426133444911,-25.979877188899209,2.442941853707453,-0.34707892235587678,1.9893217247737449,-0.47660582058223833,-16.11555751156202,0.50828200000000123,6.4529815785798803,0,0,null,null,6.4529815785798803,-2.5021590285180899,-16.616667501773289,12.944765090942379,{"$error":"#DIV/0!"},-0.54634590885099854,-3.6990244336560489,-31.322604931637979,-16.444996250217461,null,null,null,null,null,null,null,27.148801803588871,-100,null,null,null,null,null,null,null,null,null,null,null,null,null,null,null,null,null,null,null,null,null,null,null,null,null,null,null,null,null,null,291,29,17.82064652888938,20.525314843318061,21.902563469304699,0.99910389727309223,10.635441,251.42003839356201,99.018199999999993,null,"безгидратный",16.642049789428711,8,null,23.248052597045898]
[10,932.8,253,null,null,{"$f":"VLOOKUP($C105,Тнав!$A$3:$E$250,2,FALSE)","v":18.728695805601291},{"$f":"VLOOKUP($C105,$CS:$DG,3,FALSE)","v":17.690079043740521},{"$f":"VLOOKUP($C105,$CS:$DG,5,FALSE)","v":20.307029560899551},{"$f":"VLOOKUP($C105,Тнав!$A$3:$E$250,3,FALSE)","v":3.1776459420600491},{"$f":"VLOOKUP($C105,$CS:$DG,7,FALSE)","v":8.7744370000000007},{"$f":"VLOOKUP($C105,$CS:$DG,9,FALSE)","v":71.995530000000002},{"$f":"VLOOKUP($C105,$CS:$DG,10,FALSE)","v":0},{"$f":"VLOOKUP($C105,$CS:$DG,12,FALSE)","v":12.1377010345459},null,null,{"$f":"Шлейфы!$L$2","v":5.3686572958219374},{"$f":"VLOOKUP($C105,Тнав!$A$3:$E$250,4,FALSE)","v":299.50500138073801},17.72,19.02,20.46,{"$f":"(H105+I105)-S105","v":4.4646755029596008},8.49,80.2,"0.0",{"$f":"(AD105*(1/(1+(5*10^7*0.098*R105)/(18.8+273.15)^3.825))*(18.8+273.15)*0.052)/((POWER(A105,2))*(R105/10.197))","v":13.506983161859827},9.8739814758300781,null,-0.25908611709677409,"00:00:00",159.6,0.10892345200776531,{"$f":"IF(R105=\"\",\"\",(R105-F105))","v":-1.0086958056012918},{"$f":"IF(R105=\"\",\"\",(R105/F105*100-100))","v":-5.3858304714395331},{"$f":"IF(R105=\"\",\"\",(S105-G105))","v":1.3299209562594783},{"$f":"IF(R105=\"\",\"\",(S105/G105*100-100))","v":7.5178915423221895},{"$f":"IF(AD105=\"\",\"\",(Q105-E105))","v":299.50500138073801},{"$f":"IF(AD105=\"\",\"\",(AD105/Q105*100-100))","v":-46.712075169284859},-14.293494279571989,-0.5538065953389264,-13.82496031505902,3.5086508821398441,344.00242095830021,3.053885699999999,68.626644943820196,-10.337899999999999,-10.337899999999999,null,0,68.626644943820196,4.0251882960626162,39.581830259266518,9.8739814758300781,{"$error":"#DIV/0!"},-0.54634590885099854,-3.6990244336560489,-31.141307234599001,-14.488548818072561,null,null,null,null,null,null,null,27.109195709228519,-100,null,null,null,null,null,null,null,null,null,null,null,null,null,null,null,null,null,null,null,null,null,null,null,null,null,null,null,null,null,null,292,null,17.194176953480241,18.26413375228584,19.495136367189911,2.3417342121476041,8.2124830000000006,83.31440473593922,99.748919999999998,null,"безгидратный",6.2278480529785156,8,null,22.099607467651371]
[10,895.35,254,null,null,{"$f":"VLOOKUP($C106,Тнав!$A$3:$E$250,2,FALSE)","v":18.48477232858334},17.887067154119091,20.854997521020909,{"$f":"VLOOKUP($C106,Тнав!$A$3:$E$250,3,FALSE)","v":3.0604237037790472},9.7962030000000002,32.038539999999998,0,15.07113647460938,null,null,{"$f":"Шлейфы!$L$2","v":5.3686572958219374},{"$f":"VLOOKUP($C106,Тнав!$A$3:$E$250,4,FALSE)","v":371.17363554248601},17.739999999999998,19.43,20.9,4.485421224799957,9.6300000000000008,42.8,"0.0",17.143054234133984,19.464042663574219,null,-0.25908611709677409,"00:00:00",202.8,-0.75006883088205356,-0.74477232858334119,-4.0291128034705963,1.5429328458809088,8.6259688778861516,371.17363554248601,-45.36249868512369,-12.121736865662809,1.602086367540863,-12.08035309490343,3.119332787280471,331.52315181146059,0.68983299999999925,8.9421471533754868,5.1004809999999976,20.401924000000012,null,null,8.9421471533754868,2.6469548181739211,17.950897037464259,19.464042663574219,{"$error":"#DIV/0!"},-0.54634590885099854,-3.6990244336560489,-29.812479027532959,-11.63588260735629,null,null,null,null,null,null,null,27.13828086853027,-100,null,null,null,null,null,null,null,null,null,null,null,null,null,null,null,null,null,null,null,null,null,null,null,null,null,null,null,null,null,null,293,null,17.588129624478391,18.748102956413359,20.009850285379979,2.7423251610386221,9.2337959999999999,165.3916367710595,90.716994999999997,null,"безгидратный",12.03193378448486,8,null,22.798269271850589]
[10,878.26,261,26,null,{"$f":"VLOOKUP($C107,Тнав!$A$3:$E$250,2,FALSE)","v":18.270370841866441},20.040590551780681,22.475098794796811,{"$f":"VLOOKUP($C107,Тнав!$A$3:$E$250,3,FALSE)","v":6.2882652805866091},10.06026,94.227379999999997,0,15.92175388336182,null,null,{"$f":"Шлейфы!$L$2","v":5.3686572958219374},{"$f":"VLOOKUP($C107,Тнав!$A$3:$E$250,4,FALSE)","v":310.42772115769441},18.260000000000002,20.81,22.39,7.9533640753834227,9.8000000000000007,96.2,"0.0",19.002615609477353,18.74216270446777,null,-0.25908611709677409,null,231.6,-0.48170908970127968,-1.0370841866439662E-2,-5.6763171126632983E-2,0.76940944821931723,3.8392553664091196,310.42772115769441,-25.393260905861766,-8.244116818670193,-2.3513358093157808,-8.7724346521989389,2.3513358093157799,161.54330974489071,1.5471545,22.14428127728398,15.744529999999999,62.97811999999999,null,null,22.14428127728398,3.9772986917969391,27.21742885424467,18.74216270446777,{"$error":"#DIV/0!"},-0.54634590885099854,-3.6990244336560489,-17.757394442264001,-6.5200980830632318,null,null,null,null,null,null,null,28.766786575317379,-100,null,null,null,null,null,null,null,null,null,null,null,null,null,null,null,null,null,null,null,null,null,null,null,null,null,null,null,null,null,null,301,30,17.7257159713938,18.60255374971192,19.858226127817471,1.5386689021990489,8.2447710000000001,139.5593443001728,49.637520000000002,null,"безгидратный",10.233522415161129,8,null,24.06451416015625]
[10,926.37,262,null,null,{"$f":"VLOOKUP($C108,Тнав!$A$3:$E$250,2,FALSE)","v":16.226685028305269},18.388033729498041,22.948385427469599,{"$f":"VLOOKUP($C108,Тнав!$A$3:$E$250,3,FALSE)","v":5.4312573734865079},10.369687000000001,86.982569999999996,0,16.892990112304691,null,null,{"$f":"Шлейфы!$L$2","v":5.3686572958219374},{"$f":"VLOOKUP($C108,Тнав!$A$3:$E$250,4,FALSE)","v":331.07982496886592},18.260000000000002,21.44,23.06,6.9396428009561042,10.07,95.2,"0.0",20.991490403837158,21.727235794067379,null,-0.25908611709677409,"00:00:00",255.84,-1.386247841743899,2.0333149716947325,12.530686139207646,3.0519662705019606,16.597567284238778,331.07982496886592,-22.725584374082999,-5.6451579818890849,-1.8618021648943111,-6.8753528560622073,1.8618021648943099,162.14961156111701,0.89836600000000111,10.928229083035321,26.00112,173.3408,null,null,10.928229083035321,2.1134608024130159,12.577792739632599,21.727235794067379,{"$error":"#DIV/0!"},-0.54634590885099854,-3.6990244336560489,-10.673070964006,-4.0173419611694356,null,null,null,null,null,null,null,29.069843292236332,null,null,null,null,null,null,null,null,null,null,null,null,null,null,null,null,null,null,null,null,null,null,null,null,null,null,null,null,null,null,null,302,null,17.87542353706618,21.422854995748558,22.862470851462859,1.755239303527667,10.281606,260.71706692433543,97.357759999999999,null,"безгидратный",16.49874305725098,8,null,25.397733688354489]
[10,933.81999999999994,263,null,null,{"$f":"VLOOKUP($C109,Тнав!$A$3:$E$250,2,FALSE)","v":16.895512626281999},18.36645621382868,21.806961486280041,{"$f":"VLOOKUP($C109,Тнав!$A$3:$E$250,3,FALSE)","v":5.6733863742012636},9.9255905000000002,97.988594000000006,0,15.42759418487549,null,null,{"$f":"Шлейфы!$L$2","v":5.3686572958219374},{"$f":"VLOOKUP($C109,Тнав!$A$3:$E$250,4,FALSE)","v":334.13278611113299},18.170000000000002,20.329999999999998,21.87,7.1503478604813075,9.5500000000000007,97.8,"0.0",17.951804371409377,18.8032112121582,null,-0.25908611709677409,"00:00:00",217.68,-9.7236040702963322E-2,1.2744873737180029,7.5433483547309379,1.9635437861713179,10.690923514645718,334.13278611113299,-34.852247654739472,-3.2906713683676538,-0.82601896422394816,-3.3027388864876599,0.82601896422394638,27.147172360744388,0.4849490000000003,6.0421499856717418,39.17841,65.297350000000023,null,null,6.0421499856717418,3.09099616775196,21.653685293690231,18.8032112121582,{"$error":"#DIV/0!"},-0.54634590885099854,-3.6990244336560489,-39.485022145019968,-14.68270443376935,null,null,null,null,null,null,null,28.839740753173832,null,null,null,null,null,null,null,null,null,null,null,null,null,null,null,null,null,null,null,null,null,null,null,null,null,null,null,null,null,null,null,303,null,18.129900021312171,18.816967370029499,20.08899436424349,0.4560112894250718,7.9270759999999996,138.84753201426579,26.82666,null,"безгидратный",10.05939960479736,8,null,23.523223876953121]
[10,929.88,281,28,null,{"$f":"VLOOKUP($C110,Тнав!$A$3:$E$250,2,FALSE)","v":18.391412201012422},17.353421079970229,19.715974545307031,{"$f":"VLOOKUP($C110,Тнав!$A$3:$E$250,3,FALSE)","v":3.877199748262687},8.8599019999999999,100,0,14.165224075317379,null,null,{"$f":"Шлейфы!$L$2","v":5.3686572958219374},{"$f":"VLOOKUP($C110,Тнав!$A$3:$E$250,4,FALSE)","v":351.00090478482713},17.54,18.53,19.93,5.0631742935697162,8.52,100,"0.0",14.737819592922051,16.287931442260739,null,-0.25908611709677409,null,172.32,-0.96459881936807079,-0.85141220101242254,-4.6294008948674019,1.1765789200297725,6.7800977951708319,351.00090478482713,-50.906109457000767,-10.60043514242196,-2.6320808557900972,-10.70509233146298,2.6320808557900981,207.38860343490251,0.9853379999999996,15.49541587381465,0,0,null,null,15.49541587381465,4.9007606008137437,45.255056288171687,16.287931442260739,{"$error":"#DIV/0!"},-0.54634590885099854,-3.6990244336560489,-26.344123803176021,-11.5938534777566,null,null,null,null,null,null,null,26.111919403076168,null,null,null,null,null,null,null,null,null,null,null,null,null,null,null,null,null,null,null,null,null,null,null,null,null,null,null,null,null,null,null,304,null,17.911230790854471,20.28937772003929,21.652823902825929,2.2398100257455811,10.466177,326.9175298211,95.278760000000005,null,"безгидратный",21.90073394775391,8,null,24.87837982177734]
[10,887.75,282,null,null,{"$f":"VLOOKUP($C111,Тнав!$A$3:$E$250,2,FALSE)","v":16.95529295330353},18.871748158607989,20.37470789204724,{"$f":"VLOOKUP($C111,Тнав!$A$3:$E$250,3,FALSE)","v":6.6555933399773446},9.3201260000000001,98.566860000000005,0,13.563376426696779,null,null,{"$f":"Шлейфы!$L$2","v":5.3686572958219374},{"$f":"VLOOKUP($C111,Тнав!$A$3:$E$250,4,FALSE)","v":234.13569856648169},17.559999999999999,18.93,20.36,8.1003012320245844,9,98.6,"0.0",14.741016409065702,16.154806137084961,null,-0.25908611709677409,"00:00:00",172.56,-0.71305487732553985,0.60470704669646835,3.5664794961779052,5.8251841392010562E-2,0.30867220621233571,234.13569856648169,-26.299149998690851,-8.5032777516725417,2.5292147768780642,-8.74238339343988,2.1227589470254231,75.478726885484861,-0.19106800000000049,-2.4096148510606099,-7.8860000000005925E-2,-7.8860000000005925E-2,null,null,-2.4096148510606099,2.7013413798392851,22.346332066960908,16.154806137084961,{"$error":"#DIV/0!"},-0.54634590885099854,-3.6990244336560489,-35.751058081188013,-15.89335423625486,null,null,null,null,null,null,null,26.070930480957031,null,null,null,null,null,null,null,null,null,null,null,null,null,null,null,null,null,null,null,null,null,null,null,null,null,null,null,null,null,null,null,311,31,18.527034836101318,21.434323749032689,22.870423440217881,2.2683654724393749,9.6786840000000005,196.7529677237124,97.770804999999996,null,"безгидратный",12.44641208648682,8,null,25.933797836303711]
[10,933,283,null,null,{"$f":"VLOOKUP($C112,Тнав!$A$3:$E$250,2,FALSE)","v":17.784766445154879},17.433298916094891,20.111757372089901,{"$f":"VLOOKUP($C112,Тнав!$A$3:$E$250,3,FALSE)","v":4.2906211071019742},9.2337959999999999,93.731719999999996,0,12.226327896118161,null,null,{"$f":"Шлейфы!$L$2","v":5.3686572958219374},{"$f":"VLOOKUP($C112,Тнав!$A$3:$E$250,4,FALSE)","v":285.16411823053789},17.5,18.899999999999999,20.329999999999998,5.5023784791918757,8.91,95.4,"0.0",13.414626626792529,15.585189819335939,null,-0.25908611709677409,"00:00:00",156.47999999999999,-1.098698840172293,-0.28476644515487948,-1.6011818093481907,1.4667010839051073,8.4132159436043992,285.16411823053789,-45.126336030294176,-12.21606235998911,2.3914844525260581,-11.91511042467471,2.9677413370324741,186.26489041562041,-5.6874999999999787E-2,-0.74644985169435074,-5.969380000000001,-5.969380000000001,null,null,-0.74644985169435074,2.290637316599053,20.81711712234021,15.585189819335939,{"$error":"#DIV/0!"},-0.54634590885099854,-3.6990244336560489,-25.60061726766298,-13.13552774402295,null,null,null,null,null,null,null,26.691829681396481,-100,null,null,null,null,null,null,null,null,null,null,null,null,null,null,null,null,null,null,null,null,null,null,null,null,null,null,null,null,null,null,312,null,18.707883347874041,22.776709795020238,24.300471680307091,0.7283783634783233,9.8535079999999997,284.4280394132706,96.633300000000006,null,"безгидратный",16.880319595336911,8,null,25.831157684326168]
[10,935.21,284,null,null,{"$f":"VLOOKUP($C113,Тнав!$A$3:$E$250,2,FALSE)","v":17.363698265720931},17.576448384376619,20.195564339362011,{"$f":"VLOOKUP($C113,Тнав!$A$3:$E$250,3,FALSE)","v":4.7966085553940996},9.7035350000000005,99.506095999999999,0,12.31035900115967,null,null,{"$f":"Шлейфы!$L$2","v":5.3686572958219374},{"$f":"VLOOKUP($C113,Тнав!$A$3:$E$250,4,FALSE)","v":281.91427477160801},17.53,18.89,20.229166666666671,6.1021728947561087,9.41,99.5,"0.0",13.226654132600482,14.57150077819824,null,-0.25908611709677409,"00:00:00",154.56,-1.150955542843541,0.16630173427907025,0.95775526465683924,1.313551615623382,7.4733620063480686,281.91427477160801,-45.174823046751953,-8.8676861398669899,2.587353076213049,-8.8415319654530293,2.1536900770789509,107.00888735985519,0.1053606999999994,1.3443666105241481,0,0,null,null,1.3443666105241481,3.320372939543534,30.86055704394732,14.57150077819824,{"$error":"#DIV/0!"},-0.54634590885099854,-3.6990244336560489,-28.121247123427992,-13.650008965833109,null,null,null,null,null,null,null,26.397806167602539,-100,null,null,null,null,null,null,null,null,null,null,null,null,null,null,null,null,null,null,null,null,null,null,null,null,null,null,null,null,null,null,313,null,18.364836626168572,19.462686643322819,20.768632917089779,3.989595543543361,8.5381280000000004,99.084844252355438,96.012230000000002,null,"безгидратный",6.9335999488830566,8,null,25.48477745056152]
[10,933.97,291,29,null,{"$f":"VLOOKUP($C114,Тнав!$A$3:$E$250,2,FALSE)","v":16.771878023040511},17.82064652888938,21.902563469304699,{"$f":"VLOOKUP($C114,Тнав!$A$3:$E$250,3,FALSE)","v":3.0429238791658282},10.635441,99.018199999999993,0,16.642049789428711,null,null,{"$f":"Шлейфы!$L$2","v":5.3686572958219374},{"$f":"VLOOKUP($C114,Тнав!$A$3:$E$250,4,FALSE)","v":360.85122682149301},17.739999999999998,20.41,21.96,4.5354873484705287,10.38,99,"0.0",19.699296640643905,20.794797897338871,null,-0.25908611709677409,null,233.04,-0.44897861762008873,0.96812197695948754,5.7722932138519099,2.5893534711106199,14.530075925769424,360.85122682149301,-35.419368792867942,-8.4223553907021369,7.3140109272360414,-8.2221269269814741,2.1321501661279938,387.24601776106613,0.20646700000000001,2.2555085810419508,10.465214,52.326070000000023,null,null,2.2555085810419508,2.9332210531290741,17.777330444073659,20.794797897338871,{"$error":"#DIV/0!"},-0.54634590885099854,-3.6990244336560489,-30.292807816265,-10.67948202152526,null,null,null,null,null,null,null,26.53739166259766,-100,null,null,null,null,null,null,null,null,null,null,null,null,null,null,null,null,null,null,null,null,null,null,null,null,null,null,null,null,null,null,314,null,18.664151366285939,22.681557758854829,24.198953972922219,0.38264029829022961,10.036503,257.97088643757547,97.865679999999998,null,"безгидратный",15.377870559692379,8,null,25.38779449462891]
[10,933.94999999999993,292,null,null,{"$f":"VLOOKUP($C115,Тнав!$A$3:$E$250,2,FALSE)","v":18.66147705758825},17.194176953480241,19.495136367189911,{"$f":"VLOOKUP($C115,Тнав!$A$3:$E$250,3,FALSE)","v":3.319890685634777},8.2124830000000006,99.748919999999998,0,6.2278480529785156,null,null,{"$f":"Шлейфы!$L$2","v":5.3686572958219374},{"$f":"VLOOKUP($C115,Тнав!$A$3:$E$250,4,FALSE)","v":141.36567578515999},17.64,18.440000000000001,19.84,4.375027052824688,7.93,99.9,"0.0",6.1014680852710281,null,null,null,null,71.760000000000005,-0.31799241162062591,-1.0214770575882497,-5.4737202978951274,1.2458230465197602,7.2456102428769924,141.36567578515999,-49.238031366923174,-12.71979121163197,1.642892819611717,-12.57680808413247,3.089755471503516,383.16902939237133,6.4449244999999999,1032.1126929729039,20,25,null,null,1032.1126929729039,2.2984387740591372,53.991595875812102,0,{"$error":"#DIV/0!"},-0.54634590885099854,-3.6990244336560489,-18.085193675667,-17.706120772959618,null,null,null,null,null,null,null,25.640876770019531,-100,null,null,null,null,null,null,null,null,null,null,null,null,null,null,null,null,null,null,null,null,null,null,null,null,null,null,null,null,null,null,321,32,17.223020278843439,19.466738397910252,20.778796565929401,2.0503783510262421,7.4787150000000002,79.609330693233062,82.587760000000003,null,"безгидратный",5.5679268836975098,8,null,23.477834701538089]
[10,923.68000000000006,293,null,null,{"$f":"VLOOKUP($C116,Тнав!$A$3:$E$250,2,FALSE)","v":16.660839781631619},17.588129624478391,20.009850285379979,{"$f":"VLOOKUP($C116,Тнав!$A$3:$E$250,3,FALSE)","v":6.3874975520699566},9.2337959999999999,90.716994999999997,0,12.03193378448486,null,null,{"$f":"Шлейфы!$L$2","v":5.3686572958219374},{"$f":"VLOOKUP($C116,Тнав!$A$3:$E$250,4,FALSE)","v":242.85424661229709},17.7,18.77,20.190000000000001,7.6273478374499355,8.91,84.2,"0.0",12.729660558713549,13.942051887512211,null,0,"00:00:00",150.24,-0.32222016651112639,1.0391602183683801,6.2371418967370573,1.1818703755216085,6.7197047142337141,242.85424661229709,-38.135732812673616,-10.47372831602547,4.4806571781747664,-10.04063902225352,2.4087589780738199,98.674036402638222,1.0342249999999999,15.842179434155909,26.152916000000001,37.361308571428587,null,null,15.842179434155909,3.3940843527800588,34.301154829229858,13.942051887512211,{"$error":"#DIV/0!"},-0.54634590885099854,-3.6990244336560489,-16.080383228323971,-8.4912323218915446,null,null,null,null,null,null,null,26.240652084350589,-100,null,null,null,null,null,null,null,null,null,null,null,null,null,null,null,null,null,null,null,null,null,null,null,null,null,null,null,null,null,null,322,null,17.569126506064251,19.734448345872309,21.058629829880331,2.4236006591094621,9.6271105000000006,165.18436597056129,98.779883999999996,null,"безгидратный",11.39273643493652,8,null,24.083023071289059]
[10,941.77,271,27,12,{"$f":"VLOOKUP($C117,Тнав!$A$3:$E$250,2,FALSE)","v":15.34933080785518},18.12480595945333,24.06942643036064,{"$f":"VLOOKUP($C117,Тнав!$A$3:$E$250,3,FALSE)","v":3.8079731415794811},9.2637049999999999,99.807739999999995,0,14.377964019775391,null,null,{"$f":"Шлейфы!$L$2","v":5.3686572958219374},{"$f":"VLOOKUP($C117,Тнав!$A$3:$E$250,4,FALSE)","v":288.64210421797878},18.010000000000002,22.4,24.11,5.4773995719401221,8.9600000000000009,98.1,"0.0",18.416007290037349,15.531534194946291,null,-0.57263909290322568,null,221.28,-0.57814510102144112,2.6606691921448213,17.334105476332539,4.2751940405466691,23.587529985758906,276.64210421797878,-23.337587702419114,-1.144692629116719,5.5844659190097019,-1.3620661637258,0.36056261013347601,28.49442047736736,0.35762299999999941,4.5135612686632953,40.573149999999998,135.2438333333333,null,null,4.5135612686632953,0.54886010917637762,3.1571274463311032,15.531534194946291,{"$error":"#DIV/0!"},-0.54634590885099854,-3.6990244336560489,-14.35910911302901,-5.6708874048388509,null,null,null,null,null,null,null,27.633369445800781,-100,null,null,null,null,null,null,null,null,null,null,null,null,null,null,null,null,null,null,null,null,null,null,null,null,null,null,null,null,null,null,323,null,17.380654440870838,18.789253634287551,20.051891478511681,3.662833428480357,9.1808530000000008,165.2403817607094,99.766440000000003,null,"безгидратный",11.99464702606201,8,null,24.268720626831051]
[10,903.18000000000006,272,null,null,{"$f":"VLOOKUP($C118,Тнав!$A$3:$E$250,2,FALSE)","v":16.5320988557635},18.01499325875595,22.901730840245701,{"$f":"VLOOKUP($C118,Тнав!$A$3:$E$250,3,FALSE)","v":2.7718253696991342},9.6056620000000006,93.908199999999994,0,18.025955200195309,null,null,{"$f":"Шлейфы!$L$2","v":5.3686572958219374},{"$f":"VLOOKUP($C118,Тнав!$A$3:$E$250,4,FALSE)","v":408.47569726481538},17.93,21.34,22.96,4.3335562099448346,9.27,99,"0.0",22.43370777199608,18.409259796142582,null,-0.57263909290322568,"00:00:00",268.32,-0.24828559315995591,1.3979011442364992,8.4556785949120723,3.3250067412440494,18.456885847725601,408.47569726481538,-34.311881515426421,-7.9227243502356259,3.0777884346655071,-8.4004862676307965,2.2719350086356331,388.10436762309951,0.38663600000000109,4.7410913549969393,13.373900000000001,53.495600000000003,null,null,4.7410913549969393,5.1141109238576501,32.183446523644562,18.409259796142582,{"$error":"#DIV/0!"},-0.54634590885099854,-3.6990244336560489,-33.303575286273031,-10.63591965323306,null,null,null,null,null,null,null,27.459260940551761,-100,null,null,null,null,null,null,null,null,null,null,null,null,null,null,null,null,null,null,null,null,null,null,null,null,null,null,null,null,null,null,331,33,17.976376556439359,20.1303922212198,21.48114153926365,3.6506805757475389,9.7206539999999997,226.61905618955581,100,null,"безгидратный",15.30855560302734,8,null,25.632871627807621]
[10,937.90000000000009,273,null,null,{"$f":"VLOOKUP($C119,Тнав!$A$3:$E$250,2,FALSE)","v":17.226432320703111},17.763034214045671,20.140629433904731,{"$f":"VLOOKUP($C119,Тнав!$A$3:$E$250,3,FALSE)","v":6.8751285149130741},8.027514,99.776449999999997,0,9.9186077117919922,null,null,{"$f":"Шлейфы!$L$2","v":5.3686572958219374},{"$f":"VLOOKUP($C119,Тнав!$A$3:$E$250,4,FALSE)","v":214.43280735867941},18,18.989999999999998,20.43,8.0257579488178088,7.48,29.6,"0.0",9.732902770730794,9.8767938613891602,null,-0.57263909290322568,"00:00:00",116.88,0.26610252242817722,0.77356767929688885,4.4905855425861887,1.2269657859543273,6.9074110378289646,214.43280735867941,-45.493415191596078,-8.8269146721491296,-1.958300044461307,-8.2015478101281332,1.9583000444613059,51.435909731974789,0.63154299999999974,10.660033083519,22.336130000000001,31.908757142857159,null,null,10.660033083519,0.84574947830022218,8.7790541176898245,9.8767938613891602,{"$error":"#DIV/0!"},-0.54634590885099854,-3.6990244336560489,-26.598594313256999,-16.167882091631849,null,null,null,null,null,null,null,27.620462417602539,null,null,null,null,null,null,null,null,null,null,null,null,null,null,null,null,null,null,null,null,null,null,null,null,null,null,null,null,null,null,null,332,null,17.875843487031961,20.40852035084464,21.77589121435123,3.88769324552627,9.8435970000000008,237.14106701104001,100,null,"безгидратный",15.79250335693359,8,null,26.54610443115234]
[10,938.51,274,null,null,{"$f":"VLOOKUP($C120,Тнав!$A$3:$E$250,2,FALSE)","v":18.13889983723255},17.70284751691954,20.26085856600525,{"$f":"VLOOKUP($C120,Тнав!$A$3:$E$250,3,FALSE)","v":4.8537286376957391},8.1860029999999995,99.720129999999997,0,10.092692375183111,null,null,{"$f":"Шлейфы!$L$2","v":5.3686572958219374},{"$f":"VLOOKUP($C120,Тнав!$A$3:$E$250,4,FALSE)","v":233.6461607385898},17.84,19.100000000000001,20.55,6.0145872037009873,7.79,99.7,"0.0",10.690290522985277,9.7100973129272461,null,-0.57263909290322568,"00:00:00",127.2,-0.4207933811329525,-0.29889983723255042,-1.6478388431200131,1.3971524830804611,7.8922471751797616,233.6461607385898,-45.558703127026725,-9.445668666264794,-2.4470957014920458,-9.8627898927855142,2.4470957014920458,100.5473373586585,0.73936449999999976,12.51039763113366,6.9795600000000064,8.7244500000000187,null,null,12.51039763113366,1.615560143341902,17.71955843769268,9.7100973129272461,{"$error":"#DIV/0!"},-0.54634590885099854,-3.6990244336560489,-26.27837381814501,-15.60148458102665,null,null,null,null,null,null,null,27.587142944335941,null,null,null,null,null,null,null,null,null,null,null,null,null,null,null,null,null,null,null,null,null,null,null,null,null,null,null,null,null,null,null,333,null,18.097547583423999,21.109985231516241,22.520132244981529,2.6108059640818828,11.392792,271.94286028139328,100,null,"безгидратный",17.483625411987301,8,null,25.6807975769043]
[10,929.48,301,30,null,{"$f":"VLOOKUP($C121,Тнав!$A$3:$E$250,2,FALSE)","v":16.067922914264319},17.7257159713938,19.858226127817471,{"$f":"VLOOKUP($C121,Тнав!$A$3:$E$250,3,FALSE)","v":2.628831345946367},8.2447710000000001,49.637520000000002,0,10.233522415161129,null,null,{"$f":"Шлейфы!$L$2","v":5.3686572958219374},{"$f":"VLOOKUP($C121,Тнав!$A$3:$E$250,4,FALSE)","v":215.55287259347381},17.649999999999999,18.46,22.73,4.0270574737638363,8.42,58.9,"0.0",10.788598599927981,8.9235744476318359,null,-0.57263909290322568,null,126.96,-1.063052713448783,1.5820770857356798,9.8461829458441628,0.73428402860620068,4.1424788132180765,215.55287259347381,-41.100297819067947,-16.14548452939437,-4.0123850059293638,-15.78306805761372,4.0123850059293638,492.63220123893808,-0.1243599999999994,-1.742957252978272,-0.50542000000000087,-0.50542000000000087,null,null,-1.742957252978272,2.2325444133873802,25.188321928305509,8.9235744476318359,{"$error":"#DIV/0!"},-0.54634590885099854,-3.6990244336560489,-22.30379359476299,-13.475882743662099,null,null,null,null,null,null,null,26.559457778930661,null,null,null,null,null,null,null,null,null,null,null,null,null,null,null,null,null,null,null,null,null,null,null,null,null,null,null,null,null,null,null,334,null,17.867484286690971,20.037243747559021,21.379739078645471,3.8862267178574128,9.7499540000000007,184.59608358420479,98.391120000000001,null,"безгидратный",12.53169536590576,8,null,25.830642700195309]
[10,935.77,302,null,null,{"$f":"VLOOKUP($C122,Тнав!$A$3:$E$250,2,FALSE)","v":14.799429409965351},17.87542353706618,22.862470851462859,{"$f":"VLOOKUP($C122,Тнав!$A$3:$E$250,3,FALSE)","v":5.5109880057588514},10.281606,97.357759999999999,0,16.49874305725098,null,null,{"$f":"Шлейфы!$L$2","v":5.3686572958219374},{"$f":"VLOOKUP($C122,Тнав!$A$3:$E$250,4,FALSE)","v":332.98370433223158},17.77,21.28,27.91,7.0934588572217088,2.7041666666666671,97.3,"0.0",20.738371397223563,17.465347290039059,null,-0.57263909290322568,"00:00:00",245.76,-0.91105022982852546,2.9705705900346491,20.07219675668297,3.4045764629338215,19.046130324543924,332.98370433223158,-26.19458646096534,1.765922589505323,0.14131709331776679,0.57196498494111836,-0.14131709331776851,-4.5536445137069279,0.63712699999999955,7.3979587097373383,80,400,null,null,7.3979587097373383,3.2971373996216609,20.405974075724561,17.465347290039059,{"$error":"#DIV/0!"},-0.54634590885099854,-3.6990244336560489,-12.36684195012103,-4.6325896475734254,null,null,null,null,null,null,null,27.893556594848629,null,null,null,null,null,null,null,null,null,null,null,null,null,null,null,null,null,null,null,null,null,null,null,null,null,null,null,null,null,null,null,341,34,19.316746328007831,23.281423877419549,24.848263704369881,1.485303119667267,9.4291079999999994,316.0494224561312,40.861935000000003,null,"безгидратный",18.32089805603027,8,null,27.2232666015625]
[10,925.89,303,null,null,{"$f":"VLOOKUP($C123,Тнав!$A$3:$E$250,2,FALSE)","v":15.752779938259369},18.129900021312171,20.08899436424349,{"$f":"VLOOKUP($C123,Тнав!$A$3:$E$250,3,FALSE)","v":3.3169802822710071},7.9270759999999996,26.82666,0,10.05939960479736,null,null,{"$f":"Шлейфы!$L$2","v":5.3686572958219374},{"$f":"VLOOKUP($C123,Тнав!$A$3:$E$250,4,FALSE)","v":189.4832983941113},17.87,18.5,33.119999999999997,4.9059746465144976,2.7041666666666671,31,"0.0",10.712049862938454,8.8902978897094727,null,-0.57263909290322568,"00:00:00",127.68,-1.0919328779244639,2.1172200617406318,13.440294792657269,0.37009997868782918,2.0413790382338988,189.4832983941113,-32.616752462037567,-15.8072363726468,-0.76326392430391365,-15.4317420017962,3.9114067109006392,322.08206950558213,-0.55843899999999991,-7.7346121883656593,-1.277439999999999,-1.277439999999999,null,null,-7.7346121883656593,2.5763722105346609,29.057981503694439,8.8902978897094727,{"$error":"#DIV/0!"},-0.54634590885099854,-3.6990244336560489,-22.476498081205019,-13.15956903890944,null,null,null,null,null,null,null,26.374349594116211,-100,null,null,null,null,null,null,null,null,null,null,null,null,null,null,null,null,null,null,null,null,null,null,null,null,null,null,null,null,null,null,342,null,19.233190274417559,22.763852198554691,24.295859451517419,1.9426070408321601,9.5316580000000002,288.408254324361,28.764216999999999,null,"безгидратный",17.119966506958011,8,null,27.122541427612301]
[10,892.06000000000006,304,null,null,{"$f":"VLOOKUP($C124,Тнав!$A$3:$E$250,2,FALSE)","v":15.727035181654861},17.911230790854471,21.652823902825929,{"$f":"VLOOKUP($C124,Тнав!$A$3:$E$250,3,FALSE)","v":5.3244265159391748},10.466177,95.278760000000005,0,21.90073394775391,null,null,{"$f":"Шлейфы!$L$2","v":5.3686572958219374},{"$f":"VLOOKUP($C124,Тнав!$A$3:$E$250,4,FALSE)","v":476.96527741704051},17.68,20.22,32.409999999999997,6.7572504187651035,10.220000000000001,95.1,"0.0",25.346510241411295,21.56614875793457,null,-0.57263909290322568,"00:00:00",298.8,-0.104981946916979,1.9529648183451389,12.417882937168073,2.3087692091455274,12.890064541652777,476.96527741704051,-37.353930328404076,-5.3996998238608711,1.406446392008178,-5.5185851124956864,1.4176316702095679,69.167359972271953,-0.13216800000000009,-1.4257605177993611,5.3379459999999987,26.68972999999998,null,null,-1.4257605177993611,5.3922437318138314,29.110833960236189,21.56614875793457,{"$error":"#DIV/0!"},-0.54634590885099854,-3.6990244336560489,-43.33416084218203,-11.838856322768731,null,null,null,null,null,null,null,27.501979827880859,-100,null,null,null,null,null,null,null,null,null,null,null,null,null,null,null,null,null,null,null,null,null,null,null,null,null,null,null,null,null,null,343,null,19.2660370941555,23.136752508852041,24.693855952697781,1.3313809406432879,9.4647179999999995,255.4259909086843,38.906857000000002,null,"безгидратный",14.904415130615231,8,null,27.013307571411129]
[10,927.11,311,31,null,{"$f":"VLOOKUP($C125,Тнав!$A$3:$E$250,2,FALSE)","v":16.414927802706899},18.527034836101318,22.870423440217881,{"$f":"VLOOKUP($C125,Тнав!$A$3:$E$250,3,FALSE)","v":5.230351434305347},9.6786840000000005,97.770804999999996,0,12.44641208648682,null,null,{"$f":"Шлейфы!$L$2","v":5.3686572958219374},{"$f":"VLOOKUP($C125,Тнав!$A$3:$E$250,4,FALSE)","v":243.7651154245948},18.57,21.44,23.07,6.6607748745232271,9.44,97.8,"0.0",14.727273232794463,18.334859848022461,null,-0.57263909290322568,null,182.64,-0.320936081826801,2.1550721972931015,13.12873393776195,2.9129651638986829,15.722781274327559,243.7651154245948,-25.075415453981549,0.45469463078340772,-3.4356054340657778,-0.64206040949254373,0.16212361403705741,5.9275385436964294,1.8114630000000009,26.907444817444539,-1.3595499999999989,-1.3595499999999989,null,null,26.907444817444539,0.28859051406164582,2.020046492006728,18.334859848022461,{"$error":"#DIV/0!"},-0.54634590885099854,-3.6990244336560489,-1.435267437221029,-0.71817075435805577,null,null,null,null,null,null,null,28.21175384521484,-100,null,null,null,null,null,null,null,null,null,null,null,null,null,null,null,null,null,null,null,null,null,null,null,null,null,null,null,null,null,null,351,35,16.634203341482358,20.073330945302519,21.418244118637791,4.4496851698488484,5.7143445000000002,75.766863677359964,90.200559999999996,null,"безгидратный",5.1339225769042969,9,null,24.741474151611332]
[10,916.69,312,null,null,{"$f":"VLOOKUP($C126,Тнав!$A$3:$E$250,2,FALSE)","v":16.197574056517791},18.707883347874041,24.300471680307091,{"$f":"VLOOKUP($C126,Тнав!$A$3:$E$250,3,FALSE)","v":3.4121889102410781},9.8535079999999997,96.633300000000006,0,16.880319595336911,null,null,{"$f":"Шлейфы!$L$2","v":5.3686572958219374},{"$f":"VLOOKUP($C126,Тнав!$A$3:$E$250,4,FALSE)","v":311.54447041673347},18.690000000000001,22.67,24.4,5.0426605905481665,9.64,96.6,"0.0",19.147312421452163,18.9095573425293,null,-0.57263909290322568,"00:00:00",239.04,-0.41549008203164922,2.4924259434822105,15.387649624477405,3.9621166521259603,21.178861223636034,311.54447041673347,-23.272591010762866,0.60001289375573208,-0.2635702536331479,0.85447214516780434,-0.22112285460439909,-11.7567174231592,1.3593265000000001,18.274693142250261,-0.29088600000000042,-0.29088600000000042,null,null,18.274693142250261,2.0645671769617979,12.54993902892612,18.9095573425293,{"$error":"#DIV/0!"},-0.54634590885099854,-3.6990244336560489,-8.9230348598130149,-3.365421582289557,null,null,null,null,null,null,null,28.02964973449707,-100,null,null,null,null,null,null,null,null,null,null,null,null,null,null,null,null,null,null,null,null,null,null,null,null,null,null,null,null,null,null,352,null,16.864421592781831,20.040471670650788,21.379175178250261,4.4859813757502911,7.3774505000000001,63.957225339646008,100,null,"безгидратный",12.061088562011721,8,null,26.469404220581051]
[10,925.64,313,null,null,{"$f":"VLOOKUP($C127,Тнав!$A$3:$E$250,2,FALSE)","v":17.701471132461052},18.364836626168572,20.768632917089779,{"$f":"VLOOKUP($C127,Тнав!$A$3:$E$250,3,FALSE)","v":6.5771967377169833},8.5381280000000004,96.012230000000002,0,6.9335999488830566,null,null,{"$f":"Шлейфы!$L$2","v":5.3686572958219374},{"$f":"VLOOKUP($C127,Тнав!$A$3:$E$250,4,FALSE)","v":143.28100821807951},18.46,19.79,21.29,7.5558296548067645,8.2100000000000009,96,"0.0",7.2629139333918582,15.90734767913818,null,-0.57263909290322568,"00:00:00",89.52,-0.1866288950027517,0.75852886753894921,4.2851176710841514,1.4251633738314275,7.7602834310035291,143.28100821807951,-37.521377666643076,-6.7963245349178578,-2.4604741404707648,-6.688470486156973,1.6374676637025281,45.388367882053103,-0.90622369999999997,-11.447855635982361,-4.4168300000000036,-4.4168300000000036,null,null,-11.447855635982361,-2.333522090520443,-20.664296703588779,15.90734767913818,{"$error":"#DIV/0!"},-0.54634590885099854,-3.6990244336560489,-6.4205554773639903,-4.9290097480658517,null,null,null,null,null,null,null,27.827548980712891,-100,null,null,null,null,null,null,null,null,null,null,null,null,null,null,null,null,null,null,null,null,null,null,null,null,null,null,null,null,null,null,353,null,16.94579245684908,23.383736692904971,24.938755182983151,2.0261385725843279,9.2337959999999999,62.445650644491813,100,null,"безгидратный",10.01669120788574,8,null,27.97386360168457]
[10,924.77,314,null,null,{"$f":"VLOOKUP($C128,Тнав!$A$3:$E$250,2,FALSE)","v":15.33315246279375},18.664151366285939,24.198953972922219,{"$f":"VLOOKUP($C128,Тнав!$A$3:$E$250,3,FALSE)","v":4.9622340123966797},10.036503,97.865679999999998,0,15.377870559692379,null,null,{"$f":"Шлейфы!$L$2","v":5.3686572958219374},{"$f":"VLOOKUP($C128,Тнав!$A$3:$E$250,4,FALSE)","v":279.90935642566859},18.55,22.53,24.25,6.6311879853188955,9.82,97.9,"0.0",18.947845496402568,18.589925765991211,null,-0.57263909290322568,"00:00:00",234.72,-0.60137046479056266,3.2168475372062506,20.979687934441444,3.8658486337140623,20.712694393901842,279.90935642566859,-16.144282207182613,2.9379160524622558,1.8936536439711349,2.72800120384484,-0.6956615738270493,-31.707671414669861,0.46027999999999908,5.3900742440920766,-2.3909100000000052,-2.3909100000000052,null,null,5.3900742440920766,2.7162021062859112,17.16089682419604,18.589925765991211,{"$error":"#DIV/0!"},-0.54634590885099854,-3.6990244336560489,0.2369702558879965,9.3299688048873008E-2,null,null,null,null,null,null,null,27.907901763916019,-100,null,null,null,null,null,null,null,null,null,null,null,null,null,null,null,null,null,null,null,null,null,null,null,null,null,null,null,null,null,null,361,36,18.628695590271089,25.401206966772609,27.110708195636398,0.89389229305754669,10.115741,356.44145668402109,100,null,"безгидратный",18.84160232543945,8,null,28.88115119934082]
[10,934.27,321,32,null,{"$f":"VLOOKUP($C129,Тнав!$A$3:$E$250,2,FALSE)","v":16.117262123417639},17.223020278843439,20.778796565929401,{"$f":"VLOOKUP($C129,Тнав!$A$3:$E$250,3,FALSE)","v":4.9295629959127094},7.4787150000000002,82.587760000000003,0,5.5679268836975098,null,null,{"$f":"Шлейфы!$L$2","v":5.3686572958219374},{"$f":"VLOOKUP($C129,Тнав!$A$3:$E$250,4,FALSE)","v":130.28999468161209},17.36,19.82,21.33,5.8883595618421083,6.29,82.1,"0.0",5.5598291711021162,8.6933555603027344,null,-0.57263909290322568,null,64.320000000000007,-0.93100783424426936,1.2427378765823605,7.7106016336156813,2.5969797211565613,15.078538369641592,130.28999468161209,-50.633200840035393,-8.8925333609256825,4.0529582417014893,-8.9032094796248487,2.126700098151483,88.334345374122677,0.39341570000000031,6.0832462271152963,0,0,null,null,6.0832462271152963,0.9210734713362676,10.57324002089698,8.6933555603027344,{"$error":"#DIV/0!"},-0.54634590885099854,-3.6990244336560489,-21.975346614185991,-15.142554425329211,null,null,null,null,null,null,null,26.486721038818359,-100,null,null,null,null,null,null,null,null,null,null,null,null,null,null,null,null,null,null,null,null,null,null,null,null,null,null,null,null,null,null,362,null,18.176857946281348,22.41690856616524,23.930049894381391,3.162880801226545,9.0314820000000005,222.6822701729466,100,null,"безгидратный",13.43156147003174,8,null,27.86384391784668]
[10,933.39,322,null,null,{"$f":"VLOOKUP($C130,Тнав!$A$3:$E$250,2,FALSE)","v":16.025044397013112},17.569126506064251,21.058629829880331,{"$f":"VLOOKUP($C130,Тнав!$A$3:$E$250,3,FALSE)","v":5.3079205765645101},9.6271105000000006,98.779883999999996,0,11.39273643493652,null,null,{"$f":"Шлейфы!$L$2","v":5.3686572958219374},{"$f":"VLOOKUP($C130,Тнав!$A$3:$E$250,4,FALSE)","v":225.41020447193941},17.510000000000002,19.63,9.31,6.7365504064448416,9.31,98.8,"0.0",12.378605484848771,11.25631904602051,null,-0.57263909290322568,"00:00:00",144.47999999999999,-0.28384541825477427,1.48495560298689,9.2664679497778337,2.0608734939357483,11.730085119623951,225.41020447193941,-35.903522940113461,-6.5396643855520296,2.1163516456228,-5.5834130780586264,1.3434633882875739,50.653016135244712,0.66050499999999968,8.7368386243386311,-1.3107300000000071,-1.3107300000000071,null,null,8.7368386243386311,0.59587523751809179,4.9047422879092863,11.25631904602051,{"$error":"#DIV/0!"},-0.54634590885099854,-3.6990244336560489,-27.211909517790989,-14.32099704917229,null,null,null,null,null,null,null,26.861539840698239,null,null,null,null,null,null,null,null,null,null,null,null,null,null,null,null,null,null,null,null,null,null,null,null,null,null,null,null,null,null,null,363,null,18.550525561262301,24.345391840674239,25.983836711551611,1.276144006477278,10.295825000000001,330.35619536262828,99.774950000000004,null,"безгидратный",18.266506195068359,8,null,28.40230751037598]
[10,929.4,323,null,null,{"$f":"VLOOKUP($C131,Тнав!$A$3:$E$250,2,FALSE)","v":16.851546681152779},17.380654440870838,20.051891478511681,{"$f":"VLOOKUP($C131,Тнав!$A$3:$E$250,3,FALSE)","v":5.6590056937504398},9.1808530000000008,99.766440000000003,0,11.99464702606201,null,null,{"$f":"Шлейфы!$L$2","v":5.3686572958219374},{"$f":"VLOOKUP($C131,Тнав!$A$3:$E$250,4,FALSE)","v":234.75890072559849},17.59,19.02,20.46,6.6908971722621224,8.83,99.7,"0.0",12.525227983024541,10.09453868865967,null,-0.57263909290322568,"00:00:00",146.88,-0.87382181043235718,0.73845331884722043,4.3821100390335488,1.6393455591291612,9.4320128433956967,234.75890072559849,-37.43368215389502,-9.3036933717711889,-2.1868520890675849,-9.062257469904111,2.1868520890675862,85.70941334073413,1.0622739999999999,15.588665179619619,-0.28488000000000108,-0.28488000000000108,null,null,15.588665179619619,1.880780658078983,17.478076934540741,10.09453868865967,{"$error":"#DIV/0!"},-0.54634590885099854,-3.6990244336560489,-8.5332138689169881,-4.9992277815977673,null,null,null,null,null,null,null,27.049079895019531,null,null,null,null,null,null,null,null,null,null,null,null,null,null,null,null,null,null,null,null,null,null,null,null,null,null,null,null,null,null,null,371,37,23.391020560769881,24.676383183127129,26.39139181435446,3.19182766176981,5.8477205999999997,123.9459163317367,30.105238,null,"безгидратный",6.7413454055786133,8,null,30.473812103271481]
[10,916.17000000000007,331,33,null,{"$f":"VLOOKUP($C132,Тнав!$A$3:$E$250,2,FALSE)","v":17.427062329384992},17.976376556439359,21.48114153926365,{"$f":"VLOOKUP($C132,Тнав!$A$3:$E$250,3,FALSE)","v":5.1610825252280206},9.7206539999999997,100,0,15.30855560302734,null,null,{"$f":"Шлейфы!$L$2","v":5.3686572958219374},{"$f":"VLOOKUP($C132,Тнав!$A$3:$E$250,4,FALSE)","v":350.93704626139692},18.09,20.16,21.68,6.4822240644916711,9.41,100,"0.0",17.25830590213949,16.903549194335941,null,-0.57263909290322568,null,208.32,-0.99249918331415543,0.6629376706150083,3.8040701185602757,2.1836234435606414,12.147183481080575,350.93704626139692,-40.638925921536369,-10.841049496493159,-2.8711206493797121,-10.81907561886227,2.871120649379713,146.06745606328511,-0.12525640000000049,-1.555651601525156,9.7540249999999986,48.770125000000007,null,null,-1.555651601525156,2.0638457372666039,14.153550586959881,16.903549194335941,{"$error":"#DIV/0!"},-0.54634590885099854,-3.6990244336560489,-28.237753378277009,-11.23738464344393,null,null,null,null,null,null,null,28.310127258300781,null,null,null,null,null,null,null,null,null,null,null,null,null,null,null,null,null,null,null,null,null,null,null,null,null,null,null,null,null,null,null,372,null,22.196282533138941,23.35012661061884,24.968290384734729,3.0081860539369609,6.1559124000000001,107.3849964602734,30.051167,null,"безгидратный",6.1933450698852539,8,null,29.181779861450199]
[10,931.54,332,null,null,{"$f":"VLOOKUP($C133,Тнав!$A$3:$E$250,2,FALSE)","v":16.85052129773543},17.875843487031961,21.77589121435123,{"$f":"VLOOKUP($C133,Тнав!$A$3:$E$250,3,FALSE)","v":5.717770325707666},9.8435970000000008,100,0,15.79250335693359,null,null,{"$f":"Шлейфы!$L$2","v":5.3686572958219374},{"$f":"VLOOKUP($C133,Тнав!$A$3:$E$250,4,FALSE)","v":346.74550303230609},18.12,20.53,22.09,6.9636615400588937,9.58,100,"0.0",18.002927210167538,17.722707748413089,null,-0.57263909290322568,"00:00:00",217.68,-0.86863971595751366,1.2694787022645713,7.5337651567799213,2.65415651296804,14.847727408742983,346.74550303230609,-37.22196882255777,-9.0090053876855478,-2.381096362420962,-9.0450463183152863,2.381096362420962,86.278708893532269,0.1238469999999996,1.492132530120486,11.08588,44.343520000000012,null,null,1.492132530120486,2.254574049469277,14.69342914139828,17.722707748413089,{"$error":"#DIV/0!"},-0.54634590885099854,-3.6990244336560489,-28.276430630988951,-10.799870456557439,null,null,null,null,null,null,null,29.06886100769043,null,null,null,null,null,null,null,null,null,null,null,null,null,null,null,null,null,null,null,null,null,null,null,null,null,null,null,null,null,null,null,373,null,22.385912115564029,24.718535771675459,26.431530300652572,4.5611726649991073,6.3496829999999997,119.1559269474736,99.218215999999998,21,"безгидратный",6.470393180847168,8,null,29.50302696228027]
[10,922.43999999999994,333,null,null,{"$f":"VLOOKUP($C134,Тнав!$A$3:$E$250,2,FALSE)","v":16.868493376140371},18.097547583423999,22.520132244981529,{"$f":"VLOOKUP($C134,Тнав!$A$3:$E$250,3,FALSE)","v":4.3919070419082296},11.392792,100,0,17.483625411987301,null,null,{"$f":"Шлейфы!$L$2","v":5.3686572958219374},{"$f":"VLOOKUP($C134,Тнав!$A$3:$E$250,4,FALSE)","v":380.1088105259181},18.2,21.14,22.74,5.7720392868897576,10.95,100,"0.0",20.509673346533798,18.526899337768551,null,-0.57263909290322568,"00:00:00",249.12,-0.73631641349886578,1.331506623859628,7.8934531624678357,3.0424524165760012,16.811407195097857,380.1088105259181,-34.460871965762152,-8.2560369594513077,-2.246592172251034,-8.3531711150721151,2.2465921722510349,143.70369790568171,0.74051799999999979,8.36478854147839,18.606210000000001,93.031049999999993,null,null,8.36478854147839,2.5720377328688002,14.96308342592363,18.526899337768551,{"$error":"#DIV/0!"},-0.54634590885099854,-3.6990244336560489,-20.150730564620009,-7.010271092502137,null,null,null,null,null,null,null,28.306528091430661,-100,null,null,null,null,null,null,null,null,null,null,null,null,null,null,null,null,null,null,null,null,null,null,null,null,null,null,null,null,null,null,382,38,null,null,null,null,0,0,0,null,null,null,8]
[10,931.11,334,null,null,{"$f":"VLOOKUP($C135,Тнав!$A$3:$E$250,2,FALSE)","v":16.575734080667122},17.867484286690971,21.379739078645471,{"$f":"VLOOKUP($C135,Тнав!$A$3:$E$250,3,FALSE)","v":6.3366135754103494},9.7499540000000007,98.391120000000001,0,12.53169536590576,null,null,{"$f":"Шлейфы!$L$2","v":5.3686572958219374},{"$f":"VLOOKUP($C135,Тнав!$A$3:$E$250,4,FALSE)","v":269.06525833481152},18.079999999999998,20.18,21.7,7.5363526540558219,9.4700000000000006,98.3,"0.0",15.139477700308833,12.786930084228519,null,-0.57263909290322568,"00:00:00",182.64,-0.53305833939979053,1.5042659193328767,9.075108903245237,2.3125157133090291,12.942592679550089,269.06525833481152,-32.120556503533507,-6.2443215786967272,5.392274260303509E-2,-5.8019441288222851,1.4402093343036171,37.866762516268352,0.15640600000000049,1.8800153857249311,-7.9605000000000814E-2,-7.9605000000000814E-2,null,null,1.8800153857249311,1.024289941589585,7.9064917951614291,12.786930084228519,{"$error":"#DIV/0!"},-0.54634590885099854,-3.6990244336560489,-32.811683950937983,-15.19822021661089,null,null,null,null,null,null,null,28.4979248046875,-100,null,null,null,null,null,null,null,null,null,null,null,null,null,null,null,null,null,null,null,null,null,null,null,null,null,null,null,null,null,null,391,39,26.542102792899001,33.690563044279131,36.005104725421113,1.4943776147053169,9.6041869999999996,490.39265172096549,99.007935000000003,null,"безгидратный",19.152091979980469,8,null,38.201389312744141]
[10,887.66000000000008,341,34,null,{"$f":"VLOOKUP($C136,Тнав!$A$3:$E$250,2,FALSE)","v":17.858413667641301},19.316746328007831,24.848263704369881,{"$f":"VLOOKUP($C136,Тнав!$A$3:$E$250,3,FALSE)","v":3.297311966256995},9.4291079999999994,40.861935000000003,0,18.32089805603027,null,null,{"$f":"Шлейфы!$L$2","v":5.3686572958219374},{"$f":"VLOOKUP($C136,Тнав!$A$3:$E$250,4,FALSE)","v":420.88275926567911},19.170000000000002,23.15,24.92,4.9955756706268772,9.26,51,"0.0",23.071687286893798,22.685396194458011,null,-0.57263909290322568,null,295.68,5.5439627683089299E-2,1.3115863323587007,7.3443607969236382,3.8332536719921677,19.844199467662094,420.88275926567911,-29.747656920925522,-7.7717968988100523,-1.074421003988107,-7.6495485185578929,2.2151308517732491,259.2423617566705,0.43248900000000029,5.4128785982478149,78.503524999999996,392.51762500000001,null,null,5.4128785982478149,2.4164920335652482,12.43589239573704,22.685396194458011,{"$error":"#DIV/0!"},-0.54634590885099854,-3.6990244336560489,-64.918073211508954,-17.205286115615639,null,null,null,null,null,null,null,29.449819564819339,-100,null,null,null,null,null,null,null,null,null,null,null,null,null,null,null,null,null,null,null,null,null,null,null,null,null,null,null,null,null,null,392,null,26.178333550120989,32.068461275720537,34.271564565362553,3.7364553696350429,8.9818499999999997,453.17579896532698,99.124589999999998,null,"безгидратный",18.665300369262699,8,null,38.668487548828118]
[10,886.41,342,null,null,{"$f":"VLOOKUP($C137,Тнав!$A$3:$E$250,2,FALSE)","v":16.59398118722499},{"$f":"VLOOKUP($C137,$CS:$DG,3,FALSE)","v":19.233190274417559},{"$f":"VLOOKUP($C137,$CS:$DG,5,FALSE)","v":24.295859451517419},{"$f":"VLOOKUP($C137,Тнав!$A$3:$E$250,3,FALSE)","v":6.1942168286233512},{"$f":"VLOOKUP($C137,$CS:$DG,7,FALSE)","v":9.5316580000000002},{"$f":"VLOOKUP($C137,$CS:$DG,9,FALSE)","v":28.764216999999999},{"$f":"VLOOKUP($C137,$CS:$DG,10,FALSE)","v":0},{"$f":"VLOOKUP($C137,$CS:$DG,12,FALSE)","v":17.119966506958011},null,null,{"$f":"Шлейфы!$L$2","v":5.3686572958219374},{"$f":"VLOOKUP($C137,Тнав!$A$3:$E$250,4,FALSE)","v":312.55329458272331},19.18,22.72,24.45,{"$f":"(H137+I137)-S137","v":7.7700762801407706},9.34,39,"0.0",20.176845880219485,21.953170776367191,null,-0.57263909290322568,"00:00:00",258.72000000000003,-0.1100479677232933,{"$f":"IF(R137=\"\",\"\",(R137-F137))","v":2.5860188127750092},{"$f":"IF(R137=\"\",\"\",(R137/F137*100-100))","v":15.584077043343143},{"$f":"IF(R137=\"\",\"\",(S137-G137))","v":3.4868097255824395},{"$f":"IF(R137=\"\",\"\",(S137/G137*100-100))","v":18.129128219670946},{"$f":"IF(AD137=\"\",\"\",(Q137-E137))","v":312.55329458272331},{"$f":"IF(AD137=\"\",\"\",(AD137/Q137*100-100))","v":-17.223716887897098},-2.533457831767763,-1.299610867537254,-2.856136478059327,0.77504679966171164,29.21822345150807,1.300229000000001,17.687543360857561,73.626686000000007,294.50674400000003,null,null,17.687543360857561,1.615070106256042,8.9262965702663593,21.953170776367191,{"$error":"#DIV/0!"},-0.54634590885099854,-3.6990244336560489,-7.3410780370629709,-2.5112004940291399,null,null,null,null,null,null,null,29.34343338012695,-100,null,null,null,null,null,null,null,null,null,null,null,null,null,null,null,null,null,null,null,null,null,null,null,null,null,null,null,null,null,null,393,null,26.331430799618829,33.353711730097721,35.645111725955431,1.655692426220799,9.0698589999999992,433.93968405342338,98.869749999999996,null,"безгидратный",17.13216400146484,8,null,37.983375549316413]
[10,930.24,343,null,null,{"$f":"VLOOKUP($C138,Тнав!$A$3:$E$250,2,FALSE)","v":17.467003646112779},19.2660370941555,24.693855952697781,{"$f":"VLOOKUP($C138,Тнав!$A$3:$E$250,3,FALSE)","v":3.3992851830634341},9.4647179999999995,38.906857000000002,0,14.904415130615231,null,null,{"$f":"Шлейфы!$L$2","v":5.3686572958219374},{"$f":"VLOOKUP($C138,Тнав!$A$3:$E$250,4,FALSE)","v":331.58631590273433},19.11,23.03,24.78,5.0631411357612137,9.26,49.1,"0.0",18.693861319489571,22.774932861328121,null,-0.57263909290322568,"00:00:00",238.8,-0.37422804107212221,1.6429963538872201,9.4062862021149414,3.763962905844501,19.536778048591657,331.58631590273433,-27.982552793267786,-4.4899030197959178,0.97990612564109369,-5.4982391841437277,1.557851428802554,177.56103247817441,1.175254,15.959668110647881,63.841470000000001,182.4042,null,null,15.959668110647881,-1.0708523616099941,-5.5112505799512093,22.774932861328121,{"$error":"#DIV/0!"},-0.54634590885099854,-3.6990244336560489,9.8298398723520108,3.9007221808235069,null,null,null,null,null,null,null,29.198104858398441,-100,null,null,null,null,null,null,null,null,null,null,null,null,null,null,null,null,null,null,null,null,null,null,null,null,null,null,null,null,null,null,401,40,22.919354180319989,29.627977958484511,31.645643257457309,3.6933681981705879,7.5346869999999999,414.26939399971332,77.571640000000002,null,"безгидратный",18.582941055297852,8,null,35.385078430175781]
[10,925.52,351,35,null,{"$f":"VLOOKUP($C139,Тнав!$A$3:$E$250,2,FALSE)","v":19.108278452801741},16.634203341482358,21.418244118637791,{"$f":"VLOOKUP($C139,Тнав!$A$3:$E$250,3,FALSE)","v":4.0944782943988676},5.7143445000000002,90.200559999999996,0,5.1339225769042969,null,null,{"$f":"Шлейфы!$L$2","v":5.3686572958219374},{"$f":"VLOOKUP($C139,Тнав!$A$3:$E$250,4,FALSE)","v":92.804691331700781},18.77,21.01,22.62,4.5027224130366577,5.36,90.2,"18.0",null,18.011140823364261,null,-0.57263909290322568,null,58.56,{"$error":"#VALUE!"},-0.33827845280174174,-1.7703240699433138,4.3757966585176433,26.30601880166563,92.804691331700781,-36.899741640542771,{"$error":"#DIV/0!"},-0.4209731486406838,{"$error":"#VALUE!"},{"$error":"#VALUE!"},{"$error":"#VALUE!"},0,{"$error":"#DIV/0!"},44.891005999999997,{"$error":"#DIV/0!"},{"$error":"#VALUE!"},null,{"$error":"#DIV/0!"},{"$error":"#VALUE!"},{"$error":"#VALUE!"},18.011140823364261,{"$error":"#DIV/0!"},-0.54634590885099854,-3.6990244336560489,0,{"$error":"#DIV/0!"},null,null,null,null,null,null,null,29.208744049072269,-100,null,null,null,null,null,null,null,null,null,null,null,null,null,null,null,null,null,null,null,null,null,null,null,null,null,null,null,null,null,null,402,null,26.76278086546915,31.721263989183221,33.970301606016307,1.8020454366434,7.2691306999999998,400.60026839714487,57.662112999999998,null,"безгидратный",16.657232284545898,8,null,35.926155090332031]
[6.2,926.18999999999994,352,null,null,{"$f":"VLOOKUP($C140,Тнав!$A$3:$E$250,2,FALSE)","v":14.61829165724318},16.864421592781831,21.379175178250261,{"$f":"VLOOKUP($C140,Тнав!$A$3:$E$250,3,FALSE)","v":6.7892840301534978},7.3774505000000001,100,0,12.061088562011721,null,null,{"$f":"Шлейфы!$L$2","v":5.3686572958219374},{"$f":"VLOOKUP($C140,Тнав!$A$3:$E$250,4,FALSE)","v":88.141937607565779},17,20.12,21.65,8.0484592084037594,6.77,100,"0.0",{"$f":"(AD140*(1/(1+(5*10^7*0.098*R140)/(18.8+273.15)^3.825))*(18.8+273.15)*0.052)/((POWER(A140,2))*(R140/10.197))","v":13.510962171561427},4.3470258712768546,null,-0.57263909290322568,null,58.8,-0.67763690178980696,2.38170834275682,16.292658530839432,3.2555784072181702,19.304417820126105,88.141937607565779,-33.289417505438607,-4.979751211646203,-0.88209097734389275,-5.4867901352598381,1.3803767586817699,38.01493431478815,1.3439976,36.411844707539757,-4.8820000000006303E-2,-4.8820000000006303E-2,null,null,36.411844707539757,3.3946218662461458,32.54485759757037,4.3470258712768546,{"$error":"#DIV/0!"},-0.54634590885099854,-3.6990244336560489,-10.818614560288911,-14.058694976232269,null,null,null,null,null,null,null,28.895709991455082,-100,null,null,null,null,null,null,null,null,null,null,null,null,null,null,null,null,null,null,null,null,null,null,null,null,null,null,null,null,null,null,403,null,27.09205188979896,30.895676223447381,33.024388315242902,0.93186557637580725,6.3999176000000002,87.383483733179744,90.912750000000003,16,"безгидратный",10.40372276306152,8,null,34.823348999023438]
[6.2,926.56999999999994,353,null,null,{"$f":"VLOOKUP($C141,Тнав!$A$3:$E$250,2,FALSE)","v":14.52783460857},16.94579245684908,24.938755182983151,{"$f":"VLOOKUP($C141,Тнав!$A$3:$E$250,3,FALSE)","v":5.6422825787135418},9.2337959999999999,100,0,10.01669120788574,null,null,{"$f":"Шлейфы!$L$2","v":5.3686572958219374},{"$f":"VLOOKUP($C141,Тнав!$A$3:$E$250,4,FALSE)","v":82.504721814676671},16.96,23.33,25.11,7.2510377616966935,8.91,100,"0.0",13.433223220280881,{"$error":"#VALUE!"},null,-0.57263909290322568,"00:00:00",58.320000000000007,-2.3419693964871229,2.4321653914300008,16.741417127610063,6.384207543150918,37.674293246584483,82.504721814676671,-29.313136609321276,3.5240828186123569,1.015083877602763E-2,2.6827495982271188,-0.71231631977451837,-23.017169183966601,1.3064249999999999,20.882418759290928,0,0,null,null,20.882418759290928,-0.33719535428081038,-2.394639959791149,{"$error":"#VALUE!"},{"$error":"#VALUE!"},-0.54634590885099854,-3.6990244336560489,-9.5428442292426041,-12.786862391221151,null,null,null,null,null,null,null,29.570131301879879,null,null,null,null,null,null,null,null,null,null,null,null,null,null,null,null,null,null,null,null,null,null,null,null,null,null,null,null,null,null,null,411,41,22.52504985444612,25.872832939270211,27.629598295846659,5.5041230125327596,8.7168200000000002,264.81369454440551,79.961296000000004,null,"безгидратный",13.719118118286129,8,null,33.558200836181641]
[10,893.32,361,36,null,{"$f":"VLOOKUP($C142,Тнав!$A$3:$E$250,2,FALSE)","v":16.632125198379669},18.628695590271089,27.110708195636398,{"$f":"VLOOKUP($C142,Тнав!$A$3:$E$250,3,FALSE)","v":2.244407583512749},10.115741,100,0,18.84160232543945,null,null,{"$f":"Шлейфы!$L$2","v":5.3686572958219374},{"$f":"VLOOKUP($C142,Тнав!$A$3:$E$250,4,FALSE)","v":490.23900548607241},18.96,25.23,27.17,4.125115779149148,9.8800000000000008,100,"0.0",28.980401283773478,23.72403717041016,null,-0.57263909290322568,null,367.2,-1.1050339438501671,2.3278748016203323,13.996255883446082,6.6013044097289111,35.43621386554014,490.23900548607241,-25.09775927847258,-4.5138486243556031,-0.24938179811975661,-4.4318894214788571,1.332857429856096,192.749584676133,2.0022489999999999,27.802449421664321,34.659396999999998,173.29698500000001,null,null,27.802449421664321,7.4354112347557688,37.068474826631927,23.72403717041016,{"$error":"#DIV/0!"},-0.54634590885099854,-3.6990244336560489,-21.396103465830041,-5.2784950449949264,null,null,null,null,null,null,null,30.960952758789059,null,null,null,null,null,null,null,null,null,null,null,null,null,null,null,null,null,null,null,null,null,null,null,null,null,null,null,null,null,null,null,412,null,22.730402162401941,26.28722600041916,28.07212864584762,5.8263495538536301,8.8546519999999997,297.31014053815738,93.002759999999995,null,"безгидратный",15.144649505615231,8,null,33.948410034179688]
[10,929.26,362,null,null,{"$f":"VLOOKUP($C143,Тнав!$A$3:$E$250,2,FALSE)","v":16.629435530298199},18.176857946281348,23.930049894381391,{"$f":"VLOOKUP($C143,Тнав!$A$3:$E$250,3,FALSE)","v":5.8203660430190443},9.0314820000000005,100,0,13.43156147003174,null,null,{"$f":"Шлейфы!$L$2","v":5.3686572958219374},{"$f":"VLOOKUP($C143,Тнав!$A$3:$E$250,4,FALSE)","v":260.11181205688638},18.68,22.46,24.18,7.2904159374004323,8.98,100,"0.0",15.964916693684806,15.43866539001465,null,-0.57263909290322568,"00:00:00",199.2,-0.1041778958944377,2.0505644697018006,12.330932495969279,4.2831420537186524,23.563709780737454,260.11181205688638,-23.417549389708228,0.38029211340153779,-9.6669499173334117E-2,-0.36755550544226878,9.6669499173335893E-2,2.5390066041457828,0.47373899999999919,6.2572017276221459,51.598960000000012,171.9965333333333,null,null,6.2572017276221459,1.7068452259306459,11.37167483549848,15.43866539001465,{"$error":"#DIV/0!"},-0.54634590885099854,-3.6990244336560489,-36.830313174569973,-14.138124893094661,null,null,null,null,null,null,null,30.211870193481449,null,null,null,null,null,null,null,null,null,null,null,null,null,null,null,null,null,null,null,null,null,null,null,null,null,null,null,null,null,null,null,413,null,22.55124836809685,26.21360861622825,27.993512641270151,4.6026829750386113,8.8339689999999997,231.1976756235976,98.187610000000006,null,"безгидратный",11.812130928039551,8,null,32.962654113769531]
[10,931.49,363,null,null,{"$f":"VLOOKUP($C144,Тнав!$A$3:$E$250,2,FALSE)","v":15.70940959001241},18.550525561262301,25.983836711551611,{"$f":"VLOOKUP($C144,Тнав!$A$3:$E$250,3,FALSE)","v":5.5120941977627664},10.295825000000001,99.774950000000004,0,18.266506195068359,null,null,{"$f":"Шлейфы!$L$2","v":5.3686572958219374},{"$f":"VLOOKUP($C144,Тнав!$A$3:$E$250,4,FALSE)","v":354.69243529623111},18.84,24.29,26.15,7.2059309093143789,10.050000000000001,99.8,"0.0",23.546649385313952,22.79414176940918,null,-0.57263909290322568,"00:00:00",296.39999999999998,-0.98077510872503026,3.1305904099875903,19.928122645538053,5.7394744387376981,30.93968642442681,354.69243529623111,-16.434642945668301,0.89541180488352268,0.39841489294196458,1.4583266716050221,-0.39841489294196331,-12.24803484745051,0.500197,5.6540517933240579,56.046880000000002,280.23439999999999,null,null,5.6540517933240579,2.7061089721841358,12.832392454070559,22.79414176940918,{"$error":"#DIV/0!"},-0.54634590885099854,-3.6990244336560489,-36.123577867850031,-9.9907773352725684,null,null,null,null,null,null,null,30.640047073364261,null,null,null,null,null,null,null,null,null,null,null,null,null,null,null,null,null,null,null,null,null,null,null,null,null,null,null,null,null,null,null,"35Р",17,23.292563640149801,30.740612211357309,32.671122658230537,33.470350526403507,0.2,132.54268302531591,66.260210000000001,null,"гидратный",15.963137626647949,49.952583196096533]
[10,944.77,371,37,null,{"$f":"VLOOKUP($C145,Тнав!$A$3:$E$250,2,FALSE)","v":22.766435848956512},23.391020560769881,26.39139181435446,{"$f":"VLOOKUP($C145,Тнав!$A$3:$E$250,3,FALSE)","v":5.1467780868171076},5.8477205999999997,30.105238,0,6.7413454055786133,null,null,{"$f":"Шлейфы!$L$2","v":5.3686572958219374},{"$f":"VLOOKUP($C145,Тнав!$A$3:$E$250,4,FALSE)","v":153.6746296458569},23.16,24.55,26.45,6.9881699011715668,5.62,31.4,"0.0",7.8502490453503251,11.741769790649411,null,-0.57263909290322568,null,122.4,-5.011579036392888E-2,0.39356415104348841,1.7287034020370413,1.1589794392301194,4.9548049270406551,153.6746296458569,-20.351198970141823,-1.778604317494114,-0.51694045724690341,-1.9850840880636871,0.51694045724690341,8.5111146645694902,0.31935339999999979,4.8269131361375912,8.4356839999999949,9.3729822222222197,null,null,4.8269131361375912,0.46350916095382289,3.767165252746409,11.741769790649411,{"$error":"#DIV/0!"},-0.54634590885099854,-3.6990244336560489,-33.492386756720997,-15.873088106952761,null,null,null,null,null,null,null,32.295192718505859,-100,null,null,null,null,null,null,null,null,null,null,null,null,null,null,null,null,null,null,null,null,null,null,null,null,null,null,null,null,null,null,"51Р",null,17.168345195387321,23.44593839779575,24.873796046221511,17.74808598477961,0.8,136.08035497524179,89.908676,null,"гидратный",21.888381958007809,41.794853492273099]
[10,944.7700000000001,372,null,null,{"$f":"VLOOKUP($C146,Тнав!$A$3:$E$250,2,FALSE)","v":21.484611074868319},22.196282533138941,24.968290384734729,{"$f":"VLOOKUP($C146,Тнав!$A$3:$E$250,3,FALSE)","v":5.8542442734638884},6.1559124000000001,30.051167,0,6.1933450698852539,null,null,{"$f":"Шлейфы!$L$2","v":5.3686572958219374},{"$f":"VLOOKUP($C146,Тнав!$A$3:$E$250,4,FALSE)","v":132.18735480263729},22.16,23.25,25.04,7.5725346581986166,5.91,31.6,"0.0",7.0263243430021909,11.159359931945801,null,-0.57263909290322568,"00:00:00",104.64,-0.43707038439093893,0.67538892513168136,3.1435939090455349,1.0537174668610589,4.7472700227520761,132.18735480263729,-20.839629360741014,-3.4605766612218081,-0.94903593777528883,-3.720353209357782,0.94903593777528883,16.931294608343318,9.0089999999998227E-3,0.13188212732941909,-2.1508400000000019,-2.1508400000000019,null,0,0.13188212732941909,0.77946384372221722,7.6312698902902127,11.159359931945801,{"$error":"#DIV/0!"},-0.54634590885099854,-3.6990244336560489,-25.764048939721022,-14.67654545656487,null,null,null,null,null,null,null,31.174900054931641,-100,null,null,null,null,null,null,null,null,null,null,null,null,null,null,null,null,null,null,null,null,null,null,null,null,null,null,null,null,null,null,"101Т",18,21.51542880603111,35.211832949602353,37.409051325657543,21.60205953891543,0.4,214.00863012612919,98.581869999999995,null,"гидратный",13.883852005004879,49.952583196096533]
[10,944.97,373,null,null,{"$f":"VLOOKUP($C147,Тнав!$A$3:$E$250,2,FALSE)","v":21.204326993569939},22.385912115564029,26.431530300652572,{"$f":"VLOOKUP($C147,Тнав!$A$3:$E$250,3,FALSE)","v":7.009629385222337},6.3496829999999997,99.218215999999998,21,6.470393180847168,null,null,{"$f":"Шлейфы!$L$2","v":5.3686572958219374},{"$f":"VLOOKUP($C147,Тнав!$A$3:$E$250,4,FALSE)","v":131.52496412636651},23.23,24.95,26.87,8.4911596858749085,5.92,99.2,"21.0",6.9510062721143546,14.64578437805176,null,-0.57263909290322568,"00:00:00",108.72,-0.59607532406259267,2.0256730064300612,9.5531115278703709,2.5640878844359705,11.454024616907461,131.52496412636651,-17.338886406732612,4.4008910204034626,-3.0934220932477392,4.0251914672033422,-1.023486474770992,-16.18635816415971,-0.3235329999999994,-4.1158817393074258,14.419980000000001,16.964682352941171,null,null,-4.1158817393074258,-1.361487783646355,-9.4632524579748889,14.64578437805176,{"$error":"#DIV/0!"},-0.54634590885099854,-3.6990244336560489,-37.004587836793007,-17.499380960651191,null,null,null,null,null,null,null,31.433872222900391,-100,null,null,null,null,null,null,null,null,null,null,null,null,null,null,null,null,null,null,null,null,null,null,null,null,null,null,null,null,null,null,"102Т",19,22.471086243773051,38.710623154200093,41.13777922596843,19.66368615282925,-0.9,305.45726494835748,96.970749999999995,null,"гидратный",17.8958854675293,49.952583196096533]
[null,null,382,38,null,{"$f":"VLOOKUP($C148,Тнав!$A$3:$E$250,2,FALSE)","v":0},0,0,{"$f":"VLOOKUP($C148,Тнав!$A$3:$E$250,3,FALSE)","v":0},0,0,0,0,null,null,{"$f":"Шлейфы!$L$2","v":5.3686572958219374},{"$f":"VLOOKUP($C148,Тнав!$A$3:$E$250,4,FALSE)","v":0},null,null,null,0,null,null,null,null,null,null,null,null,null,{"$error":"#VALUE!"},"","","","","","",{"$error":"#DIV/0!"},null,null,null,null,0,{"$error":"#DIV/0!"},null,{"$error":"#DIV/0!"},null,null,{"$error":"#DIV/0!"},0,{"$error":"#DIV/0!"},0,{"$error":"#DIV/0!"},0,{"$error":"#DIV/0!"},0,{"$error":"#DIV/0!"},null,null,null,null,null,null,null,null,-100,null,null,null,null,null,null,null,null,null,null,null,null,null,null,null,null,null,null,null,null,null,null,null,null,null,null,null,null,null,null,"103Т",30,29.871110945874591,43.210057720915017,45.953896386193122,16.673441063152151,1.1000000000000001,362.54188141595961,99.923900000000003,31,"гидратный",18.8475341796875,49.952583196096533]
[null,null,null,null,null,null,null,null,null,null,null,null,null,null,null,null,null,null,null,null,null,null,null,null,null,null,null,null,null,null,null,null,null,null,null,null,null,null,null,null,null,null,null,null,null,null,null,null,null,null,null,null,null,null,null,null,null,null,null,null,null,null,null,null,null,-100,null,null,null,null,null,null,null,null,null,null,null,null,null,null,null,null,null,null,null,null,null,null,null,null,null,null,null,null,null,null,"174БОК",null,38.194934574604993,40.946058509031452,43.570700859460374,16.26478032929155,3.9,124.7201697591094,18.634598,null,"гидратный",11.01973342895508,49.952583196096533]
[null,null,null,null,"ср.зн.",21.52165825155577,24.775232273897679,26.66918627371815,2.1838509416889909,6.9796647517592403,null,null,16.305130512158289,{"$error":"#DIV/0!"},{"$error":"#DIV/0!"},16.283913138800781,37874.567877950009,20.787854116985471,24.501476153416782,{"$error":"#VALUE!"},{"$error":"#VALUE!"},6.4319341346323524,74.272262841176484,null,{"$error":"#VALUE!"},{"$error":"#VALUE!"},13.896827529109981,{"$error":"#DIV/0!"},"min",34714.264459200007,null,null,null,null,null,null,null,null,-5.1405744091197363,-15.78306805761372,-3.1090037212707649,-56.00879416831603,{"$error":"#REF!"},-606.18437887669972,-44.224677,-73.707795000000004,{"$error":"#VALUE!"},{"$error":"#VALUE!"},{"$error":"#REF!"},-17.084019620720461,{"$error":"#REF!"},{"$error":"#VALUE!"},{"$error":"#DIV/0!"},-0.7491722009589985,{"$error":"#REF!"},-226.96416616985701,{"$error":"#REF!"},null,null,null,null,null,null,null,null,null,null,null,null,null,null,null,null,null,null,null,null,null,null,null,null,null,null,null,null,null,null,null,null,null,null,null,null,null,null,null,"174ОСН","11Т",19.671300652028371,30.864208947617499,32.76235779789598,27.643713591552359,4.3,36.139373722795597,3.1231225,null,"гидратный",4.3396053314208984,49.952583196096533]
[null,null,null,null,null,null,null,null,null,null,null,null,null,null,null,null,null,null,null,null,null,null,null,null,null,null,null,null,"max",null,null,null,null,null,null,null,null,null,7.3140109272360414,9.3111559832627364,4.0123850059293638,663.27021419135178,{"$error":"#REF!"},1063.0821249999999,80,400,{"$error":"#VALUE!"},{"$error":"#VALUE!"},{"$error":"#REF!"},15.94097835311945,{"$error":"#REF!"},{"$error":"#VALUE!"},{"$error":"#DIV/0!"},-0.18420845739164091,{"$error":"#REF!"},40.634424524914948,{"$error":"#REF!"},null,null,null,null,null,null,null,null,null,null,null,null,null,null,null,null,null,null,null,null,null,null,null,null,null,null,null,null,null,null,null,null,null,null,null,null,null,null,null,184,null,19.560102566663438,28.282968970183301,30.042169640128702,18.301921789527619,-0.6,169.56877026807669,20.475527,null,"гидратный",13.917524337768549,27.518826510582208]
[null,null,null,null,null,null,null,null,null,null,null,null,null,null,null,null,null,null,null,null,null,null,null,null,null,null,null,null,null,null,null,null,null,null,null,null,null,null,null,null,null,null,null,null,null,null,null,null,null,null,null,null,null,null,null,{"$error":"#REF!"},{"$error":"#REF!"},null,null,null,null,null,null,null,null,-100,null,null,null,null,null,null,null,null,null,null,null,null,null,null,null,null,null,null,null,null,null,null,null,null,null,null,null,null,null,null,"201Т",null,23.12235017565305,38.430075829662798,40.862699629680463,23.537542977282762,-1.1000000000000001,249.22364253251149,94.529780000000002,null,"гидратный",14.7071418762207,49.952583196096533]
[null,null,null,null,null,null,null,null,null,null,null,null,null,null,null,null,null,null,null,null,null,null,null,null,null,null,null,null,null,null,null,null,null,null,null,null,null,null,null,null,null,null,null,null,null,null,null,null,null,null,null,null,null,null,null,null,null,null,null,null,null,null,null,null,null,-100,null,null,null,null,null,null,null,null,null,null,null,null,null,null,null,null,null,null,null,null,null,null,null,null,null,null,null,null,null,null,"202Т",null,21.44246942792503,43.739077434278897,46.512134943612182,17.302972535348459,-3.4,311.34489590900768,100,null,"гидратный",15.975385665893549,49.952583196096533]
[null,null,null,null,null,null,null,null,null,null,null,null,null,null,null,null,null,null,null,null,null,null,null,null,null,null,null,null,null,null,null,null,null,null,null,null,null,null,null,null,null,null,null,null,null,null,null,null,null,null,null,null,null,null,null,null,null,null,null,null,null,null,null,null,null,null,null,null,null,null,null,null,null,null,null,null,null,null,null,null,null,null,null,null,null,null,null,null,null,null,null,null,null,null,null,null,"203Т","13Т",22.50664671085314,35.950988863067117,38.219496260326657,22.569525613751988,-0.1,255.99183200425779,96.816540000000003,null,"гидратный",16.230792999267582,49.952583196096533]
[null,null,null,null,null,null,null,null,null,null,null,null,null,null,null,null,null,null,null,null,null,null,null,null,null,null,null,null,null,null,null,null,null,null,null,null,null,null,null,null,null,null,null,null,null,null,null,null,null,null,null,null,null,null,null,null,null,null,null,null,null,null,null,null,null,null,null,null,null,null,null,null,null,null,null,null,null,null,null,null,null,null,null,null,null,null,null,null,null,null,null,null,null,null,null,null,"204Т",null,22.12984852219433,34.102766734771123,36.247830762388219,19.768590631941692,0.9,235.12510075902301,99.743409999999997,null,"гидратный",15.78310394287109,49.952583196096533]
[null,null,"ТУРОН",null,null,null,null,null,null,null,null,null,null,null,null,null,null,null,null,null,null,null,null,null,null,null,null,null,null,null,null,null,null,null,null,null,null,null,null,null,null,null,null,null,null,null,null,null,null,null,null,null,null,null,null,null,null,null,null,null,null,null,null,null,null,null,null,null,null,null,null,null,null,null,null,null,null,null,null,null,null,null,null,null,null,null,null,null,null,null,null,null,null,null,null,null,"301Т",null,19.220937649016129,36.363839975842822,38.67294381430883,27.299143401993341,-1.6,258.82200185206023,98.291245000000004,null,"гидратный",16.204195022583011,49.952583196096533]
[null,null,"№ скв","№ куста","Шлейф","Плановый режим",null,null,null,null,null,null,null,null,null,null,null,"Фактический режим на 8:00",null,null,null,null,null,null,null,null,null,null,null,null,"Разница факт/план","Разница факт/план",null,null,null,null,null,null,null,null,null,null,null,null,null,null,null,null,null,null,null,null,null,null,null,null,null,null,"Разница факт/план",null,null,null,null,null,null,null,null,null,null,null,null,null,null,null,null,null,null,null,null,null,null,null,null,null,null,null,null,null,null,null,null,null,null,null,null,null,"302Т",null,21.234155967621358,40.325397234552767,42.906222657564157,21.105091998905841,-2.8,306.51110818743427,97.143974,null,"гидратный",17.161468505859379,49.952583196096533]
[null,null,null,null,null,null,null,null,null,null,null,null,null,null,null,null,null,null,null,null,null,null,null,null,null,null,null,null,null,null,null,null,null,null,null,null,null,null,null,null,null,null,null,null,null,null,null,null,null,null,null,null,null,null,null,null,null,null,null,null,null,null,null,null,null,null,null,null,null,null,null,null,null,null,null,null,null,null,null,null,null,null,null,null,null,null,null,null,null,null,null,null,null,null,null,null,383,"14Т",51.59703488720185,49.901177625241033,53.224596055082067,12.204938187271599,4.8,96.242531502521587,97.406329999999997,11,"гидратный",6.8283491134643546,30.577975149515989]
[null,null,null,null,null,null,null,null,null,null,null,null,null,null,null,null,null,null,null,null,null,null,null,null,null,null,null,null,null,null,null,null,null,null,null,null,null,null,null,null,null,null,null,null,null,null,null,null,null,null,null,null,null,null,null,null,null,null,null,null,null,null,null,null,null,null,null,null,null,null,null,null,null,null,null,null,null,null,null,null,null,null,null,null,null,null,null,null,null,null,null,null,null,null,null,null,"401Т",null,57.138584617518212,61.231928967228022,65.377330558309367,4.1880202949917464,3.5,247.59272591072039,42.117344000000003,null,"гидратный",8.7190351486206055,15.28223195484717]
[null,null,null,null,null,null,null,null,null,null,null,null,null,null,null,null,null,null,null,null,null,null,null,null,null,null,null,null,null,null,null,null,null,null,null,null,null,null,null,null,null,null,null,null,null,null,null,null,null,null,null,null,null,null,null,null,null,null,"Шлейф",null,null,null,null,null,null,null,null,null,null,null,null,null,null,null,null,null,null,null,null,null,null,null,null,null,null,null,null,null,null,null,null,null,null,null,null,null,"402Т",null,22.846102880506489,42.785116635826398,45.527642612182873,16.195551611760589,-3.1,320.35145624461791,98.222399999999993,null,"гидратный",16.82318115234375,49.952583196096533]
[null,null,null,null,null,"Давл. труб., кгс/см2","Давл. затр., кгс/см2","Давл. забойн., кгс/см2","Депр., кгс/см2\n(норма 23,5 кгс/см2)","Т уст., 0С","Процент открытия УР, %","Лимитная шайба, мм","Скорость газа в НКТ, м/сек","Скорость газа на устье, м/сек","Давл. ЗПА, кгс/см2","Давл. ЗПА, кгс/см2","Дебит газа, тыс.м3 ","Давл. тр., кгс/см2","Давл. затр., кгс/см2","Давл. забойн., кгс/см2","Депр., кгс/см2\n(норма 23,5 кгс/см2)","Т уст., 0С","Процент открытия УР, %","Лимитная шайба, мм","Скорость газа в НКТ, м/сек","Скорость газа на устье, м/сек","Давл. ЗПА, кгс/см2","Т ЗПА, 0С","Дата/Время","Дебит газа, тыс.м3 ","Давл. тр., кгс/см2","Давл. труб.",null,"Давл. затр.",null,"Дебит газа, тыс.м3 ","Дебит газа, %","Депр.",null,"Т уст., 0С",null,"Диаметр штуцера, мм",null,"Лимитная шайба, мм","Лимитная шайба, %","Скорость газа в НКТ, м/сек","Скорость газа в НКТ, %","Давл. ЗПА, кгс/см2","Давл. ЗПА, %","Дебит газа, тыс.м3 ","Дебит газа, %","Скорость газа на устье, м/сек","Скорость газа на устье, %","Давл. ЗПА, кгс/см2","Давл. ЗПА, %","Дебит газа, тыс.м3 ","Дебит газа, %",null,"%Давл. ЗПА, кгс/см2",null,null,null,null,null,null,null,null,null,null,null,null,null,null,null,null,null,null,null,null,null,null,null,null,null,null,null,null,null,null,null,null,null,null,null,null,null,"403Т",null,25.764493494791289,48.568182739810659,51.710544163076413,12.650442806734819,-4.2,383.06103273578242,20.896833000000001,null,"гидратный",17.483074188232418,19.361096806758781]
[null,null,1,2,3,4,5,6,7,8,9,10,11,12,13,13,14,15,16,17,18,19,20,21,22,23,24,25,26,26,27,"кгс/см2","%","кгс/см2","%","тыс.м3","%","кгс/см2","%","оС","%","%","отл. %","мм","%","м/сек","%","кгс/см2","%","тыс.м3","%",43,44,45,46,47,48,null,null,null,null,null,null,null,null,null,null,null,null,null,null,null,null,null,null,null,null,null,null,null,null,null,null,null,null,null,null,null,null,null,null,null,null,null,null,null,501,"8Т",17.455766704026551,46.756527451979068,49.683486070472973,8.9858750220573373,-6,406.99309544360182,58.848179999999999,null,"гидратный",19.417522430419918,49.952583196096533]
[7.6,839.26,1301,"13Т",1,{"$f":"VLOOKUP($C163,Тнав!$A$3:$E$250,2,FALSE)","v":8.3703648354107081},{"$f":"VLOOKUP($C163,$CS:$DG,3,FALSE)","v":14.86965181873229},{"$f":"VLOOKUP($C163,$CS:$DG,5,FALSE)","v":31.179715785693041},{"$f":"VLOOKUP($C163,Тнав!$A$3:$E$250,3,FALSE)","v":25.283585520255819},{"$f":"VLOOKUP($C163,$CS:$DG,7,FALSE)","v":-0.6},{"$f":"VLOOKUP($C163,$CS:$DG,9,FALSE)","v":97.616349999999997},{"$f":"VLOOKUP($C163,$CS:$DG,10,FALSE)","v":0},{"$f":"VLOOKUP($C163,$CS:$DG,12,FALSE)","v":17.942707061767582},null,null,{"$f":"Шлейфы!$L$2","v":5.3686572958219374},{"$f":"VLOOKUP($C163,Тнав!$A$3:$E$250,4,FALSE)","v":207.36651462512589},13.512499999999999,28.55416666666666,30.76,{"$f":"(H163+I163)-S163","v":27.9091346392822},-0.70833333333333348,97.6,"0.0",{"$f":"(AD163*(1/(1+(5*10^7*0.098*R163)/(18.8+273.15)^3.825))*(18.8+273.15)*0.052)/((POWER(A163,2))*(R163/10.197))","v":42.564944684973781},15.978249549865721,null,0.93066615935483887,null,219.88199999999989,-3.2856325351136211,{"$f":"IF(R163=\"\",\"\",(R163-F163))","v":5.1421351645892912},{"$f":"IF(R163=\"\",\"\",(R163/F163*100-100))","v":61.43262887222744},{"$f":"IF(R163=\"\",\"\",(S163-G163))","v":13.68451484793437},{"$f":"IF(R163=\"\",\"\",(S163/G163*100-100))","v":92.029827024564725},{"$f":"IF(AD163=\"\",\"\",(Q163-E163))","v":206.36651462512589},{"$f":"IF(AD163=\"\",\"\",(AD163/Q163*100-100))","v":6.0354418347144048},-4.056622401945603,2.286339890822163,-0.22174823273560659,7.4814358700276529E-2,0.26832930864235038,-0.79999999999999982,53.333333333333307,49.712919999999997,124.28230000000001,null,null,53.333333333333307,27.801132793099502,212.7246940446712,15.978249549865721,{"$error":"#DIV/0!"},-0.7491722009589985,-5.0722559306634878,7.576826718542975,3.301864286565376,null,null,null,null,null,null,null,63.570170438389333,29.906560920009259,1.95020090429135,null,null,null,null,null,null,null,null,null,null,null,null,null,null,null,null,null,null,null,null,null,null,null,null,null,null,null,null,null,502,null,34.764743023102803,50.294426609757167,53.533387683425531,8.8938807408200038,-1,359.79647518639308,14.337173999999999,null,"гидратный",15.80974769592285,9.1639346769796006]
[7.6,810.82,1302,null,null,{"$f":"VLOOKUP($C164,Тнав!$A$3:$E$250,2,FALSE)","v":8.8738947876327838},15.812910516520519,23.8401124340457,{"$f":"VLOOKUP($C164,Тнав!$A$3:$E$250,3,FALSE)","v":27.355568974710511},1.2,98.385369999999995,0,15.607125282287599,null,null,{"$f":"Шлейфы!$L$2","v":5.3686572958219374},{"$f":"VLOOKUP($C164,Тнав!$A$3:$E$250,4,FALSE)","v":169.5837485398682},13.2,21.145833333333339,22.77,30.049848075422876,0.43750000000000028,98.7,"0.0",29.817217919680367,6.313232421875,null,0.93066615935483887,null,150.38399999999999,-3.4438238985932021,4.3261052123672155,48.750918462503591,5.33292281681282,33.72511854311233,169.5837485398682,-11.321691320766178,-9.6221040845411778,2.286339890822163,-26.00056738033561,10.62521805483521,50.802798318884271,0.3,100,13.56725,24.66772727272728,null,null,100,9.2437899970095572,100.3224532166856,6.313232421875,{"$error":"#DIV/0!"},-0.7491722009589985,-5.0722559306634878,9.0092955056580024,5.8302514993373791,null,null,null,null,null,null,null,63.508302844807638,33.268189388180822,1.728339843675027,null,null,null,null,null,null,null,null,null,null,null,null,null,null,null,null,null,null,null,null,null,null,null,null,null,null,null,null,null,503,"10Т",36.687937656536022,52.123283052127803,55.495659465600468,7.3464336659490961,-0.9,388.14686510610278,14.124393,null,"гидратный",16.393756866455082,12.22308331591339]
[7.6,808.29,1303,null,null,{"$f":"VLOOKUP($C165,Тнав!$A$3:$E$250,2,FALSE)","v":7.7495571599118271},14.43811669546665,24.62690291686177,{"$f":"VLOOKUP($C165,Тнав!$A$3:$E$250,3,FALSE)","v":25.484820299925659},1,98.410899999999998,0,23.525217056274411,null,null,{"$f":"Шлейфы!$L$2","v":5.3686572958219374},{"$f":"VLOOKUP($C165,Тнав!$A$3:$E$250,4,FALSE)","v":238.79510345634321},13.52916666666667,22.975000000000001,24.58,27.136723216787423,0.75416666666666654,98.4,"0.0",45.423672487259033,16.057712554931641,null,0.93066615935483887,null,234.946,-0.69883367633707749,5.7796095067548432,74.579868081398899,8.536883304533351,59.127402033076805,238.79510345634321,-1.6118854200236683,-6.5605725608829601,2.286339890822163,-1.660589609758361,0.46736572674288718,2.2859132268772129,-2.2999999999999998,-153.33333333333329,-9.1245499999999993,-9.1245499999999993,null,null,-153.33333333333329,28.233215211025708,203.6762850211442,16.057712554931641,{"$error":"#DIV/0!"},-0.7491722009589985,-5.0722559306634878,7.6598190264400046,3.2389311963326008,null,null,null,null,null,null,null,51.942355504945013,24.26515595219669,3.3523191879833121,null,null,null,null,null,null,null,null,null,null,null,null,null,null,null,null,null,null,null,null,null,null,null,null,null,null,null,null,null,601,null,19.958857840414211,40.872669249428888,43.435385611368083,22.257461865901909,-3.4,318.8759043437725,99.197940000000003,null,"гидратный",17.619318008422852,49.952583196096533]
[7.6,797.45,1304,null,null,{"$f":"VLOOKUP($C166,Тнав!$A$3:$E$250,2,FALSE)","v":13.70732763652865},16.20396881996319,24.361496255341439,{"$f":"VLOOKUP($C166,Тнав!$A$3:$E$250,3,FALSE)","v":20.249174311359209},1.5,99.206199999999995,0,18.02817344665527,null,null,{"$f":"Шлейфы!$L$2","v":5.3686572958219374},{"$f":"VLOOKUP($C166,Тнав!$A$3:$E$250,4,FALSE)","v":215.1677149950383},15.89583333333333,22.841666666666669,24.53,21.769003900033979,1.2208333333333341,99.2,"0.0",27.71712576168094,8.4309091567993164,null,0.93066615935483887,null,169.149,-1.2775548033570061,2.1885056968046808,15.965954523276537,6.6376978467034782,40.963407918471631,215.1677149950383,-21.387369845935979,-6.8800132407386494,2.286339890822163,-18.646891941722401,6.6331159178127734,33.235728155259267,-1.4,-77.777777777777771,5.4742200000000034,7.2989600000000081,null,null,-77.777777777777771,13.089768692424171,122.89331206108351,8.4309091567993164,{"$error":"#DIV/0!"},-0.7491722009589985,-5.0722559306634878,4.7288563392279741,2.5381500249056899,null,null,null,null,null,null,null,57.601814640977047,28.662697188513299,2.0717940158931261,null,null,null,null,null,null,null,null,null,null,null,null,null,null,null,null,null,null,null,null,null,null,null,null,null,null,null,null,null,602,null,16.77639246149225,37.974009583456713,40.339790380506066,15.571643082124879,-3.4,299.91686102575721,97.88946,null,"гидратный",17.94552040100098,49.952583196096533]
[7.6,830.25,1601,"16Т",2,{"$f":"VLOOKUP($C167,Тнав!$A$3:$E$250,2,FALSE)","v":9.6426238581280703},16.88981308110456,27.041421851604081,{"$f":"VLOOKUP($C167,Тнав!$A$3:$E$250,3,FALSE)","v":22.89760321888739},2.2999999999999998,99.093299999999999,0,16.416145324707031,null,null,{"$f":"Шлейфы!$L$2","v":5.3686572958219374},{"$f":"VLOOKUP($C167,Тнав!$A$3:$E$250,4,FALSE)","v":162.89916463077421},15.89583333333333,26.433333333333319,27.91,23.505691737158148,2.7041666666666671,98.2,"0.0",28.645896660812522,null,null,null,null,174.81700000000001,-0.1141991040347143,6.25320947520526,64.849667136338979,9.5435202522287597,56.504593664837842,160.89916463077421,7.3160813293540627,-5.0067000062457652,2.286339890822163,-10.141043005000819,3.523233569235579,15.972837905213741,1.5,-187.5,-0.99931999999999732,-0.99931999999999732,null,null,-187.5,17.888713776464389,145.58742441376671,0,{"$error":"#DIV/0!"},-0.18420845739164091,-1.247179806307656,9.6439967768230019,4.7853425870744806,null,null,null,null,null,null,null,50.575238118042328,19.356152110305619,-6.2247370248551226,null,null,null,null,null,null,null,null,null,null,null,null,null,null,null,null,null,null,null,null,null,null,null,null,null,null,null,null,null,701,"7Т",23.735141244647149,38.534548689013043,40.942957982076358,23.972247722570199,-0.9,278.58645632657198,99.149124,null,"гидратный",16.405216217041019,49.952583196096533]
[7.6,837.84,1602,null,null,{"$f":"VLOOKUP($C168,Тнав!$A$3:$E$250,2,FALSE)","v":9.825934446386027},17.282053107314429,32.239154054742151,{"$f":"VLOOKUP($C168,Тнав!$A$3:$E$250,3,FALSE)","v":21.263052608810309},0.6,99.381929999999997,0,16.96844482421875,null,null,{"$f":"Шлейфы!$L$2","v":5.3686572958219374},{"$f":"VLOOKUP($C168,Тнав!$A$3:$E$250,4,FALSE)","v":209.4612882260752},15.89583333333333,26.433333333333319,33.119999999999997,27.068873330219137,2.7041666666666671,99.4,"0.0",34.46873962140544,null,null,null,null,210.352,-0.13765826268267031,6.0698988869473034,61.774266051406528,9.1512802260188906,52.952506100943054,209.4612882260752,0.42523932773843853,-3.945471606050361,2.286339890822163,-2.0889670396913398,0.77488031106644328,3.07296283021536,-3.7,-132.14285714285711,-20.539860000000001,-20.539860000000001,null,null,-132.14285714285711,24.474991599174949,249.55220423595381,0,{"$error":"#DIV/0!"},-0.18420845739164091,-1.247179806307656,9.9431497951340475,4.2224876402831057,null,null,null,null,null,null,null,59.164490470897668,22.845424523198169,-3.1455209952738632,null,null,null,null,null,null,null,null,null,null,null,null,null,null,null,null,null,null,null,null,null,null,null,null,null,null,null,null,null,702,null,23.742620288734379,45.302186243720413,48.147163539826053,13.616051772772661,-3,391.30523922847391,98.233665000000002,null,"гидратный",19.3294563293457,49.952583196096533]
[7.6,866.34,1603,null,null,{"$f":"VLOOKUP($C169,Тнав!$A$3:$E$250,2,FALSE)","v":15.43784598824058},17.981954910638091,32.127195833643277,{"$f":"VLOOKUP($C169,Тнав!$A$3:$E$250,3,FALSE)","v":15.38228178772644},1.3,99.123589999999993,0,15.18696880340576,null,null,{"$f":"Шлейфы!$L$2","v":5.3686572958219374},{"$f":"VLOOKUP($C169,Тнав!$A$3:$E$250,4,FALSE)","v":238.72208791509581},15.89583333333333,26.433333333333319,32.409999999999997,21.076144288036399,2.7041666666666671,97.6,"0.0",29.70592117501192,null,null,null,null,181.286,-0.30809041077177213,0.45798734509275008,2.9666531551202837,8.4513784226952282,46.999219298984059,238.72208791509581,-24.05981298870158,-4.0723690438764626,2.286339890822163,-5.4311682904566823,2.0843470553909138,8.3565976515818932,1.4,-107.69230769230769,9.5512540000000001,13.644648571428579,null,null,-107.69230769230769,14.61922129094399,134.42885480523179,0,{"$error":"#DIV/0!"},-0.18420845739164091,-1.247179806307656,4.0761599679009919,1.9964359273346299,null,null,null,null,null,null,null,63.351290417551958,27.05812928463272,3.1250085237587648E-2,null,null,null,null,null,null,null,null,null,null,null,null,null,null,null,null,null,null,null,null,null,null,null,null,null,null,null,null,null,703,null,23.456338986295929,38.061196153486129,40.436214793463662,11.805974421349079,-0.9,294.47919961094829,97.243354999999994,null,"гидратный",17.57498741149902,49.952583196096533]
[7.61,839.66,184,18,null,{"$f":"VLOOKUP($C170,Тнав!$A$3:$E$250,2,FALSE)","v":13.182345217041711},19.560102566663438,30.042169640128702,{"$f":"VLOOKUP($C170,Тнав!$A$3:$E$250,3,FALSE)","v":26.24208935382914},-0.6,20.475527,0,13.917524337768549,null,null,{"$f":"Шлейфы!$L$2","v":5.3686572958219374},{"$f":"VLOOKUP($C170,Тнав!$A$3:$E$250,4,FALSE)","v":163.8087460993433},19.341666666666669,28.462499999999999,31.93,27.821758993957843,-0.59999999999999976,43,"0.0",22.093378326727692,7.4585909843444824,null,0.52990119612903241,null,165.49199999999999,0.41978268623077142,6.159321449624958,46.724018740325391,8.9023974333365601,45.513040655057921,163.8087460993433,1.0275726667462948,-2.9606046853469792,2.286339890822163,66.987659748914609,-13.808741695380091,-48.407376792915663,-0.1,33.333333333333343,-13.203430000000001,-13.203430000000001,null,null,33.333333333333343,7.5444756703378282,44.215446845093062,7.4585909843444824,{"$error":"#DIV/0!"},-0.32508086291499971,-2.200953709647933,-3.7125496466140082,-1.9013700965899429,null,-100,null,null,null,null,null,53.899372156640688,19.47677151001723,4.7594029093298502,null,null,null,null,null,null,null,null,null,null,null,null,null,null,null,null,null,null,null,null,null,null,null,null,null,null,null,null,null,801,"15Т",20.366096242948711,38.8081942857782,41.237587248067918,15.97456162935773,-3,305.5550465406285,97.035835000000006,null,"гидратный",17.854965209960941,49.952583196096533]
[7.6,836.81,1801,"18Т",null,{"$f":"VLOOKUP($C171,Тнав!$A$3:$E$250,2,FALSE)","v":0},18.976965331586928,28.51582881801583,{"$f":"VLOOKUP($C171,Тнав!$A$3:$E$250,3,FALSE)","v":0},2.7,98.316519999999997,0,16.097991943359379,null,null,{"$f":"Шлейфы!$L$2","v":5.3686572958219374},{"$f":"VLOOKUP($C171,Тнав!$A$3:$E$250,4,FALSE)","v":0},19.221739130434791,41.533333333333339,28.62,-13.017504515317508,-1.0249999999999999,98.1,"0.0",23.287866153767741,null,null,{"$error":"#REF!"},null,172.86600000000001,0.77881168021873037,19.221739130434791,{"$error":"#DIV/0!"},22.55636800174641,118.86182857804778,0,{"$error":"#DIV/0!"},-3.403774242252311,2.286339890822163,-13.808910854933769,5.1067887586384231,24.80453316532147,2.8,-164.70588235294119,4.2415900000000022,5.6554533333333268,null,null,-164.70588235294119,12.98271049018655,101.2599147377074,0,{"$error":"#DIV/0!"},-0.738109356508998,-4.9973551557819746,0.43419300638299768,0.21496639367957471,null,null,null,null,null,null,null,56.869012253525113,24.993965063719958,-0.7009505691548199,null,null,null,null,null,null,null,null,null,null,null,null,null,null,null,null,null,null,null,null,null,null,null,null,null,null,null,null,null,802,null,20.224438523882569,33.800925451611889,35.906723107247309,13.05393427436586,-0.9,247.18499740943889,97.223335000000006,null,"гидратный",16.762941360473629,48.932866983118601]
[7.6,846.21,1802,null,null,{"$f":"VLOOKUP($C172,Тнав!$A$3:$E$250,2,FALSE)","v":0},25.587589488765691,39.805115715388652,{"$f":"VLOOKUP($C172,Тнав!$A$3:$E$250,3,FALSE)","v":0},1,21.342672,0,15.41583728790283,null,null,{"$f":"Шлейфы!$L$2","v":5.3686572958219374},{"$f":"VLOOKUP($C172,Тнав!$A$3:$E$250,4,FALSE)","v":0},19.221739130434791,41.533333333333339,38.99,-1.7282176179446864,-1.0249999999999999,27.4,"0.0",32.924661228817925,null,null,{"$error":"#REF!"},null,244.40000000000009,0.5700691067011654,19.221739130434791,{"$error":"#DIV/0!"},15.945743844567648,62.318272893852225,0,{"$error":"#DIV/0!"},-2.9628953392275581,2.286339890822163,11.157187813474209,-4.2332408425273016,-15.098149592101549,1.8,-43.90243902439024,-2.9889450000000011,-2.9889450000000011,null,null,-43.90243902439024,17.23576951105704,98.840809003295988,0,{"$error":"#DIV/0!"},-0.738109356508998,-4.9973551557819746,-4.3065563962330202,-1.542979302184222,null,null,null,null,null,null,null,62.942434922420951,20.767367579357899,-3.037535038700732,null,null,null,null,null,null,null,null,null,null,null,null,null,null,null,null,null,null,null,null,null,null,null,null,null,null,null,null,null,901,null,20.939644700357,37.917020490048706,40.279250866578749,18.604677710237439,-1.3,294.01920466458313,97.376530000000002,null,"гидратный",17.621061325073239,49.952583196096533]
[7.6,825.75,1803,null,null,{"$f":"VLOOKUP($C173,Тнав!$A$3:$E$250,2,FALSE)","v":0},18.7560699442928,33.928503404641503,{"$f":"VLOOKUP($C173,Тнав!$A$3:$E$250,3,FALSE)","v":0},0.4,97.452640000000002,0,18.003463745117191,null,null,{"$f":"Шлейфы!$L$2","v":5.3686572958219374},{"$f":"VLOOKUP($C173,Тнав!$A$3:$E$250,4,FALSE)","v":0},19.221739130434791,41.533333333333339,33.99,-7.6048299286918351,-1.0249999999999999,97.1,"0.0",30.855553733673016,null,null,{"$error":"#REF!"},null,229.04100000000011,0.28374239954347402,19.221739130434791,{"$error":"#DIV/0!"},22.777263389040538,121.43942444601157,0,{"$error":"#DIV/0!"},-1.810421496074738,2.286339890822163,3.7083838766412072,-1.3848784759462229,-5.8618018947337873,0.2,-10.52631578947368,-5.6687399999999997,-5.6687399999999997,null,null,-10.52631578947368,16.84334449335779,105.8793242837346,0,{"$error":"#DIV/0!"},-0.738109356508998,-4.9973551557819746,-0.24839638877699599,-9.6095759905367117E-2,null,null,null,null,null,null,null,62.032246660098558,23.302839623626241,1.062244212602806,null,null,null,null,null,null,null,null,null,null,null,null,null,null,null,null,null,null,null,null,null,null,null,null,null,null,null,null,null,902,"5Т",28.403220143949259,40.254958919466809,42.786995835501273,10.71408632586367,1.5,346.32709979198381,97.737260000000006,29,"гидратный",19.44899749755859,49.952583196096533]
[7.6,819.92,1401,"14Т",3,{"$f":"VLOOKUP($C174,Тнав!$A$3:$E$250,2,FALSE)","v":11.70323759365486},17.053281585730701,27.878086825629641,{"$f":"VLOOKUP($C174,Тнав!$A$3:$E$250,3,FALSE)","v":20.832494637678089},1.1000000000000001,99.031220000000005,0,17.9077262878418,null,null,{"$f":"Шлейфы!$L$2","v":5.3686572958219374},{"$f":"VLOOKUP($C174,Тнав!$A$3:$E$250,4,FALSE)","v":222.25437302443399},15.89583333333333,26.433333333333319,28.49,22.277248129974414,0.54583333333333339,99.1,"0.0",31.654734213715489,15.040082931518549,null,0.7037411319354836,null,193.179,-1.4849546931893161,4.1925957396784703,35.824238430838733,9.380051747602618,55.004379658231642,219.25437302443399,-13.082025171778071,-5.0484138585983658,2.286339890822163,-2.5573284372472931,0.79938538166787154,3.0404865237700278,0.1,-100,15.417400000000001,38.543499999999987,null,null,-100,17.192827114747711,144.87932112616431,15.040082931518549,{"$error":"#DIV/0!"},-0.64222763267999916,-4.3481897947190191,1.550100136616976,0.73408135540542219,null,null,null,null,null,null,null,59.383650744506213,28.92442381713774,1.8336743587535549,null,null,null,null,null,null,null,null,null,null,null,null,null,null,null,null,null,null,null,null,null,null,null,null,null,null,null,null,null,1001,null,20.163968375637548,38.254897085899351,40.653479133185243,16.981306109309809,-2,322.91683831108048,98.016379999999998,null,"гидратный",19.161443710327148,49.952583196096533]
[7.6,827.33,1402,null,null,{"$f":"VLOOKUP($C175,Тнав!$A$3:$E$250,2,FALSE)","v":10.869402972992599},16.90096833818226,26.253334614836358,{"$f":"VLOOKUP($C175,Тнав!$A$3:$E$250,3,FALSE)","v":24.192119873528629},2.8,99.953440000000001,0,15.864415168762211,null,null,{"$f":"Шлейфы!$L$2","v":5.3686572958219374},{"$f":"VLOOKUP($C175,Тнав!$A$3:$E$250,4,FALSE)","v":154.3436279227785},15.89583333333333,26.433333333333319,27.05,24.012121155031668,2.7041666666666671,100,"0.0",26.682172162719215,11.18547534942627,null,0.7037411319354836,null,162.833,-0.38072740729433718,5.026430360340731,46.243849573246962,9.5323649951510596,56.401294910515674,154.3436279227785,5.5003061619550095,-4.5484640287607903,2.286339890822163,-5.0811014200561857,1.5575924958569589,6.5678612996074426,-0.2,-13.33333333333333,5.8419099999999986,9.7365166666666596,null,null,-13.33333333333333,17.362983242685399,214.38885491032141,11.18547534942627,{"$error":"#DIV/0!"},-0.64222763267999916,-4.3481897947190191,7.9667640597739933,4.6523630923540367,null,null,null,null,null,null,null,56.482921951465578,27.38589122510519,2.1129304410955001,null,null,null,null,null,null,null,null,null,null,null,null,null,null,null,null,null,null,null,null,null,null,null,null,null,null,null,null,null,1002,null,18.226776231607229,31.346549222103661,33.293169928796303,15.77161445709177,-0.3,232.92447088779201,97.529235999999997,null,"гидратный",17.134536743164059,48.932866983118601]
[7.6,808.96,1403,null,null,{"$f":"VLOOKUP($C176,Тнав!$A$3:$E$250,2,FALSE)","v":11.33310512491105},16.68783661329017,24.219638202664949,{"$f":"VLOOKUP($C176,Тнав!$A$3:$E$250,3,FALSE)","v":19.430700489155889},3,99.219719999999995,0,15.9756965637207,null,null,{"$f":"Шлейфы!$L$2","v":5.3686572958219374},{"$f":"VLOOKUP($C176,Тнав!$A$3:$E$250,4,FALSE)","v":169.2390377735577},15.89583333333333,26.433333333333319,25.08,17.217005358487516,2.7041666666666671,99.2,"0.0",25.306385206278012,12.947043418884279,null,0.7037411319354836,null,154.43700000000001,-0.57815850071737174,4.5627282084222802,40.260177225331205,9.7454967200431497,58.3988023485432,169.2390377735577,-8.7462313472633042,-5.0362560576378002,2.286339890822163,-13.01908551869278,4.0015433410100698,20.10422389850164,3.4,-178.9473684210526,-0.9968199999999996,-0.9968199999999996,null,null,-178.9473684210526,14.22945174080701,126.7673605900678,12.947043418884279,{"$error":"#DIV/0!"},-0.64222763267999916,-4.3481897947190191,11.039397662270011,6.772279195056214,null,null,null,null,null,null,null,53.418112256453369,26.68367698157169,2.7781405234321208,null,null,null,null,null,null,null,null,null,null,null,null,null,null,null,null,null,null,null,null,null,null,null,null,null,null,null,null,null,1003,"18Т",18.45973303023316,34.671363089239158,36.831389009698761,15.537176222067369,-1.1000000000000001,259.05130508341932,98.983153999999999,null,"гидратный",17.09151649475098,49.952583196096533]
[7.6,809.56,1404,null,null,{"$f":"VLOOKUP($C177,Тнав!$A$3:$E$250,2,FALSE)","v":11.239716722622131},16.961751332312868,28.82325479033781,{"$f":"VLOOKUP($C177,Тнав!$A$3:$E$250,3,FALSE)","v":21.199245881891351},1.3,98.433679999999995,0,15.614876747131349,null,null,{"$f":"Шлейфы!$L$2","v":5.3686572958219374},{"$f":"VLOOKUP($C177,Тнав!$A$3:$E$250,4,FALSE)","v":177.80006575226761},15.89583333333333,26.433333333333319,29.57,23.589167338895837,2.7041666666666671,98.5,"0.0",29.575650733090672,14.140091896057131,null,0.7037411319354836,null,180.49100000000001,-0.55137866622485632,4.6561166107111998,41.42556903894075,9.471582001020451,55.840825722852571,177.80006575226761,1.5134607719896565,-4.0562125634391606,2.286339890822163,25.001925735842789,-6.319757774124966,-26.263433384801331,-1,-142.85714285714289,-0.41330000000000672,-0.41330000000000672,null,null,-142.85714285714289,17.302795964480669,130.8152765436555,14.140091896057131,{"$error":"#DIV/0!"},-0.64222763267999916,-4.3481897947190191,7.9949382732030188,3.958261336410402,null,null,null,null,null,null,null,52.207595663728497,20.610753872571379,2.8675581039116049,null,null,null,null,null,null,null,null,null,null,null,null,null,null,null,null,null,null,null,null,null,null,null,null,null,null,null,null,null,1101,null,17.147152766320001,25.458799573937259,26.960868748799552,14.67399091452147,2,157.46992538813689,99.106819999999999,null,"гидратный",14.49620151519775,40.775137279295173]
[7.6,820.68,1501,"15Т",null,{"$f":"VLOOKUP($C178,Тнав!$A$3:$E$250,2,FALSE)","v":19.375644243614431},22.270690363041709,31.312583461752261,{"$f":"VLOOKUP($C178,Тнав!$A$3:$E$250,3,FALSE)","v":27.90668956280917},1.2,98.418409999999994,0,26.938083648681641,null,null,{"$f":"Шлейфы!$L$2","v":5.3686572958219374},{"$f":"VLOOKUP($C178,Тнав!$A$3:$E$250,4,FALSE)","v":361.02584412857368},15.89583333333333,26.433333333333319,30.65,32.785939691228108,2.7041666666666671,99.3,"0.0",54.354235821848775,null,null,0.7037411319354836,null,331.70699999999999,-1.2372960542192291,-3.4798109102811008,-17.959717191999587,4.1626429702916106,18.691126778896503,361.02584412857368,-8.1209820862941484,-1.3398531078062059,2.286339890822163,-16.501755128547732,6.9874217771030116,30.732230136348701,1.7,-340,-21.614784,-21.614784,null,null,-340,9.2318374354263923,38.356962475346727,0,{"$error":"#DIV/0!"},-0.64222763267999916,-4.3481897947190191,9.0276657165989604,2.566395975018267,null,null,null,null,null,null,null,67.545077689471782,32.188992835483752,2.4651092197763229,null,null,null,null,null,null,null,null,null,null,null,null,null,null,null,null,null,null,null,null,null,null,null,null,null,null,null,null,null,1102,null,17.620084394052,27.138544865890239,28.734291304004579,11.64446302110782,1.5,175.30187256347909,99.638769999999994,null,"гидратный",15.083277702331539,39.755421066317247]
[7.6,806.68,1502,null,null,{"$f":"VLOOKUP($C179,Тнав!$A$3:$E$250,2,FALSE)","v":15.69407153670789},19.71458233353918,37.136959672593818,{"$f":"VLOOKUP($C179,Тнав!$A$3:$E$250,3,FALSE)","v":23.920022616016681},-0.7,95.686049999999994,0,19.577154159545898,null,null,{"$f":"Шлейфы!$L$2","v":5.3686572958219374},{"$f":"VLOOKUP($C179,Тнав!$A$3:$E$250,4,FALSE)","v":243.11697165596061},15.89583333333333,26.433333333333319,38,34.623648955277176,2.7041666666666671,95.8,"0.0",45.325429092464518,null,null,0.7037411319354836,null,276.60700000000003,0.57014988655218701,0.20176179662544058,1.2855924363128395,6.718750999794139,34.080108247406031,243.11697165596061,13.775273735900171,-1.538229521874896,2.286339890822163,21.592568006002029,-7.3388093450173812,-25.130874951228709,2,-46.511627906976749,-1.4596800000000061,-1.4596800000000061,null,null,-46.511627906976749,16.622689533066339,86.930918206977367,0,{"$error":"#DIV/0!"},-0.64222763267999916,-4.3481897947190191,-3.1245806137869749,-1.0235781532959149,null,null,null,null,null,null,null,65.667456506671371,24.340983707369919,2.4774299860008209,null,null,null,null,null,null,null,null,null,null,null,null,null,null,null,null,null,null,null,null,null,null,null,null,null,null,null,null,null,1103,"17Т",17.424663951741518,27.07369579976832,28.722483873974209,18.264095956571001,0.9,193.2101076574144,99.524619999999999,null,"гидратный",16.631368637084961,46.893434557162742]
[7.6,794.61,1503,null,null,{"$f":"VLOOKUP($C180,Тнав!$A$3:$E$250,2,FALSE)","v":14.685511625058201},19.208943203235251,30.507415242658769,{"$f":"VLOOKUP($C180,Тнав!$A$3:$E$250,3,FALSE)","v":18.683598850930998},2,49.054752000000001,0,16.557649612426761,null,null,{"$f":"Шлейфы!$L$2","v":5.3686572958219374},{"$f":"VLOOKUP($C180,Тнав!$A$3:$E$250,4,FALSE)","v":234.65797426059089},15.89583333333333,26.433333333333319,30.64,22.757680760256452,2.7041666666666671,85,"0.0",32.836344473708053,null,null,0.7037411319354836,null,200.39,0.83464277063523085,1.2103217082751296,8.2416039643449182,7.2243901300980689,37.609513723177145,234.65797426059089,-14.603370871401054,-3.3691998327997652,2.286339890822163,3.6829507631761231,-1.2002626156573479,-4.7216753125308202,2.8,-121.7391304347826,-1.010840000000002,-1.010840000000002,null,null,-121.7391304347826,16.00323585769447,124.62585040478039,0,{"$error":"#DIV/0!"},-0.64222763267999916,-4.3481897947190191,3.295054665572025,1.4624866137230299,null,null,null,null,null,null,null,61.201520245924002,27.411557337280339,3.1915498959945978,null,null,null,null,null,null,null,null,null,null,null,null,null,null,null,null,null,null,null,null,null,null,null,null,null,null,null,null,null,1104,null,17.236702519462199,26.468138225706721,28.082694657474828,18.89782756241642,0.6,203.96176784906109,100,null,"гидратный",17.98032188415527,46.893434557162742]
[6.2,803.7,"174БОК",17,null,{"$f":"VLOOKUP($C181,Тнав!$A$3:$E$250,2,FALSE)","v":16.082622346275521},38.194934574604993,43.570700859460374,{"$f":"VLOOKUP($C181,Тнав!$A$3:$E$250,3,FALSE)","v":46.587204703909023},3.9,18.634598,0,11.01973342895508,null,null,{"$f":"Шлейфы!$L$2","v":5.3686572958219374},{"$f":"VLOOKUP($C181,Тнав!$A$3:$E$250,4,FALSE)","v":39.893622487049477},15.89583333333333,26.433333333333319,37.33,63.724572230036074,2.7041666666666671,33.1,"0.0",38.800756694360381,5.6472659111022949,null,0.7037411319354836,null,157.58600000000001,-5.9325997592311381,-0.18678901294219052,-1.1614338067538341,-11.761601241271674,-30.793615363571575,39.893622487049477,295.01551921276786,-3.974117958157521,2.286339890822163,-13.71300167051889,7.4527008020459267,54.231955823914632,3.7,-194.73684210526321,9.1542840000000005,91.542840000000012,null,null,-194.73684210526321,3.0085777649852372,28.79821056089207,5.6472659111022949,{"$error":"#DIV/0!"},-0.64222763267999916,-4.3481897947190191,26.90943949833299,23.047870149747819,null,null,null,null,null,null,null,70.442542076788683,23.547544387203661,2.3525754172088398,null,null,null,null,null,null,null,null,null,null,null,null,null,null,null,null,null,null,null,null,null,null,null,null,null,null,null,null,null,1201,null,19.919856827278629,39.593707396652782,42.068314108943582,19.431937627042871,-1.9,302.45681204875763,94.494730000000004,null,"гидратный",17.298091888427731,49.952583196096533]
[6.2,830.52,"174ОСН",null,null,{"$f":"VLOOKUP($C182,Тнав!$A$3:$E$250,2,FALSE)","v":29.46428429390329},19.671300652028371,32.76235779789598,{"$f":"VLOOKUP($C182,Тнав!$A$3:$E$250,3,FALSE)","v":26.588876832246761},4.3,3.1231225,0,4.3396053314208984,null,null,{"$f":"Шлейфы!$L$2","v":5.3686572958219374},{"$f":"VLOOKUP($C182,Тнав!$A$3:$E$250,4,FALSE)","v":178.82781657565729},15.89583333333333,26.433333333333319,21.26,32.917901296809418,2.7041666666666671,3.2,"0.0",8.6610194908229179,6.6217513084411621,null,0.7037411319354836,null,35.175999999999988,-0.2903604810504099,-13.56845096056996,-46.050502449766014,6.7620326813049481,34.375117339318848,178.82781657565729,-80.329682107862709,null,2.286339890822163,151.6843426586878,-13.525877288864301,-57.802894396855983,-0.5,-50,1.4182539999999999,1418.2539999999999,null,null,-50,1.5662122842196029,28.758765739210329,6.6217513084411621,{"$error":"#DIV/0!"},-0.64222763267999916,-4.3481897947190191,-1.902550062648501,-4.6871748712743653,null,null,null,null,null,null,null,73.382904803625166,50.939905910918398,41.0657831997827,null,null,null,null,null,null,null,null,null,null,null,null,null,null,null,null,null,null,null,null,null,null,null,null,null,null,null,null,null,1202,"9Т",20.521548676283029,39.169181584349253,41.621172351529509,16.55806307188907,-2.1,300.61576122323788,98.800160000000005,null,"гидратный",17.39200592041016,49.952583196096533]
[7.6,829.37,1701,"17Т",null,{"$f":"VLOOKUP($C183,Тнав!$A$3:$E$250,2,FALSE)","v":16.996332695234539},20.405099710203789,39.974812961321057,{"$f":"VLOOKUP($C183,Тнав!$A$3:$E$250,3,FALSE)","v":26.3914812415758},-1.7,97.491429999999994,0,15.915390014648439,null,null,{"$f":"Шлейфы!$L$2","v":5.3686572958219374},{"$f":"VLOOKUP($C183,Тнав!$A$3:$E$250,4,FALSE)","v":239.14142112281439},15.89583333333333,26.433333333333319,40.53,39.93296086956353,2.7041666666666671,97,"0.0",39.642196718685298,null,null,0,null,241.92400000000001,0.63827149176201914,-1.1004993619012087,-6.4749224531817333,6.0282336231295304,29.542779544052166,239.14142112281439,1.163570436322118,-2.231117423884569,2.286339890822163,19.086037215202101,-6.8884586060333888,-20.70570395593656,0.1000000000000001,-3.333333333333329,5.0722399999999936,5.6358222222222034,{"$error":"#REF!"},null,-3.333333333333329,18.646564676559681,138.88047325857451,0,{"$error":"#DIV/0!"},-0.738109356508998,-4.9973551557819746,-8.8118793490730241,-3.104656022263228,null,null,null,null,null,null,null,71.60796359785779,28.627892425195281,2.247940448847118,null,null,null,null,null,null,null,null,null,null,null,null,null,null,null,null,null,null,null,null,null,null,null,null,null,null,null,null,null,1301,null,14.86965181873229,29.381564064919949,31.179715785693041,20.99342149381226,-0.6,227.4186369673063,97.616349999999997,null,"гидратный",17.942707061767582,49.952583196096533]
[7.6,825.54,1702,null,null,{"$f":"VLOOKUP($C184,Тнав!$A$3:$E$250,2,FALSE)","v":14.628293576842109},19.65781254798214,33.676296266918641,{"$f":"VLOOKUP($C184,Тнав!$A$3:$E$250,3,FALSE)","v":25.924145048226059},1,98.112499999999997,0,15.78185558319092,null,null,{"$f":"Шлейфы!$L$2","v":5.3686572958219374},{"$f":"VLOOKUP($C184,Тнав!$A$3:$E$250,4,FALSE)","v":189.78053378156659},15.89583333333333,26.433333333333319,33.79,33.167107981811384,2.7041666666666671,98.6,"0.0",32.829953848255315,null,null,0,null,200.351,0.18675506535289799,1.267539756491221,8.6649871349167427,6.7755207853511799,34.467318114937882,189.78053378156659,5.569836909932917,-3.6016918966693789,2.286339890822163,4.1771759523399083,-1.4936522663459539,-5.3685048479811996,0.9,-60,-1.06541,-1.06541,null,null,-60,12.14777414755962,74.453817885773589,0,{"$error":"#DIV/0!"},-0.738109356508998,-4.9973551557819746,-0.9335491726889984,-0.39406630135985671,null,null,null,null,null,null,null,62.971964253196397,25.720846096306371,-0.60800173078865072,null,null,null,null,null,null,null,null,null,null,null,null,null,null,null,null,null,null,null,null,null,null,null,null,null,null,null,null,null,1302,"3Т",15.812910516520519,22.486429385064799,23.8401124340457,26.70598735306644,1.2,148.86279147147789,98.385369999999995,null,"гидратный",15.607125282287599,49.952583196096533]
[7.6,832.87,1703,null,null,{"$f":"VLOOKUP($C185,Тнав!$A$3:$E$250,2,FALSE)","v":15.872644002308901},19.498643428398591,30.839329817679602,{"$f":"VLOOKUP($C185,Тнав!$A$3:$E$250,3,FALSE)","v":22.311095077336621},2.5,97.243110000000001,0,15.524195671081539,null,null,{"$f":"Шлейфы!$L$2","v":5.3686572958219374},{"$f":"VLOOKUP($C185,Тнав!$A$3:$E$250,4,FALSE)","v":203.96799934990639},15.89583333333333,26.433333333333319,30.86,26.717091561682903,2.7041666666666671,97.6,"0.0",29.188116651148867,null,null,"Давление затрубное, кгс/см²",null,178.126,-0.92371790867890979,2.3189331024429549E-2,0.14609620817462599,6.9346899049347286,35.564986509957777,203.96799934990639,-12.669634174120887,-3.8259795301369048,2.286339890822163,-9.6803048331010331,3.676734526280292,15.508134601659521,3.1,-134.78260869565219,12.149535999999999,16.199381333333331,null,null,-134.78260869565219,11.95682271790394,87.799398539558126,0,{"$error":"#DIV/0!"},-0.64222763267999916,-4.3481897947190191,4.0029352484779963,1.933962052656099,null,null,null,null,null,null,null,63.874828145583948,29.569964058275211,2.184804110623809,null,null,null,null,null,null,null,null,null,null,null,null,null,null,null,null,null,null,null,null,null,null,null,null,null,null,null,null,null,1303,null,14.43811669546665,23.29445981541976,24.62690291686177,19.595857470763509,1,232.20228416241139,98.410899999999998,null,"гидратный",23.525217056274411,43.834285918228957]
[7.6,806.79,1101,"11Т",4,{"$f":"VLOOKUP($C186,Тнав!$A$3:$E$250,2,FALSE)","v":12.02384821925313},17.147152766320001,26.960868748799552,{"$f":"VLOOKUP($C186,Тнав!$A$3:$E$250,3,FALSE)","v":19.5868508119346},2,99.106819999999999,0,14.49620151519775,null,null,{"$f":"Шлейфы!$L$2","v":5.3686572958219374},{"$f":"VLOOKUP($C186,Тнав!$A$3:$E$250,4,FALSE)","v":167.8191960613178},16.247826086956529,25.008695652173909,27.67,21.539023908560242,1.8652173913043479,98.1,"0.0",25.110419301582976,10.156161308288571,null,0.89303957838709658,null,156.732,1.8562045917921211E-2,4.2239778677033986,35.129999902525157,7.8615428858539076,45.847511788052344,163.8191960613178,-6.6066316139822021,-4.2751908522856183,2.286339890822163,3.5127576963049449,-0.9931818223982205,-4.5008770405449354,-0.2,-40,-1.0085799999999949,-1.0085799999999949,null,null,-40,15.415836998969841,132.1905595246557,10.156161308288571,{"$error":"#DIV/0!"},-0.69016798478599917,-4.6727690236018873,4.2080371699779846,2.2980678623843862,null,null,null,null,null,null,null,53.042590438404659,23.77584384827583,2.7026192025255038,null,null,null,null,null,null,null,null,null,null,null,null,null,null,null,null,null,null,null,null,null,null,null,null,null,null,null,null,null,1304,"1Т",16.20396881996319,23.047773183861342,24.361496255341439,21.759846051174971,1.5,175.92171839358971,99.206199999999995,null,"гидратный",18.02817344665527,45.873718344184823]
[7.6,801.63,1102,null,null,{"$f":"VLOOKUP($C187,Тнав!$A$3:$E$250,2,FALSE)","v":11.83072798941429},17.620084394052,28.734291304004579,{"$f":"VLOOKUP($C187,Тнав!$A$3:$E$250,3,FALSE)","v":18.843380376225291},1.5,99.638769999999994,0,15.083277702331539,null,null,{"$f":"Шлейфы!$L$2","v":5.3686572958219374},{"$f":"VLOOKUP($C187,Тнав!$A$3:$E$250,4,FALSE)","v":164.16536637997001},16.378260869565221,26.54347826086957,29.4,21.0341934193603,1.3826086956521739,100,"0.0",28.248902931968018,15.68102550506592,null,0.89303957838709658,null,177.77799999999999,-0.21305555395787579,4.5475328801509303,38.438318286244936,8.9233938668175696,50.643309460139875,164.16536637997001,8.2920252427194612,-3.775866368375091,2.286339890822163,11.825075683722639,-3.3059334397954072,-16.179388998541071,-0.1,100,-0.31767000000000678,-0.31767000000000678,null,null,100,16.836019960660501,128.5832979686339,15.68102550506592,{"$error":"#DIV/0!"},-0.69016798478599917,-4.6727690236018873,1.954345580755017,0.95851221379186313,null,null,null,null,null,null,null,52.583499204862363,21.32059087359913,4.1935312004067171,null,null,null,null,null,null,null,null,null,null,null,null,null,null,null,null,null,null,null,null,null,null,null,null,null,null,null,null,null,1401,null,17.053281585730701,26.297601005216151,27.878086825629641,21.372170112500601,1.1000000000000001,201.56481816326109,99.031220000000005,null,"гидратный",17.9077262878418,48.932866983118601]
[7.6,789.88,1103,null,null,{"$f":"VLOOKUP($C188,Тнав!$A$3:$E$250,2,FALSE)","v":12.481318787130521},17.424663951741518,28.722483873974209,{"$f":"VLOOKUP($C188,Тнав!$A$3:$E$250,3,FALSE)","v":18.03420233655844},0.9,99.524619999999999,0,16.631368637084961,null,null,{"$f":"Шлейфы!$L$2","v":5.3686572958219374},{"$f":"VLOOKUP($C188,Тнав!$A$3:$E$250,4,FALSE)","v":197.8618894364636},16.565217391304341,26.38695652173913,28.39,20.36972968879352,0.75217391304347814,99.2,"0.0",30.371374119646852,15.739494323730471,null,0.89303957838709658,null,193.381,-0.61489673444886961,4.0838986041738199,32.720088909072047,8.9622925699976115,51.434521749280947,197.8618894364636,-2.2646551335508605,-4.763197250909144,2.286339890822163,-10.078408259448009,3.4420312193616991,15.3473731332125,-2,-142.85714285714289,11.2492,14.061500000000001,null,null,-142.85714285714289,17.432764013137209,119.80908726923261,15.739494323730471,{"$error":"#DIV/0!"},-0.69016798478599917,-4.6727690236018873,5.0015299640159583,2.3127984190031872,null,null,null,null,null,null,null,59.301079092033582,28.590582146692661,2.721056726952348,null,null,null,null,null,null,null,null,null,null,null,null,null,null,null,null,null,null,null,null,null,null,null,null,null,null,null,null,null,1402,null,16.90096833818226,24.757954182229689,26.253334614836358,19.536652831078712,2.8,167.541958452432,99.953440000000001,null,"гидратный",15.864415168762211,44.854002131206883]
[7.6,783.85,1104,null,null,{"$f":"VLOOKUP($C189,Тнав!$A$3:$E$250,2,FALSE)","v":12.012223733577679},17.236702519462199,28.082694657474828,{"$f":"VLOOKUP($C189,Тнав!$A$3:$E$250,3,FALSE)","v":20.100242358383991},0.6,100,0,17.98032188415527,null,null,{"$f":"Шлейфы!$L$2","v":5.3686572958219374},{"$f":"VLOOKUP($C189,Тнав!$A$3:$E$250,4,FALSE)","v":192.47462711909961},16.508695652173909,25.713043478260872,27.74,22.469893537597947,0.58695652173913049,99.7,"0.0",31.073532028811734,15.087893486022949,null,0.89303957838709658,null,197.15700000000001,-0.3923850073304358,4.4964719185962299,37.432468944341053,8.4763409587986729,49.176116773077212,192.47462711909961,2.4327221468017513,-4.4422675534293177,2.286339890822163,-11.409609272627179,3.9809572839448428,17.377458122234898,1,-50,4.0538999999999987,6.2367692307692408,null,null,-50,16.844425330537941,109.09390610451629,15.087893486022949,{"$error":"#DIV/0!"},-0.69016798478599917,-4.6727690236018873,-0.92430134247297246,-0.40056691082685347,null,null,null,null,null,null,null,58.112267383109902,27.201957237804869,0.31225659253316712,null,null,null,null,null,null,null,null,null,null,null,null,null,null,null,null,null,null,null,null,null,null,null,null,null,null,null,null,null,1403,"12т",16.68783661329017,22.853027177453239,24.219638202664949,16.374449242222781,3,154.93616038232551,99.219719999999995,null,"гидратный",15.9756965637207,39.755421066317247]
[7.6,807.69,801,"8Т",5,{"$f":"VLOOKUP($C190,Тнав!$A$3:$E$250,2,FALSE)","v":15.479576882286599},20.366096242948711,41.237587248067918,{"$f":"VLOOKUP($C190,Тнав!$A$3:$E$250,3,FALSE)","v":23.325368482270619},-3,97.035835000000006,0,17.854965209960941,null,null,{"$f":"Шлейфы!$L$2","v":5.3686572958219374},{"$f":"VLOOKUP($C190,Тнав!$A$3:$E$250,4,FALSE)","v":267.03380529756731},19.008333333333329,38.158333333333339,41.26,26.404622397005191,-2.8208333333333329,96.9,"0.0",39.278462952260817,null,null,0.93066615935483887,null,288.21899999999999,0.57893715912518218,3.5287564510467302,22.796207402055771,17.792237090384628,87.362039725923324,262.03380529756731,7.9335253747461394,-2.3564480922559881,2.286339890822163,20.291300691974751,-7.5234138451714054,-25.604727265994882,-6.7,-304.5454545454545,-2.6585160000000059,-2.6585160000000059,null,null,-304.5454545454545,22.705866009274182,125.2368553286816,0,{"$error":"#DIV/0!"},-0.56847159775099776,-3.8488259834190761,6.6840342245249644,2.108821081241246,null,null,null,null,null,null,null,70.220990445520698,25.620535757191661,3.7610400832950859,null,null,null,null,null,null,null,null,null,null,null,null,null,null,null,null,null,null,null,null,null,null,null,null,null,null,null,null,null,1404,null,16.961751332312868,27.207150075833312,28.82325479033781,14.68253142425691,1.3,182.07524429235701,98.433679999999995,null,"гидратный",15.614876747131349,42.814569705251031]
[7.6,812.83,802,null,null,{"$f":"VLOOKUP($C191,Тнав!$A$3:$E$250,2,FALSE)","v":14.579744582631839},20.224438523882569,35.906723107247309,{"$f":"VLOOKUP($C191,Тнав!$A$3:$E$250,3,FALSE)","v":23.199768085291161},-0.9,97.223335000000006,0,16.762941360473629,null,null,{"$f":"Шлейфы!$L$2","v":5.3686572958219374},{"$f":"VLOOKUP($C191,Тнав!$A$3:$E$250,4,FALSE)","v":211.78425890733379},18.737500000000001,33.304166666666653,35.97,25.802324525871818,-1.095833333333333,97.5,"0.0",33.149148085811312,null,null,0.93066615935483887,null,239.66300000000001,0.47137450916357437,4.1577554173681612,28.517340573449417,13.079728142784084,64.672886356466876,211.78425890733379,13.163745613815678,-3.2000545356803798,2.286339890822163,10.06080010364931,-3.5468037813869908,-13.638240621209089,-3.3,-412.5,-1.97336,-1.97336,null,null,-412.5,15.788074812862989,81.052327918220413,0,{"$error":"#DIV/0!"},-0.56847159775099776,-3.8488259834190761,8.5133608147719997,3.1750320811370329,null,null,null,null,null,null,null,63.921616440090837,25.12111767573256,2.6616067139166191,null,null,null,null,null,null,null,null,null,null,null,null,null,null,null,null,null,null,null,null,null,null,null,null,null,null,null,null,null,1501,"41Т",22.270690363041709,29.498430015781679,31.312583461752261,22.104315337461919,1.2,342.98100121189691,98.418409999999994,null,"гидратный",26.938083648681641,49.952583196096533]
[7.6,858.48,901,"9Т",null,{"$f":"VLOOKUP($C192,Тнав!$A$3:$E$250,2,FALSE)","v":16.036473763483411},20.939644700357,40.279250866578749,{"$f":"VLOOKUP($C192,Тнав!$A$3:$E$250,3,FALSE)","v":27.234251360276371},-1.3,97.376530000000002,0,17.621061325073239,null,null,{"$f":"Шлейфы!$L$2","v":5.3686572958219374},{"$f":"VLOOKUP($C192,Тнав!$A$3:$E$250,4,FALSE)","v":236.2999404652407},13.54,25.68,47.21,41.833502226855124,-1.28,97.8,"0.0",21.339048070269126,null,null,0,null,110.46299999999999,1.021623552689348,-2.4964737634834115,-15.567473250685083,4.7403552996429994,22.638184016380094,236.2999404652407,-53.253056356038776,-1.835965585721397,2.286339890822163,16.400757512155469,-6.0680980297884481,-19.275356659785441,0.20000000000000021,-7.407407407407419,-2.3238199999999982,-2.3238199999999982,null,null,-7.407407407407419,12.0707668591866,52.960835494531949,0,{"$error":"#DIV/0!"},-0.56847159775099776,-3.8488259834190761,-14.08711729367502,-4.4598804109748187,null,null,null,null,null,null,null,68.888989240558018,25.822002438156101,0.40898114604665642,null,null,null,null,null,null,null,null,null,null,null,null,null,null,null,null,null,null,null,null,null,null,null,null,null,null,null,null,null,1502,null,19.71458233353918,34.988656182960071,37.136959672593818,17.13161645566386,-0.7,299.39034392127468,95.686049999999994,null,"гидратный",19.577154159545898,49.952583196096533]
[7.6,853.41,902,null,null,{"$f":"VLOOKUP($C193,Тнав!$A$3:$E$250,2,FALSE)","v":21.525417432695669},28.403220143949259,42.786995835501273,{"$f":"VLOOKUP($C193,Тнав!$A$3:$E$250,3,FALSE)","v":22.409253489164691},1.5,97.737260000000006,29,19.44899749755859,null,null,{"$f":"Шлейфы!$L$2","v":5.3686572958219374},{"$f":"VLOOKUP($C193,Тнав!$A$3:$E$250,4,FALSE)","v":295.39884853497051},27.408333333333331,39.84999999999998,43.13,25.346249324665976,1.5,98,"29.0",29.782331492992252,null,null,0,null,319.77199999999999,1.411408637238406,5.8829159006376628,27.330089737084066,11.446779856050721,40.300993331170702,295.39884853497051,8.2509297466486515,0.48698093052854569,2.286339890822163,13.607005519578051,-5.860755312925054,-27.010114912320759,3.1,-110.71428571428569,-3.7800000000004268E-2,-3.7800000000004268E-2,{"$error":"#VALUE!"},null,-110.71428571428569,7.576183238443253,31.16635405165491,0,{"$error":"#DIV/0!"},-0.56847159775099776,-3.8488259834190761,33.171735602930987,8.9757102462892675,null,null,null,null,null,null,null,66.138733610018477,17.206375919241271,1.368758855928675,null,null,null,null,null,null,null,null,null,null,null,null,null,null,null,null,null,null,null,null,null,null,null,null,null,null,null,null,null,1503,null,19.208943203235251,28.756164805974901,30.507415242658769,20.225111977728378,2,205.05522967391869,49.054752000000001,null,"гидратный",16.557649612426761,49.952583196096533]
[7.6,779.99,"51Р",null,6,{"$f":"VLOOKUP($C194,Тнав!$A$3:$E$250,2,FALSE)","v":13.01075446032973},17.168345195387321,24.873796046221511,{"$f":"VLOOKUP($C194,Тнав!$A$3:$E$250,3,FALSE)","v":20.825633410607171},0.8,89.908676,0,21.888381958007809,null,null,{"$f":"Шлейфы!$L$2","v":5.3686572958219374},{"$f":"VLOOKUP($C194,Тнав!$A$3:$E$250,4,FALSE)","v":163.61031395793449},19.341666666666669,28.462499999999999,31.93,17.236929456828683,-0.59999999999999976,43,"0.0",16.784062318129084,15.8630256652832,null,-0.782647039677419,null,125.392,-1.1999999999999991,6.3309122063369383,48.659070660660916,11.294154804612678,65.784760709769046,157.61031395793449,-23.359354941254324,-3.317992796757522,2.286339890822163,-40.865357708128663,19.902112707732758,69.860548223472733,-0.50000000000000011,83.333333333333343,-2.8164200000000008,-4.3329538461538419,null,null,83.333333333333343,-3.2830150620117808,-15.96348676714562,15.8630256652832,{"$error":"#DIV/0!"},-0.64591456775199774,-4.3731521174813679,28.523711813295989,25.479363977165061,null,null,null,null,null,null,null,55.086668459480443,26.287108591925868,-22.103347270614499,null,null,null,null,null,null,null,null,null,null,null,null,null,null,null,null,null,null,null,null,null,null,null,null,null,null,null,null,null,1601,"40Т",16.88981308110456,25.481927866193072,27.041421851604081,13.68956353658395,2.2999999999999998,178.8913216815194,99.093299999999999,null,"гидратный",16.416145324707031,39.755421066317247]
[7.6,835.4,701,"7Т",null,{"$f":"VLOOKUP($C195,Тнав!$A$3:$E$250,2,FALSE)","v":20.40953365078796},{"$f":"VLOOKUP($C195,$CS:$DG,3,FALSE)","v":23.735141244647149},{"$f":"VLOOKUP($C195,$CS:$DG,5,FALSE)","v":40.942957982076358},{"$f":"VLOOKUP($C195,Тнав!$A$3:$E$250,3,FALSE)","v":23.407649626880708},{"$f":"VLOOKUP($C195,$CS:$DG,7,FALSE)","v":-0.9},{"$f":"VLOOKUP($C195,$CS:$DG,9,FALSE)","v":99.149124},{"$f":"VLOOKUP($C195,$CS:$DG,10,FALSE)","v":0},{"$f":"VLOOKUP($C195,$CS:$DG,12,FALSE)","v":16.405216217041019},null,null,{"$f":"Шлейфы!$L$2","v":5.3686572958219374},{"$f":"VLOOKUP($C195,Тнав!$A$3:$E$250,4,FALSE)","v":262.37417642059449},23.745833333333341,38.212499999999977,41.43,{"$f":"(H195+I195)-S195","v":26.138107608957085},-0.65833333333333355,97.2,"0.0",{"$f":"(AD195*(1/(1+(5*10^7*0.098*R195)/(18.8+273.15)^3.825))*(18.8+273.15)*0.052)/((POWER(A195,2))*(R195/10.197))","v":27.427004055537367},null,null,0.7037411319354836,null,253.511,1.9714009080084409,{"$f":"IF(R195=\"\",\"\",(R195-F195))","v":3.3362996825453806},{"$f":"IF(R195=\"\",\"\",(R195/F195*100-100))","v":16.346770776982325},{"$f":"IF(R195=\"\",\"\",(S195-G195))","v":14.477358755352828},{"$f":"IF(R195=\"\",\"\",(S195/G195*100-100))","v":60.995460722686147},{"$f":"IF(AD195=\"\",\"\",(Q195-E195))","v":262.37417642059449},{"$f":"IF(AD195=\"\",\"\",(AD195/Q195*100-100))","v":-3.3780673622340487},-1.9858655980049209,2.286339890822163,10.41492127011578,-4.1371599719965602,-13.637536166510291,-2.5,-357.14285714285722,-8.0210900000000009,-8.0210900000000009,null,null,-357.14285714285722,11.552493972701489,67.312350537476874,0,{"$error":"#DIV/0!"},-0.64222763267999916,-4.3481897947190191,-4.2546229784800289,-1.458908167814045,null,null,null,null,null,null,null,66.032008079175824,22.171456401208491,-4.0279482487549387,null,null,null,null,null,null,null,null,null,null,null,null,null,null,null,null,null,null,null,null,null,null,null,null,null,null,null,null,null,1602,null,17.282053107314429,30.368457097534051,32.239154054742151,12.84115641007714,0.6,222.86276389817479,99.381929999999997,null,"гидратный",16.96844482421875,44.854002131206883]
[7.6,816.6,702,null,null,{"$f":"VLOOKUP($C196,Тнав!$A$3:$E$250,2,FALSE)","v":16.565559932293748},23.742620288734379,48.147163539826053,{"$f":"VLOOKUP($C196,Тнав!$A$3:$E$250,3,FALSE)","v":27.751292113614269},-3,98.233665000000002,0,19.3294563293457,null,null,{"$f":"Шлейфы!$L$2","v":5.3686572958219374},{"$f":"VLOOKUP($C196,Тнав!$A$3:$E$250,4,FALSE)","v":297.40180368749492},24.129166666666681,45.100000000000023,48.84,30.7984556534403,-3.0375000000000001,97.5,"0.0",38.440128827209897,null,null,0.7037411319354836,null,361.28399999999999,1.9619855034755991,7.5636067343729323,45.658624068770848,21.357379711265644,89.953760164371971,297.40180368749492,21.480097134727359,-1.856056932502653,2.286339890822163,32.945415862987659,-12.87435272333299,-41.393771464796252,-4.4000000000000004,-2200,-1.495223999999993,-1.495223999999993,null,null,-2200,14.654553033254469,60.921610674807603,0,{"$error":"#DIV/0!"},-0.64222763267999916,-4.3481897947190191,-14.61122902069798,-3.591789671642033,null,null,null,null,null,null,null,72.308874533629051,20.356694482590079,2.1288976125183861,null,null,null,null,null,null,null,null,null,null,null,null,null,null,null,null,null,null,null,null,null,null,null,null,null,null,null,null,null,1603,null,17.981954910638091,30.262995321819218,32.127195833643277,23.139841796890479,1.3,198.72646748366489,99.123589999999993,null,"гидратный",15.18696880340576,49.952583196096533]
[7.6,813.17,703,null,null,{"$f":"VLOOKUP($C197,Тнав!$A$3:$E$250,2,FALSE)","v":17.432409146584739},23.456338986295929,40.436214793463662,{"$f":"VLOOKUP($C197,Тнав!$A$3:$E$250,3,FALSE)","v":21.290955792135058},-0.9,97.243354999999994,0,17.57498741149902,null,null,{"$f":"Шлейфы!$L$2","v":5.3686572958219374},{"$f":"VLOOKUP($C197,Тнав!$A$3:$E$250,4,FALSE)","v":255.58682215572051},23.654166666666669,38.100000000000023,41.2,23.627170585598698,-0.95833333333333337,96.6,"0.0",29.807857867200124,null,null,0.7037411319354836,null,274.41000000000003,2.048477553688159,6.2217575200819297,35.69074972807681,14.643661013704094,62.42943974445231,255.58682215572051,7.36469027844133,-2.453807482783247,2.286339890822163,9.0533196074934068,-3.6268162267798978,-14.318637308985499,-1.7,849.99999999999977,-1.5986099999999941,-1.5986099999999941,null,null,849.99999999999977,13.056908108581389,69.205813467188506,0,{"$error":"#DIV/0!"},-0.64222763267999916,-4.3481897947190191,2.3177193781680221,0.73074922834004497,null,null,null,null,null,null,null,64.09492962666836,20.407490512146889,-1.295032558632826,null,null,null,null,null,null,null,null,null,null,null,null,null,null,null,null,null,null,null,null,null,null,null,null,null,null,null,null,null,1701,null,20.405099710203789,37.61627266521225,39.974812961321057,18.690704059535008,-1.7,263.40260568869923,97.491429999999994,null,"гидратный",15.915390014648439,49.952583196096533]
[7.6,836.04,1001,"10Т",null,{"$f":"VLOOKUP($C198,Тнав!$A$3:$E$250,2,FALSE)","v":15.60789575897633},20.163968375637548,40.653479133185243,{"$f":"VLOOKUP($C198,Тнав!$A$3:$E$250,3,FALSE)","v":21.655970238370891},-2,98.016379999999998,0,19.161443710327148,null,null,{"$f":"Шлейфы!$L$2","v":5.3686572958219374},{"$f":"VLOOKUP($C198,Тнав!$A$3:$E$250,4,FALSE)","v":298.14867612671043},20.2,37.899999999999977,41,24.409449371556157,-2.0750000000000011,97.1,"0.0",38.536674092461801,null,null,-0.782647039677419,null,301.13400000000001,0.82524308910953437,4.5921042410236694,29.421674208598461,17.736031624362429,87.959033132542544,298.14867612671043,1.0012869793930861,-2.983998941422882,2.286339890822163,18.481934129992641,-6.8233635319224044,-22.40772106608641,-0.5,18.518518518518501,-0.53395999999999333,-0.53395999999999333,null,null,18.518518518518501,16.073393028626771,69.039579696041187,0,{"$error":"#DIV/0!"},-0.64591456775199774,-4.3731521174813679,1.442018709237971,0.42310026594434191,null,null,null,null,null,null,null,66.845815248790188,23.10335286103216,-0.52423179494222438,null,null,null,null,null,null,null,null,null,null,null,null,null,null,null,null,null,null,null,null,null,null,null,null,null,null,null,null,null,1702,"16Т",19.65781254798214,31.707274519271859,33.676296266918641,16.307255934870419,1,217.18850450320591,98.112499999999997,null,"гидратный",15.78185558319092,49.952583196096533]
[7.6,809.12,1002,null,null,{"$f":"VLOOKUP($C199,Тнав!$A$3:$E$250,2,FALSE)","v":10.3258384102453},18.226776231607229,33.293169928796303,{"$f":"VLOOKUP($C199,Тнав!$A$3:$E$250,3,FALSE)","v":24.35050725536977},-0.3,97.529235999999997,0,17.134536743164059,null,null,{"$f":"Шлейфы!$L$2","v":5.3686572958219374},{"$f":"VLOOKUP($C199,Тнав!$A$3:$E$250,4,FALSE)","v":216.80837045093449},16.920833333333331,30.899999999999991,33.33,26.743677184166081,-0.65833333333333333,96.2,"0.0",34.493441077577252,null,null,-0.782647039677419,null,224.483,-0.46578540510480337,6.5949949230880307,63.868856562237852,12.673223768392763,69.530802415931362,216.80837045093449,3.5398216097945152,-3.9218864641985651,2.286339890822163,14.183543765123471,-4.4764000618387918,-16.195685750073888,-1.2,200,-2.3786499999999928,-2.3786499999999928,null,null,200,20.20443318466376,125.59550136712861,0,{"$error":"#DIV/0!"},-0.64591456775199774,-4.3731521174813679,8.322240002412002,3.2901803175922311,null,null,null,null,null,null,null,58.192274273922038,22.155354951403101,-1.0077048461121121,null,null,null,null,null,null,null,null,null,null,null,null,null,null,null,null,null,null,null,null,null,null,null,null,null,null,null,null,null,1703,null,19.498643428398591,29.041651584593271,30.839329817679602,17.640858536643609,2.5,194.4807012066799,97.243110000000001,null,"гидратный",15.524195671081539,47.913150770140668]
[7.6,814.19,1003,null,null,{"$f":"VLOOKUP($C200,Тнав!$A$3:$E$250,2,FALSE)","v":10.0879397619738},18.45973303023316,36.831389009698761,{"$f":"VLOOKUP($C200,Тнав!$A$3:$E$250,3,FALSE)","v":26.92005192815401},-1.1000000000000001,98.983153999999999,0,17.09151649475098,null,null,{"$f":"Шлейфы!$L$2","v":5.3686572958219374},{"$f":"VLOOKUP($C200,Тнав!$A$3:$E$250,4,FALSE)","v":214.72461729763481},17.079166666666669,33.99583333333333,36.770000000000003,29.75560760451944,-1.2375,98.4,"0.0",37.610152562997143,null,null,-0.782647039677419,null,247.126,-0.54710582480817038,6.9912269046928692,69.302821682640285,15.53610030310017,84.162107207375669,214.72461729763481,15.089738247130228,-2.906789076649261,2.286339890822163,22.317775447142079,-7.2526555229506222,-24.582937567968941,-3.6,-360,-1.43289,-1.43289,null,null,-360,20.803941823848909,114.0383833146978,0,{"$error":"#DIV/0!"},-0.64591456775199774,-4.3731521174813679,6.7961901136679899,2.463496207394257,null,null,null,null,null,null,null,61.008787755182567,21.25891699620643,-0.99122999538328571,null,null,null,null,null,null,null,null,null,null,null,null,null,null,null,null,null,null,null,null,null,null,null,null,null,null,null,null,null,1801,null,18.976965331586928,26.856120566976671,28.51582881801583,16.328911219668392,2.7,185.58986588033949,98.316519999999997,null,"гидратный",16.097991943359379,43.834285918228957]
[7.6,852.8,1201,"12Т",null,{"$f":"VLOOKUP($C201,Тнав!$A$3:$E$250,2,FALSE)","v":15.68935070442198},19.919856827278629,42.068314108943582,{"$f":"VLOOKUP($C201,Тнав!$A$3:$E$250,3,FALSE)","v":26.008882793616859},-1.9,94.494730000000004,0,17.298091888427731,null,null,{"$f":"Шлейфы!$L$2","v":5.3686572958219374},{"$f":"VLOOKUP($C201,Тнав!$A$3:$E$250,4,FALSE)","v":262.04688946198718},20.070833333333329,39.399999999999977,42.58,28.677196902560468,-1.9624999999999999,94.9,"0.0",35.745747514174802,null,null,null,null,277.476,0.6359169924066812,4.3814826289113498,27.926475170680234,19.480143172721348,97.792586270222927,262.04688946198718,5.8879197420318832,-2.6795737489482012,2.286339890822163,20.657463867234679,-7.7329591388593713,-23.658463856312121,-2.6,650,-1.2238700000000049,-1.2238700000000049,null,null,650,17.768538211368249,91.073362033254881,0,{"$error":"#DIV/0!"},-0.64591456775199774,-4.3731521174813679,-7.4902284318889656,-2.355045763940709,null,null,null,null,null,null,null,74.521010669471849,29.353837976814098,4.4009930591425501,null,null,null,null,null,null,null,null,null,null,null,null,null,null,null,null,null,null,null,null,null,null,null,null,null,null,null,null,null,1802,"39Т",25.587589488765691,37.446016665464391,39.805115715388652,14.332484433203289,1,253.9717520388763,21.342672,null,"гидратный",15.41583728790283,17.321664380802929]
[7.6,847,1202,null,null,{"$f":"VLOOKUP($C202,Тнав!$A$3:$E$250,2,FALSE)","v":14.56623840940054},20.521548676283029,41.621172351529509,{"$f":"VLOOKUP($C202,Тнав!$A$3:$E$250,3,FALSE)","v":24.80106191546794},-2.1,98.800160000000005,0,17.39200592041016,null,null,{"$f":"Шлейфы!$L$2","v":5.3686572958219374},{"$f":"VLOOKUP($C202,Тнав!$A$3:$E$250,4,FALSE)","v":247.5884795120981},20.362500000000001,39.291666666666657,42.49,27.130567600330792,-2.1916666666666669,98.1,"0.0",34.792428519573328,null,null,null,null,274.14100000000002,0.91661047868150547,5.7962615905994603,39.792439390932657,18.770117990383628,91.465406858286741,247.5884795120981,10.72445718808352,-2.475532489878447,2.286339890822163,17.972959335937428,-6.7981486998462124,-22.053523821228008,-1.3,68.421052631578959,-0.87791400000000408,-0.87791400000000408,null,null,68.421052631578959,16.064544621508421,79.660348030822888,0,{"$error":"#DIV/0!"},-0.64591456775199774,-4.3731521174813679,2.4320679998000401,0.78526777579834572,null,null,null,null,null,null,null,71.834602123921741,27.21213872564336,3.1846073439121771,null,null,null,null,null,null,null,null,null,null,null,null,null,null,null,null,null,null,null,null,null,null,null,null,null,null,null,null,null,1803,null,18.7560699442928,31.94473534002589,33.928503404641503,18.33366600170547,0.4,249.7565123244724,97.452640000000002,null,"гидратный",18.003463745117191,20.38081301973671]
[7.6,845.43,601,"6Т","Шлейф КГС№ 6Т",{"$f":"VLOOKUP($C203,Тнав!$A$3:$E$250,2,FALSE)","v":16.166018712044352},19.958857840414211,43.435385611368083,{"$f":"VLOOKUP($C203,Тнав!$A$3:$E$250,3,FALSE)","v":28.706759514383279},-3.4,99.197940000000003,0,17.619318008422852,null,null,{"$f":"Шлейфы!$L$2","v":5.3686572958219374},{"$f":"VLOOKUP($C203,Тнав!$A$3:$E$250,4,FALSE)","v":282.88885159376707},20.1608695652174,41.713043478260893,45.12,30.429101647490477,-3.4521739130434779,99.3,"0.0",36.915346313526143,null,null,null,null,287.88600000000002,-2.8338643651668001,3.9948508531730482,24.711408073508665,21.754185637846682,108.99514296753571,{"$error":"#VALUE!"},1.7664706042954634,-3.0719170352843288,2.286339890822163,11.335885159004309,-4.8348692055648073,-13.67367395163966,-1.2,52.173913043478279,23.09704000000001,35.533907692307707,null,null,52.173913043478279,10.264320771064609,40.927271426514181,0,{"$error":"#DIV/0!"},-0.50209249181699889,-3.39940752753553,8.3686057982340003,2.6455520298365802,null,null,null,null,null,null,null,80.56930952279474,33.083433027125373,2.559340020599095,null,null,null,null,null,null,null,null,null,null,null,null,null,null,null,null,null,null,null,null,null,null,null,null,null,null,null,null,null,1901,null,19.61711788248444,36.587295207749563,38.85570751063004,24.003670033673679,-1.6,290.25961712855099,99.30583,null,"гидратный",18.080816268920898,49.952583196096533]
[7.6,823.89,602,null,null,{"$f":"VLOOKUP($C204,Тнав!$A$3:$E$250,2,FALSE)","v":10.17546146030776},16.77639246149225,40.339790380506066,{"$f":"VLOOKUP($C204,Тнав!$A$3:$E$250,3,FALSE)","v":27.042253899350492},-3.4,97.88946,0,17.94552040100098,null,null,{"$f":"Шлейфы!$L$2","v":5.3686572958219374},{"$f":"VLOOKUP($C204,Тнав!$A$3:$E$250,4,FALSE)","v":249.22432924192091},16.30833333333333,38.204166666666687,41.31,29.177877613189871,-3.7041666666666671,98,"0.0",46.139678780502251,null,null,null,null,289.09400000000011,-0.55938514928910621,6.1328718730255698,60.271191600976096,21.427774205174437,127.72575662114934,249.22432924192091,15.997503485856669,-2.982187345064276,2.286339890822163,25.425675198303178,-8.8772593332648739,-26.392597543954679,-0.20000000000000021,4.3478260869565162,-0.13492999999999711,-0.13492999999999711,null,null,4.3478260869565162,23.489815636789519,98.045951743334939,0,{"$error":"#DIV/0!"},-0.50209249181699889,-3.39940752753553,11.233515527628009,3.5867081370308971,null,null,null,null,null,null,null,68.288844080176247,24.49703768364477,-0.26111654358032871,null,null,null,null,null,null,null,null,null,null,null,null,null,null,null,null,null,null,null,null,null,null,null,null,null,null,null,null,null,1902,null,56.01341766570755,56.874895346640137,60.62863843951839,11.979041117551359,2.8,73.042379920675501,33.338757000000001,null,"гидратный",2.7980914115905762,13.242799528891309]
[7.6,818.09,501,"5Т",7,{"$f":"VLOOKUP($C205,Тнав!$A$3:$E$250,2,FALSE)","v":12.407070398306949},17.455766704026551,49.683486070472973,{"$f":"VLOOKUP($C205,Тнав!$A$3:$E$250,3,FALSE)","v":24.962299103745021},-6,58.848179999999999,0,19.417522430419918,null,null,{"$f":"Шлейфы!$L$2","v":5.3686572958219374},{"$f":"VLOOKUP($C205,Тнав!$A$3:$E$250,4,FALSE)","v":308.17946216925128},17.795833333333331,46.791666666666657,50.7,27.854118507551334,-6.2833333333333359,61.5,"0.0",54.613127771074616,null,null,{"$error":"#REF!"},null,374.37900000000002,-1.33218873857075E-2,5.3887629350263815,43.433000394369685,29.335899962640106,168.05850158316531,301.17946216925128,21.480840210692605,-2.2987512836511712,2.286339890822163,48.247408739733402,-17.311191533489801,-48.572446082766852,-5.5,239.13043478260869,-1.1797600000000019,-1.8150153846153929,null,null,239.13043478260869,26.49401755804243,96.823463576374678,0,{"$error":"#DIV/0!"},-0.738109356508998,-4.9973551557819746,-31.944750659725059,-7.4957984625276737,null,null,null,null,null,null,null,72.294317398953041,19.10308176428968,0.77433145916640456,null,null,null,null,null,null,null,null,null,null,null,null,null,null,null,null,null,null,null,null,null,null,null,null,null,null,null,null,null,1903,"6Т",24.716899317127559,36.832096358676708,39.159884848545083,25.7653566283423,-0.3,253.71923938892849,74.220969999999994,null,"гидратный",15.67303466796875,26.499110297604279]
[7.6,819.84,502,null,null,{"$f":"VLOOKUP($C206,Тнав!$A$3:$E$250,2,FALSE)","v":23.23239828893508},34.764743023102803,53.533387683425531,{"$f":"VLOOKUP($C206,Тнав!$A$3:$E$250,3,FALSE)","v":25.7961191276334},-1,14.337173999999999,0,15.80974769592285,null,null,{"$f":"Шлейфы!$L$2","v":5.3686572958219374},{"$f":"VLOOKUP($C206,Тнав!$A$3:$E$250,4,FALSE)","v":257.95668385003131},31.062500000000011,50.4,54.59,28.929506811058936,-1.425,17.2,"0.0",27.027844752472667,null,null,{"$error":"#REF!"},null,330.97199999999998,-9.3214789880235571E-2,7.8301017110649305,33.703372392656433,15.635256976897196,44.974464406386772,257.95668385003131,28.305262364288154,-2.2723105112320781,2.286339890822163,56.435175067564067,-19.802484762909501,-56.271276375439562,-8.2000000000000011,-2733.333333333333,-8.0900299999999987,-11.55718571428571,null,null,-2733.333333333333,23.679024922426208,82.858334429772384,0,{"$error":"#DIV/0!"},-0.738109356508998,-4.9973551557819746,-45.61193424374801,-10.49911635950367,null,null,null,null,null,null,null,72.430635145759169,17.539245742787859,2.1506240683950182,null,null,null,null,null,null,null,null,null,null,null,null,null,null,null,null,null,null,null,null,null,null,null,null,null,null,null,null,null,2001,null,32.690115138554859,45.315208492630013,48.210850315309067,5.2484564961410882,0.8,264.61843165976057,56.470039999999997,null,"гидратный",13.05238056182861,49.952583196096533]
[7.6,813.59,503,null,null,{"$f":"VLOOKUP($C207,Тнав!$A$3:$E$250,2,FALSE)","v":25.227361137905412},36.687937656536022,55.495659465600468,{"$f":"VLOOKUP($C207,Тнав!$A$3:$E$250,3,FALSE)","v":20.491264151772381},-0.9,14.124393,0,16.393756866455082,null,null,{"$f":"Шлейфы!$L$2","v":5.3686572958219374},{"$f":"VLOOKUP($C207,Тнав!$A$3:$E$250,4,FALSE)","v":333.37194692684687},31.70000000000001,51.599999999999987,55.94,24.386923617372865,-1.9333333333333329,21,"0.0",29.969918165598489,null,null,{"$error":"#REF!"},null,374.94299999999998,0.12787984370248751,6.4726388620945983,25.657217283694095,14.912062343463965,40.645681649012914,333.37194692684687,12.469871402309437,-1.6752523984197301,2.286339890822163,48.08782435648169,-18.367884989102031,-50.833426596136029,-8.5,{"$error":"#DIV/0!"},4.6598500000000058,7.7664166666666858,null,null,{"$error":"#DIV/0!"},20.49514562055742,67.563982633969232,0,{"$error":"#DIV/0!"},-0.738109356508998,-4.9973551557819746,-61.299185308930021,-13.38494369849489,null,null,null,null,null,null,null,75.2792100382662,18.71478520793875,0.94919224948448289,null,null,null,null,null,null,null,null,null,null,null,null,null,null,null,null,null,null,null,null,null,null,null,null,null,null,null,null,null,2002,"22Т",30.58645013200573,40.662215896302868,43.244266605718103,14.93001228681905,1.2,245.2817900198562,59.244199999999999,null,"гидратный",13.61754035949707,49.952583196096533]
[7.6,855.22,"101Т","1Т",8,{"$f":"VLOOKUP($C208,Тнав!$A$3:$E$250,2,FALSE)","v":19.582496504771999},21.51542880603111,37.409051325657543,{"$f":"VLOOKUP($C208,Тнав!$A$3:$E$250,3,FALSE)","v":23.38157445976822},0.4,98.581869999999995,0,13.883852005004879,null,null,{"$f":"Шлейфы!$L$2","v":5.3686572958219374},{"$f":"VLOOKUP($C208,Тнав!$A$3:$E$250,4,FALSE)","v":217.7687758570834},21.445833333333319,35.025000000000013,37.89,25.765625785425748,0.29583333333333328,98.3,"0.0",23.708141845420357,null,null,null,null,197.11699999999999,-3.0469198085217681,1.8633368285613194,9.5153180704372886,13.509571193968902,62.790155454312668,209.7687758570834,-9.4833502993269718,-3.6045646246332268,2.286339890822163,-0.20200199968097371,8.3085275408684822E-2,0.28435313905330872,6.6000000000000014,-89.189189189189193,29.21501000000001,48.691683333333337,null,null,-89.189189189189193,-2.5868308142264449,-9.492642839963878,0,{"$error":"#DIV/0!"},-0.18420845739164091,-1.247179806307656,12.560373606104999,5.8686855361419532,null,null,null,null,null,null,null,72.557592489273915,31.509760476781789,2.20762888266519,null,null,null,null,null,null,null,null,null,null,null,null,null,null,null,null,null,null,null,null,null,null,null,null,null,null,null,null,null,2003,null,24.656291168505049,39.864720372543509,42.37221128397649,20.799176282208709,-0.1,251.81332101511461,68.349220000000003,null,"гидратный",14.290486335754389,21.400529232714639]
[7.6,850.64,"102Т",null,null,{"$f":"VLOOKUP($C209,Тнав!$A$3:$E$250,2,FALSE)","v":18.160099527235118},22.471086243773051,41.13777922596843,{"$f":"VLOOKUP($C209,Тнав!$A$3:$E$250,3,FALSE)","v":25.699654876938911},-0.9,96.970749999999995,0,17.8958854675293,null,null,{"$f":"Шлейфы!$L$2","v":5.3686572958219374},{"$f":"VLOOKUP($C209,Тнав!$A$3:$E$250,4,FALSE)","v":237.9885502864382},22.308333333333341,38.587500000000013,41.69,28.249934102907325,-1.0874999999999999,97.3,"0.0",26.306966196294368,null,null,null,null,227.86500000000001,-3.9365041752415979,4.1482338060982222,22.842571979724127,16.116413756226962,71.720670649345976,237.9885502864382,-4.2537971991735191,-2.7981773939043109,2.286339890822163,7.0119534950603386,-2.966995473803721,-9.907620320736001,5.1000000000000014,-68.918918918918934,13.011520000000001,16.264399999999991,null,null,-68.918918918918934,19.049981106617761,129.53707664239619,0,{"$error":"#DIV/0!"},-0.18420845739164091,-1.247179806307656,10.63492612175401,3.4094489389798501,null,null,null,null,null,null,null,74.252776544177976,28.972387578904929,1.992782579999826,null,null,null,null,null,null,null,null,null,null,null,null,null,null,null,null,null,null,null,null,null,null,null,null,null,null,null,null,null,2004,null,32.437489258196628,43.208906262496328,45.974276263296098,10.209311570534989,0.2,253.5105439499203,49.240498000000002,null,"гидратный",13.1729679107666,17.321664380802929]
[7.6,855.9,"103Т",null,null,{"$f":"VLOOKUP($C210,Тнав!$A$3:$E$250,2,FALSE)","v":28.295657055765741},29.871110945874591,45.953896386193122,{"$f":"VLOOKUP($C210,Тнав!$A$3:$E$250,3,FALSE)","v":10.936232567163611},1.1000000000000001,99.923900000000003,31,18.8475341796875,null,null,{"$f":"Шлейфы!$L$2","v":5.3686572958219374},{"$f":"VLOOKUP($C210,Тнав!$A$3:$E$250,4,FALSE)","v":341.00911407643349},29.237500000000011,42.899999999999977,46.38,13.990128953356759,0.95416666666666627,100,"31.0",28.535562707112554,null,null,null,null,327.87,-30.929669084600039,0.94184294423427062,3.3285777473838607,13.028889054125386,43.617022071034711,341.00911407643349,-3.8530096510817913,-100,2.286339890822163,-100,51.273588594727457,298.68492712568792,8,-100,-33.721760000000003,-33.721760000000003,{"$error":"#VALUE!"},null,-100,{"$error":"#DIV/0!"},{"$error":"#DIV/0!"},0,{"$error":"#DIV/0!"},-0.18420845739164091,-1.247179806307656,-376.58590262192502,-100,null,null,null,null,null,null,null,72.101290222921605,72.101290222921605,3.6612550022646961,null,null,null,null,null,null,null,null,null,null,null,null,null,null,null,null,null,null,null,null,null,null,null,null,null,null,null,null,null,2201,"24Т",17.82929434231384,41.955825946129593,44.565478319978851,18.945871433437311,-4.4000000000000004,312.55581545879181,50.755997000000001,null,"гидратный",16.797597885131839,49.952583196096533]
[7.6,861.18,"301Т","3Т",null,{"$f":"VLOOKUP($C211,Тнав!$A$3:$E$250,2,FALSE)","v":18.14229176586317},19.220937649016129,38.67294381430883,{"$f":"VLOOKUP($C211,Тнав!$A$3:$E$250,3,FALSE)","v":29.099039627365599},-1.6,98.291245000000004,0,16.204195022583011,null,null,{"$f":"Шлейфы!$L$2","v":5.3686572958219374},{"$f":"VLOOKUP($C211,Тнав!$A$3:$E$250,4,FALSE)","v":260.41065606159452},19.204166666666669,35.795833333333327,38.659999999999997,31.976150108341095,-1.754166666666666,96.5,"0.0",31.897419064849462,null,null,{"$error":"#REF!"},null,236.55099999999999,-3.5444888108927119,1.0618749008034989,5.8530361792633983,16.574895684317198,86.233543789501994,260.41065606159452,-9.1623194006128017,-3.0484960711572309,2.286339890822163,5.4479233330893919,-2.2647121851273941,-6.7664238061012298,1.8,-54.54545454545454,14.48071,26.32856363636364,null,null,-54.54545454545454,2.6342236703831148,11.53269087210924,0,{"$error":"#DIV/0!"},-0.18420845739164091,-1.247179806307656,2.217779473541043,0.8596370315957671,null,null,null,null,null,null,null,77.065630522988258,33.23072641955558,2.025584365205376,null,null,null,null,null,null,null,null,null,null,null,null,null,null,null,null,null,null,null,null,null,null,null,null,null,null,null,null,null,2202,null,36.852742680748683,54.468646261833108,58.025448862730812,11.976663575172561,-5.6,276.76345335996558,20.136579999999999,null,"гидратный",11.12930965423584,13.242799528891309]
[7.6,856.53,"302Т",null,null,{"$f":"VLOOKUP($C212,Тнав!$A$3:$E$250,2,FALSE)","v":15.42909394998069},21.234155967621358,42.906222657564157,{"$f":"VLOOKUP($C212,Тнав!$A$3:$E$250,3,FALSE)","v":31.63864209652456},-2.8,97.143974,0,17.161468505859379,null,null,{"$f":"Шлейфы!$L$2","v":5.3686572958219374},{"$f":"VLOOKUP($C212,Тнав!$A$3:$E$250,4,FALSE)","v":244.63925107281091},21.204166666666669,40.037500000000001,43.22,34.507364754088719,-2.958333333333333,97,"0.0",34.215664253593161,null,null,{"$error":"#REF!"},null,281.15499999999997,-2.6507800142444151,5.7750727166859797,37.429759228948143,18.803344032378643,88.552349625060145,244.63925107281091,14.926365563603298,-2.6564044471430459,2.286339890822163,11.290987305744411,-4.6488684817199646,-13.12618727485442,0.60000000000000053,-13.63636363636364,23.52504999999999,31.36673333333334,null,null,-13.63636363636364,14.107050814893681,66.477139466168126,0,{"$error":"#DIV/0!"},-0.18420845739164091,-1.247179806307656,37.886425241340021,13.628133320550489,null,null,null,null,null,null,null,76.391515764743431,30.569379119354469,-0.1984989710677354,null,null,null,null,null,null,null,null,null,null,null,null,null,null,null,null,null,null,null,null,null,null,null,null,null,null,null,null,null,2203,"26Т",21.352274239584059,42.435684937590153,45.092158814683287,17.68748887459693,-3.6,314.46445801308028,8.1364900000000002,null,"гидратный",16.686758041381839,28.538542723560131]
[7.6,867.7,3901,"39Т",null,{"$f":"VLOOKUP($C213,Тнав!$A$3:$E$250,2,FALSE)","v":32.507463674082821},36.009874647080302,45.4972563745348,{"$f":"VLOOKUP($C213,Тнав!$A$3:$E$250,3,FALSE)","v":13.866556836074921},1.5,68.132679999999993,0,10.75043773651123,null,null,{"$f":"Шлейфы!$L$2","v":5.3686572958219374},{"$f":"VLOOKUP($C213,Тнав!$A$3:$E$250,4,FALSE)","v":200.13414474883979},20.229166666666671,34.829166666666637,45.97,24.534646543943083,1.0913043478260871,0,"0.0",24.882369536347763,null,null,null,null,194.727,1.713815970117015,-12.27829700741615,-37.770701308835882,-1.1807079804136649,-3.2788450167776375,200.13414474883979,-2.7017602396760054,-2.265947619884912,2.286339890822163,11.365934646506259,-4.5746041343322084,-18.655407488476669,-0.2,-40,-2.0812499999999972,-2.0812499999999972,null,null,-40,11.067032611563031,97.158890001045819,0,{"$error":"#DIV/0!"},-0.18420845739164091,-1.247179806307656,3.2710125255539988,1.3019007791570369,null,null,null,null,null,null,null,67.684895891067598,22.861915564123869,2.9149211369777959,null,null,null,null,null,null,null,null,null,null,null,null,null,null,null,null,null,null,null,null,null,null,null,null,null,null,null,null,null,2401,null,20.60526782669087,43.893257274029587,46.645364505111253,19.276310930944309,-4.7,324.93295545045441,95.382400000000004,null,"гидратный",16.62093353271484,49.952583196096533]
[7.6,875.59,3902,null,null,{"$f":"VLOOKUP($C214,Тнав!$A$3:$E$250,2,FALSE)","v":31.26340997763446},31.31870047977128,44.739628741961397,{"$f":"VLOOKUP($C214,Тнав!$A$3:$E$250,3,FALSE)","v":15.247181222717829},1,98.481740000000002,0,12.50795364379883,null,null,{"$f":"Шлейфы!$L$2","v":5.3686572958219374},{"$f":"VLOOKUP($C214,Тнав!$A$3:$E$250,4,FALSE)","v":240.31639005684951},20.229166666666671,34.829166666666637,45.84,25.157643298012587,1.0913043478260871,10,"0.0",27.322215905505736,null,null,null,null,213.821,1.646332285453852,-11.034243310967788,-35.294433073236661,3.5104661868953571,11.208850089941521,240.31639005684951,-11.025211410083898,-1.8004832470091541,2.286339890822163,16.900704801288029,-6.5912352575081394,-23.803466450107251,-0.6,-85.714285714285708,-1.7207700000000019,-1.7207700000000019,null,null,-85.714285714285708,10.116096795152719,81.560709315639969,0,{"$error":"#DIV/0!"},-0.18420845739164091,-1.247179806307656,-2.6410339041589741,-1.0279555021346309,null,null,null,null,null,null,null,69.594443495660755,24.00344263662684,2.904445165538263,null,null,null,null,null,null,null,null,null,null,null,null,null,null,null,null,null,null,null,null,null,null,null,null,null,null,null,null,null,2402,"36Т",42.189137474670041,53.235032384812193,56.759191528686763,13.03574076826898,-5.6,295.68629513378698,95.168120000000002,null,"гидратный",12.18285083770752,13.242799528891309]
[7.6,873.12,3903,null,null,{"$f":"VLOOKUP($C215,Тнав!$A$3:$E$250,2,FALSE)","v":36.054700789477927},38.171416144765843,47.504167183228013,{"$f":"VLOOKUP($C215,Тнав!$A$3:$E$250,3,FALSE)","v":12.12806844721546},2.2999999999999998,15.146743000000001,0,10.00651741027832,null,null,{"$f":"Шлейфы!$L$2","v":5.3686572958219374},{"$f":"VLOOKUP($C215,Тнав!$A$3:$E$250,4,FALSE)","v":199.86244064141431},20.229166666666671,34.829166666666637,48.02,24.803068963776838,1.0913043478260871,44.1,"0.0",24.113895876343776,null,null,null,null,188.71299999999999,1.188288611132037,-15.825534122811256,-43.893122883520711,-3.3422494780992054,-8.7558959442941813,199.86244064141431,-5.5785572344822043,-2.2464158298513581,2.286339890822163,11.876545506360131,-4.8841708457050501,-18.33708656651277,0,{"$error":"#DIV/0!"},-1.5833400000000071,-1.5833400000000071,null,null,{"$error":"#DIV/0!"},10.550011500092291,88.535438370475475,0,{"$error":"#DIV/0!"},-0.18420845739164091,-1.247179806307656,1.4767556477299879,0.58337680967196093,null,null,null,null,null,null,null,70.402819747935396,24.394141417377281,2.642833240888407,null,null,null,null,null,null,null,null,null,null,null,null,null,null,null,null,null,null,null,null,null,null,null,null,null,null,null,null,null,2601,null,19.408415284337771,44.065992437668108,46.833336762753667,16.397916546276662,-4.5,324.53402665978632,94.622900000000001,null,"гидратный",16.52802658081055,49.952583196096533]
[7.6,877.05,3904,null,null,{"$f":"VLOOKUP($C216,Тнав!$A$3:$E$250,2,FALSE)","v":36.989061897715388},42.717792357514242,51.33488284544439,{"$f":"VLOOKUP($C216,Тнав!$A$3:$E$250,3,FALSE)","v":21.218337389744701},1.5,23.009370000000001,0,9.1749086380004883,null,null,{"$f":"Шлейфы!$L$2","v":5.3686572958219374},{"$f":"VLOOKUP($C216,Тнав!$A$3:$E$250,4,FALSE)","v":169.17412655835139},20.229166666666671,34.829166666666637,51.74,37.72405356852245,1.0913043478260871,36.5,"0.0",24.092939827085274,null,null,null,null,188.54900000000001,1.758320979345239,-16.759895231048716,-45.31040899981268,-7.8886256908476042,-18.466838419050362,169.17412655835139,11.452622121247273,-2.565714237227994,2.286339890822163,28.514791439626858,-10.352990726835269,-31.755124563474411,-2.5,-113.6363636363636,-1.2836999999999961,-1.2836999999999961,null,null,-113.6363636363636,12.03086670878694,95.666114118497887,0,{"$error":"#DIV/0!"},-0.18420845739164091,-1.247179806307656,2.1021177660580288,0.75115906759637596,null,null,null,null,null,null,null,72.246544929941123,25.586114435379638,3.3365225266438472,null,null,null,null,null,null,null,null,null,null,null,null,null,null,null,null,null,null,null,null,null,null,null,null,null,null,null,null,null,2602,null,39.327466235146147,49.891235865138562,53.119198825613033,17.34952689715081,1.1000000000000001,339.0074033279858,95.255486000000005,26,"гидратный",15.023709297180179,21.400529232714639]
[7.6,857.81,4001,"40Т",null,{"$f":"VLOOKUP($C217,Тнав!$A$3:$E$250,2,FALSE)","v":16.191201368414969},22.28664166145942,39.089640596060761,{"$f":"VLOOKUP($C217,Тнав!$A$3:$E$250,3,FALSE)","v":26.909860892878491},0.3,96.730180000000004,0,15.424172401428221,null,null,{"$f":"Шлейфы!$L$2","v":5.3686572958219374},{"$f":"VLOOKUP($C217,Тнав!$A$3:$E$250,4,FALSE)","v":194.7458163370911},20.229166666666671,34.829166666666637,39.56,31.170334822272608,1.0913043478260871,95.5,"0.0",29.892526459376718,null,null,null,null,233.93600000000001,1.1711020618436481,4.0379652982517023,24.939256861623463,12.542525005207217,56.278219014474331,194.7458163370911,20.123761526703859,-3.025149699676462,2.286339890822163,5.0391391991503269,-2.045937965253025,-7.6830913924112849,-1.5,-375,-1.325005000000004,-1.325005000000004,null,null,-375,13.543887858373941,87.719049884286079,0,{"$error":"#DIV/0!"},-0.18420845739164091,-1.247179806307656,2.0018909755810341,0.75413825121724187,null,null,null,null,null,null,null,65.849714092286106,23.202834490056649,-1.380325921338923,null,null,null,null,null,null,null,null,null,null,null,null,null,null,null,null,null,null,null,null,null,null,null,null,null,null,null,null,null,2701,38,23.139683285864901,44.288633671425004,47.114248499661933,26.808442658354181,-2.5,310.97832778958173,91.565610000000007,null,"гидратный",15.733616828918461,49.952583196096533]
[7.6,859.59,4002,null,null,{"$f":"VLOOKUP($C218,Тнав!$A$3:$E$250,2,FALSE)","v":18.81131868653425},27.96991539338072,38.171413101781042,{"$f":"VLOOKUP($C218,Тнав!$A$3:$E$250,3,FALSE)","v":31.080748637399729},2.7,57.830584999999999,0,13.051675796508791,null,null,{"$f":"Шлейфы!$L$2","v":5.3686572958219374},{"$f":"VLOOKUP($C218,Тнав!$A$3:$E$250,4,FALSE)","v":215.70802370922661},20.229166666666671,34.829166666666637,36.96,34.422995072514126,1.0913043478260871,89.4,"0.0",25.537629418040545,null,null,null,null,199.85499999999999,-4.9675486196115912,1.4178479801324215,7.5372067411061607,6.859251273285917,24.523675444900377,215.70802370922661,-7.3492971826566844,-0.24918730876997591,2.286339890822163,-18.19160900971907,10.3254006281282,50.612483096731467,2.7,900,9.1879769999999965,30.62658999999999,null,null,900,2.0376281204977982,19.100785493676039,0,{"$error":"#DIV/0!"},-0.18420845739164091,-1.247179806307656,12.74005204021404,7.0719939829999987,null,null,null,null,null,null,null,73.715400104924996,27.28166182119698,-3.444635969779597,null,null,null,null,null,null,null,null,null,null,null,null,null,null,null,null,null,null,null,null,null,null,null,null,null,null,null,null,null,2702,"38Т",23.562692993617091,44.887389289929288,47.760182204484757,22.13858915027966,-3.3,346.70773527988911,98.930335999999997,null,"гидратный",17.279779434204102,49.952583196096533]
[7.6,857.52,4003,null,null,{"$f":"VLOOKUP($C219,Тнав!$A$3:$E$250,2,FALSE)","v":26.076458923271758},26.0501781532713,50.438123159820421,{"$f":"VLOOKUP($C219,Тнав!$A$3:$E$250,3,FALSE)","v":25.136158097388901},-1.9,99.534133999999995,0,15.3109188079834,null,null,{"$f":"Шлейфы!$L$2","v":5.3686572958219374},{"$f":"VLOOKUP($C219,Тнав!$A$3:$E$250,4,FALSE)","v":223.54684503536271},20.229166666666671,34.829166666666637,51.33,40.745114590542684,1.0913043478260871,99.8,"0.0",37.467371581597547,null,null,null,null,293.21600000000001,3.7748672538537602,-5.8472922566050869,-22.423643769310686,8.7789885133953369,33.700301248392435,223.54684503536271,31.165349237479234,-2.1201354514422799,2.286339890822163,19.789589709344451,-8.9657881417559331,-31.01874595954774,-1.6,-1600,15,17.64705882352942,null,null,-1600,8.0502570520151799,51.959312912260089,0,{"$error":"#DIV/0!"},-0.18420845739164091,-1.247179806307656,20.20727684132396,6.6026339312146547,null,null,null,null,null,null,null,76.635294523931293,22.36392767418236,2.4252973283294779,null,null,null,null,null,null,null,null,null,null,null,null,null,null,null,null,null,null,null,null,null,null,null,null,null,null,null,null,null,2801,null,20.561784415498469,37.639922739692423,39.988653918649227,27.462123484296271,-0.7,256.4400787531751,99.458029999999994,null,"гидратный",15.48893451690674,49.952583196096533,"Турон"]
[7.6,850.45,4004,null,null,{"$f":"VLOOKUP($C220,Тнав!$A$3:$E$250,2,FALSE)","v":20.293817836209669},23.36333303449047,37.554134940986671,{"$f":"VLOOKUP($C220,Тнав!$A$3:$E$250,3,FALSE)","v":19.61568467225408},1.5,99.0197,0,15.147671699523929,null,null,{"$f":"Шлейфы!$L$2","v":5.3686572958219374},{"$f":"VLOOKUP($C220,Тнав!$A$3:$E$250,4,FALSE)","v":255.16007439476891},20.229166666666671,34.829166666666637,37.64,22.34065294657411,1.0913043478260871,97.5,"0.0",27.517848292181174,null,null,null,null,215.352,4.3848981050611968E-2,-6.4651169542997877E-2,-0.31857568676724668,11.465833632176167,49.076189665445241,255.16007439476891,-15.60121601672688,-3.4024330643762402,2.286339890822163,-14.811878076878809,7.1544283771008574,38.18139052056614,0.4,-200,8.1712339999999983,9.6132164705882417,null,null,-200,13.37330684985756,112.72010276283611,0,{"$error":"#DIV/0!"},-0.18420845739164091,-1.247179806307656,5.1404541580000114,2.1040225419484102,null,null,null,null,null,null,null,72.64713524278315,31.49959718479132,5.607170323200549,null,null,null,null,null,null,null,null,null,null,null,null,null,null,null,null,null,null,null,null,null,null,null,null,null,null,null,null,null,2802,"19т",21.825382283454289,41.225595477925168,43.810440314391073,23.323142833294551,-1.5,298.48828079660677,98.625929999999997,null,"гидратный",16.340473175048832,49.952583196096533]
[7.6,875.25099999999998,4101,"41Т",null,{"$f":"VLOOKUP($C221,Тнав!$A$3:$E$250,2,FALSE)","v":21.548847395799111},23.244530460488651,38.379885662835107,{"$f":"VLOOKUP($C221,Тнав!$A$3:$E$250,3,FALSE)","v":23.844501932594689},1.4,99.36891,0,14.916154861450201,null,null,{"$f":"Шлейфы!$L$2","v":5.3686572958219374},{"$f":"VLOOKUP($C221,Тнав!$A$3:$E$250,4,FALSE)","v":207.55709402743389},20.229166666666671,34.829166666666637,39.200000000000003,27.395220928763159,1.0913043478260871,98.6,"0.0",27.419712646873062,null,null,null,null,214.58400000000009,0.81747442670504,-1.3196807291324397,-6.1241360379660392,11.584636206177986,49.838116652301068,207.55709402743389,3.3855291747519942,-2.686804531973678,2.286339890822163,14.57641160948204,-5.352786012406078,-18.05460307607073,0,0,8.2093799999999959,9.1215333333333177,null,null,0,8.2555729393249848,53.840439699999727,0,{"$error":"#DIV/0!"},-0.18420845739164091,-1.247179806307656,3.502030778321028,1.4280365764317791,null,null,null,null,null,null,null,69.382913445120451,27.307879489852631,3.0129020490672498,null,null,null,null,null,null,null,null,null,null,null,null,null,null,null,null,null,null,null,null,null,null,null,null,null,null,null,null,null,3001,null,20.64937397866937,35.441971875425317,37.646462526076768,27.639919615642139,-0.1,289.91898826455969,99.613740000000007,null,"гидратный",18.681510925292969,49.952583196096533]
[7.6,858.64,4102,null,null,{"$f":"VLOOKUP($C222,Тнав!$A$3:$E$250,2,FALSE)","v":20.929378773104471},21.86233937569547,37.781853072634959,{"$f":"VLOOKUP($C222,Тнав!$A$3:$E$250,3,FALSE)","v":21.767000312260489},0.8,97.869429999999994,0,16.58016395568848,null,null,{"$f":"Шлейфы!$L$2","v":5.3686572958219374},{"$f":"VLOOKUP($C222,Тнав!$A$3:$E$250,4,FALSE)","v":221.5693993267177},20.229166666666671,34.829166666666637,39.159999999999997,24.719686718228814,1.0913043478260871,97.4,"0.0",29.413987407711453,null,null,null,null,230.191,1.790484024181652,-0.70021210643779952,-3.3455943151911072,12.966827290971167,59.311252415130326,221.5693993267177,3.8911513500874833,-2.5357841952551179,2.286339890822163,8.4908608524829816,-3.3054179034927489,-12.01496620883194,1,-83.333333333333329,-1.239136000000002,-1.239136000000002,null,null,-83.333333333333329,5.0851585879913159,23.87769884387545,0,{"$error":"#DIV/0!"},-0.18420845739164091,-1.247179806307656,1.030256937368051,0.38693970943998579,null,null,null,null,null,null,null,68.971686371420034,26.73714265936874,2.5317224461216199,null,null,null,null,null,null,null,null,null,null,null,null,null,null,null,null,null,null,null,null,null,null,null,null,null,null,null,null,null,3002,"28Т",21.496167552034489,41.711103465922157,44.326389653235481,22.25249870664712,-2.1,320.5111059788731,99.176910000000007,null,"гидратный",17.325588226318359,49.952583196096533]
[7.6,890.75,4103,null,null,{"$f":"VLOOKUP($C223,Тнав!$A$3:$E$250,2,FALSE)","v":36.325872328918422},40.515207786728602,49.592936316999626,{"$f":"VLOOKUP($C223,Тнав!$A$3:$E$250,3,FALSE)","v":13.527181916910379},5,98.544579999999996,19,9.5622014999389648,null,null,{"$f":"Шлейфы!$L$2","v":5.3686572958219374},{"$f":"VLOOKUP($C223,Тнав!$A$3:$E$250,4,FALSE)","v":188.19774937117319},20.229166666666671,34.829166666666637,50.41,28.290951567243368,1.0913043478260871,97.7,"19.0",25.446649496869473,null,null,null,null,199.143,0.31550755425022459,-16.09670566225175,-44.311959026067029,-5.6860411200619652,-14.034337797286383,188.19774937117319,5.8158244003439421,-2.776470565352867,2.286339890822163,15.6989948132273,-6.65867425269942,-35.446205512982708,5.8000000000000007,-161.11111111111109,-3.2397799999999961,-3.2397799999999961,{"$error":"#VALUE!"},null,-161.11111111111109,5.1596832941321757,37.816907168395858,0,{"$error":"#DIV/0!"},-0.18420845739164091,-1.247179806307656,-32.01352436001099,-11.06243373211568,null,null,null,null,null,null,null,66.484329844900373,17.411002094200501,5.2843814011247554,null,null,null,null,null,null,null,null,null,null,null,null,null,null,null,null,null,null,null,null,null,null,null,null,null,null,null,null,null,3003,null,20.28957189627824,37.97724407846998,40.343226384558662,21.382215776152911,-0.9,258.30758118058401,99.719375999999997,null,"гидратный",15.454414367675779,49.952583196096533]
[7.6,858.26,"201т","2Т",9,{"$f":"VLOOKUP($C224,Тнав!$A$3:$E$250,2,FALSE)","v":18.28745238243495},23.12235017565305,40.862699629680463,{"$f":"VLOOKUP($C224,Тнав!$A$3:$E$250,3,FALSE)","v":29.951077364756689},-1.1000000000000001,94.529780000000002,0,14.7071418762207,null,null,{"$f":"Шлейфы!$L$2","v":5.3686572958219374},{"$f":"VLOOKUP($C224,Тнав!$A$3:$E$250,4,FALSE)","v":249.9768781159095},21.579166666666669,37.562500000000007,40.5,33.251276994437141,37.562500000000007,95.2,"0.0",28.176866389961535,null,null,null,null,235.7829999999999,0.2835597762702875,3.2917142842317197,17.999851567041688,14.440149824346957,62.451047210382114,240.9768781159095,-5.6780763976611297,-3.4673175104054512,3.2863398908221599,9.3457111936523489,-3.7450897385629598,-10.500105663359779,2.8,-53.846153846153847,35,53.846153846153868,null,null,-53.846153846153847,9.2962313384291129,49.12000503064138,0,{"$error":"#DIV/0!"},-0.74548424626999932,-5.0472867046039198,-26.096224475460989,-8.8927145853207747,null,null,null,null,null,null,null,77.183669750400853,33.365763069809553,1.4436904136978801,null,null,null,null,null,null,null,null,null,null,null,null,null,null,null,null,null,null,null,null,null,null,null,null,null,null,null,null,null,3101,"2Т",21.572820569034789,40.498980512585689,43.005867406314749,19.507025289893999,-1.2,284.35450314278211,97.474410000000006,null,"гидратный",15.88116359710693,49.952583196096533]
[7.6,853.85,"202т",null,null,{"$f":"VLOOKUP($C225,Тнав!$A$3:$E$250,2,FALSE)","v":15.822542399519151},21.44246942792503,46.512134943612182,{"$f":"VLOOKUP($C225,Тнав!$A$3:$E$250,3,FALSE)","v":28.47627866673696},-3.4,100,0,15.975385665893549,null,null,{"$f":"Шлейфы!$L$2","v":5.3686572958219374},{"$f":"VLOOKUP($C225,Тнав!$A$3:$E$250,4,FALSE)","v":279.96698723220459},19.958333333333329,43.462499999999999,46.96,31.525913610349143,-3.620833333333334,98.1,"0.0",38.140557592268728,null,null,null,null,294.34800000000001,1.562365901945824,4.1357909338141781,26.138599154203334,22.020030572074969,102.69353838228059,279.96698723220459,5.1366816173464827,-2.573958238908034,4.2863398908221599,38.792653514395447,-14.141861824169739,-39.168713416301642,-4.5999999999999996,-574.99999999999989,-77.027678000000009,-77.027678000000009,null,null,-574.99999999999989,9.7462427314694651,39.417531662280417,0,{"$error":"#DIV/0!"},-0.74548424626999932,-5.0472867046039198,-17.257696122138949,-4.8592190678494234,null,null,null,null,null,null,null,74.528585294094853,23.931723507311371,1.9685908327748221,null,null,null,null,null,null,null,null,null,null,null,null,null,null,null,null,null,null,null,null,null,null,null,null,null,null,null,null,null,3102,null,19.3198549006256,42.341921973273237,44.967121135616182,19.601769051851139,-3.5,322.618778516806,95.223945999999998,null,"гидратный",17.170976638793949,49.952583196096533]
[7.6,852.48,"203т",null,null,{"$f":"VLOOKUP($C226,Тнав!$A$3:$E$250,2,FALSE)","v":17.137969723584408},22.50664671085314,38.219496260326657,{"$f":"VLOOKUP($C226,Тнав!$A$3:$E$250,3,FALSE)","v":33.482369286554878},-0.1,96.816540000000003,0,16.230792999267582,null,null,{"$f":"Шлейфы!$L$2","v":5.3686572958219374},{"$f":"VLOOKUP($C226,Тнав!$A$3:$E$250,4,FALSE)","v":227.65681458785289},22.3125,35.820833333333319,38.590000000000003,35.881032213548217,-0.21249999999999991,97.2,"0.0",27.580566393606261,null,null,null,null,238.94300000000001,-3.5737007327100478,5.1745302764155916,30.193368058613515,13.314186622480179,59.156687326770111,227.65681458785289,4.9575434113753545,-3.0286571773209232,5.2863398908221599,-1.978828926413144,0.87811651516511091,2.9812761109086519,-1.1000000000000001,-183.33333333333329,15.31220999999999,30.62441999999999,null,null,-183.33333333333329,5.1201229307808616,25.957658210470189,0,{"$error":"#DIV/0!"},-0.74548424626999932,-5.0472867046039198,10.66704290194599,4.1098384756430164,null,null,null,null,null,null,null,73.761158142036294,30.26370972361234,-6.8790837097267854E-2,null,null,null,null,null,null,null,null,null,null,null,null,null,null,null,null,null,null,null,null,null,null,null,null,null,null,null,null,null,3301,null,20.417725257481919,35.925175782173888,38.148944163090462,30.825106056708151,-0.2,231.96855052974331,99.188675000000003,null,"гидратный",14.736758232116699,49.952583196096533]
[7.6,856.72,"204т",null,null,{"$f":"VLOOKUP($C227,Тнав!$A$3:$E$250,2,FALSE)","v":16.477041057846879},{"$f":"VLOOKUP($C227,$CS:$DG,3,FALSE)","v":22.12984852219433},{"$f":"VLOOKUP($C227,$CS:$DG,5,FALSE)","v":36.247830762388219},{"$f":"VLOOKUP($C227,Тнав!$A$3:$E$250,3,FALSE)","v":31.246965169051599},{"$f":"VLOOKUP($C227,$CS:$DG,7,FALSE)","v":0.9},{"$f":"VLOOKUP($C227,$CS:$DG,9,FALSE)","v":99.743409999999997},{"$f":"VLOOKUP($C227,$CS:$DG,10,FALSE)","v":0},{"$f":"VLOOKUP($C227,$CS:$DG,12,FALSE)","v":15.78310394287109},null,null,{"$f":"Шлейфы!$L$2","v":5.3686572958219374},{"$f":"VLOOKUP($C227,Тнав!$A$3:$E$250,4,FALSE)","v":202.25933499401839},21.712499999999999,34.041666666666657,36.619999999999997,{"$f":"(H227+I227)-S227","v":33.453129264773168},0.7583333333333333,98.9,"0.0",{"$f":"(AD227*(1/(1+(5*10^7*0.098*R227)/(18.8+273.15)^3.825))*(18.8+273.15)*0.052)/((POWER(A227,2))*(R227/10.197))","v":26.177101586059024},null,null,null,null,220.45400000000001,-0.2099580617020109,{"$f":"IF(R227=\"\",\"\",(R227-F227))","v":5.2354589421531195},{"$f":"IF(R227=\"\",\"\",(R227/F227*100-100))","v":31.774266531064029},{"$f":"IF(R227=\"\",\"\",(S227-G227))","v":11.911818144472328},{"$f":"IF(R227=\"\",\"\",(S227/G227*100-100))","v":53.826930322301138},{"$f":"IF(AD227=\"\",\"\",(Q227-E227))","v":202.25933499401839},{"$f":"IF(AD227=\"\",\"\",(AD227/Q227*100-100))","v":8.99571088104274},-3.3083669039837531,6.2863398908221599,16.392523114998369,-5.6924753022673329,-17.57806377407185,2.9,-87.878787878787875,10.64575000000001,12.52441176470589,null,null,-87.878787878787875,12.23251176666197,80.86048400125236,0,{"$error":"#DIV/0!"},-0.74548424626999932,-5.0472867046039198,4.4133117263680504,1.7321594610265829,null,null,null,null,null,null,null,70.89517585009726,30.476653420533271,3.785156429652488,null,null,null,null,null,null,null,null,null,null,null,null,null,null,null,null,null,null,null,null,null,null,null,null,null,null,null,null,null,3302,null,20.9866810419188,36.964883629493812,39.256706414522426,31.388606107456781,-0.2,250.9100117764973,97.952545000000001,null,"гидратный",15.458493232727051,49.952583196096533]
[7.6,824.06,"401т","4Т",null,{"$f":"VLOOKUP($C228,Тнав!$A$3:$E$250,2,FALSE)","v":36.667735630265852},57.138584617518212,65.377330558309367,{"$f":"VLOOKUP($C228,Тнав!$A$3:$E$250,3,FALSE)","v":20.594295705930278},3.5,42.117344000000003,0,8.7190351486206055,null,null,{"$f":"Шлейфы!$L$2","v":5.3686572958219374},{"$f":"VLOOKUP($C228,Тнав!$A$3:$E$250,4,FALSE)","v":271.84950331429542},47.717391304347842,59.082608695652191,64.010000000000005,26.889017568587455,2.12608695652174,50.3,"0.0",15.729638467813345,null,null,null,null,304.39100000000002,0.54814798245864083,11.04965567408199,30.134546036602046,1.9440240781339782,3.4022965237013381,271.84950331429542,11.970408733129872,-1.918159975325338,13.2863398908222,26.734589833974539,-12.257510928539549,-36.752949150837793,-6.7,837.5,-9.9586500000000058,-9.9586500000000058,null,null,837.5,12.83197691223323,36.346363297266407,0,{"$error":"#DIV/0!"},-0.74548424626999932,-5.0472867046039198,-9.2456487876619917,-2.0390121579850562,null,null,null,null,null,null,null,80.578030455255131,22.471636096446499,1.378052182954463,null,null,null,null,null,null,null,null,null,null,null,null,null,null,null,null,null,null,null,null,null,null,null,null,null,null,null,null,null,3303,"27Т",19.64057419542188,35.032861747899673,37.194389317745078,31.56074416820892,0.3,238.36562806236239,99.119834999999995,null,"гидратный",15.560689926147459,49.952583196096533]
[7.6,827.76,"402т",null,null,{"$f":"VLOOKUP($C229,Тнав!$A$3:$E$250,2,FALSE)","v":16.100529074358001},22.846102880506489,45.527642612182873,{"$f":"VLOOKUP($C229,Тнав!$A$3:$E$250,3,FALSE)","v":24.18651446833978},-3.1,98.222399999999993,0,16.82318115234375,null,null,{"$f":"Шлейфы!$L$2","v":5.3686572958219374},{"$f":"VLOOKUP($C229,Тнав!$A$3:$E$250,4,FALSE)","v":254.48630929447771},21.943478260869561,43.260869565217398,46.38,26.453287515305256,-3.278260869565218,98.5,"0.0",36.550451106295398,null,null,null,null,311.21499999999997,0.76550496459820749,5.8429491865115608,36.290417287076281,20.414766684710909,89.357763954262282,254.48630929447771,22.291450908614067,-4.0485177892171862,13.2863398908222,22.69098413513062,-9.1249840859166866,-26.794201322784549,-6,-315.78947368421052,-29.553764000000001,-29.553764000000001,null,null,-315.78947368421052,8.6840620308362872,32.097067981914449,0,{"$error":"#DIV/0!"},-0.74548424626999932,-5.0472867046039198,16.06395260881197,4.8918188128900653,null,null,null,null,null,null,null,76.911603988686224,27.572480085937119,2.6416474823030431,null,null,null,null,null,null,null,null,null,null,null,null,null,null,null,null,null,null,null,null,null,null,null,null,null,null,null,null,null,3401,null,21.60639708636252,38.234489229974727,40.612674460079162,25.290725460979541,-0.5,267.57008827346152,98.003609999999995,null,"гидратный",15.8944034576416,49.952583196096533]
[7.6,827.45,"403т",null,null,{"$f":"VLOOKUP($C230,Тнав!$A$3:$E$250,2,FALSE)","v":18.264014671663631},25.764493494791289,51.710544163076413,{"$f":"VLOOKUP($C230,Тнав!$A$3:$E$250,3,FALSE)","v":26.429434201892651},-4.2,20.896833000000001,0,17.483074188232418,null,null,{"$f":"Шлейфы!$L$2","v":5.3686572958219374},{"$f":"VLOOKUP($C230,Тнав!$A$3:$E$250,4,FALSE)","v":276.17438784127341},24.452380952380938,48.357142857142833,63.64,29.782835507826235,-4.8190476190476206,32.1,"0.0",34.619418831515659,null,null,null,null,329.91899999999998,8.5257882896808468E-2,6.1883662807173074,33.882836780231429,22.592649362351544,87.689087957110502,276.17438784127341,19.460389712030562,-2.3202987745967079,13.2863398908222,29.659659562790669,-12.39905433330806,-35.039853891873513,-6,857.14285714285734,-0.70592999999999506,-0.70592999999999506,null,null,857.14285714285734,4.272265719344432,10.67284625445386,0,{"$error":"#DIV/0!"},-0.74548424626999932,-5.0472867046039198,8.3919966498229996,2.0863987678320939,null,null,null,null,null,null,null,80.162585126373884,25.959091645479599,2.9725693962789559,null,null,null,null,null,null,null,null,null,null,null,null,null,null,null,null,null,null,null,null,null,null,null,null,null,null,null,null,null,3402,"30Т",23.013924110957358,39.049999947107139,41.486719943806627,23.06754497089128,-0.6,279.79628773181162,98.324529999999996,null,"гидратный",16.244037628173832,49.952583196096533]
[7.6,800.255,1902,19,10,{"$f":"VLOOKUP($C231,Тнав!$A$3:$E$250,2,FALSE)","v":58.503293398506003},56.01341766570755,60.62863843951839,{"$f":"VLOOKUP($C231,Тнав!$A$3:$E$250,3,FALSE)","v":11.33428910764334},2.8,33.338757000000001,0,2.7980914115905762,null,null,{"$f":"Шлейфы!$L$2","v":5.3686572958219374},{"$f":"VLOOKUP($C231,Тнав!$A$3:$E$250,4,FALSE)","v":61.460682947748602},19.221739130434791,41.533333333333339,70.64,30.429594213828388,-1.0249999999999999,6.4,"0.0",7.8099074689781487,7.1319565773010254,null,-1.5243283987096779E-2,null,57.972999999999978,-1.787604849435027,-39.281554268071211,-67.144175970569108,-14.480084332374211,-25.85109949689641,51.460682947748602,-5.6746570009866559,-3.2291888907509469,2.286339890822163,-2.1759506888728311,1.1115405222879571,4.2172553588581536,0.99999999999999989,111.1111111111111,0.4069860000000034,1.162817142857151,null,null,111.1111111111111,-1.3308141795936219,-13.84312219738452,7.1319565773010254,{"$error":"#DIV/0!"},-0.59797421564599951,-4.0485728885985139,-2.591405275917992,-1.733156489711746,null,null,null,null,null,null,null,80.616385218956907,30.644942658399909,3.1764370556547159,null,null,null,null,null,null,null,null,null,null,null,null,null,null,null,null,null,null,null,null,null,null,null,null,null,null,null,null,null,3403,null,23.22170543350104,43.58081085898381,46.317685780927988,23.989247425613129,-2.7,299.85650504506231,98.773124999999993,null,"гидратный",15.45598697662354,49.952583196096533]
[7.6,815.19,1901,"19Т",null,{"$f":"VLOOKUP($C232,Тнав!$A$3:$E$250,2,FALSE)","v":16.305691378311099},19.61711788248444,38.85570751063004,{"$f":"VLOOKUP($C232,Тнав!$A$3:$E$250,3,FALSE)","v":30.627578587867021},-1.6,99.30583,0,18.080816268920898,null,null,{"$f":"Шлейфы!$L$2","v":5.3686572958219374},{"$f":"VLOOKUP($C232,Тнав!$A$3:$E$250,4,FALSE)","v":247.80589138621389},19.221739130434791,41.533333333333339,39.26,27.949952765163722,-1.0249999999999999,99.3,"0.0",36.023135894377688,null,null,null,null,267.39999999999998,0.33492659325080248,2.916047752123692,17.88361918834336,21.916215450848899,111.7198539670155,247.80589138621389,7.9070390555194621,-4.2384601730176001,7.2863398908221599,9.2179877352813548,-3.6866094702445911,-10.531266954849359,5.3000000000000007,-67.088607594936718,24.937460000000002,38.36532307692309,null,null,-67.088607594936718,16.855601338884451,100.99012672990359,0,{"$error":"#DIV/0!"},-0.59797421564599951,-4.0485728885985139,6.1563257134109222,2.145392569328493,null,null,null,null,null,null,null,77.997998727986953,34.317742313146269,2.9980274156754798,null,null,null,null,null,null,null,null,null,null,null,null,null,null,null,null,null,null,null,null,null,null,null,null,null,null,null,null,null,3601,null,20.07772256005466,31.37483589131902,33.307525782224268,35.88139026378478,2.2999999999999998,188.48062820205669,98.897790000000001,null,"гидратный",13.85871601104736,49.952583196096533]
[7.6,823.44,1903,null,null,{"$f":"VLOOKUP($C233,Тнав!$A$3:$E$250,2,FALSE)","v":20.042685431467401},24.716899317127559,39.159884848545083,{"$f":"VLOOKUP($C233,Тнав!$A$3:$E$250,3,FALSE)","v":26.76044109405785},-0.3,74.220969999999994,0,15.67303466796875,null,null,{"$f":"Шлейфы!$L$2","v":5.3686572958219374},{"$f":"VLOOKUP($C233,Тнав!$A$3:$E$250,4,FALSE)","v":275.11424454980602},19.221739130434791,41.533333333333339,39.28,24.386992609269591,-1.0249999999999999,80.900000000000006,"0.0",32.230333471152903,null,null,null,null,239.24600000000001,-4.0992757331954337,-0.82094630103260968,-4.0959895510993221,16.816434016205779,68.036179621255485,275.11424454980602,-13.037581753900241,-3.2717044442388068,8.2863398908221608,-12.31636044264239,6.382926610948374,25.89925321640219,6.1,-105.1724137931034,13.8653,27.73060000000001,null,null,-105.1724137931034,5.4347147747216802,39.432564959901583,0,{"$error":"#DIV/0!"},-0.59797421564599951,-4.0485728885985139,17.86793561533398,7.8612228120267957,null,null,null,null,null,null,null,73.31576612851299,27.873913490154511,-3.154228014117578,null,null,null,null,null,null,null,null,null,null,null,null,null,null,null,null,null,null,null,null,null,null,null,null,null,null,null,null,null,3602,"20Т",20.315936303919589,33.72271461932106,35.806778382795102,34.020894991166912,1,199.87343449331439,99.676069999999996,null,"гидратный",13.595334053039551,49.952583196096533]
[7.6,824.06,2001,"20Т",null,{"$f":"VLOOKUP($C234,Тнав!$A$3:$E$250,2,FALSE)","v":11.766737578792039},32.690115138554859,48.210850315309067,{"$f":"VLOOKUP($C234,Тнав!$A$3:$E$250,3,FALSE)","v":29.0500564382601},0.8,56.470039999999997,0,13.05238056182861,null,null,{"$f":"Шлейфы!$L$2","v":5.3686572958219374},{"$f":"VLOOKUP($C234,Тнав!$A$3:$E$250,4,FALSE)","v":232.78429542398769},19.221739130434791,41.533333333333339,41.71,35.727573420235835,-1.0249999999999999,95.2,"0.0",35.796677811212213,null,null,null,null,265.71899999999999,2.009618152369463,7.4550015516427521,63.356571876637986,8.8432181947784798,27.051658145886279,232.78429542398769,14.148164297778692,-1.830184553112943,13.2863398908222,30.632455534627301,-10.32189372816117,-31.398314069936731,-2,117.64705882352941,-82.114141000000004,-82.114141000000004,null,null,117.64705882352941,14.72731794448435,69.820391193883665,0,{"$error":"#DIV/0!"},-0.59797421564599951,-4.0485728885985139,-0.954806642982021,-0.32687796775185518,null,null,null,null,null,null,null,70.172357241475851,26.154523870169921,3.6023795045336162,null,null,null,null,null,null,null,null,null,null,null,null,null,null,null,null,null,null,null,null,null,null,null,null,null,null,null,null,null,3603,null,19.36076051868416,30.20745303607216,32.065211397790613,35.987484701094559,2.2000000000000002,186.4737117494287,96.847083999999995,null,"гидратный",14.27996253967285,49.952583196096533]
[7.6,827.76,2002,null,null,{"$f":"VLOOKUP($C235,Тнав!$A$3:$E$250,2,FALSE)","v":12.12223730029223},30.58645013200573,43.244266605718103,{"$f":"VLOOKUP($C235,Тнав!$A$3:$E$250,3,FALSE)","v":30.120080386829109},1.2,59.244199999999999,0,13.61754035949707,null,null,{"$f":"Шлейфы!$L$2","v":5.3686572958219374},{"$f":"VLOOKUP($C235,Тнав!$A$3:$E$250,4,FALSE)","v":223.87913660394241},19.221739130434791,41.533333333333339,41.21,31.831013659213873,-1.0249999999999999,95.1,"0.0",34.010205092082288,null,null,null,null,252.458,-0.46591360937853571,7.099501830142561,58.565936751390069,10.946883201327609,35.789976130223636,223.87913660394241,12.765308920507195,-3.3330394876881968,13.2863398908222,80.802452972922651,-18.629159893709989,-55.09167176321445,-2.1,84,-24.816010000000009,-24.816010000000009,null,null,84,23.7685882599861,115.9901121391532,0,{"$error":"#DIV/0!"},-0.59797421564599951,-4.0485728885985139,7.070462340868005,2.4969713045489068,null,null,null,null,null,null,null,57.014578818041109,15.330227889533299,0.14454917428140851,null,null,null,null,null,null,null,null,null,null,null,null,null,null,null,null,null,null,null,null,null,null,null,null,null,null,null,null,null,3701,null,22.86904388144881,32.775830760014017,34.840708097894897,32.858156402534412,1.7,220.8522196008372,66.658230000000003,null,"гидратный",15.471896171569821,49.952583196096533]
[7.6,827.45,2003,null,null,{"$f":"VLOOKUP($C236,Тнав!$A$3:$E$250,2,FALSE)","v":20.157786681840641},24.656291168505049,42.37221128397649,{"$f":"VLOOKUP($C236,Тнав!$A$3:$E$250,3,FALSE)","v":23.996934771072539},-0.1,68.349220000000003,0,14.290486335754389,null,null,{"$f":"Шлейфы!$L$2","v":5.3686572958219374},{"$f":"VLOOKUP($C236,Тнав!$A$3:$E$250,4,FALSE)","v":227.59744022816031},19.221739130434791,41.533333333333339,43.29,24.835812721715691,-1.0249999999999999,75.3,"0.0",32.097099060533822,null,null,null,null,238.25700000000001,-0.52461748280880727,-0.93604755140584928,-4.6436028229681483,16.877042164828289,68.449232893495122,227.59744022816031,4.6835147887224906,-4.2438348779162993,13.2863398908222,23.782334857719391,-8.089721606979758,-24.188632490601439,0.20000000000000021,-4.5454545454545467,-0.91370999999999469,-0.91370999999999469,null,null,-4.5454545454545467,26.39083329288221,143.89779187771069,0,{"$error":"#DIV/0!"},-0.59797421564599951,-4.0485728885985139,17.69235664642002,6.5464293621053713,null,null,null,null,null,null,null,71.620494992958342,29.515098914243708,4.1605089830534467,null,null,null,null,null,null,null,null,null,null,null,null,null,null,null,null,null,null,null,null,null,null,null,null,null,null,null,null,null,3702,null,21.221846888587439,36.228990547986868,38.515039851564843,32.877797314251552,-0.4,257.49091358516807,98.311515999999997,null,"гидратный",16.191690444946289,49.952583196096533]
[7.6,826.31,2004,null,null,{"$f":"VLOOKUP($C237,Тнав!$A$3:$E$250,2,FALSE)","v":12.04721168613853},32.437489258196628,45.974276263296098,{"$f":"VLOOKUP($C237,Тнав!$A$3:$E$250,3,FALSE)","v":21.147010704298381},0.2,49.240498000000002,0,13.1729679107666,null,null,{"$f":"Шлейфы!$L$2","v":5.3686572958219374},{"$f":"VLOOKUP($C237,Тнав!$A$3:$E$250,4,FALSE)","v":244.62415820025831},19.221739130434791,41.533333333333339,43.52,25.587953634261133,-1.0249999999999999,94.6,"0.0",36.260236564437918,null,null,null,null,269.16000000000003,-0.56012333061024577,7.1745274442962614,59.55342722624556,9.0958440751367107,28.041147089823795,244.62415820025831,10.030015833373156,-3.412403398154694,13.2863398908222,73.582772199799791,-18.879098368798889,-61.17063905066513,-6.8000000000000007,-618.18181818181813,-15.00781000000001,-15.00781000000001,null,null,-618.18181818181813,26.302242850968408,116.0743749014524,0,{"$error":"#DIV/0!"},-0.59797421564599951,-4.0485728885985139,23.543463189769,7.9656991572205129,null,null,null,null,null,null,null,61.891807128843887,17.355754279536509,5.3718460461612594,null,null,null,null,null,null,null,null,null,null,null,null,null,null,null,null,null,null,null,null,null,null,null,null,null,null,null,null,null,3703,"4Т",20.742979235980592,34.854162091512627,37.05345971948708,34.046183221346638,-0.6,237.01944895123191,98.227649999999997,null,"гидратный",15.536526679992679,49.952583196096533]
[7.6,823.87,2201,"22Т",null,{"$f":"VLOOKUP($C238,Тнав!$A$3:$E$250,2,FALSE)","v":12.169463046805889},17.82929434231384,44.565478319978851,{"$f":"VLOOKUP($C238,Тнав!$A$3:$E$250,3,FALSE)","v":32.216467124648332},-4.4000000000000004,50.755997000000001,0,16.797597885131839,null,null,{"$f":"Шлейфы!$L$2","v":5.3686572958219374},{"$f":"VLOOKUP($C238,Тнав!$A$3:$E$250,4,FALSE)","v":229.390223758323},19.221739130434791,41.533333333333339,44.95,35.248612111293845,-1.0249999999999999,61.8,"0.0",38.904986765927902,null,null,null,null,288.79199999999997,-0.23174732171812101,7.052276083628902,57.950593682766538,23.704038991019498,132.94995604376371,229.390223758323,25.895513447975205,-2.820517775316759,2.286339890822163,39.083508570240177,-13.347610491578591,-39.052660254131517,-5.1000000000000014,850,-0.57125999999999522,-0.57125999999999522,null,null,850,23.14870791800065,109.64546626296089,0,{"$error":"#DIV/0!"},-0.59797421564599951,-4.0485728885985139,0.83297752374608081,0.25919819567286589,null,null,null,null,null,null,null,71.809764181976064,24.310638179474239,3.4797563360357771,null,null,null,null,null,null,null,null,null,null,null,null,null,null,null,null,null,null,null,null,null,null,null,null,null,null,null,null,null,3801,null,19.837946516680521,30.825828954783351,32.764773596039227,42.499955771721133,1.6,193.83051506422561,86.378770000000003,null,"гидратный",14.505501747131349,49.952583196096533]
[7.6,840.48900000000003,2202,null,null,{"$f":"VLOOKUP($C239,Тнав!$A$3:$E$250,2,FALSE)","v":16.676227510507641},36.852742680748683,58.025448862730812,{"$f":"VLOOKUP($C239,Тнав!$A$3:$E$250,3,FALSE)","v":31.16914297152276},-5.6,20.136579999999999,0,11.12930965423584,null,null,{"$f":"Шлейфы!$L$2","v":5.3686572958219374},{"$f":"VLOOKUP($C239,Тнав!$A$3:$E$250,4,FALSE)","v":292.43674556660937},19.221739130434791,41.533333333333339,58.42,47.661258500920233,-1.0249999999999999,55.1,"0.0",39.020169193712839,null,null,null,null,289.64699999999999,1.7296957117874712E-2,2.5455116199271508,15.264313336593858,4.6805906525846552,12.700793243889891,292.43674556660937,-0.95396546737110555,-2.077650798028301,2.286339890822163,46.790069939275497,-17.42051297387048,-48.271283731624749,-8,2666.666666666667,-0.55423999999999296,-0.55423999999999296,null,null,2666.666666666667,29.89965411408004,129.6219154897712,0,{"$error":"#DIV/0!"},-0.59797421564599951,-4.0485728885985139,-3.5619404751440129,-0.89092625986528162,null,null,null,null,null,null,null,76.243625249199667,21.591894206027419,2.9236363265603131,null,null,null,null,null,null,null,null,null,null,null,null,null,null,null,null,null,null,null,null,null,null,null,null,null,null,null,null,null,3802,null,21.509871534615691,32.791157546117013,34.866837818786209,41.307700144126997,1.2,211.36203558293039,80.801659999999998,null,"гидратный",14.795107841491699,49.952583196096533]
[7.6,818.31700000000001,2203,null,null,{"$f":"VLOOKUP($C240,Тнав!$A$3:$E$250,2,FALSE)","v":15.562103127174179},21.352274239584059,45.092158814683287,{"$f":"VLOOKUP($C240,Тнав!$A$3:$E$250,3,FALSE)","v":25.255452121181591},-3.6,8.1364900000000002,0,16.686758041381839,null,null,{"$f":"Шлейфы!$L$2","v":5.3686572958219374},{"$f":"VLOOKUP($C240,Тнав!$A$3:$E$250,4,FALSE)","v":298.45210975234892},19.221739130434791,41.533333333333339,45.27,28.81427760253154,-1.0249999999999999,19.7,"0.0",39.923037767999006,null,null,null,null,296.34899999999999,0.14151870609351749,3.6596360032606121,23.516333064714388,20.18105909374928,94.514799066867027,298.45210975234892,-0.70467243608834451,-3.0225510646846061,2.286339890822163,40.848770817022462,-13.67880537328495,-38.966980862651837,1.2,-16.666666666666671,-1.207344000000006,-1.207344000000006,null,null,-16.666666666666671,30.265433718371039,191.48179896813971,0,{"$error":"#DIV/0!"},-0.59797421564599951,-4.0485728885985139,6.6310891601259527,1.98349777861317,null,null,null,null,null,null,null,71.976782404823965,24.811521748569429,3.3867469355959798,null,null,null,null,null,null,null,null,null,null,null,null,null,null,null,null,null,null,null,null,null,null,null,null,null,null,null,null,null,3901,"37Т",36.009874647080302,42.748526143507277,45.4972563745348,14.50631311197963,1.5,204.56475027982799,68.132679999999993,null,"гидратный",10.75043773651123,15.28223195484717]
[7.6,837,2401,"24Т",11,{"$f":"VLOOKUP($C241,Тнав!$A$3:$E$250,2,FALSE)","v":15.17927388640878},20.60526782669087,46.645364505111253,{"$f":"VLOOKUP($C241,Тнав!$A$3:$E$250,3,FALSE)","v":30.832993201353599},-4.7,95.382400000000004,0,16.62093353271484,null,null,{"$f":"Шлейфы!$L$2","v":5.3686572958219374},{"$f":"VLOOKUP($C241,Тнав!$A$3:$E$250,4,FALSE)","v":261.65294215685162},19.221739130434791,41.533333333333339,46.26,35.94502437313151,-1.0249999999999999,94.2,"0.0",41.020301948476579,null,null,null,null,304.49399999999991,0.80960775753156966,4.0424652440260118,26.63147970236939,20.928065506642469,101.56657842386045,250.65294215685162,16.373237575699264,-0.15644673987044649,2.286339890822163,35.851767364118899,-12.829225296902811,-35.268495342511869,-1.7,43.589743589743591,-0.66288000000000125,-0.66288000000000125,null,null,43.589743589743591,25.876051224042669,174.13588968094291,0,{"$error":"#DIV/0!"},-0.54634590885099854,-3.6990244336560489,-4.7845404625979313,-1.390270627616687,null,null,null,null,null,null,null,75.771725260164729,27.15841945585986,3.6117654522393541,null,null,null,null,null,null,null,null,null,null,null,null,null,null,null,null,null,null,null,null,null,null,null,null,null,null,null,null,null,3902,null,31.31870047977128,42.060382384094567,44.739628741961397,18.675391104675199,1,233.72125469957621,98.481740000000002,null,"гидратный",12.50795364379883,19.361096806758781]
[7.6,837,2402,null,null,{"$f":"VLOOKUP($C242,Тнав!$A$3:$E$250,2,FALSE)","v":39.179280295993848},42.189137474670041,56.759191528686763,{"$f":"VLOOKUP($C242,Тнав!$A$3:$E$250,3,FALSE)","v":19.611695818372208},-5.6,95.168120000000002,0,12.18285083770752,null,null,{"$f":"Шлейфы!$L$2","v":5.3686572958219374},{"$f":"VLOOKUP($C242,Тнав!$A$3:$E$250,4,FALSE)","v":220.12963291538591},19.221739130434791,41.533333333333339,59.15,34.837554013725629,-1.0249999999999999,45,"0.0",33.465816564972414,null,null,null,null,248.417,0.95440452618050031,-19.957541165559057,-50.939019335686346,-0.65580414133670217,-1.5544383710864906,220.12963291538591,12.850322198777889,-1.9285661813426169,2.286339890822163,32.572007914551698,-13.3234975880136,-36.209851664881441,-9.9999999999999645E-2,1.538461538461533,-1.48021,-1.48021,null,null,1.538461538461533,30.464212599926189,163.6403463653603,0,{"$error":"#DIV/0!"},-0.54634590885099854,-3.6990244336560489,4.5446712578720394,1.1075937543094061,null,null,null,null,null,null,null,79.90496051958074,25.676715447267089,2.204984732990908,null,null,null,null,null,null,null,null,null,null,null,null,null,null,null,null,null,null,null,null,null,null,null,null,null,null,null,null,null,3903,null,38.171416144765843,44.625802896409603,47.504167183228013,15.79310495961475,2.2999999999999998,199.58693253323091,15.146743000000001,null,"гидратный",10.00651741027832,16.301948167825]
[7.6,836,2601,"26Т",null,{"$f":"VLOOKUP($C243,Тнав!$A$3:$E$250,2,FALSE)","v":14.24441419788873},19.408415284337771,46.833336762753667,{"$f":"VLOOKUP($C243,Тнав!$A$3:$E$250,3,FALSE)","v":27.14249950994456},-4.5,94.622900000000001,0,16.52802658081055,null,null,{"$f":"Шлейфы!$L$2","v":5.3686572958219374},{"$f":"VLOOKUP($C243,Тнав!$A$3:$E$250,4,FALSE)","v":260.77680090944199},19.221739130434791,41.533333333333339,47.12,32.442502939364893,-1.0249999999999999,95.3,"0.0",41.553509023532492,null,null,null,null,308.452,-2.1388372180521422,4.9773249325460611,34.942292911447254,22.124918048995568,113.99652019425801,260.77680090944199,18.281993998045024,-3.115522729946179,2.286339890822163,-1.4136506062487231,0.70609046222197946,2.3263446877323162,-7.3000000000000007,-347.61904761904759,50.052864,333.68576000000002,null,null,-347.61904761904759,29.582255765963499,218.20097575251759,0,{"$error":"#DIV/0!"},-0.54634590885099854,-3.6990244336560489,11.12195544440004,3.309967432792746,null,null,null,null,null,null,null,73.837539984761094,24.59561223789639,-6.4624061198543359,null,null,null,null,null,null,null,null,null,null,null,null,null,null,null,null,null,null,null,null,null,null,null,null,null,null,null,null,null,3904,"31Т",42.717792357514242,48.192717654378889,51.33488284544439,14.173599327535801,1.5,199.41870401896429,23.009370000000001,null,"гидратный",9.1749086380004883,15.28223195484717]
[7.6,775,2602,null,null,{"$f":"VLOOKUP($C244,Тнав!$A$3:$E$250,2,FALSE)","v":30.385461339492021},39.327466235146147,53.119198825613033,{"$f":"VLOOKUP($C244,Тнав!$A$3:$E$250,3,FALSE)","v":27.41400640265967},1.1000000000000001,95.255486000000005,26,15.023709297180179,null,null,{"$f":"Шлейфы!$L$2","v":5.3686572958219374},{"$f":"VLOOKUP($C244,Тнав!$A$3:$E$250,4,FALSE)","v":287.65535491199518},19.221739130434791,41.533333333333339,59.71,38.999871894939368,-1.0249999999999999,30.2,"26.0",28.904053559529562,null,null,null,null,214.55500000000001,-1.6744590037552101,-11.16372220905723,-36.740341324183632,2.2058670981871913,5.6089733444761265,287.65535491199518,-25.412478392540052,-4.7445367047202183,2.286339890822163,-8.2576059258492762,4.4885128404287151,17.738445149075702,2.4,-100,7.0305799999999996,17.576450000000008,null,null,-100,7.3569452081915836,86.212511037349685,0,{"$error":"#DIV/0!"},-0.54634590885099854,-3.6990244336560489,-12.80378089818902,-4.6742129712892222,null,null,null,null,null,null,null,82.892481014146156,33.024890151707929,3.2325087776687549,null,null,null,null,null,null,null,null,null,null,null,null,null,null,null,null,null,null,null,null,null,null,null,null,null,null,null,null,null,4001,null,22.28664166145942,36.804105636061351,39.089640596060761,14.701165742506671,0.3,249.2102045788242,96.730180000000004,null,"гидратный",15.424172401428221,49.952583196096533]
[7.6,835.97,2801,"28Т",null,{"$f":"VLOOKUP($C245,Тнав!$A$3:$E$250,2,FALSE)","v":20.529936927685711},20.561784415498469,39.988653918649227,{"$f":"VLOOKUP($C245,Тнав!$A$3:$E$250,3,FALSE)","v":30.797642926323281},-0.7,99.458029999999994,0,15.48893451690674,null,null,{"$f":"Шлейфы!$L$2","v":5.3686572958219374},{"$f":"VLOOKUP($C245,Тнав!$A$3:$E$250,4,FALSE)","v":249.36268838037589},19.221739130434791,41.533333333333339,40.19,29.252963511639173,-1.0249999999999999,99.6,"0.0",31.538026457834999,null,null,null,null,234.107,-3.125403603526792,-1.3081977972509193,-6.3721471812548316,20.97154891783487,101.9928450471815,249.36268838037589,-6.1178713140536018,-6.0361295673430959E-2,9.2863398908221608,-7.5270386573506869,4.0578911812706089,15.187190566829329,7,-132.0754716981132,5.1804849999999973,11.51218888888887,null,null,-132.0754716981132,5.6191503330999897,59.613592905590792,0,{"$error":"#DIV/0!"},-0.54634590885099854,-3.6990244336560489,-3.8166621295050329,-1.680870151132638,null,null,null,null,null,null,null,81.730885393501666,31.87791778958729,1.1008571647361549,null,null,null,null,null,null,null,null,null,null,null,null,null,null,null,null,null,null,null,null,null,null,null,null,null,null,null,null,null,4002,"34Т",27.96991539338072,35.926035860499802,38.171413101781042,24.136516144183389,2.7,205.57354093292531,57.830584999999999,null,"гидратный",13.051675796508791,49.952583196096533]
[7.6,828.72,2802,null,null,{"$f":"VLOOKUP($C246,Тнав!$A$3:$E$250,2,FALSE)","v":18.68192113937431},21.825382283454289,43.810440314391073,{"$f":"VLOOKUP($C246,Тнав!$A$3:$E$250,3,FALSE)","v":28.69602444429977},-1.5,98.625929999999997,0,16.340473175048832,null,null,{"$f":"Шлейфы!$L$2","v":5.3686572958219374},{"$f":"VLOOKUP($C246,Тнав!$A$3:$E$250,4,FALSE)","v":302.28728484175821},19.221739130434791,41.533333333333339,41.93,30.973131425357501,-1.0249999999999999,98.7,"0.0",39.065299150798168,null,null,null,null,289.98200000000003,0.43997024318447231,0.53981799106048101,2.8895207673409402,19.70795104987905,90.298308611160252,302.28728484175821,-4.0707252533627951,-2.5695621094237708,10.2863398908222,3.403041867296281,-1.5958440220864349,-5.0191059234997084,3,-46.153846153846153,29.002426,41.432037142857148,null,null,-46.153846153846153,14.67020686528768,78.11848688214144,0,{"$error":"#DIV/0!"},-0.54634590885099854,-3.6990244336560489,-5.6531263912859799,-1.7985422735917209,null,null,null,null,null,null,null,80.566729649555782,32.076251816973958,1.876711433750017,null,null,null,null,null,null,null,null,null,null,null,null,null,null,null,null,null,null,null,null,null,null,null,null,null,null,null,null,null,4003,null,26.0501781532713,47.444382616706257,50.438123159820421,14.50532751023724,-1.9,326.33090684897309,99.534133999999995,null,"гидратный",15.3109188079834,49.952583196096533]
[7.6,827.95,"35Р",null,12,{"$f":"VLOOKUP($C247,Тнав!$A$3:$E$250,2,FALSE)","v":16.08419748564053},23.292563640149801,32.671122658230537,{"$f":"VLOOKUP($C247,Тнав!$A$3:$E$250,3,FALSE)","v":51.199444583917384},0.2,66.260210000000001,0,15.963137626647949,null,null,{"$f":"Шлейфы!$L$2","v":5.3686572958219374},{"$f":"VLOOKUP($C247,Тнав!$A$3:$E$250,4,FALSE)","v":120.0469892150913},19.645833333333339,28.86249999999999,30.69,55.008067242147938,-1.083333333333333,90.4,"0.0",16.006569749486548,4.2034182548522949,null,-0.57263909290322568,null,121.529,-5.3999999999999986,3.5616358476928092,22.143696325990319,5.569936359850189,23.912938248880394,108.0469892150913,1.2345255758587541,-5.4463996538316337,2.286339890822163,1.817713452752258,-0.87295706727314837,-4.9496934866637048,0.59999999999999987,74.999999999999972,2.264285999999998,5.6607150000000104,null,null,74.999999999999972,-1.636104695681053,-19.610397350376179,4.2034182548522949,{"$error":"#DIV/0!"},-0.54634590885099854,-3.6990244336560489,-32.083982915389981,-21.702417965288191,null,null,null,null,null,null,null,83.705690220529277,34.807723163294341,18.044091831200632,null,null,null,null,null,null,null,null,null,null,null,null,null,null,null,null,null,null,null,null,null,null,null,null,null,null,null,null,null,4004,null,23.36333303449047,35.358379569707807,37.554134940986671,16.121557857661792,1.5,234.46060137634731,99.0197,null,"гидратный",15.147671699523929,49.952583196096533]
[7.6,840.13,2701,"27Т",null,{"$f":"VLOOKUP($C248,Тнав!$A$3:$E$250,2,FALSE)","v":19.206438223368249},23.139683285864901,47.114248499661933,{"$f":"VLOOKUP($C248,Тнав!$A$3:$E$250,3,FALSE)","v":35.643698128529188},-2.5,91.565610000000007,0,15.733616828918461,null,null,{"$f":"Шлейфы!$L$2","v":5.3686572958219374},{"$f":"VLOOKUP($C248,Тнав!$A$3:$E$250,4,FALSE)","v":279.29154088266853},19.221739130434791,41.533333333333339,46.86,41.224613294857782,-1.0249999999999999,93.4,"0.0",38.955640090895301,null,null,null,null,289.16799999999989,-0.37342080971626501,1.5300907066542635E-2,7.9665510536599982E-2,18.393650047468437,79.489636138211011,279.29154088266853,3.5362542976124445,-1.5400877098043959,13.2863398908222,27.346152447021382,-10.67179579938035,-29.788585167208769,-5.5,-305.55555555555549,15,17.64705882352942,null,null,-305.55555555555549,20.273684851089861,146.9842176234653,0,{"$error":"#DIV/0!"},-0.54634590885099854,-3.6990244336560489,-9.7052073923309763,-2.9317218447759359,null,null,null,null,null,null,null,78.937437626841728,29.240788806345609,4.0874665631012022,null,null,null,null,null,null,null,null,null,null,null,null,null,null,null,null,null,null,null,null,null,null,null,null,null,null,null,null,null,4101,"33Т",23.244530460488651,36.132447432531642,38.379885662835107,16.488294959567028,1.4,236.31488129934471,99.36891,null,"гидратный",14.916154861450201,24.459677871648431]
[7.6,851.92,2702,null,null,{"$f":"VLOOKUP($C249,Тнав!$A$3:$E$250,2,FALSE)","v":18.734644053863981},23.562692993617091,47.760182204484757,{"$f":"VLOOKUP($C249,Тнав!$A$3:$E$250,3,FALSE)","v":33.476108396093572},-3.3,98.930335999999997,0,17.279779434204102,null,null,{"$f":"Шлейфы!$L$2","v":5.3686572958219374},{"$f":"VLOOKUP($C249,Тнав!$A$3:$E$250,4,FALSE)","v":284.7110584050302},19.221739130434791,41.533333333333339,48.33,39.70295726724499,-1.0249999999999999,99,"0.0",42.924112556028369,null,null,null,null,318.62599999999998,0.55156461611284158,0.48709507657081019,2.5999697414605976,17.970640339716248,76.26734492778192,284.7110584050302,11.912056308934211,-1.73458033094235,13.2863398908222,10.74487795444135,-5.0320265609273953,-15.84484991165745,-1,28.57142857142858,13.207634000000001,15.53839294117647,null,null,28.57142857142858,21.8599971097379,157.69799188348449,0,{"$error":"#DIV/0!"},-0.54634590885099854,-3.6990244336560489,-2.9200306565530241,-0.82021482806662505,null,null,null,null,null,null,null,81.551855793480513,29.687965880885901,2.9618717339282341,null,null,null,null,null,null,null,null,null,null,null,null,null,null,null,null,null,null,null,null,null,null,null,null,null,null,null,null,null,4102,null,21.86233937569547,35.572783233815038,37.781853072634959,15.127170680054039,0.8,258.2982135732945,97.869429999999994,null,"гидратный",16.58016395568848,49.952583196096533]
[7.6,830.03,3001,"30Т",null,{"$f":"VLOOKUP($C250,Тнав!$A$3:$E$250,2,FALSE)","v":19.693511854678182},20.64937397866937,37.646462526076768,{"$f":"VLOOKUP($C250,Тнав!$A$3:$E$250,3,FALSE)","v":26.45317192885582},-0.1,99.613740000000007,0,18.681510925292969,null,null,{"$f":"Шлейфы!$L$2","v":5.3686572958219374},{"$f":"VLOOKUP($C250,Тнав!$A$3:$E$250,4,FALSE)","v":282.89593366078429},19.221739130434791,41.533333333333339,38.25,22.566301121599246,-1.0249999999999999,99.6,"0.0",33.902432060236727,null,null,null,null,251.65799999999999,0.70984048559406077,-0.47177272424339023,-2.3955743786313093,20.883959354663968,101.13604110341029,282.89593366078429,-11.042199602006718,-4.4283294655476482,11.2863398908222,11.68316418618363,-4.4971079710040414,-13.25884911623457,2.9,-64.444444444444443,17.00694,22.675920000000001,null,null,-64.444444444444443,19.29944766717643,138.0075623566502,0,{"$error":"#DIV/0!"},-0.54634590885099854,-3.6990244336560489,-2.3239833435740138,-0.7476943144305892,null,null,null,null,null,null,null,75.002441189156059,32.013124263986427,2.5924469764069609,null,null,null,null,null,null,null,null,null,null,null,null,null,null,null,null,null,null,null,null,null,null,null,null,null,null,null,null,null,4103,null,40.515207786728602,46.614283595262357,49.592936316999626,5.1536713682706017,5,200.01977146245261,98.544579999999996,19,"гидратный",9.5622014999389648,7.1245022510237446]
[7.6,841.21,3002,null,null,{"$f":"VLOOKUP($C251,Тнав!$A$3:$E$250,2,FALSE)","v":20.021051727943529},21.496167552034489,44.326389653235481,{"$f":"VLOOKUP($C251,Тнав!$A$3:$E$250,3,FALSE)","v":26.31495517959474},-2.1,99.176910000000007,0,17.325588226318359,null,null,{"$f":"Шлейфы!$L$2","v":5.3686572958219374},{"$f":"VLOOKUP($C251,Тнав!$A$3:$E$250,4,FALSE)","v":293.47600002151381},19.221739130434791,41.533333333333339,44.65,29.108011499496875,-1.0249999999999999,99.2,"0.0",39.708569434626348,null,null,null,null,294.75700000000001,0.43798484212774008,-0.79931259750873807,-3.99236068299615,20.03716578129885,93.212735399443091,293.47600002151381,0.43649224413317711,-3.0095565321473861,12.2863398908222,13.53566559235391,-5.7107075372009461,-17.614790968251128,-1.3,81.249999999999972,11.77399,13.851752941176469,null,null,81.249999999999972,20.26583454721688,142.67928669435051,0,{"$error":"#DIV/0!"},-0.54634590885099854,-3.6990244336560489,2.9854501569289482,0.91073535850890153,null,null,null,null,null,null,null,78.28004926171208,30.379266192305,3.6700174127156089]
[7.6,831.01,3003,null,null,{"$f":"VLOOKUP($C252,Тнав!$A$3:$E$250,2,FALSE)","v":16.0544766991495},20.28957189627824,40.343226384558662,{"$f":"VLOOKUP($C252,Тнав!$A$3:$E$250,3,FALSE)","v":29.900521135142942},-0.9,99.719375999999997,0,15.454414367675779,null,null,{"$f":"Шлейфы!$L$2","v":5.3686572958219374},{"$f":"VLOOKUP($C252,Тнав!$A$3:$E$250,4,FALSE)","v":235.5069942369168},19.221739130434791,41.533333333333339,40.26,28.710414186368261,-1.0249999999999999,99.7,"0.0",32.133203026202089,null,null,null,null,238.52500000000001,-2.140435913988775,3.1672624312852911,19.728219677525075,21.243761437055099,104.70285694372828,235.5069942369168,1.281493049861254,-3.299141103054879,13.2863398908222,5.7047883281197187,-2.4575793860057402,-7.366673388785145,1.1000000000000001,-39.285714285714278,11.88799,18.289215384615389,null,null,-39.285714285714278,14.67711754589032,106.72780155713311,0,{"$error":"#DIV/0!"},-0.54634590885099854,-3.6990244336560489,14.82312545649199,5.7715062695297377,null,null,null,null,null,null,null,79.722974711248852,34.186156541010227,3.2829602240086331]
[7.6,827.45,3101,"31Т",null,{"$f":"VLOOKUP($C253,Тнав!$A$3:$E$250,2,FALSE)","v":19.303157739504179},21.572820569034789,43.005867406314749,{"$f":"VLOOKUP($C253,Тнав!$A$3:$E$250,3,FALSE)","v":18.66354026503604},-1.2,97.474410000000006,0,15.88116359710693,null,null,{"$f":"Шлейфы!$L$2","v":5.3686572958219374},{"$f":"VLOOKUP($C253,Тнав!$A$3:$E$250,4,FALSE)","v":296.79540139899962},20.229166666666671,30.329166666666659,43.21,31.340241004684131,-1.0249999999999999,98,"0.0",33.734511417032145,null,null,null,null,264.00299999999999,-2.159754961956835,0.92600892716249206,4.7971888312729334,8.7563460976318694,40.589713661275056,296.79540139899962,-11.048823952267,-3.1660230831116389,13.2863398908222,-6.2881601882995568,3.2396878869593242,12.142938809878441,-5.2,-192.59259259259261,25.087410000000009,38.596015384615377,null,null,-192.59259259259261,12.66374525264559,70.5096215487942,0,{"$error":"#DIV/0!"},-0.54634590885099854,-3.6990244336560489,17.641083708306041,6.2717404990325463,null,null,null,null,null,null,null,79.718592974281023,31.437839429302191,1.518548378043036]
[7.6,827.45,3102,null,null,{"$f":"VLOOKUP($C254,Тнав!$A$3:$E$250,2,FALSE)","v":15.080155915732441},19.3198549006256,44.967121135616182,{"$f":"VLOOKUP($C254,Тнав!$A$3:$E$250,3,FALSE)","v":30.053713405792259},-3.5,95.223945999999998,0,17.170976638793949,null,null,{"$f":"Шлейфы!$L$2","v":5.3686572958219374},{"$f":"VLOOKUP($C254,Тнав!$A$3:$E$250,4,FALSE)","v":257.76854691256619},20.229166666666671,30.329166666666659,45.53,44.691667874741789,1.0913043478260871,95.6,"0.0",38.288107583959636,null,null,null,null,299.63900000000001,0.48869651462344521,5.1490107509342309,34.144280600988367,11.009311766041058,56.984443323560185,257.76854691256619,16.243429847799092,-2.5337937455156379,13.2863398908222,19.4705034553164,-7.9861610909322556,-22.828501419022089,-8.5,-223.68421052631581,30.18138999999999,75.453474999999997,null,null,-223.68421052631581,19.189955597914459,85.941965241596336,0,{"$error":"#DIV/0!"},-0.54634590885099854,-3.6990244336560489,1.113594239807981,0.32943611605105622,null,null,null,null,null,null,null,77.736351867303128,28.733474853950071,1.7363449073125139]
[7.6,841.5,3301,"33Т",null,{"$f":"VLOOKUP($C255,Тнав!$A$3:$E$250,2,FALSE)","v":18.060784097601491},20.417725257481919,38.148944163090462,{"$f":"VLOOKUP($C255,Тнав!$A$3:$E$250,3,FALSE)","v":38.22370454432113},-0.2,99.188675000000003,0,14.736758232116699,null,null,{"$f":"Шлейфы!$L$2","v":5.3686572958219374},{"$f":"VLOOKUP($C255,Тнав!$A$3:$E$250,4,FALSE)","v":256.79268026402951},20.229166666666671,30.329166666666659,38,46.043482040744941,1.0913043478260871,99.2,"0.0",28.601429375791707,null,null,null,null,223.83199999999999,1.0878538654049019,2.1683825690651801,12.006026744725574,9.9114414091847394,48.543318534236647,256.79268026402951,-12.835521725206476,-2.96954593288865,13.2863398908222,18.342591921799649,-7.1175833008619094,-19.631221010540969,-3.2,-78.048780487804876,4.3237039999999993,8.6474079999999844,null,null,-78.048780487804876,6.2732177621975396,48.261692263604687,0,{"$error":"#DIV/0!"},-0.54634590885099854,-3.6990244336560489,-8.973876942149019,-3.578473584080371,null,null,null,null,null,null,null,79.314394390552536,33.393225799201417,4.2543617958425273]
[7.6,838,3302,null,null,{"$f":"VLOOKUP($C256,Тнав!$A$3:$E$250,2,FALSE)","v":16.147878947278901},20.9866810419188,39.256706414522426,{"$f":"VLOOKUP($C256,Тнав!$A$3:$E$250,3,FALSE)","v":43.6270698629517},-0.2,97.952545000000001,0,15.458493232727051,null,null,{"$f":"Шлейфы!$L$2","v":5.3686572958219374},{"$f":"VLOOKUP($C256,Тнав!$A$3:$E$250,4,FALSE)","v":201.6531606272797},20.229166666666671,30.329166666666659,39.03,52.554609610807468,1.0913043478260871,98,"0.0",29.271256267334923,null,null,null,null,229.07400000000001,1.5865060088953911,4.0812877193877704,25.274450797610882,9.3424856247478587,44.516260603985813,201.6531606272797,13.598021120731602,-2.965565415702244,13.2863398908222,39.759943020949457,-12.146462533363509,-32.141573074765503,-5.0999999999999996,-124.390243902439,-15.24912999999999,-15.24912999999999,null,null,-124.390243902439,9.5622246168375007,53.020891248790889,0,{"$error":"#DIV/0!"},-0.54634590885099854,-3.6990244336560489,-7.3882747349650231,-2.7834457601328779,null,null,null,null,null,null,null,74.014559442798216,31.318600078004241,5.674558378394309]
[7.6,838,3303,null,null,{"$f":"VLOOKUP($C257,Тнав!$A$3:$E$250,2,FALSE)","v":19.567708796055381},19.64057419542188,37.194389317745078,{"$f":"VLOOKUP($C257,Тнав!$A$3:$E$250,3,FALSE)","v":30.435675501034851},0.3,99.119834999999995,0,15.560689926147459,null,null,{"$f":"Шлейфы!$L$2","v":5.3686572958219374},{"$f":"VLOOKUP($C257,Тнав!$A$3:$E$250,4,FALSE)","v":241.428930154298},20.229166666666671,30.329166666666659,37.74,37.30089815211327,1.0913043478260871,99.1,"0.0",27.453574555735873,null,null,null,null,214.84899999999999,-1.984504751320173,0.66145787061129013,3.3803542228951784,10.688592471244778,54.42097753810188,241.428930154298,-11.009422167140741,-2.7724443598055331,13.2863398908222,-7.2480017962036243,3.7045482065718112,13.8184413688838,-9.9999999999999867E-2,-5.2631578947368354,10.17548,25.438700000000001,null,null,-5.2631578947368354,2.6433747982047708,18.63911005288405,0,{"$error":"#DIV/0!"},-0.54634590885099854,-3.6990244336560489,9.1092798818600045,4.1316663774326798,null,null,null,null,null,null,null,85.874865836263652,38.468110393432553,7.9548353002404326]
[7.6,830.56,3401,"34Т",null,{"$f":"VLOOKUP($C258,Тнав!$A$3:$E$250,2,FALSE)","v":17.36583395178393},21.60639708636252,40.612674460079162,{"$f":"VLOOKUP($C258,Тнав!$A$3:$E$250,3,FALSE)","v":39.263732527757973},-0.5,98.003609999999995,0,15.8944034576416,null,null,{"$f":"Шлейфы!$L$2","v":5.3686572958219374},{"$f":"VLOOKUP($C258,Тнав!$A$3:$E$250,4,FALSE)","v":229.71227056415731},20.229166666666671,34.829166666666637,42.69,45.047240321170491,1.0913043478260871,98,"0.0",32.427697296503261,null,null,null,null,253.77600000000001,-1.261554444192051,2.8633327148827412,16.488311029765441,13.222769580304117,61.198401230208049,229.71227056415731,10.475596003967851,-3.9658226737844302,13.2863398908222,5.0712621559561484,-2.3470183469525878,-6.6944433521831854,-2.9,-126.0869565217391,21.116620000000001,42.233240000000002,null,null,-126.0869565217391,10.74692904708022,75.166282201776511,0,{"$error":"#DIV/0!"},-0.54634590885099854,-3.6990244336560489,7.8741762602099934,2.8426031459926122,null,null,null,null,null,null,null,84.057072214929818,35.429300186252462,2.717117588780297]
[7.6,833.12,3402,null,null,{"$f":"VLOOKUP($C259,Тнав!$A$3:$E$250,2,FALSE)","v":20.952189314061641},{"$f":"VLOOKUP($C259,$CS:$DG,3,FALSE)","v":23.013924110957358},{"$f":"VLOOKUP($C259,$CS:$DG,5,FALSE)","v":41.486719943806627},{"$f":"VLOOKUP($C259,Тнав!$A$3:$E$250,3,FALSE)","v":21.5121247998302},{"$f":"VLOOKUP($C259,$CS:$DG,7,FALSE)","v":-0.6},{"$f":"VLOOKUP($C259,$CS:$DG,9,FALSE)","v":98.324529999999996},{"$f":"VLOOKUP($C259,$CS:$DG,10,FALSE)","v":0},{"$f":"VLOOKUP($C259,$CS:$DG,12,FALSE)","v":16.244037628173832},null,null,{"$f":"Шлейфы!$L$2","v":5.3686572958219374},{"$f":"VLOOKUP($C259,Тнав!$A$3:$E$250,4,FALSE)","v":296.07707472183301},20.229166666666671,34.829166666666637,40.96,{"$f":"(H259+I259)-S259","v":28.169678076970186},1.0913043478260871,98.3,"0.0",{"$f":"(AD259*(1/(1+(5*10^7*0.098*R259)/(18.8+273.15)^3.825))*(18.8+273.15)*0.052)/((POWER(A259,2))*(R259/10.197))","v":32.778966683159545},null,null,null,null,256.52499999999998,-3.8293972703066821,{"$f":"IF(R259=\"\",\"\",(R259-F259))","v":-0.72302264739496991},{"$f":"IF(R259=\"\",\"\",(R259/F259*100-100))","v":-3.450821470526364},{"$f":"IF(R259=\"\",\"\",(S259-G259))","v":11.815242555709279},{"$f":"IF(R259=\"\",\"\",(S259/G259*100-100))","v":51.339539049248117},{"$f":"IF(AD259=\"\",\"\",(Q259-E259))","v":296.07707472183301},{"$f":"IF(AD259=\"\",\"\",(AD259/Q259*100-100))","v":-13.358708964208915},-2.581639723150587,13.2863398908222,-3.0643815863228241,1.5004637076011811,5.3963139389588122,-2.6,-216.66666666666671,15.330085999999991,27.872883636363621,null,null,-216.66666666666671,8.3344613999915929,46.526400404936908,0,{"$error":"#DIV/0!"},-0.54634590885099854,-3.6990244336560489,15.14057046559202,5.6461920207546257,null,null,null,null,null,null,null,72.760311958882454,25.296126019123701,-4.0096826808906911]
[7.6,858.99,3403,null,null,{"$f":"VLOOKUP($C260,Тнав!$A$3:$E$250,2,FALSE)","v":19.049224197744621},23.22170543350104,46.317685780927988,{"$f":"VLOOKUP($C260,Тнав!$A$3:$E$250,3,FALSE)","v":33.566942702731843},-2.7,98.773124999999993,0,15.45598697662354,null,null,{"$f":"Шлейфы!$L$2","v":5.3686572958219374},{"$f":"VLOOKUP($C260,Тнав!$A$3:$E$250,4,FALSE)","v":274.9110518950248},20.229166666666671,34.829166666666637,46.92,45.055461816993201,1.0913043478260871,98.7,"0.0",35.337904746884149,null,null,null,null,276.55099999999999,-3.5426278589286819,1.1799424689220501,6.1941759762675872,11.607461233165598,49.985395200216288,274.9110518950248,0.59653771416996904,-2.846807931481393,13.2863398908222,5.6127524426110114,-2.764987735503361,-8.2518705864534354,-2.1,-350,16.058689999999999,32.117379999999997,null,null,-350,7.391614047499047,43.023123745750297,0,{"$error":"#DIV/0!"},-0.54634590885099854,-3.6990244336560489,15.627803166504011,5.4160113762630431,null,null,null,null,null,null,null,80.319216269288432,28.291629411969669,-2.4507883133259161]
[7.6,846,3601,"36Т",null,{"$f":"VLOOKUP($C261,Тнав!$A$3:$E$250,2,FALSE)","v":15.647327458765259},20.07772256005466,33.307525782224268,{"$f":"VLOOKUP($C261,Тнав!$A$3:$E$250,3,FALSE)","v":50.93067683342592},2.2999999999999998,98.897790000000001,0,13.85871601104736,null,null,{"$f":"Шлейфы!$L$2","v":5.3686572958219374},{"$f":"VLOOKUP($C261,Тнав!$A$3:$E$250,4,FALSE)","v":163.90599250109261},20.229166666666671,34.829166666666637,33.42,49.409035948983544,1.0913043478260871,97.5,"0.0",22.572731790326479,null,null,null,null,176.65199999999999,0.93636672588193193,4.5818392079014121,29.281928303576052,14.751444106611977,73.471700101885546,163.90599250109261,7.7764133601292258,-6.9257006487473944,2.286339890822163,0.26845413063752233,-0.13907838363794769,-0.46247134442810989,4.0999999999999996,1025,5.0061070000000001,20.024428,null,null,1025,0.93278819689862758,12.52596990821144,0,{"$error":"#DIV/0!"},-0.54634590885099854,-3.6990244336560489,-4.8996597008890026,-3.1091645819151519,null,null,null,null,null,null,null,83.32656752628354,31.380357955032299,1.4465712166316249]
[7.6,836,3602,null,null,{"$f":"VLOOKUP($C262,Тнав!$A$3:$E$250,2,FALSE)","v":18.25589055856884},20.315936303919589,35.806778382795102,{"$f":"VLOOKUP($C262,Тнав!$A$3:$E$250,3,FALSE)","v":31.874994740014529},1,99.676069999999996,0,13.595334053039551,null,null,{"$f":"Шлейфы!$L$2","v":5.3686572958219374},{"$f":"VLOOKUP($C262,Тнав!$A$3:$E$250,4,FALSE)","v":218.756010040847},20.229166666666671,34.829166666666637,35.96,32.852606456142993,1.0913043478260871,97.7,"0.0",24.201425716234489,null,null,null,null,189.398,-4.4551100088776474,1.9732761080978314,10.808983006154293,14.513230362747048,71.437664233801456,218.756010040847,-13.420435870705987,-1.7838667532852239,2.286339890822163,-18.40009689110255,10.54623908599638,42.673514135679937,7.3000000000000007,-155.31914893617019,10.829243,30.940694285714301,null,null,-155.31914893617019,-0.80829388578276884,-5.5612966447321668,0,{"$error":"#DIV/0!"},-0.54634590885099854,-3.6990244336560489,18.003079543083999,10.1783090165623,null,null,null,null,null,null,null,82.260205594910445,35.490229726103678,0.23020903668758311]
[7.6,838,3603,null,null,{"$f":"VLOOKUP($C263,Тнав!$A$3:$E$250,2,FALSE)","v":22.802139436984842},19.36076051868416,32.065211397790613,{"$f":"VLOOKUP($C263,Тнав!$A$3:$E$250,3,FALSE)","v":21.914833091021421},2.2000000000000002,96.847083999999995,0,14.27996253967285,null,null,{"$f":"Шлейфы!$L$2","v":5.3686572958219374},{"$f":"VLOOKUP($C263,Тнав!$A$3:$E$250,4,FALSE)","v":245.13096536539109},20.229166666666671,0,32.65,53.980044488812034,1.0913043478260871,96.9,"0.0",21.48237832494338,null,null,null,null,168.119,-5.0975651259379973,-2.5729727703181702,-11.283909465726865,-19.36076051868416,-100,245.13096536539109,-31.416661395918467,-4.9405029669794231,2.286339890822163,-1.324618957264263,0.60095995346579478,4.5602591507622208,7.9,-183.72093023255809,16.631312999999999,72.310056521739114,null,null,-183.72093023255809,-8.1295531181236473,-42.148509559941488,0,{"$error":"#DIV/0!"},-0.54634590885099854,-3.6990244336560489,37.485783598620003,29.37522140132867,null,null,null,null,null,null,null,78.562546187427145,33.794990903352002,20.01583353614166]
[7.6,824.06,3701,"37Т",null,{"$f":"VLOOKUP($C264,Тнав!$A$3:$E$250,2,FALSE)","v":19.398140799446409},22.86904388144881,34.840708097894897,{"$f":"VLOOKUP($C264,Тнав!$A$3:$E$250,3,FALSE)","v":33.162257559427033},1.7,66.658230000000003,0,15.471896171569821,null,null,{"$f":"Шлейфы!$L$2","v":5.3686572958219374},{"$f":"VLOOKUP($C264,Тнав!$A$3:$E$250,4,FALSE)","v":244.39815316708811},20.229166666666671,34.829166666666637,34.22,33.1737989906553,1.0913043478260871,95.1,"0.0",26.259974213518188,null,null,null,null,205.50800000000001,-3.289488542635866,0.83102586722026217,4.2840490530101647,11.960122785217827,52.298307035563425,244.39815316708811,-15.912621541170154,-7.6771345108683988,13.2863398908222,-13.03921402517186,6.7511460441406292,24.57255645128895,2.9,-223.07692307692309,9.9459269999999975,24.864817500000001,null,null,-223.07692307692309,-2.4498680716963488,-14.029410371590091,0,{"$error":"#DIV/0!"},-0.54634590885099854,-3.6990244336560489,-24.663042010064999,-11.08356470856523,null,null,null,null,null,null,null,83.34112151016889,38.316554454518979,4.0910751739335893]
[7.6,827.76,3702,null,null,{"$f":"VLOOKUP($C265,Тнав!$A$3:$E$250,2,FALSE)","v":18.880803853454321},21.221846888587439,38.515039851564843,{"$f":"VLOOKUP($C265,Тнав!$A$3:$E$250,3,FALSE)","v":34.165405534122947},-0.4,98.311515999999997,0,16.191690444946289,null,null,{"$f":"Шлейфы!$L$2","v":5.3686572958219374},{"$f":"VLOOKUP($C265,Тнав!$A$3:$E$250,4,FALSE)","v":268.03980149709543},20.229166666666671,34.829166666666637,38.96,37.851278719021153,1.0913043478260871,98.3,"0.0",31.088937978933966,null,null,null,null,243.29900000000001,-2.5359036987752219,1.3483628132123506,7.141448127303434,13.607319778079198,64.119394742202502,268.03980149709543,-9.2302715338951344,-3.089129549871473,13.2863398908222,-1.4220268717166531,0.68485825392788513,2.186001005964286,2.2999999999999998,-176.92307692307691,11.049984,24.555520000000001,null,null,-176.92307692307691,-5.5593684008488538,-22.741248684596069,0,{"$error":"#DIV/0!"},-0.54634590885099854,-3.6990244336560489,13.847875581172021,5.7925360464840168,null,null,null,null,null,null,null,80.32535901389177,32.849506134342093,0.83537346291312531]
[7.6,827.45,3703,null,null,{"$f":"VLOOKUP($C266,Тнав!$A$3:$E$250,2,FALSE)","v":22.247928169115418},20.742979235980592,37.05345971948708,{"$f":"VLOOKUP($C266,Тнав!$A$3:$E$250,3,FALSE)","v":26.30569852822812},-0.6,98.227649999999997,0,15.536526679992679,null,null,{"$f":"Шлейфы!$L$2","v":5.3686572958219374},{"$f":"VLOOKUP($C266,Тнав!$A$3:$E$250,4,FALSE)","v":286.02661095448673},20.229166666666671,34.829166666666637,37.270000000000003,28.529991581048563,1.0913043478260871,98.3,"0.0",27.838833632043166,null,null,null,null,217.864,-2.2272006111792488,-2.0187615024487471,-9.073930332313779,14.086187430686046,67.908217380135397,286.02661095448673,-23.83086340359182,-1.9407304433254919,13.2863398908222,-4.7027195380789664,2.3478947352875998,7.4622324249147027,-4.4000000000000004,-93.61702127659575,8.0523760000000024,16.104752000000001,null,null,-93.61702127659575,6.3577986353096527,48.614569795977928,0,{"$error":"#DIV/0!"},-0.54634590885099854,-3.6990244336560489,9.2655674655069618,3.7529674556792121,null,null,null,null,null,null,null,82.276324794097789,34.697901017805627,0.88630210401365161]
[7.6,837,3801,"38Т",null,{"$f":"VLOOKUP($C267,Тнав!$A$3:$E$250,2,FALSE)","v":17.227255020798701},19.837946516680521,32.764773596039227,{"$f":"VLOOKUP($C267,Тнав!$A$3:$E$250,3,FALSE)","v":46.776537604912193},1.6,86.378770000000003,0,14.505501747131349,null,null,{"$f":"Шлейфы!$L$2","v":5.3686572958219374},{"$f":"VLOOKUP($C267,Тнав!$A$3:$E$250,4,FALSE)","v":211.70706018899091},20.229166666666671,34.829166666666637,33.630000000000003,44.712144534284775,1.0913043478260871,91.5,"0.0",23.374556236040647,null,null,null,null,182.92699999999999,-0.2790547407140096,3.0019116458679704,17.425362556273313,14.991220149986116,75.568406928514065,211.70706018899091,-13.594284556830061,-2.2300079922510041,2.286339890822163,-8.4625838412233207,4.9376106370258803,18.400830048743568,3.8,{"$error":"#DIV/0!"},5.2501800000000003,21.000720000000001,null,null,{"$error":"#DIV/0!"},-1.08057366804357,-11.472556255325429,0,{"$error":"#DIV/0!"},-0.54634590885099854,-3.6990244336560489,2.1484728278389871,1.3737431413073149,null,null,null,null,null,null,null,81.320293489072213,27.911532265371871,-3.8597082891425458]
[7.6,837,3802,null,null,{"$f":"VLOOKUP($C268,Тнав!$A$3:$E$250,2,FALSE)","v":18.088269961258948},21.509871534615691,34.866837818786209,{"$f":"VLOOKUP($C268,Тнав!$A$3:$E$250,3,FALSE)","v":43.398510966935262},1.2,80.801659999999998,0,14.795107841491699,null,null,{"$f":"Шлейфы!$L$2","v":5.3686572958219374},{"$f":"VLOOKUP($C268,Тнав!$A$3:$E$250,4,FALSE)","v":235.56902715297159},20.229166666666671,34.829166666666637,34.69,43.436182119054834,1.0913043478260871,100,"0.0",25.417004354015983,null,null,null,null,198.911,-1.1848265867854479E-2,2.140896705407723,11.835829020647353,13.319295132050947,61.921779079974016,235.56902715297159,-15.56148004515336,-2.2028581400066831,2.286339890822163,-9.0340960158928425,5.4418728369411076,20.056290804892878,9.3000000000000007,-169.09090909090909,8.2165949999999981,32.866379999999992,null,null,-169.09090909090909,-0.96610549607178164,-10.075715805108031,0,{"$error":"#DIV/0!"},-0.54634590885099854,-3.6990244336560489,3.20979051434901,1.9461035550834249,null,null,null,null,null,null,null,81.515525276042936,26.720349188910991,-5.854520919956002]
[6.2,920.39,383,38,null,{"$f":"VLOOKUP($C269,Тнав!$A$3:$E$250,2,FALSE)","v":32.113528464883622},51.59703488720185,53.224596055082067,{"$f":"VLOOKUP($C269,Тнав!$A$3:$E$250,3,FALSE)","v":44.672892673437893},4.8,97.406329999999997,11,6.8283491134643546,null,null,{"$f":"Шлейфы!$L$2","v":5.3686572958219374},{"$f":"VLOOKUP($C269,Тнав!$A$3:$E$250,4,FALSE)","v":68.905450072657729},24.541666666666671,36.29999999999999,54.46,61.59748872851997,1.404166666666667,97.4,"11.0",14.608558719656909,null,null,null,null,93.004000000000019,-1.3606880214349459,-7.5718617982169505,-23.578417446394397,-15.29703488720186,-29.647120073165567,68.905450072657729,34.973358278527229,-8.1345106143152321,2.286339890822163,4.9409096815712843,-2.667292415090742,-9.0183907424567309,5.5,-137.5,0,0,{"$error":"#VALUE!"},null,-137.5,-4.7795799830150258,-44.498352319049062,0,{"$error":"#DIV/0!"},-0.54634590885099854,-3.6990244336560489,4.6878338851164054,5.7488280381847972]
[]
[]
[]
[]
[]
[]
[]
[]
[]
[]
[]
[]
[]
[]
[]
[]
[]
[]
[]
[]
[]
[]
[]
[]
[]
[]
[]
[]
[]
[]
[]
[]
[]
[]
[]
[]
[]
[]
[]
[]
[]
[]
[]
[]
[]
[]
[]
[]
[null,null,null,null,null,null,null,null,null,null,null,null,null,null,null,null,null,null,null,null,null,null,null,null,null,null,null,null,null,null,null,null,null,null,null,null,null,null,null,null,null,null,null,null,null,null,null,null,null,null,null,null,null,null,null,null,null,null,null,null,null,null,null,null,null,null,null,null,null,null,null,null,null,null,null,null,null,null,null,null,null,null,null,null,null,null,null,null,null,null,null,null,null,null,null,null,null,null,null,"Скв. 1103",null,null,null,"Скв. 1104",null,null,null,"Скв. 801"]
[]
[null,null,null,null,null,null,null,null,null,null,null,null,null,null,null,null,null,null,null,null,null,null,null,null,null,null,null,null,null,null,null,null,null,null,null,null,null,null,null,null,null,null,null,null,null,null,null,null,null,null,null,null,null,null,null,null,null,null,null,null,null,null,null,null,null,null,null,null,null,null,null,null,null,null,null,null,null,null,null,null,null,null,null,null,null,null,null,null,null,null,null,null,null,null,null,null,"Давление затрубное, кгс/см²","Температура, °С","Расход газа   тыс. м3/час","Давление трубное, кгс/см²","Давление затрубное, кгс/см²","Температура, °С","Расход газа   тыс. м3/час","Давление трубное, кгс/см²","Давление затрубное, кгс/см²","Температура, °С","Расход газа   тыс. м3/час","Давление трубное, кгс/см²","Давление затрубное, кгс/см²","Температура, °С","Расход газа   тыс. м3/час"]
[null,null,null,null,null,null,null,null,null,null,null,null,null,null,null,null,null,null,null,null,null,null,null,null,null,null,null,null,null,null,null,null,null,null,null,null,null,null,null,null,null,null,null,null,null,null,null,null,null,null,null,null,null,null,null,null,null,null,null,null,null,null,null,null,null,null,null,null,null,null,null,null,null,null,null,null,null,null,null,null,null,null,null,null,null,null,null,null,null,null,null,null,null,null,null,null,26.6,1,7.8579999999999997,16.600000000000001,26.4,0.4,8.5,16.5,25.7,0.2,8.6489999999999991,19.2,38.200000000000003,-3,12.579000000000001]

{"sheet":"Турон","index":3,"n_rows":113,"n_cols":18,"rows_kept":113,"cut":false,"hidden":false,"merged":[[2,4,2,10]]}
[null,null,null,null,null,"Депр.тур.",22.947559999999999,null,"Тгл","Плотность по воздуху",null,"Ркр","Tкр"]
[null,null,null,null,null,null,null,null,15.6,0.56379999999999997,null,46.91,191.3]
[null,null,null,null,"Факт. режим",null,null,null,null,null,null,null,null,null,null,{"$f":"Рпл!C2","v":"2024-03-02"}]
["№ п/п","№ скв","Шлейф","Куст","Ннкт","Рнкт","Q","Рбуф","Рзатр","Туст","Vнкт","Рзаб","Депр","Кпрод",null,"Рнкт","Рзаб","Q"]
[1,"35Р",12,null,797.69,null,0,null,null,null,null,{"$f":"[1]!Давление_ГлубинаКОНД(E5,I5,J5,$I$2,$J$2,$L$2,$M$2)","v":{"$error":"#NAME?"}},{"$f":"F5-L5","v":{"$error":"#NAME?"}},{"$f":"G5/M5","v":{"$error":"#NAME?"}},null,{"$f":"VLOOKUP(B5,Рпл!B:D,3,FALSE)","v":79.881263031832262},{"$f":"IF(M5>=25,P5-25,P5-M5)","v":{"$error":"#NAME?"}},{"$f":"N5*(P5-Q5)","v":{"$error":"#NAME?"}}]
[2,"51Р",6,null,702.7,null,0,null,null,null,null,{"$f":"[1]!Давление_ГлубинаКОНД(E6,I6,J6,$I$2,$J$2,$L$2,$M$2)","v":{"$error":"#NAME?"}},{"$error":"#NAME?"},{"$error":"#NAME?"},null,{"$f":"VLOOKUP(B6,Рпл!B:D,3,FALSE)","v":46.101085813840321},{"$error":"#NAME?"},{"$error":"#NAME?"}]
[3,"101т",8,"1Т",null,73.733380992637336,null,null,null,null,null,{"$f":"[1]!Давление_ГлубинаКОНД(E7,I7,J7,$I$2,$J$2,$L$2,$M$2)","v":{"$error":"#NAME?"}},{"$error":"#NAME?"},{"$error":"#NAME?"},null,{"$f":"VLOOKUP(B7,Рпл!B:D,3,FALSE)","v":61.691876371708148},{"$error":"#NAME?"},{"$error":"#NAME?"}]
[4,"102т",8,"1Т",null,76.722096778502106,null,null,null,null,null,{"$f":"[1]!Давление_ГлубинаКОНД(E8,I8,J8,$I$2,$J$2,$L$2,$M$2)","v":{"$error":"#NAME?"}},{"$error":"#NAME?"},{"$error":"#NAME?"},null,{"$f":"VLOOKUP(B8,Рпл!B:D,3,FALSE)","v":65.842536625527444},{"$error":"#NAME?"},{"$error":"#NAME?"}]
[5,"103т",8,"1Т",null,66.653325629418504,null,null,null,null,null,{"$f":"[1]!Давление_ГлубинаКОНД(E9,I9,J9,$I$2,$J$2,$L$2,$M$2)","v":{"$error":"#NAME?"}},{"$error":"#NAME?"},{"$error":"#NAME?"},null,{"$f":"VLOOKUP(B9,Рпл!B:D,3,FALSE)","v":56.953189520449378},{"$error":"#NAME?"},{"$error":"#NAME?"}]
[6,"174БОК",3,17,803.93100000000004,89.008861083984399,33,46.83,47.67,1.2,2.21047806739807,53.489563871164549,35.519297212819851,0.92907243637944026,null,{"$f":"VLOOKUP(B10,Рпл!B:D,3,FALSE)","v":66.037092875288479},41.037092875288479,23.226810909486005]
[7,"174ОСН",3,17,829.923,85.759901428222705,43,49.99,null,1.8,null,{"$f":"[1]!Давление_ГлубинаКОНД(E11,H11,J11,$I$2,$J$2,$L$2,$M$2)","v":{"$error":"#NAME?"}},{"$error":"#NAME?"},{"$error":"#NAME?"},null,{"$f":"VLOOKUP(B11,Рпл!B:D,3,FALSE)","v":64.589720713499204},{"$error":"#NAME?"},{"$error":"#NAME?"}]
[8,184,2,18,777.404,84.096438903808604,310,44.32,59.41,-0.5,16.121294021606399,66.597830659270898,17.498608244537706,17.715694623700621,null,{"$f":"VLOOKUP(B12,Рпл!B:D,3,FALSE)","v":51.863480739211887},34.364872494674181,310]
[9,"201т",9,"2Т",null,74.865218766559494,null,null,null,null,null,{"$f":"[1]!Давление_ГлубинаКОНД(E13,I13,J13,$I$2,$J$2,$L$2,$M$2)","v":{"$error":"#NAME?"}},{"$error":"#NAME?"},{"$error":"#NAME?"},null,{"$f":"VLOOKUP(B13,Рпл!B:D,3,FALSE)","v":70.16931697690157},{"$error":"#NAME?"},{"$error":"#NAME?"}]
[10,"202т",9,"2Т",null,71.381682337892997,null,null,null,null,null,{"$f":"[1]!Давление_ГлубинаКОНД(E14,I14,J14,$I$2,$J$2,$L$2,$M$2)","v":{"$error":"#NAME?"}},{"$error":"#NAME?"},{"$error":"#NAME?"},null,{"$f":"VLOOKUP(B14,Рпл!B:D,3,FALSE)","v":70.692529120494882},{"$error":"#NAME?"},{"$error":"#NAME?"}]
[11,"203т",9,"2Т",null,72.695209241893068,null,null,null,null,null,{"$f":"[1]!Давление_ГлубинаКОНД(E15,I15,J15,$I$2,$J$2,$L$2,$M$2)","v":{"$error":"#NAME?"}},{"$error":"#NAME?"},{"$error":"#NAME?"},null,{"$f":"VLOOKUP(B15,Рпл!B:D,3,FALSE)","v":67.222501084183222},{"$error":"#NAME?"},{"$error":"#NAME?"}]
[12,"204т",9,"2Т",null,66.856498917004828,null,null,null,null,null,{"$f":"[1]!Давление_ГлубинаКОНД(E16,I16,J16,$I$2,$J$2,$L$2,$M$2)","v":{"$error":"#NAME?"}},{"$error":"#NAME?"},{"$error":"#NAME?"},null,{"$f":"VLOOKUP(B16,Рпл!B:D,3,FALSE)","v":62.270937426113527},{"$error":"#NAME?"},{"$error":"#NAME?"}]
[13,"301т",8,"3Т",null,74.747993934068063,null,null,null,null,null,{"$f":"[1]!Давление_ГлубинаКОНД(E17,I17,J17,$I$2,$J$2,$L$2,$M$2)","v":{"$error":"#NAME?"}},{"$error":"#NAME?"},{"$error":"#NAME?"},null,{"$f":"VLOOKUP(B17,Рпл!B:D,3,FALSE)","v":70.58087456565444},{"$error":"#NAME?"},{"$error":"#NAME?"}]
[14,"302т",8,"3Т",null,76.08060436066819,null,null,null,null,null,{"$f":"[1]!Давление_ГлубинаКОНД(E18,I18,J18,$I$2,$J$2,$L$2,$M$2)","v":{"$error":"#NAME?"}},{"$error":"#NAME?"},{"$error":"#NAME?"},null,{"$f":"VLOOKUP(B18,Рпл!B:D,3,FALSE)","v":67.593590270492456},{"$error":"#NAME?"},{"$error":"#NAME?"}]
[15,383,12,38,871.53200000000004,53.208024126257001,201,46.41,49.15,3.5,5.1457176208496103,55.657867828735277,-2.449843702478276,-82.046050446674315,null,{"$f":"VLOOKUP(B19,Рпл!B:D,3,FALSE)","v":83.259640330316955},85.709484032795231,201]
[16,"401т",9,"4Т",null,78.923294771424693,null,null,null,null,null,{"$f":"[1]!Давление_ГлубинаКОНД(E20,I20,J20,$I$2,$J$2,$L$2,$M$2)","v":{"$error":"#NAME?"}},{"$error":"#NAME?"},{"$error":"#NAME?"},null,{"$f":"VLOOKUP(B20,Рпл!B:D,3,FALSE)","v":74.528343545998581},{"$error":"#NAME?"},{"$error":"#NAME?"}]
[17,"402т",9,"4Т",null,82.327191964022518,null,null,null,null,null,{"$f":"[1]!Давление_ГлубинаКОНД(E21,I21,J21,$I$2,$J$2,$L$2,$M$2)","v":{"$error":"#NAME?"}},{"$error":"#NAME?"},{"$error":"#NAME?"},null,{"$f":"VLOOKUP(B21,Рпл!B:D,3,FALSE)","v":62.501425603751279},{"$error":"#NAME?"},{"$error":"#NAME?"}]
[18,"403т",9,"4Т",null,85.810447305959727,null,null,null,null,null,{"$f":"[1]!Давление_ГлубинаКОНД(E22,I22,J22,$I$2,$J$2,$L$2,$M$2)","v":{"$error":"#NAME?"}},{"$error":"#NAME?"},{"$error":"#NAME?"},null,{"$f":"VLOOKUP(B22,Рпл!B:D,3,FALSE)","v":68.153013047013246},{"$error":"#NAME?"},{"$error":"#NAME?"}]
[19,501,7,"5Т",null,70.860410507331039,null,null,null,null,null,{"$f":"[1]!Давление_ГлубинаКОНД(E23,I23,J23,$I$2,$J$2,$L$2,$M$2)","v":{"$error":"#NAME?"}},{"$error":"#NAME?"},{"$error":"#NAME?"},null,{"$f":"VLOOKUP(B23,Рпл!B:D,3,FALSE)","v":63.561176621326908},{"$error":"#NAME?"},{"$error":"#NAME?"}]
[20,502,7,"5Т",null,70.450333693775178,null,null,null,null,null,{"$f":"[1]!Давление_ГлубинаКОНД(E24,I24,J24,$I$2,$J$2,$L$2,$M$2)","v":{"$error":"#NAME?"}},{"$error":"#NAME?"},{"$error":"#NAME?"},null,{"$f":"VLOOKUP(B24,Рпл!B:D,3,FALSE)","v":67.16717513994837},{"$error":"#NAME?"},{"$error":"#NAME?"}]
[21,503,7,"5Т",null,72.98622653495373,null,null,null,null,null,{"$f":"[1]!Давление_ГлубинаКОНД(E25,I25,J25,$I$2,$J$2,$L$2,$M$2)","v":{"$error":"#NAME?"}},{"$error":"#NAME?"},{"$error":"#NAME?"},null,{"$f":"VLOOKUP(B25,Рпл!B:D,3,FALSE)","v":66.572667619698194},{"$error":"#NAME?"},{"$error":"#NAME?"}]
[22,601,7,"6Т",null,84.781206452985387,null,null,null,null,null,{"$f":"[1]!Давление_ГлубинаКОНД(E26,I26,J26,$I$2,$J$2,$L$2,$M$2)","v":{"$error":"#NAME?"}},{"$error":"#NAME?"},{"$error":"#NAME?"},null,{"$f":"VLOOKUP(B26,Рпл!B:D,3,FALSE)","v":69.553377644915855},{"$error":"#NAME?"},{"$error":"#NAME?"}]
[23,602,7,"6Т",null,68.303306283587077,null,null,null,null,null,{"$f":"[1]!Давление_ГлубинаКОНД(E27,I27,J27,$I$2,$J$2,$L$2,$M$2)","v":{"$error":"#NAME?"}},{"$error":"#NAME?"},{"$error":"#NAME?"},null,{"$f":"VLOOKUP(B27,Рпл!B:D,3,FALSE)","v":60.742271260472222},{"$error":"#NAME?"},{"$error":"#NAME?"}]
[24,701,7,"7Т",null,68.613576071094357,null,null,null,null,null,{"$f":"[1]!Давление_ГлубинаКОНД(E28,I28,J28,$I$2,$J$2,$L$2,$M$2)","v":{"$error":"#NAME?"}},{"$error":"#NAME?"},{"$error":"#NAME?"},null,{"$f":"VLOOKUP(B28,Рпл!B:D,3,FALSE)","v":63.801272437333282},{"$error":"#NAME?"},{"$error":"#NAME?"}]
[25,702,6,"7Т",null,70.557589478307648,null,null,null,null,null,{"$f":"[1]!Давление_ГлубинаКОНД(E29,I29,J29,$I$2,$J$2,$L$2,$M$2)","v":{"$error":"#NAME?"}},{"$error":"#NAME?"},{"$error":"#NAME?"},null,{"$f":"VLOOKUP(B29,Рпл!B:D,3,FALSE)","v":66.115083097454473},{"$error":"#NAME?"},{"$error":"#NAME?"}]
[26,703,6,"7Т",null,69.23338143404203,null,null,null,null,null,{"$f":"[1]!Давление_ГлубинаКОНД(E30,I30,J30,$I$2,$J$2,$L$2,$M$2)","v":{"$error":"#NAME?"}},{"$error":"#NAME?"},{"$error":"#NAME?"},null,{"$f":"VLOOKUP(B30,Рпл!B:D,3,FALSE)","v":56.81967090969674},{"$error":"#NAME?"},{"$error":"#NAME?"}]
[27,801,5,"8Т",null,67.453808208661016,null,null,null,null,null,{"$f":"[1]!Давление_ГлубинаКОНД(E31,I31,J31,$I$2,$J$2,$L$2,$M$2)","v":{"$error":"#NAME?"}},{"$error":"#NAME?"},{"$error":"#NAME?"},null,{"$f":"VLOOKUP(B31,Рпл!B:D,3,FALSE)","v":61.08426815158991},{"$error":"#NAME?"},{"$error":"#NAME?"}]
[28,802,5,"8Т",null,64.215896565481444,null,null,null,null,null,{"$f":"[1]!Давление_ГлубинаКОНД(E32,I32,J32,$I$2,$J$2,$L$2,$M$2)","v":{"$error":"#NAME?"}},{"$error":"#NAME?"},{"$error":"#NAME?"},null,{"$f":"VLOOKUP(B32,Рпл!B:D,3,FALSE)","v":53.369920524094013},{"$error":"#NAME?"},{"$error":"#NAME?"}]
[29,901,5,"9Т",null,68.274228927538672,null,null,null,null,null,{"$f":"[1]!Давление_ГлубинаКОНД(E33,I33,J33,$I$2,$J$2,$L$2,$M$2)","v":{"$error":"#NAME?"}},{"$error":"#NAME?"},{"$error":"#NAME?"},null,{"$f":"VLOOKUP(B33,Рпл!B:D,3,FALSE)","v":62.544561808761173},{"$error":"#NAME?"},{"$error":"#NAME?"}]
[30,902,5,"9Т",null,64.449758869198632,null,null,null,null,null,{"$f":"[1]!Давление_ГлубинаКОНД(E34,I34,J34,$I$2,$J$2,$L$2,$M$2)","v":{"$error":"#NAME?"}},{"$error":"#NAME?"},{"$error":"#NAME?"},null,{"$f":"VLOOKUP(B34,Рпл!B:D,3,FALSE)","v":58.514515896223124},{"$error":"#NAME?"},{"$error":"#NAME?"}]
[31,1001,6,"10Т",null,67.162682867727597,null,null,null,null,null,{"$f":"[1]!Давление_ГлубинаКОНД(E35,I35,J35,$I$2,$J$2,$L$2,$M$2)","v":{"$error":"#NAME?"}},{"$error":"#NAME?"},{"$error":"#NAME?"},null,{"$f":"VLOOKUP(B35,Рпл!B:D,3,FALSE)","v":59.517987441764028},{"$error":"#NAME?"},{"$error":"#NAME?"}]
[32,1002,6,"10Т",null,59.08849888104394,null,null,null,null,null,{"$f":"[1]!Давление_ГлубинаКОНД(E36,I36,J36,$I$2,$J$2,$L$2,$M$2)","v":{"$error":"#NAME?"}},{"$error":"#NAME?"},{"$error":"#NAME?"},null,{"$f":"VLOOKUP(B36,Рпл!B:D,3,FALSE)","v":53.251483094996452},{"$error":"#NAME?"},{"$error":"#NAME?"}]
[33,1003,6,"10Т",null,61.834955317399,null,null,null,null,null,{"$f":"[1]!Давление_ГлубинаКОНД(E37,I37,J37,$I$2,$J$2,$L$2,$M$2)","v":{"$error":"#NAME?"}},{"$f":"F37-L37","v":{"$error":"#NAME?"}},{"$f":"G37/M37","v":{"$error":"#NAME?"}},null,{"$f":"VLOOKUP(B37,Рпл!B:D,3,FALSE)","v":56.173822735953998},{"$f":"IF(M37>=25,P37-25,P37-M37)","v":{"$error":"#NAME?"}},{"$f":"N37*(P37-Q37)","v":{"$error":"#NAME?"}}]
[34,1101,4,"11T",null,52.317471856759333,null,null,null,null,null,{"$f":"[1]!Давление_ГлубинаКОНД(E38,I38,J38,$I$2,$J$2,$L$2,$M$2)","v":{"$error":"#NAME?"}},{"$error":"#NAME?"},{"$error":"#NAME?"},null,{"$f":"VLOOKUP(B38,Рпл!B:D,3,FALSE)","v":45.201765478846937},{"$error":"#NAME?"},{"$error":"#NAME?"}]
[35,1102,4,"11T",null,51.873053942839952,null,null,null,null,null,{"$f":"[1]!Давление_ГлубинаКОНД(E39,I39,J39,$I$2,$J$2,$L$2,$M$2)","v":{"$error":"#NAME?"}},{"$error":"#NAME?"},{"$error":"#NAME?"},null,{"$f":"VLOOKUP(B39,Рпл!B:D,3,FALSE)","v":43.919627051616317},{"$error":"#NAME?"},{"$error":"#NAME?"}]
[36,1103,4,"11T",null,56.009971196621841,null,null,null,null,null,{"$f":"[1]!Давление_ГлубинаКОНД(E40,I40,J40,$I$2,$J$2,$L$2,$M$2)","v":{"$error":"#NAME?"}},{"$error":"#NAME?"},{"$error":"#NAME?"},null,{"$f":"VLOOKUP(B40,Рпл!B:D,3,FALSE)","v":46.027951437481661},{"$error":"#NAME?"},{"$error":"#NAME?"}]
[37,1104,4,"11T",null,58.360137373661843,null,null,null,null,null,{"$f":"[1]!Давление_ГлубинаКОНД(E41,I41,J41,$I$2,$J$2,$L$2,$M$2)","v":{"$error":"#NAME?"}},{"$error":"#NAME?"},{"$error":"#NAME?"},null,{"$f":"VLOOKUP(B41,Рпл!B:D,3,FALSE)","v":44.96197537835139},{"$error":"#NAME?"},{"$error":"#NAME?"}]
[38,1201,6,"12Т",null,69.78421725629893,null,null,null,null,null,{"$f":"[1]!Давление_ГлубинаКОНД(E42,I42,J42,$I$2,$J$2,$L$2,$M$2)","v":{"$error":"#NAME?"}},{"$error":"#NAME?"},{"$error":"#NAME?"},null,{"$f":"VLOOKUP(B42,Рпл!B:D,3,FALSE)","v":63.876295803741471},{"$error":"#NAME?"},{"$error":"#NAME?"}]
[39,1202,6,"12Т",null,68.413246960319199,null,null,null,null,null,{"$f":"[1]!Давление_ГлубинаКОНД(E43,I43,J43,$I$2,$J$2,$L$2,$M$2)","v":{"$error":"#NAME?"}},{"$error":"#NAME?"},{"$error":"#NAME?"},null,{"$f":"VLOOKUP(B43,Рпл!B:D,3,FALSE)","v":61.571197367836909},{"$error":"#NAME?"},{"$error":"#NAME?"}]
[40,1301,1,"13T",null,61.380956909961952,null,null,null,null,null,{"$f":"[1]!Давление_ГлубинаКОНД(E44,I44,J44,$I$2,$J$2,$L$2,$M$2)","v":{"$error":"#NAME?"}},{"$error":"#NAME?"},{"$error":"#NAME?"},null,{"$f":"VLOOKUP(B44,Рпл!B:D,3,FALSE)","v":53.625229943717649},{"$error":"#NAME?"},{"$error":"#NAME?"}]
[41,1302,1,"13T",null,63.547640434113617,null,null,null,null,null,{"$f":"[1]!Давление_ГлубинаКОНД(E45,I45,J45,$I$2,$J$2,$L$2,$M$2)","v":{"$error":"#NAME?"}},{"$error":"#NAME?"},{"$error":"#NAME?"},null,{"$f":"VLOOKUP(B45,Рпл!B:D,3,FALSE)","v":51.313303946803067},{"$error":"#NAME?"},{"$error":"#NAME?"}]
[42,1303,1,"13T",null,51.946080662681098,null,null,null,null,null,{"$f":"[1]!Давление_ГлубинаКОНД(E46,I46,J46,$I$2,$J$2,$L$2,$M$2)","v":{"$error":"#NAME?"}},{"$error":"#NAME?"},{"$error":"#NAME?"},null,{"$f":"VLOOKUP(B46,Рпл!B:D,3,FALSE)","v":47.926309305172268},{"$error":"#NAME?"},{"$error":"#NAME?"}]
[43,1304,1,"13T",null,57.083537827978063,null,null,null,null,null,{"$f":"[1]!Давление_ГлубинаКОНД(E47,I47,J47,$I$2,$J$2,$L$2,$M$2)","v":{"$error":"#NAME?"}},{"$error":"#NAME?"},{"$error":"#NAME?"},null,{"$f":"VLOOKUP(B47,Рпл!B:D,3,FALSE)","v":47.245826985826},{"$error":"#NAME?"},{"$error":"#NAME?"}]
[44,1401,3,"14T",null,59.180326317090383,null,null,null,null,null,{"$f":"[1]!Давление_ГлубинаКОНД(E48,I48,J48,$I$2,$J$2,$L$2,$M$2)","v":{"$error":"#NAME?"}},{"$error":"#NAME?"},{"$error":"#NAME?"},null,{"$f":"VLOOKUP(B48,Рпл!B:D,3,FALSE)","v":50.901827482990292},{"$error":"#NAME?"},{"$error":"#NAME?"}]
[45,1402,3,"14T",null,56.714554210077807,null,null,null,null,null,{"$f":"[1]!Давление_ГлубинаКОНД(E49,I49,J49,$I$2,$J$2,$L$2,$M$2)","v":{"$error":"#NAME?"}},{"$error":"#NAME?"},{"$error":"#NAME?"},null,{"$f":"VLOOKUP(B49,Рпл!B:D,3,FALSE)","v":46.77354452688428},{"$error":"#NAME?"},{"$error":"#NAME?"}]
[46,1403,3,"14T",null,52.618943145908837,null,null,null,null,null,{"$f":"[1]!Давление_ГлубинаКОНД(E50,I50,J50,$I$2,$J$2,$L$2,$M$2)","v":{"$error":"#NAME?"}},{"$error":"#NAME?"},{"$error":"#NAME?"},null,{"$f":"VLOOKUP(B50,Рпл!B:D,3,FALSE)","v":42.15593579515},{"$error":"#NAME?"},{"$error":"#NAME?"}]
[47,1404,3,"14T",null,51.747159974565179,null,null,null,null,null,{"$f":"[1]!Давление_ГлубинаКОНД(E51,I51,J51,$I$2,$J$2,$L$2,$M$2)","v":{"$error":"#NAME?"}},{"$error":"#NAME?"},{"$error":"#NAME?"},null,{"$f":"VLOOKUP(B51,Рпл!B:D,3,FALSE)","v":48.397572001143871},{"$error":"#NAME?"},{"$error":"#NAME?"}]
[48,1501,3,"15Т",null,69.227312158997591,null,null,null,null,null,{"$f":"[1]!Давление_ГлубинаКОНД(E52,I52,J52,$I$2,$J$2,$L$2,$M$2)","v":{"$error":"#NAME?"}},{"$error":"#NAME?"},{"$error":"#NAME?"},null,{"$f":"VLOOKUP(B52,Рпл!B:D,3,FALSE)","v":58.311145183578383},{"$error":"#NAME?"},{"$error":"#NAME?"}]
[49,1502,3,"15Т",null,66.904174149370775,null,null,null,null,null,{"$f":"[1]!Давление_ГлубинаКОНД(E53,I53,J53,$I$2,$J$2,$L$2,$M$2)","v":{"$error":"#NAME?"}},{"$error":"#NAME?"},{"$error":"#NAME?"},null,{"$f":"VLOOKUP(B53,Рпл!B:D,3,FALSE)","v":55.887483945453482},{"$error":"#NAME?"},{"$error":"#NAME?"}]
[50,1503,3,"15Т",null,62.284542442690331,null,null,null,null,null,{"$f":"[1]!Давление_ГлубинаКОНД(E54,I54,J54,$I$2,$J$2,$L$2,$M$2)","v":{"$error":"#NAME?"}},{"$error":"#NAME?"},{"$error":"#NAME?"},null,{"$f":"VLOOKUP(B54,Рпл!B:D,3,FALSE)","v":50.785552194041202},{"$error":"#NAME?"},{"$error":"#NAME?"}]
[51,1601,2,"16Т",null,57.043386167263982,null,null,null,null,null,{"$f":"[1]!Давление_ГлубинаКОНД(E55,I55,J55,$I$2,$J$2,$L$2,$M$2)","v":{"$error":"#NAME?"}},{"$error":"#NAME?"},{"$error":"#NAME?"},null,{"$f":"VLOOKUP(B55,Рпл!B:D,3,FALSE)","v":45.057399501261798},{"$error":"#NAME?"},{"$error":"#NAME?"}]
[52,1602,2,"16Т",null,62.255910478149097,null,null,null,null,null,{"$f":"[1]!Давление_ГлубинаКОНД(E56,I56,J56,$I$2,$J$2,$L$2,$M$2)","v":{"$error":"#NAME?"}},{"$error":"#NAME?"},{"$error":"#NAME?"},null,{"$f":"VLOOKUP(B56,Рпл!B:D,3,FALSE)","v":49.352505136141957},{"$error":"#NAME?"},{"$error":"#NAME?"}]
[53,1603,2,"16Т",null,68.22392025511877,null,null,null,null,null,{"$f":"[1]!Давление_ГлубинаКОНД(E57,I57,J57,$I$2,$J$2,$L$2,$M$2)","v":{"$error":"#NAME?"}},{"$error":"#NAME?"},{"$error":"#NAME?"},null,{"$f":"VLOOKUP(B57,Рпл!B:D,3,FALSE)","v":52.444152553962589},{"$error":"#NAME?"},{"$error":"#NAME?"}]
[54,1701,3,"17Т",null,69.097170505910896,null,null,null,null,null,{"$f":"[1]!Давление_ГлубинаКОНД(E58,I58,J58,$I$2,$J$2,$L$2,$M$2)","v":{"$error":"#NAME?"}},{"$error":"#NAME?"},{"$error":"#NAME?"},null,{"$f":"VLOOKUP(B58,Рпл!B:D,3,FALSE)","v":63.744152340442689},{"$error":"#NAME?"},{"$error":"#NAME?"}]
[55,1702,3,"17Т",null,63.083442808402751,null,null,null,null,null,{"$f":"[1]!Давление_ГлубинаКОНД(E59,I59,J59,$I$2,$J$2,$L$2,$M$2)","v":{"$error":"#NAME?"}},{"$error":"#NAME?"},{"$error":"#NAME?"},null,{"$f":"VLOOKUP(B59,Рпл!B:D,3,FALSE)","v":55.096021517196171},{"$error":"#NAME?"},{"$error":"#NAME?"}]
[56,1703,3,"17Т",null,60.897417025484941,null,null,null,null,null,{"$f":"[1]!Давление_ГлубинаКОНД(E60,I60,J60,$I$2,$J$2,$L$2,$M$2)","v":{"$error":"#NAME?"}},{"$error":"#NAME?"},{"$error":"#NAME?"},null,{"$f":"VLOOKUP(B60,Рпл!B:D,3,FALSE)","v":53.2139316482019},{"$error":"#NAME?"},{"$error":"#NAME?"}]
[57,1801,2,"18Т",null,57.329047413708352,null,null,null,null,null,{"$f":"[1]!Давление_ГлубинаКОНД(E61,I61,J61,$I$2,$J$2,$L$2,$M$2)","v":{"$error":"#NAME?"}},{"$error":"#NAME?"},{"$error":"#NAME?"},null,{"$f":"VLOOKUP(B61,Рпл!B:D,3,FALSE)","v":45.957302555167608},{"$error":"#NAME?"},{"$error":"#NAME?"}]
[58,1802,2,"18Т",null,65.88709304497263,null,null,null,null,null,{"$f":"[1]!Давление_ГлубинаКОНД(E62,I62,J62,$I$2,$J$2,$L$2,$M$2)","v":{"$error":"#NAME?"}},{"$error":"#NAME?"},{"$error":"#NAME?"},null,{"$f":"VLOOKUP(B62,Рпл!B:D,3,FALSE)","v":54.81450022711622},{"$error":"#NAME?"},{"$error":"#NAME?"}]
[59,1803,2,"18Т",null,60.875281422834369,null,null,null,null,null,{"$f":"[1]!Давление_ГлубинаКОНД(E63,I63,J63,$I$2,$J$2,$L$2,$M$2)","v":{"$error":"#NAME?"}},{"$error":"#NAME?"},{"$error":"#NAME?"},null,{"$f":"VLOOKUP(B63,Рпл!B:D,3,FALSE)","v":50.642693204823892},{"$error":"#NAME?"},{"$error":"#NAME?"}]
[60,1901,10,"19Т",null,74.834943400413195,null,null,null,null,null,{"$f":"[1]!Давление_ГлубинаКОНД(E64,I64,J64,$I$2,$J$2,$L$2,$M$2)","v":{"$error":"#NAME?"}},{"$error":"#NAME?"},{"$error":"#NAME?"},null,{"$f":"VLOOKUP(B64,Рпл!B:D,3,FALSE)","v":66.692888590891386},{"$error":"#NAME?"},{"$error":"#NAME?"}]
[61,1902,10,19,null,93.370966491699207,178,56.26,59.41,2.7,9.2899971008300799,{"$f":"[1]!Давление_ГлубинаКОНД(E65,I65,J65,$I$2,$J$2,$L$2,$M$2)","v":{"$error":"#NAME?"}},{"$error":"#NAME?"},{"$error":"#NAME?"},null,{"$f":"VLOOKUP(B65,Рпл!B:D,3,FALSE)","v":75.94381097803398},{"$error":"#NAME?"},{"$error":"#NAME?"}]
[62,1903,10,"19Т",null,77.133058239339789,null,null,null,null,null,{"$f":"[1]!Давление_ГлубинаКОНД(E66,I66,J66,$I$2,$J$2,$L$2,$M$2)","v":{"$error":"#NAME?"}},{"$error":"#NAME?"},{"$error":"#NAME?"},null,{"$f":"VLOOKUP(B66,Рпл!B:D,3,FALSE)","v":67.466485731055911},{"$error":"#NAME?"},{"$error":"#NAME?"}]
[63,2001,10,"20Т",null,81.825327093495375,null,null,null,null,null,{"$f":"[1]!Давление_ГлубинаКОНД(E67,I67,J67,$I$2,$J$2,$L$2,$M$2)","v":{"$error":"#NAME?"}},{"$error":"#NAME?"},{"$error":"#NAME?"},null,{"$f":"VLOOKUP(B67,Рпл!B:D,3,FALSE)","v":61.146700306339241},{"$error":"#NAME?"},{"$error":"#NAME?"}]
[64,2002,10,"20Т",null,70.169574573470413,null,null,null,null,null,{"$f":"[1]!Давление_ГлубинаКОНД(E68,I68,J68,$I$2,$J$2,$L$2,$M$2)","v":{"$error":"#NAME?"}},{"$error":"#NAME?"},{"$error":"#NAME?"},null,{"$f":"VLOOKUP(B68,Рпл!B:D,3,FALSE)","v":64.879520901699991},{"$error":"#NAME?"},{"$error":"#NAME?"}]
[65,2003,10,"20Т",null,81.198254784713086,null,null,null,null,null,{"$f":"[1]!Давление_ГлубинаКОНД(E69,I69,J69,$I$2,$J$2,$L$2,$M$2)","v":{"$error":"#NAME?"}},{"$f":"F69-L69","v":{"$error":"#NAME?"}},{"$f":"G69/M69","v":{"$error":"#NAME?"}},null,{"$f":"VLOOKUP(B69,Рпл!B:D,3,FALSE)","v":64.286448077410313},{"$f":"IF(M69>=25,P69-25,P69-M69)","v":{"$error":"#NAME?"}},{"$f":"N69*(P69-Q69)","v":{"$error":"#NAME?"}}]
[66,2004,10,"20Т",null,62.644408768765182,null,null,null,null,null,{"$f":"[1]!Давление_ГлубинаКОНД(E70,I70,J70,$I$2,$J$2,$L$2,$M$2)","v":{"$error":"#NAME?"}},{"$error":"#NAME?"},{"$error":"#NAME?"},null,{"$f":"VLOOKUP(B70,Рпл!B:D,3,FALSE)","v":57.351008129311893},{"$error":"#NAME?"},{"$error":"#NAME?"}]
[67,2201,10,"22Т",null,75.837714223342758,null,null,null,null,null,{"$f":"[1]!Давление_ГлубинаКОНД(E71,I71,J71,$I$2,$J$2,$L$2,$M$2)","v":{"$error":"#NAME?"}},{"$error":"#NAME?"},{"$error":"#NAME?"},null,{"$f":"VLOOKUP(B71,Рпл!B:D,3,FALSE)","v":68.457424324700824},{"$error":"#NAME?"},{"$error":"#NAME?"}]
[68,2202,10,"22Т",null,80.626062846918558,null,null,null,null,null,{"$f":"[1]!Давление_ГлубинаКОНД(E72,I72,J72,$I$2,$J$2,$L$2,$M$2)","v":{"$error":"#NAME?"}},{"$error":"#NAME?"},{"$error":"#NAME?"},null,{"$f":"VLOOKUP(B72,Рпл!B:D,3,FALSE)","v":73.684581536933067},{"$error":"#NAME?"},{"$error":"#NAME?"}]
[69,2203,10,"22Т",null,75.868881941440989,null,null,null,null,null,{"$f":"[1]!Давление_ГлубинаКОНД(E73,I73,J73,$I$2,$J$2,$L$2,$M$2)","v":{"$error":"#NAME?"}},{"$error":"#NAME?"},{"$error":"#NAME?"},null,{"$f":"VLOOKUP(B73,Рпл!B:D,3,FALSE)","v":67.175151093427033},{"$error":"#NAME?"},{"$error":"#NAME?"}]
[70,2401,10,"24Т",null,81.222135886607248,null,null,null,null,null,{"$f":"[1]!Давление_ГлубинаКОНД(E74,I74,J74,$I$2,$J$2,$L$2,$M$2)","v":{"$error":"#NAME?"}},{"$error":"#NAME?"},{"$error":"#NAME?"},null,{"$f":"VLOOKUP(B74,Рпл!B:D,3,FALSE)","v":70.899910846120306},{"$error":"#NAME?"},{"$error":"#NAME?"}]
[71,2402,10,"24Т",null,85.361607421026832,null,null,null,null,null,{"$f":"[1]!Давление_ГлубинаКОНД(E75,I75,J75,$I$2,$J$2,$L$2,$M$2)","v":{"$error":"#NAME?"}},{"$error":"#NAME?"},{"$error":"#NAME?"},null,{"$f":"VLOOKUP(B75,Рпл!B:D,3,FALSE)","v":76.77586024357646},{"$error":"#NAME?"},{"$error":"#NAME?"}]
[72,2601,11,"26Т",null,80.082827630982464,null,null,null,null,null,{"$f":"[1]!Давление_ГлубинаКОНД(E76,I76,J76,$I$2,$J$2,$L$2,$M$2)","v":{"$error":"#NAME?"}},{"$error":"#NAME?"},{"$error":"#NAME?"},null,{"$f":"VLOOKUP(B76,Рпл!B:D,3,FALSE)","v":65.600852381676262},{"$error":"#NAME?"},{"$error":"#NAME?"}]
[73,2602,11,"26Т",null,87.763211982172791,null,null,null,null,null,{"$f":"[1]!Давление_ГлубинаКОНД(E77,I77,J77,$I$2,$J$2,$L$2,$M$2)","v":{"$error":"#NAME?"}},{"$error":"#NAME?"},{"$error":"#NAME?"},null,{"$f":"VLOOKUP(B77,Рпл!B:D,3,FALSE)","v":73.511012177660277},{"$error":"#NAME?"},{"$error":"#NAME?"}]
[74,2701,11,"27Т",null,88.231098144326396,null,null,null,null,null,{"$f":"[1]!Давление_ГлубинаКОНД(E78,I78,J78,$I$2,$J$2,$L$2,$M$2)","v":{"$error":"#NAME?"}},{"$error":"#NAME?"},{"$error":"#NAME?"},null,{"$f":"VLOOKUP(B78,Рпл!B:D,3,FALSE)","v":79.054833613300872},{"$error":"#NAME?"},{"$error":"#NAME?"}]
[75,2702,11,"27Т",null,93.702353576482622,null,null,null,null,null,{"$f":"[1]!Давление_ГлубинаКОНД(E79,I79,J79,$I$2,$J$2,$L$2,$M$2)","v":{"$error":"#NAME?"}},{"$error":"#NAME?"},{"$error":"#NAME?"},null,{"$f":"VLOOKUP(B79,Рпл!B:D,3,FALSE)","v":75.210994877722342},{"$error":"#NAME?"},{"$error":"#NAME?"}]
[76,2801,11,"28Т",null,80.991237477537751,null,null,null,null,null,{"$f":"[1]!Давление_ГлубинаКОНД(E80,I80,J80,$I$2,$J$2,$L$2,$M$2)","v":{"$error":"#NAME?"}},{"$error":"#NAME?"},{"$error":"#NAME?"},null,{"$f":"VLOOKUP(B80,Рпл!B:D,3,FALSE)","v":72.936394387677026},{"$error":"#NAME?"},{"$error":"#NAME?"}]
[77,2802,11,"28Т",null,78.151491242894409,null,null,null,null,null,{"$f":"[1]!Давление_ГлубинаКОНД(E81,I81,J81,$I$2,$J$2,$L$2,$M$2)","v":{"$error":"#NAME?"}},{"$error":"#NAME?"},{"$error":"#NAME?"},null,{"$f":"VLOOKUP(B81,Рпл!B:D,3,FALSE)","v":69.359622063267409},{"$error":"#NAME?"},{"$error":"#NAME?"}]
[78,3001,12,"30Т",null,71.530688154833541,null,null,null,null,null,{"$f":"[1]!Давление_ГлубинаКОНД(E82,I82,J82,$I$2,$J$2,$L$2,$M$2)","v":{"$error":"#NAME?"}},{"$error":"#NAME?"},{"$error":"#NAME?"},null,{"$f":"VLOOKUP(B82,Рпл!B:D,3,FALSE)","v":65.071468293612554},{"$error":"#NAME?"},{"$error":"#NAME?"}]
[79,3002,12,"30Т",null,85.234639504781384,null,null,null,null,null,{"$f":"[1]!Давление_ГлубинаКОНД(E83,I83,J83,$I$2,$J$2,$L$2,$M$2)","v":{"$error":"#NAME?"}},{"$error":"#NAME?"},{"$error":"#NAME?"},null,{"$f":"VLOOKUP(B83,Рпл!B:D,3,FALSE)","v":70.604802549122681},{"$error":"#NAME?"},{"$error":"#NAME?"}]
[80,3003,12,"30Т",null,89.969890913046981,null,null,null,null,null,{"$f":"[1]!Давление_ГлубинаКОНД(E84,I84,J84,$I$2,$J$2,$L$2,$M$2)","v":{"$error":"#NAME?"}},{"$error":"#NAME?"},{"$error":"#NAME?"},null,{"$f":"VLOOKUP(B84,Рпл!B:D,3,FALSE)","v":67.034621865851761},{"$error":"#NAME?"},{"$error":"#NAME?"}]
[81,3101,12,"31Т",null,77.897025929484371,null,null,null,null,null,{"$f":"[1]!Давление_ГлубинаКОНД(E85,I85,J85,$I$2,$J$2,$L$2,$M$2)","v":{"$error":"#NAME?"}},{"$error":"#NAME?"},{"$error":"#NAME?"},null,{"$f":"VLOOKUP(B85,Рпл!B:D,3,FALSE)","v":62.709794977953223},{"$error":"#NAME?"},{"$error":"#NAME?"}]
[82,3102,12,"31Т",null,75.324969987844682,null,null,null,null,null,{"$f":"[1]!Давление_ГлубинаКОНД(E86,I86,J86,$I$2,$J$2,$L$2,$M$2)","v":{"$error":"#NAME?"}},{"$error":"#NAME?"},{"$error":"#NAME?"},null,{"$f":"VLOOKUP(B86,Рпл!B:D,3,FALSE)","v":68.442408215932318},{"$error":"#NAME?"},{"$error":"#NAME?"}]
[83,3301,12,"33Т",null,102.7096620785335,null,null,null,null,null,{"$f":"[1]!Давление_ГлубинаКОНД(E87,I87,J87,$I$2,$J$2,$L$2,$M$2)","v":{"$error":"#NAME?"}},{"$error":"#NAME?"},{"$error":"#NAME?"},null,{"$f":"VLOOKUP(B87,Рпл!B:D,3,FALSE)","v":78.143453727896642},{"$error":"#NAME?"},{"$error":"#NAME?"}]
[84,3302,12,"33Т",null,73.037724737229837,null,null,null,null,null,{"$f":"[1]!Давление_ГлубинаКОНД(E88,I88,J88,$I$2,$J$2,$L$2,$M$2)","v":{"$error":"#NAME?"}},{"$error":"#NAME?"},{"$error":"#NAME?"},null,{"$f":"VLOOKUP(B88,Рпл!B:D,3,FALSE)","v":76.904420573620996},{"$error":"#NAME?"},{"$error":"#NAME?"}]
[85,3303,12,"33Т",null,77.88022214160614,null,null,null,null,null,{"$f":"[1]!Давление_ГлубинаКОНД(E89,I89,J89,$I$2,$J$2,$L$2,$M$2)","v":{"$error":"#NAME?"}},{"$error":"#NAME?"},{"$error":"#NAME?"},null,{"$f":"VLOOKUP(B89,Рпл!B:D,3,FALSE)","v":70.573496452337238},{"$error":"#NAME?"},{"$error":"#NAME?"}]
[86,3401,12,"34Т",null,106.93276433354259,null,null,null,null,null,{"$f":"[1]!Давление_ГлубинаКОНД(E90,I90,J90,$I$2,$J$2,$L$2,$M$2)","v":{"$error":"#NAME?"}},{"$error":"#NAME?"},{"$error":"#NAME?"},null,{"$f":"VLOOKUP(B90,Рпл!B:D,3,FALSE)","v":75.1944914524003},{"$error":"#NAME?"},{"$error":"#NAME?"}]
[87,3402,12,"34Т",null,76.261053232960194,null,null,null,null,null,{"$f":"[1]!Давление_ГлубинаКОНД(E91,I91,J91,$I$2,$J$2,$L$2,$M$2)","v":{"$error":"#NAME?"}},{"$error":"#NAME?"},{"$error":"#NAME?"},null,{"$f":"VLOOKUP(B91,Рпл!B:D,3,FALSE)","v":65.594245732280186},{"$error":"#NAME?"},{"$error":"#NAME?"}]
[88,3403,12,"34Т",null,82.258202156529862,null,null,null,null,null,{"$f":"[1]!Давление_ГлубинаКОНД(E92,I92,J92,$I$2,$J$2,$L$2,$M$2)","v":{"$error":"#NAME?"}},{"$error":"#NAME?"},{"$error":"#NAME?"},null,{"$f":"VLOOKUP(B92,Рпл!B:D,3,FALSE)","v":76.77876245117632},{"$error":"#NAME?"},{"$error":"#NAME?"}]
[89,3601,12,"36Т",null,81.447163136955439,null,null,null,null,null,{"$f":"[1]!Давление_ГлубинаКОНД(E93,I93,J93,$I$2,$J$2,$L$2,$M$2)","v":{"$error":"#NAME?"}},{"$error":"#NAME?"},{"$error":"#NAME?"},null,{"$f":"VLOOKUP(B93,Рпл!B:D,3,FALSE)","v":79.93234216073165},{"$error":"#NAME?"},{"$error":"#NAME?"}]
[90,3602,12,"36Т",null,81.44418542123816,null,null,null,null,null,{"$f":"[1]!Давление_ГлубинаКОНД(E94,I94,J94,$I$2,$J$2,$L$2,$M$2)","v":{"$error":"#NAME?"}},{"$error":"#NAME?"},{"$error":"#NAME?"},null,{"$f":"VLOOKUP(B94,Рпл!B:D,3,FALSE)","v":69.82508912282681},{"$error":"#NAME?"},{"$error":"#NAME?"}]
[91,3603,12,"36Т",null,81.615339943704612,null,null,null,null,null,{"$f":"[1]!Давление_ГлубинаКОНД(E95,I95,J95,$I$2,$J$2,$L$2,$M$2)","v":{"$error":"#NAME?"}},{"$error":"#NAME?"},{"$error":"#NAME?"},null,{"$f":"VLOOKUP(B95,Рпл!B:D,3,FALSE)","v":65.410664278160183},{"$error":"#NAME?"},{"$error":"#NAME?"}]
[92,3701,12,"37Т",null,78.303716723819136,null,null,null,null,null,{"$f":"[1]!Давление_ГлубинаКОНД(E96,I96,J96,$I$2,$J$2,$L$2,$M$2)","v":{"$error":"#NAME?"}},{"$error":"#NAME?"},{"$error":"#NAME?"},null,{"$f":"VLOOKUP(B96,Рпл!B:D,3,FALSE)","v":71.703486019538801},{"$error":"#NAME?"},{"$error":"#NAME?"}]
[93,3702,12,"37Т",null,79.471506612050561,null,null,null,null,null,{"$f":"[1]!Давление_ГлубинаКОНД(E97,I97,J97,$I$2,$J$2,$L$2,$M$2)","v":{"$error":"#NAME?"}},{"$error":"#NAME?"},{"$error":"#NAME?"},null,{"$f":"VLOOKUP(B97,Рпл!B:D,3,FALSE)","v":73.953056499076482},{"$error":"#NAME?"},{"$error":"#NAME?"}]
[94,3703,12,"37Т",null,82.123431302105473,null,null,null,null,null,{"$f":"[1]!Давление_ГлубинаКОНД(E98,I98,J98,$I$2,$J$2,$L$2,$M$2)","v":{"$error":"#NAME?"}},{"$error":"#NAME?"},{"$error":"#NAME?"},null,{"$f":"VLOOKUP(B98,Рпл!B:D,3,FALSE)","v":72.005570139178175},{"$error":"#NAME?"},{"$error":"#NAME?"}]
[95,3801,12,"38Т",null,84.735440320445321,null,null,null,null,null,{"$f":"[1]!Давление_ГлубинаКОНД(E99,I99,J99,$I$2,$J$2,$L$2,$M$2)","v":{"$error":"#NAME?"}},{"$error":"#NAME?"},{"$error":"#NAME?"},null,{"$f":"VLOOKUP(B99,Рпл!B:D,3,FALSE)","v":80.417018391901095},{"$error":"#NAME?"},{"$error":"#NAME?"}]
[96,3802,12,"38Т",null,87.184289682578694,null,null,null,null,null,{"$f":"[1]!Давление_ГлубинаКОНД(E100,I100,J100,$I$2,$J$2,$L$2,$M$2)","v":{"$error":"#NAME?"}},{"$error":"#NAME?"},{"$error":"#NAME?"},null,{"$f":"VLOOKUP(B100,Рпл!B:D,3,FALSE)","v":80.700345208417573},{"$error":"#NAME?"},{"$error":"#NAME?"}]
[97,3901,8,"39Т",null,68.798703342528398,null,null,null,null,null,{"$f":"[1]!Давление_ГлубинаКОНД(E101,I101,J101,$I$2,$J$2,$L$2,$M$2)","v":{"$error":"#NAME?"}},{"$f":"F101-L101","v":{"$error":"#NAME?"}},{"$f":"G101/M101","v":{"$error":"#NAME?"}},null,{"$f":"VLOOKUP(B101,Рпл!B:D,3,FALSE)","v":58.069916147479248},{"$f":"IF(M101>=25,P101-25,P101-M101)","v":{"$error":"#NAME?"}},{"$f":"N101*(P101-Q101)","v":{"$error":"#NAME?"}}]
[98,3902,8,"39Т",null,71.611843055371551,null,null,null,null,null,{"$f":"[1]!Давление_ГлубинаКОНД(E102,I102,J102,$I$2,$J$2,$L$2,$M$2)","v":{"$error":"#NAME?"}},{"$error":"#NAME?"},{"$error":"#NAME?"},null,{"$f":"VLOOKUP(B102,Рпл!B:D,3,FALSE)","v":62.427038166312023},{"$error":"#NAME?"},{"$error":"#NAME?"}]
[99,3903,8,"39Т",null,71.78835973494941,null,null,null,null,null,{"$f":"[1]!Давление_ГлубинаКОНД(E103,I103,J103,$I$2,$J$2,$L$2,$M$2)","v":{"$error":"#NAME?"}},{"$error":"#NAME?"},{"$error":"#NAME?"},null,{"$f":"VLOOKUP(B103,Рпл!B:D,3,FALSE)","v":60.381749047456182},{"$error":"#NAME?"},{"$error":"#NAME?"}]
[100,3904,8,"39Т",null,74.913116082051502,null,null,null,null,null,{"$f":"[1]!Давление_ГлубинаКОНД(E104,I104,J104,$I$2,$J$2,$L$2,$M$2)","v":{"$error":"#NAME?"}},{"$error":"#NAME?"},{"$error":"#NAME?"},null,{"$f":"VLOOKUP(B104,Рпл!B:D,3,FALSE)","v":66.471648574016882},{"$error":"#NAME?"},{"$error":"#NAME?"}]
[101,4001,8,"40Т",null,67.304507905216028,null,null,null,null,null,{"$f":"[1]!Давление_ГлубинаКОНД(E105,I105,J105,$I$2,$J$2,$L$2,$M$2)","v":{"$error":"#NAME?"}},{"$error":"#NAME?"},{"$error":"#NAME?"},null,{"$f":"VLOOKUP(B105,Рпл!B:D,3,FALSE)","v":58.598470174010913},{"$error":"#NAME?"},{"$error":"#NAME?"}]
[102,4002,8,"40Т",null,81.620328999549315,null,null,null,null,null,{"$f":"[1]!Давление_ГлубинаКОНД(E106,I106,J106,$I$2,$J$2,$L$2,$M$2)","v":{"$error":"#NAME?"}},{"$error":"#NAME?"},{"$error":"#NAME?"},null,{"$f":"VLOOKUP(B106,Рпл!B:D,3,FALSE)","v":66.049428886603195},{"$error":"#NAME?"},{"$error":"#NAME?"}]
[103,4003,8,"40Т",null,73.765429649597863,null,null,null,null,null,{"$f":"[1]!Давление_ГлубинаКОНД(E107,I107,J107,$I$2,$J$2,$L$2,$M$2)","v":{"$error":"#NAME?"}},{"$error":"#NAME?"},{"$error":"#NAME?"},null,{"$f":"VLOOKUP(B107,Рпл!B:D,3,FALSE)","v":66.718477453359327},{"$error":"#NAME?"},{"$error":"#NAME?"}]
[104,4004,8,"40Т",null,66.427476297913486,null,null,null,null,null,{"$f":"[1]!Давление_ГлубинаКОНД(E108,I108,J108,$I$2,$J$2,$L$2,$M$2)","v":{"$error":"#NAME?"}},{"$error":"#NAME?"},{"$error":"#NAME?"},null,{"$f":"VLOOKUP(B108,Рпл!B:D,3,FALSE)","v":58.891901751357658},{"$error":"#NAME?"},{"$error":"#NAME?"}]
[105,4101,8,"41Т",null,65.968141550082237,null,null,null,null,null,{"$f":"[1]!Давление_ГлубинаКОНД(E109,I109,J109,$I$2,$J$2,$L$2,$M$2)","v":{"$error":"#NAME?"}},{"$error":"#NAME?"},{"$error":"#NAME?"},null,{"$f":"VLOOKUP(B109,Рпл!B:D,3,FALSE)","v":60.372578313638449},{"$error":"#NAME?"},{"$error":"#NAME?"}]
[106,4102,8,"41Т",null,66.144982103541182,null,null,null,null,null,{"$f":"[1]!Давление_ГлубинаКОНД(E110,I110,J110,$I$2,$J$2,$L$2,$M$2)","v":{"$error":"#NAME?"}},{"$error":"#NAME?"},{"$error":"#NAME?"},null,{"$f":"VLOOKUP(B110,Рпл!B:D,3,FALSE)","v":58.203895574474203},{"$error":"#NAME?"},{"$error":"#NAME?"}]
[107,4103,8,"41Т",null,60.467164163034397,null,null,null,null,null,{"$f":"[1]!Давление_ГлубинаКОНД(E111,I111,J111,$I$2,$J$2,$L$2,$M$2)","v":{"$error":"#NAME?"}},{"$error":"#NAME?"},{"$error":"#NAME?"},null,{"$f":"VLOOKUP(B111,Рпл!B:D,3,FALSE)","v":59.949638616746682},{"$error":"#NAME?"},{"$error":"#NAME?"}]
[]
[null,null,null,null,null,null,{"$f":"SUM(G5:G111)","v":765},null,null,null,null,null,null,null,null,null,null,{"$f":"SUM(R5:R111)","v":{"$error":"#NAME?"}}]

{"sheet":"Сеноман","index":4,"n_rows":146,"n_cols":18,"rows_kept":146,"cut":false,"hidden":false,"merged":[[2,4,2,10]]}
[null,null,null,"Депр.сен.",7.8453200000000001,null,"Тгл","Плотность по воздуху","Ркр","Tкр"]
[null,null,null,null,null,null,18.8,0.56469999999999998,46.8,190.24]
[null,null,null,null,"Факт. режим",null,null,null,null,null,null,null,null,null,null,{"$f":"Рпл!C2","v":"2024-03-02"}]
["№ п/п","№ скв","Шлейф","Куст","Ннкт","Рнкт","Q","Рбуф","Рзатр","Туст","Vнкт","Рзаб","Депр","Кпрод",null,"Рнкт","Рзаб","Q"]
[1,11,8,1,875.12,51.552737102188203,640,36.229999999999997,44.68,6.5,18.2452182769775,50.434076307775307,{"$f":"F5-L5","v":1.1186607944128966},{"$f":"G5/M5","v":572.11265756022965},null,{"$f":"VLOOKUP(B5,Рпл!B:D,3,FALSE)","v":32.538530741284532},{"$f":"IF(M5>=$E$1,P5-$E$1,P5-M5)","v":31.419869946871636},{"$f":"N5*(P5-Q5)","v":640}]
[2,12,8,1,865.88400000000001,51.372067305170297,746,35.82,46.44,6.7,20.387275695800799,52.349062541892067,-0.9769952367217698,-763.56564695560235,null,{"$f":"VLOOKUP(B6,Рпл!B:D,3,FALSE)","v":32.635552746339052},33.612547983060821,746]
[3,13,8,1,872.66600000000005,51.691396252073702,748,35.950000000000003,46.84,6.5,20.2346076965332,52.853675206567289,-1.162278954493587,-643.56323162188619,null,{"$f":"VLOOKUP(B7,Рпл!B:D,3,FALSE)","v":32.698847806465317},33.861126760958904,748]
[4,21,9,2,879.10599999999999,50.489874470838501,468,38.17,42.92,6.1,13.935162544250501,48.454323940673611,2.0355505301648904,229.91323136649893,null,{"$f":"VLOOKUP(B8,Рпл!B:D,3,FALSE)","v":31.637666742960121},29.602116212795231,468]
[5,22,9,2,870.68899999999996,50.243068903179399,596,33.880000000000003,44.8,6.4,16.939277648925799,50.540533853423753,-0.29746495024435404,-2003.5973969720226,null,{"$f":"VLOOKUP(B9,Рпл!B:D,3,FALSE)","v":32.139619069552431},32.437084019796785,596]
[6,23,9,2,870.85799999999995,50.221258532053199,613,34.15,43.55,6.6,17.9783020019531,49.099581214939192,1.1216773171140062,546.50298320840102,null,{"$f":"VLOOKUP(B10,Рпл!B:D,3,FALSE)","v":32.306536102230808},31.184858785116802,613]
[7,31,8,3,868.89200000000005,49.411486992206299,266,42.2,43.17,3.8,7.8670701980590803,48.724244751246403,0.68724224095989683,387.0542061391161,null,{"$f":"VLOOKUP(B11,Рпл!B:D,3,FALSE)","v":32.245796189907153},31.558553948947257,266]
[8,32,8,3,874.48400000000004,49.456682038216201,562,34.6,42.19,7,17.046331405639599,{"$f":"[1]!Давление_ГлубинаКОНД(E12,I12,J12,$G$2,$H$2,$I$2,$J$2)","v":{"$error":"#NAME?"}},{"$error":"#NAME?"},{"$error":"#NAME?"},null,{"$f":"VLOOKUP(B12,Рпл!B:D,3,FALSE)","v":33.237766225538962},{"$error":"#NAME?"},{"$error":"#NAME?"}]
[9,33,8,3,873.08500000000004,49.489946331452202,667,34.44,43.12,6.7,19.7566242218018,48.627864829600007,0.86208150185219523,773.70874861244602,null,{"$f":"VLOOKUP(B13,Рпл!B:D,3,FALSE)","v":33.115036767227238},32.252955265375043,667]
[10,41,9,4,877.91899999999998,50.144004695437701,714,34.94,43.17,6.5,21.117193222045898,48.720593502776197,1.4234111926615043,501.61190503564734,null,{"$f":"VLOOKUP(B14,Рпл!B:D,3,FALSE)","v":32.639287043228933},31.215875850567429,714]
[11,42,9,4,875.39,50.280184127061901,656,34.86,43.89,6.3,19.055131912231399,49.519706727937397,0.76047739912450396,862.6160366569959,null,{"$f":"VLOOKUP(B15,Рпл!B:D,3,FALSE)","v":32.482060560873727},31.721583161749223,656]
[12,43,9,4,875.66099999999994,50.257638807183099,600,34.51,44.76,6.5,17.052801132202099,50.528139434375667,-0.27050062719256829,-2218.1094595868071,null,{"$f":"VLOOKUP(B16,Рпл!B:D,3,FALSE)","v":33.093529168861522},33.364029796054091,600]
[13,51,7,5,868.923,48.490519360894197,549,35.130000000000003,41.99,4.7,16.7591247558594,47.375574285036492,1.1149450758577046,492.40093694989002,null,{"$f":"VLOOKUP(B17,Рпл!B:D,3,FALSE)","v":31.601323247142091},30.486378171284386,549]
[14,52,7,5,879.10599999999999,48.526529544436499,662,33.049999999999997,42.51,5.0999999999999996,19.9247531890869,48.011185734608432,0.51534380982806738,1284.5793184570532,null,{"$f":"VLOOKUP(B18,Рпл!B:D,3,FALSE)","v":31.94438093749298},31.429037127664913,662]
[15,53,7,5,820.96799999999996,48.349705137287899,693,35.880000000000003,43.28,5.5,20.551807403564499,48.481432618277751,-0.1317274809898521,-5260.861247725421,null,{"$f":"VLOOKUP(B19,Рпл!B:D,3,FALSE)","v":31.662790209868351},31.794517690858203,693]
[16,54,7,5,850.43799999999999,48.119276058997798,671,33.75,41.79,5.2,20.6233310699463,47.009448045036102,1.1098280139616961,604.59818238392245,null,{"$f":"VLOOKUP(B20,Рпл!B:D,3,FALSE)","v":31.179841814165211},30.070013800203515,671]
[17,61,7,6,862.846,48.206684468223301,657,34.78,43.66,4.9000000000000004,19.222133636474599,49.213735549118027,-1.0070510808947262,-652.39987570072492,null,{"$f":"VLOOKUP(B21,Рпл!B:D,3,FALSE)","v":30.404897125016131},31.411948205910857,657]
[18,62,7,6,861.03099999999995,48.145921329519403,659,32.03,42.22,5.6,20.005418777465799,47.555067859119717,0.59085347039968639,1115.3357524568917,null,{"$f":"VLOOKUP(B22,Рпл!B:D,3,FALSE)","v":31.052017254491489},30.461163784091802,659]
[19,63,7,6,864.072,48.071292935482298,679,32.33,42.2,5.5,20.617927551269499,47.554434270546068,0.51685866493622967,1313.7053629231027,null,{"$f":"VLOOKUP(B23,Рпл!B:D,3,FALSE)","v":31.131543607565419},30.614684942629189,679]
[20,64,7,6,854.39499999999998,47.897617033213102,617,32.380000000000003,41.25,5.5,19.2208576202393,46.422040601227813,1.4755764319852887,418.14167441659941,null,{"$f":"VLOOKUP(B24,Рпл!B:D,3,FALSE)","v":30.519436252837231},29.043859820851942,617]
[21,71,6,7,873.19100000000003,47.862238272811702,538,37.11,42.72,8,16.129579544067401,{"$f":"[1]!Давление_ГлубинаКОНД(E25,I25,J25,$G$2,$H$2,$I$2,$J$2)","v":{"$error":"#NAME?"}},{"$error":"#NAME?"},{"$error":"#NAME?"},null,{"$f":"VLOOKUP(B25,Рпл!B:D,3,FALSE)","v":30.287240485048962},{"$error":"#NAME?"},{"$error":"#NAME?"}]
[22,72,6,7,860.55,47.828207163697599,623,36.9,43.55,7.8,18.307533264160199,49.006666176464002,-1.1784590127664032,-528.65648550433923,null,{"$f":"VLOOKUP(B26,Рпл!B:D,3,FALSE)","v":29.759050897472839},30.937509910239243,623]
[23,73,6,7,825.05899999999997,47.883984348314002,582,37.11,43.19,8.4,17.310337066650401,48.35470631033165,-0.47072196201764882,-1236.3986534755713,null,{"$f":"VLOOKUP(B27,Рпл!B:D,3,FALSE)","v":30.191244662470609},30.661966624488258,582]
[24,74,6,7,820.71,47.844178180197098,606,36.89,43.18,8,18.033706665039102,{"$f":"[1]!Давление_ГлубинаКОНД(E28,I28,J28,$G$2,$H$2,$I$2,$J$2)","v":{"$error":"#NAME?"}},{"$error":"#NAME?"},{"$error":"#NAME?"},null,{"$f":"VLOOKUP(B28,Рпл!B:D,3,FALSE)","v":30.111017760197331},{"$error":"#NAME?"},{"$error":"#NAME?"}]
[25,81,5,8,864.12099999999998,47.8044334790318,667,33.380000000000003,42.77,6.4,19.97194480896,48.179541232404873,-0.37510775337307223,-1778.1557272601067,null,{"$f":"VLOOKUP(B29,Рпл!B:D,3,FALSE)","v":29.816803068080219},30.191910821453291,667]
[26,82,5,8,842.34500000000003,47.695075996475197,650,33.5,41.87,6.1,19.953001022338899,47.030138048654862,0.66493794782033433,977.53482431059786,null,{"$f":"VLOOKUP(B30,Рпл!B:D,3,FALSE)","v":29.473149307562181},28.808211359741847,650]
[27,83,5,8,848.92600000000004,47.6544723751474,671,33.96,43.24,6,19.875568389892599,{"$f":"[1]!Давление_ГлубинаКОНД(E31,I31,J31,$G$2,$H$2,$I$2,$J$2)","v":{"$error":"#NAME?"}},{"$error":"#NAME?"},{"$error":"#NAME?"},null,{"$f":"VLOOKUP(B31,Рпл!B:D,3,FALSE)","v":29.901307342886589},{"$error":"#NAME?"},{"$error":"#NAME?"}]
[28,84,5,8,804.41300000000001,47.522552791808003,666,35.72,43.21,6.4,19.816427230835,48.276202426525003,-0.75364963471700008,-883.69975824387814,null,{"$f":"VLOOKUP(B32,Рпл!B:D,3,FALSE)","v":28.876888218707752},29.630537853424752,666]
[29,91,5,9,817.54,47.740132447308397,398,41.28,43.93,4.4000000000000004,11.6155662536621,49.217109742557703,-1.4769772952493057,-269.46927436201366,null,{"$f":"VLOOKUP(B33,Рпл!B:D,3,FALSE)","v":29.143928949990041},30.620906245239347,398]
[30,92,5,9,860.54200000000003,47.885829976731799,376,41.16,44.17,4.0999999999999996,10.867495536804199,49.817337867127513,-1.9315078903957144,-194.66656174154571,null,{"$f":"VLOOKUP(B34,Рпл!B:D,3,FALSE)","v":29.168455202796348},31.099963093192063,376]
[31,93,5,9,865.32399999999996,47.908548471970903,390,40.799999999999997,44.02,4.9000000000000004,11.312219619751,49.665202494271867,-1.7566540223009639,-222.01298323340652,null,{"$f":"VLOOKUP(B35,Рпл!B:D,3,FALSE)","v":29.158108968932581},30.914762991233545,390]
[32,94,5,9,816.25,47.699565816490498,374,40.82,43.47,4.3,11.042172431945801,48.695007293268937,-0.99544147677843853,-375.71269504499804,null,{"$f":"VLOOKUP(B36,Рпл!B:D,3,FALSE)","v":28.711661815723669},29.707103292502108,374]
[33,101,6,10,876.24,47.357767325676299,458,34.950000000000003,39.68,6.5,14.860841751098601,44.772544160141123,2.5852231655351758,177.16072101852293,null,{"$f":"VLOOKUP(B37,Рпл!B:D,3,FALSE)","v":28.713674199551349},26.128451034016173,458]
[34,102,6,10,870.78599999999994,47.366361977725497,606,33.08,41.84,7.4,18.5742092132568,47.156583680187417,0.20977829753807953,2888.7640290340196,null,{"$f":"VLOOKUP(B38,Рпл!B:D,3,FALSE)","v":29.12887117394347},28.91909287640539,606]
[35,103,6,10,847.90700000000004,47.3064573004485,705,34.72,42.69,6.4,21.175457000732401,47.982114243954562,-0.67565694350606265,-1043.428927617724,null,{"$f":"VLOOKUP(B39,Рпл!B:D,3,FALSE)","v":29.5915995077867},30.267256451292763,705]
[36,104,6,10,823.50599999999997,47.092981435151799,647,34.409999999999997,42.68,7,19.479230880737301,{"$f":"[1]!Давление_ГлубинаКОНД(E40,I40,J40,$G$2,$H$2,$I$2,$J$2)","v":{"$error":"#NAME?"}},{"$error":"#NAME?"},{"$error":"#NAME?"},null,{"$f":"VLOOKUP(B40,Рпл!B:D,3,FALSE)","v":29.751776245051101},{"$error":"#NAME?"},{"$error":"#NAME?"}]
[37,111,4,11,883.02,47.729396944094098,564,32.44,42.01,6.4,17.220762252807599,47.447056462917971]
[38,112,4,11,857.47,47.6887905133052,642,33.08,42.44,6.2,19.4147758483887,47.767889110702313,{"$f":"F42-L42","v":-7.9098597397113224E-2},{"$f":"G42/M42","v":-8116.4523913976554},null,{"$f":"VLOOKUP(B42,Рпл!B:D,3,FALSE)","v":29.031833525819749},{"$f":"IF(M42>=$E$1,P42-$E$1,P42-M42)","v":29.110932123216863},{"$f":"N42*(P42-Q42)","v":642}]
[39,113,4,11,873.19600000000003,47.777500085058499,662,34.25,42.46,6.9,19.985397338867202,47.880633452041593,-0.10313336698309428,-6418.8731480910119,null,{"$f":"VLOOKUP(B43,Рпл!B:D,3,FALSE)","v":29.114718688138439},29.217852055121533,662]
[40,114,4,11,805.10500000000002,47.499525531839701,698,33.85,42.89,5.9,20.954410552978501,47.932271420304062,-0.43274588846436046,-1612.9558214334947,null,{"$f":"VLOOKUP(B44,Рпл!B:D,3,FALSE)","v":29.10858360721631},29.541329495680671,698]
[41,121,6,12,873.75400000000002,47.250095206444698,674,33.450000000000003,41.33,6.7,20.935306549072301,46.614044316384721,0.63605089005997684,1059.6636378206226,null,{"$f":"VLOOKUP(B45,Рпл!B:D,3,FALSE)","v":28.918933621608439},28.282882731548462,674]
[42,122,6,12,872.52300000000002,47.297799910696902,587,32.619999999999997,40.51,6.7,18.636003494262699,45.681717056044619,1.6160828546522836,363.22395124122454,null,{"$f":"VLOOKUP(B46,Рпл!B:D,3,FALSE)","v":29.222594147969151},27.606511293316867,587]
[43,123,6,12,875.57899999999995,47.399965339461197,578,32.78,39.67,6.6,18.767162322998001,44.755378107566962,2.6445872318942349,218.5596273888068,null,{"$f":"VLOOKUP(B47,Рпл!B:D,3,FALSE)","v":29.059063622724828},26.414476390830593,578]
[44,131,1,13,916.68,47.896572708756999,375,39.26,43.13,4.5,11.083167076110801,48.989404342911463,-1.0928316341544644,-343.14526435734223,null,{"$f":"VLOOKUP(B48,Рпл!B:D,3,FALSE)","v":28.389596951604972},29.482428585759436,375]
[45,132,1,13,812.14599999999996,47.470331385364297,416,39.869999999999997,42.73,4.2,12.5216360092163,47.840783294340078,-0.37045190897578095,-1122.9527771908361,null,{"$f":"VLOOKUP(B49,Рпл!B:D,3,FALSE)","v":27.54554037889892},27.915992287874701,416.00000000000006]
[46,133,1,13,874.83,47.767546541396896,346,39.93,42.91,4.4000000000000004,10.316062927246101,48.458978901760702,-0.69143236036380529,-500.4104809586118,null,{"$f":"VLOOKUP(B50,Рпл!B:D,3,FALSE)","v":28.579565286605892},29.270997646969697,346]
[47,134,1,13,null,47.643463029816601,119,29.29,30.91,3.7,5.0725827217102104,{"$f":"[1]!Давление_ГлубинаКОНД(E51,I51,J51,$G$2,$H$2,$I$2,$J$2)","v":{"$error":"#NAME?"}},{"$error":"#NAME?"},{"$error":"#NAME?"},null,{"$f":"VLOOKUP(B51,Рпл!B:D,3,FALSE)","v":27.337246089040551},{"$error":"#NAME?"},{"$error":"#NAME?"}]
[48,141,3,14,814.90099999999995,46.081140833467103,555,31.34,39.18,7.2,18.362287521362301,43.79641324789111,2.2847275855759932,242.91736288555435,null,{"$f":"VLOOKUP(B52,Рпл!B:D,3,FALSE)","v":27.681726127876189},25.396998542300196,555]
[49,142,3,14,870.19,46.191639758245103,592,31.43,39.619999999999997,7.3,19.267175674438501,44.653290928599922,1.5383488296451802,384.82819279457226,null,{"$f":"VLOOKUP(B53,Рпл!B:D,3,FALSE)","v":27.901099939115412},26.362751109470231,592]
[50,143,3,14,810.77499999999998,46.256396885005302,608,31.59,40.049999999999997,7.4,19.649400711059599,44.769090448437431,1.4873064365678701,408.79269063275865,null,{"$f":"VLOOKUP(B54,Рпл!B:D,3,FALSE)","v":27.362584201803831},25.87527776523596,608]
[51,144,3,14,810.66300000000001,46.271009150814301,574,31.81,39.72,6.7,18.719966888427699,44.382404554562839,1.8886045962514615,303.92809651066517,null,{"$f":"VLOOKUP(B55,Рпл!B:D,3,FALSE)","v":28.0430229982722},26.154418402020738,574]
[52,151,3,15,812.04,46.441445389838997,660,32.85,40.950000000000003,6.7,20.824531555175799,45.794805170907203,0.64664021893179324,1020.6603002366235,null,{"$f":"VLOOKUP(B56,Рпл!B:D,3,FALSE)","v":28.281350252610569},27.634710033678775,660]
[53,152,3,15,852.08399999999995,46.197535862334803,567,32.33,39.090000000000003,7,18.755809783935501,{"$f":"[1]!Давление_ГлубинаКОНД(E57,I57,J57,$G$2,$H$2,$I$2,$J$2)","v":{"$error":"#NAME?"}},{"$error":"#NAME?"},{"$error":"#NAME?"},null,{"$f":"VLOOKUP(B57,Рпл!B:D,3,FALSE)","v":28.007938849551149},{"$error":"#NAME?"},{"$error":"#NAME?"}]
[54,153,3,15,842.58399999999995,46.1845685148892,571,32.270000000000003,39.299999999999997,6.7,18.792434692382798,44.105541533688807,2.0790269812003928,274.64771028142928,null,{"$f":"VLOOKUP(B58,Рпл!B:D,3,FALSE)","v":27.85380258433349},25.774775603133097,571]
[55,154,3,15,870.17399999999998,46.838548191715098,584,32.47,39.71,7,18.964809417724599,{"$f":"[1]!Давление_ГлубинаКОНД(E59,I59,J59,$G$2,$H$2,$I$2,$J$2)","v":{"$error":"#NAME?"}},{"$error":"#NAME?"},{"$error":"#NAME?"},null,{"$f":"VLOOKUP(B59,Рпл!B:D,3,FALSE)","v":28.17004028107382},{"$error":"#NAME?"},{"$error":"#NAME?"}]
[56,161,2,16,872.38099999999997,46.243239023988998,483,32.369999999999997,39.020000000000003,6.5,15.970197677612299,43.973905545096088,2.2693334788929107,212.83782418599424,null,{"$f":"VLOOKUP(B60,Рпл!B:D,3,FALSE)","v":27.212411892865379},24.943078413972469,483]
[57,162,2,16,873.48699999999997,46.170094041970103,564,31.5,39.25,7.4,18.531723022460898,44.223813217513772,1.9462808244563305,289.783464396792,null,{"$f":"VLOOKUP(B61,Рпл!B:D,3,FALSE)","v":27.07686679845936},25.130585974003029,564]
[58,163,2,16,873.48500000000001,46.466912323221898,145,38.549999999999997,39.03,3.3,4.7900056838989302,44.057404211308032,2.4095081119138655,60.178257663065892,null,{"$f":"VLOOKUP(B62,Рпл!B:D,3,FALSE)","v":27.341025086555899},24.931516974642033,145]
[59,164,2,16,872.60500000000002,46.439688311662401,579,32,40.090000000000003,6.9,18.594448089599599,45.20510338916953,1.2345849224928713,468.98353402120318,null,{"$f":"VLOOKUP(B63,Рпл!B:D,3,FALSE)","v":27.51103016091794},26.276445238425069,579]
[60,171,3,17,867.65899999999999,46.256020511993,536,32.28,39.28,7.6,17.600313186645501,44.218891953061267,2.0371285589317338,263.11545123154986,null,{"$f":"VLOOKUP(B64,Рпл!B:D,3,FALSE)","v":27.527350607654661},25.490222048722927,536]
[61,172,3,17,866.42700000000002,46.250479119009,571,32.200000000000003,39,7.3,18.8958129882813,43.901600496375139,2.3488786226338618,243.09472379620965,null,{"$f":"VLOOKUP(B65,Рпл!B:D,3,FALSE)","v":28.57127041625883},26.222391793624968,571]
[62,173,3,17,853.62400000000002,46.229136100316197,570,32.479999999999997,40.340000000000003,7.2,18.2034816741943,45.362933566342839,0.86620253397335745,658.04471546089007,null,{"$f":"VLOOKUP(B66,Рпл!B:D,3,FALSE)","v":28.71417420600201},27.847971672028653,570]
[63,181,2,18,870.58399999999995,46.198531526348702,573,33.07,40.78,7.6,18.062330245971701,45.957264664799943,0.24126686154875898,2374.9635417054537,null,{"$f":"VLOOKUP(B67,Рпл!B:D,3,FALSE)","v":27.499390540143029},27.25812367859427,573]
[64,182,2,18,866.65700000000004,46.2434061680705,532,33.06,40.4,7.7,16.946235656738299,45.50279531166337,0.74061085640713031,718.32595403860478,null,{"$f":"VLOOKUP(B68,Рпл!B:D,3,FALSE)","v":27.888732963036031},27.1481221066289,532]
[65,183,2,18,824.78099999999995,46.229915073425801,596,33.090000000000003,40.83,7.5,18.829673767089801,45.726930649959179,0.50298442346662142,1184.9273500207132,null,{"$f":"VLOOKUP(B69,Рпл!B:D,3,FALSE)","v":27.979323167167099},27.476338743700477,596]
[66,191,10,19,864.82100000000003,46.118636379815896,574,31.87,39.74,7.3,18.624963760376001,44.755465470771938,1.3631709090439585,421.07706098464729,null,{"$f":"VLOOKUP(B70,Рпл!B:D,3,FALSE)","v":28.15324718169035},26.790076272646392,574]
[67,192,10,19,861.55600000000004,46.046072183045503,641,32.03,41.21,7.1,20.0001125335693,46.393382632209082,-0.34731044916357945,-1845.6110420625323,null,{"$f":"VLOOKUP(B71,Рпл!B:D,3,FALSE)","v":28.335686875202601},28.68299732436618,641]
[68,193,10,19,814.06,45.737865878775899,576,31.86,41.08,7.4,18.104068756103501,45.940878270376238,-0.20301239160033901,-2837.2652302621223,null,{"$f":"VLOOKUP(B72,Рпл!B:D,3,FALSE)","v":28.0389991683499},28.242011559950239,576]
[69,194,10,19,871.37400000000002,46.265457379763603,592,31.91,40.49,7.5,18.8153285980225,45.637309965727702,0.62814741403590091,942.45393162784728,null,{"$f":"VLOOKUP(B73,Рпл!B:D,3,FALSE)","v":28.27337072836669},27.645223314330789,592]
[70,201,10,20,848.95600000000002,46.2204912124703,605,30.86,38.950000000000003,6.2,20.0719814300537,43.759532749798829,{"$f":"F74-L74","v":2.4609584626714707},{"$f":"G74/M74","v":245.83917574262827},null,{"$f":"VLOOKUP(B74,Рпл!B:D,3,FALSE)","v":27.396646023931769},{"$f":"IF(M74>=$E$1,P74-$E$1,P74-M74)","v":24.935687561260298},{"$f":"N74*(P74-Q74)","v":605}]
[71,202,10,20,825.19399999999996,46.250558802635197,639,31.36,40.270000000000003,6.9,20.489702224731399,45.112756504182343,1.1378022984528542,561.60899030428311,null,{"$f":"VLOOKUP(B75,Рпл!B:D,3,FALSE)","v":28.127612939575972},26.989810641123118,639]
[72,203,10,20,871.596,46.451210872005603,644,31.54,40.46,6.5,20.467622756958001,45.623197225497847,0.82801364650775611,777.76495920827506,null,{"$f":"VLOOKUP(B76,Рпл!B:D,3,FALSE)","v":28.526452275582791},27.698438629075035,644]
[73,211,10,21,867.96699999999998,46.072062305556798,418,35.56,39.32,6.5,13.713151931762701,44.285110427477022,1.7869518780797762,233.91788280788774,null,{"$f":"VLOOKUP(B77,Рпл!B:D,3,FALSE)","v":27.869354434859819},26.082402556780043,418]
[74,212,10,21,857.23299999999995,45.853822633229399,414,35.68,39.4,6.7,13.563977241516101,44.306499533585253,1.5473230996441458,267.55885703200056,null,{"$f":"VLOOKUP(B78,Рпл!B:D,3,FALSE)","v":27.843673343190499},26.296350243546353,413.99999999999994]
[75,213,10,21,843.92399999999998,45.809280061068499,655,31.49,41.38,6.6,20.3697834014893,46.480950908388813,-0.67167084732031412,-975.1800344069959,null,{"$f":"VLOOKUP(B79,Рпл!B:D,3,FALSE)","v":28.01933699714926},28.691007844469574,655]
[76,221,10,22,876.524,45.588246531029199,486,31.78,38.909999999999997,7.1,16.1194877624512,43.864295710263818,1.7239508207653813,281.91059405292714,null,{"$f":"VLOOKUP(B80,Рпл!B:D,3,FALSE)","v":27.617679520373581},25.8937286996082,485.99999999999994]
[77,222,10,22,867.36,45.356711425084498,519,32.47,38.96,6.9,17.201950073242202,43.869137697657763,1.4875737274267351,348.89027039875668,null,{"$f":"VLOOKUP(B81,Рпл!B:D,3,FALSE)","v":27.391756842215909},25.904183114789173,519]
[78,223,10,22,876.83500000000004,45.448417113143002,573,31.88,39.86,7.6,18.515476226806602,44.959314347095287,0.48910276604771497,1171.5329369944727,null,{"$f":"VLOOKUP(B82,Рпл!B:D,3,FALSE)","v":28.599832331880549},28.110729565832834,573]
[79,231,11,23,816.46600000000001,45.132096066223902,216,39.97,40.85,4.2,6.82189989089966,45.763941163956247,-0.6318450977323451,-341.85594028538213,null,{"$f":"VLOOKUP(B83,Рпл!B:D,3,FALSE)","v":25.466473216349829},26.098318314082174,216]
[80,232,11,23,869.84,45.098488046291202,565,32.39,39.6,7.6,18.3883361816406,44.623265259632703,0.47522278665849882,1188.9160534004786,null,{"$f":"VLOOKUP(B84,Рпл!B:D,3,FALSE)","v":26.311564779189879},25.836341992531381,565]
[81,233,11,23,877.245,45.416075198836303,557,32.39,39.619999999999997,7.7,18.107622146606399,44.689406198977203,0.7266689998591005,766.51130034169762,null,{"$f":"VLOOKUP(B85,Рпл!B:D,3,FALSE)","v":26.25398660379847},25.52731760393937,557]
[82,234,11,23,870.87300000000005,45.232869999322801,374,35.56,38.6,7.1,12.512234687805201,43.481319684625788,1.7515503146970133,213.52512506310461,null,{"$f":"VLOOKUP(B86,Рпл!B:D,3,FALSE)","v":25.835512977034519},24.083962662337505,374]
[83,241,11,24,822.52499999999998,44.386785636027298,542,33.58,40.54,7.8,17.256591796875,45.383038545913401,-0.9962529098861026,-544.03856151543346,null,{"$f":"VLOOKUP(B87,Рпл!B:D,3,FALSE)","v":26.24633241192171},27.242585321807812,542]
[84,242,11,24,867.83600000000001,44.557325319612303,513,33.450000000000003,39.9,8.6999999999999993,16.560060501098601,44.929259703070983,-0.37193438345867946,-1379.275546480882,null,{"$f":"VLOOKUP(B88,Рпл!B:D,3,FALSE)","v":25.804449782792769},26.176384166251449,513]
[85,243,11,24,827.08100000000002,44.5036270489976,534,33.39,39.909999999999997,7.8,17.2867221832275,44.705895157009166,-0.20226810801156603,-2640.0602905202682,null,{"$f":"VLOOKUP(B89,Рпл!B:D,3,FALSE)","v":26.52258464935203},26.724852757363596,534]
[86,251,11,25,871.625,44.0486688434478,430,33.57,38.07,8.8000000000000007,14.598645210266101,42.851944607266667,1.196724236181133,359.31419035363831,null,{"$f":"VLOOKUP(B90,Рпл!B:D,3,FALSE)","v":25.803848030869531},24.607123794688398,430.00000000000006]
[87,252,11,25,866.18,44.512416676326602,589,32.43,39.78,8.3000000000000007,19.073616027831999,44.791099632912108,-0.27868295658550579,-2113.5128147647679,null,{"$f":"VLOOKUP(B91,Рпл!B:D,3,FALSE)","v":26.427905536574311},26.706588493159817,589]
[88,253,11,25,864.97799999999995,44.8172395034115,334,35.869999999999997,38.130000000000003,7.3,11.322792053222701,42.91404000889716,1.9031994945143396,175.49395161290249,null,{"$f":"VLOOKUP(B92,Рпл!B:D,3,FALSE)","v":25.81939764967867},23.916198155164331,334]
[89,254,11,25,827.36699999999996,44.3758647000992,399,35.159999999999997,38.42,8.4,13.458209991455099,43.000886770948419,1.3749779291507807,290.18647611778903,null,{"$f":"VLOOKUP(B93,Рпл!B:D,3,FALSE)","v":26.249735782501091},24.87475785335031,399]
[90,261,11,26,817.17399999999998,44.196949124032002,565,33.03,39.64,8.4,18.448047637939499,44.304459110760789,-0.10750998672878609,-5255.3257347646913,null,{"$f":"VLOOKUP(B94,Рпл!B:D,3,FALSE)","v":27.810840350946059},27.918350337674845,565]
[91,262,11,26,865.226,44.564015160801702,600,32.75,40.92,8.5,18.855169296264599,46.064691230406403,-1.500676069604701,-399.81979599238122,null,{"$f":"VLOOKUP(B95,Рпл!B:D,3,FALSE)","v":27.777435085070191},29.278111154674892,600]
[92,263,11,26,872.67,44.332562991219,547,32.72,38.96,8.5,18.118328094482401,43.873101326924584,0.45946166429441604,1190.5236987290646,null,{"$f":"VLOOKUP(B96,Рпл!B:D,3,FALSE)","v":27.603339628442459},27.143877964148043,547]
[93,271,12,27,871.28200000000004,45.636193009727798,476,34.4,42.13,8.6,14.4740438461304,47.46388544197211,-1.8276924322443122,-260.43769268962637,null,{"$f":"VLOOKUP(B97,Рпл!B:D,3,FALSE)","v":27.227952509051999},29.055644941296311,475.99999999999994]
[94,272,12,27,832.577,45.538181493612697,566,34.22,41.04,8.6999999999999993,17.7637538909912,45.990283161288758,-0.45210166767606097,-1251.9307944812742,null,{"$f":"VLOOKUP(B98,Рпл!B:D,3,FALSE)","v":27.115555190801391},27.567656858477452,566]
[95,273,12,27,867.44,45.936088691464597,371,34.17,37.44,8.1999999999999993,12.8245544433594,42.136886651897051,3.7992020395675468,97.652084868387249,null,{"$f":"VLOOKUP(B99,Рпл!B:D,3,FALSE)","v":27.174671468448551},23.375469428881004,371]
[96,274,12,27,867.86400000000003,45.780027932775099,314,34.53,37.76,8.1999999999999993,10.754320144653301,42.499378655960157,3.2806492768149411,95.712760952262101,null,{"$f":"VLOOKUP(B100,Рпл!B:D,3,FALSE)","v":26.66190199032884},23.381252713513899,314]
[97,281,11,28,869.10299999999995,43.3340741558169,346,34.020000000000003,36.630000000000003,8.1,12.253619194030801,41.236510811355103,2.0975633444617969,164.95330208431841,null,{"$f":"VLOOKUP(B101,Рпл!B:D,3,FALSE)","v":25.352819883331861},23.255256538870064,346]
[98,282,11,28,826.72199999999998,43.499386238041097,436,32.450000000000003,36.67,8.4,15.474799156189,41.039168871231531,2.4602173668095659,177.22011310139197,null,{"$f":"VLOOKUP(B102,Рпл!B:D,3,FALSE)","v":26.820800943186669},24.360583576377103,436]
[99,283,11,28,871.81500000000005,44.055338015570101,324,35.159999999999997,37.49,7.9,11.187547683715801,42.223315523436881,1.8320224921332198,176.85372389873453,null,{"$f":"VLOOKUP(B103,Рпл!B:D,3,FALSE)","v":26.004479324430211},24.172456832296991,324]
[100,284,11,28,873.98800000000006,43.779521081386399,401,33.869999999999997,37.32,8.5,13.913342475891101,42.034355325607081,1.7451657557793183,229.7776005929764,null,{"$f":"VLOOKUP(B104,Рпл!B:D,3,FALSE)","v":25.901059451077771},24.155893695298452,401]
[101,291,11,29,875.94,44.0317702550878,531,32.49,39.380000000000003,9.5,17.387840270996101,44.339780004752107,-0.30800974966430772,-1723.9714021349125,null,{"$f":"VLOOKUP(B105,Рпл!B:D,3,FALSE)","v":25.994926300884199},26.302936050548507,531]
[102,292,11,29,875.80399999999997,42.949501911519597,325,32.31,35.79,9,11.7991237640381,{"$f":"[1]!Давление_ГлубинаКОНД(E106,I106,J106,$G$2,$H$2,$I$2,$J$2)","v":{"$error":"#NAME?"}},{"$f":"F106-L106","v":{"$error":"#NAME?"}},{"$f":"G106/M106","v":{"$error":"#NAME?"}},null,{"$f":"VLOOKUP(B106,Рпл!B:D,3,FALSE)","v":24.831560317683429},{"$f":"IF(M106>=$E$1,P106-$E$1,P106-M106)","v":{"$error":"#NAME?"}},{"$f":"N106*(P106-Q106)","v":{"$error":"#NAME?"}}]
[103,293,11,29,865.68600000000004,43.423015557871601,399,32.67,36.29,9.6,14.2835426330566,40.803297230140508,2.6197183277310927,152.30645057385587,null,{"$f":"VLOOKUP(B107,Рпл!B:D,3,FALSE)","v":25.934654539101022},23.314936211369929,399]
[104,301,12,30,870.82299999999998,44.343564601011799,310,34.97,36.72,8.3000000000000007,10.950341224670399,41.344218732634587,2.9993458683772118,103.35586944753547,null,{"$f":"VLOOKUP(B108,Рпл!B:D,3,FALSE)","v":25.67903503208419},22.679689163706978,310]
[105,302,12,30,877.08500000000004,46.2562993000071,514,34.1,40.49,9,16.328067779541001,{"$f":"[1]!Давление_ГлубинаКОНД(E109,I109,J109,$G$2,$H$2,$I$2,$J$2)","v":{"$error":"#NAME?"}},{"$error":"#NAME?"},{"$error":"#NAME?"},null,{"$f":"VLOOKUP(B109,Рпл!B:D,3,FALSE)","v":27.298071558662361},{"$error":"#NAME?"},{"$error":"#NAME?"}]
[106,303,12,30,866.98699999999997,43.987018356694499,283,35.35,36.75,8,9.9901714324951207,{"$f":"[1]!Давление_ГлубинаКОНД(E110,I110,J110,$G$2,$H$2,$I$2,$J$2)","v":{"$error":"#NAME?"}},{"$error":"#NAME?"},{"$error":"#NAME?"},null,{"$f":"VLOOKUP(B110,Рпл!B:D,3,FALSE)","v":26.1131425575512},{"$error":"#NAME?"},{"$error":"#NAME?"}]
[107,304,12,30,833.23,45.400988795571699,525,34.020000000000003,39.74,9.1999999999999993,17.078748703002901,44.519995455518412,0.880993340053287,595.91823925507231,null,{"$f":"VLOOKUP(B111,Рпл!B:D,3,FALSE)","v":27.291311278439832},26.410317938386545,525]
[108,311,12,31,874.33100000000002,46.648021932598503,438,34.729999999999997,41.22,8.9,13.655591011047401,46.442470153597561,0.20555177900094179,2130.8499596979559,null,{"$f":"VLOOKUP(B112,Рпл!B:D,3,FALSE)","v":27.418071286392621},27.212519507391679,437.99999999999994]
[109,312,12,31,863.95600000000002,46.473378460110403,712,34.99,42.52,8.6,21.477266311645501,47.855160320046252,-1.3817818599358489,-515.2767022379752,null,{"$f":"VLOOKUP(B113,Рпл!B:D,3,FALSE)","v":27.161289327116101},28.54307118705195,712]
[110,313,12,31,873.28499999999997,46.286897360604002,313,35.83,38.72,8.1999999999999993,10.4434366226196,43.611744758043471,2.6751526025605301,117.00267106273158,null,{"$f":"VLOOKUP(B114,Рпл!B:D,3,FALSE)","v":27.597160788802281},24.922008186241751,313]
[111,314,12,31,872.01700000000005,46.188109235761303,473,34.65,42.44,9.3000000000000007,14.289666175842299,47.794022752450253,-1.6059135166889504,-294.53640876952369,null,{"$f":"VLOOKUP(B115,Рпл!B:D,3,FALSE)","v":27.114958328855849},28.720871845544799,473]
[112,321,12,32,877.88199999999995,44.274679724741503,348,34,36.700000000000003,9.4,12.2973012924194,41.335598933003439,2.9390807917380641,118.40436675924299,null,{"$f":"VLOOKUP(B116,Рпл!B:D,3,FALSE)","v":25.765689259478322},22.826608467740257,348]
[113,322,12,32,876.779,44.879388093735997,436,33.799999999999997,38.520000000000003,9.6,14.623553276061999,43.374959368544367,1.5044287251916302,289.81100446913064,null,{"$f":"VLOOKUP(B117,Рпл!B:D,3,FALSE)","v":26.16934593856973},24.6649172133781,436.00000000000006]
[114,323,12,32,872.76199999999994,45.220947978097101,349,36.92,38.97,8.1999999999999993,11.560229301452599,43.890120705904998,1.3308272721921028,262.24289755133782,null,{"$f":"VLOOKUP(B118,Рпл!B:D,3,FALSE)","v":26.10403096605318},24.773203693861078,349]
[115,331,12,33,860.95,46.950657814035402,383,37.21,40.090000000000003,7.8,12.3150415420532,45.116608807389177,1.8340490066462252,208.82757146187748,null,{"$f":"VLOOKUP(B119,Рпл!B:D,3,FALSE)","v":28.04471057823655},26.210661571590325,383]
[116,332,12,33,876.15499999999997,47.766271683976903,352,38.270000000000003,41.17,7.8,10.982830047607401,46.428422220096643,1.3378494638802607,263.10882464987441,null,{"$f":"VLOOKUP(B120,Рпл!B:D,3,FALSE)","v":28.5496632163612},27.211813752480939,352]
[117,333,12,33,867.18499999999995,46.818539925509,554,34.21,40.479999999999997,9.5,17.6236896514893,45.553765866231828,1.2647740592771726,438.02289898056176,null,{"$f":"VLOOKUP(B121,Рпл!B:D,3,FALSE)","v":27.995148436527391},26.730374377250218,554]
[118,334,12,33,876.029,47.067178742469103,378,36.700000000000003,40.21,8.3000000000000007,12.1015481948853,45.336241572888348,1.7309371695807556,218.37881041722275,null,{"$f":"VLOOKUP(B122,Рпл!B:D,3,FALSE)","v":28.155669426431931},26.424732256851176,378]
[119,341,12,34,832.08799999999997,48.496939709960799,610,34.76,42.92,8,18.254411697387699,{"$f":"[1]!Давление_ГлубинаКОНД(E123,I123,J123,$G$2,$H$2,$I$2,$J$2)","v":{"$error":"#NAME?"}},{"$error":"#NAME?"},{"$error":"#NAME?"},null,{"$f":"VLOOKUP(B123,Рпл!B:D,3,FALSE)","v":29.3376796453419},{"$error":"#NAME?"},{"$error":"#NAME?"}]
[120,342,12,34,830.64,48.251942670510203,616,34.96,42.46,7.8,18.652980804443398,47.58478121085377,0.66716145965643392,923.31472551969591,null,{"$f":"VLOOKUP(B124,Рпл!B:D,3,FALSE)","v":29.334254890158569},28.667093430502135,616]
[121,343,12,34,874.4,48.0455219353126,529,35.130000000000003,42.72,8,15.8566942214966,{"$f":"[1]!Давление_ГлубинаКОНД(E125,I125,J125,$G$2,$H$2,$I$2,$J$2)","v":{"$error":"#NAME?"}},{"$error":"#NAME?"},{"$error":"#NAME?"},null,{"$f":"VLOOKUP(B125,Рпл!B:D,3,FALSE)","v":28.678786338215659},{"$error":"#NAME?"},{"$error":"#NAME?"}]
[122,351,12,35,876.35699999999997,48.225980447721597,504,34.5,42.19,9.4,15.323870658874499,47.538773438337209]
[123,352,12,35,876.81299999999999,48.179864281245997,196,39.18,41.51,7.3,6.0630660057067898,46.825382485327367,{"$f":"F127-L127","v":1.3544817959186304},{"$f":"G127/M127","v":144.70478716701379},null,{"$f":"VLOOKUP(B127,Рпл!B:D,3,FALSE)","v":28.295973686699089},{"$f":"IF(M127>=$E$1,P127-$E$1,P127-M127)","v":26.941491890780458},{"$f":"N127*(P127-Q127)","v":196.00000000000003}]
[124,353,12,35,877.38199999999995,48.852708791423197,405,34.18,42.06,9.1,12.3535919189453,47.404594195893601,1.4481145955295958,279.67399904003167,null,{"$f":"VLOOKUP(B128,Рпл!B:D,3,FALSE)","v":29.123510275329721},27.675395679800125,405]
[125,361,12,36,834.72199999999998,50.0785147363665,686,35.24,45.55,8.1999999999999993,19.215427398681602,51.095725020313253,-1.0172102839467527,-674.39349643451851,null,{"$f":"VLOOKUP(B129,Рпл!B:D,3,FALSE)","v":30.159769184224562},31.176979468171314,686]
[126,362,12,36,870.29499999999996,49.088680721658598,435,34.4,42.67,8.4,13.0576772689819,48.06941277625922,1.0192679453993776,426.77688625786703,null,{"$f":"VLOOKUP(B130,Рпл!B:D,3,FALSE)","v":29.555111746827961},28.535843801428584,435]
[127,363,12,36,872.62699999999995,49.402924077216198,526,34.799999999999997,44.02,8.8000000000000007,15.257604598999,49.616724918467753,-0.21380084125155463,-2460.2335375337316,null,{"$f":"VLOOKUP(B131,Рпл!B:D,3,FALSE)","v":30.01174976553979},30.225550606791344,526]
[128,371,12,37,875.34699999999998,50.7125877706737,294,40.659999999999997,43.19,5.6,8.6939229965209996,48.743676096942359,1.9689116737313412,149.32107108839074,null,{"$f":"VLOOKUP(B132,Рпл!B:D,3,FALSE)","v":31.574848072554719},29.605936398823378,294]
[129,372,12,37,875.06500000000005,50.469691060210501,284,39.49,42.52,6,8.5434160232543892,{"$f":"[1]!Давление_ГлубинаКОНД(E133,I133,J133,$G$2,$H$2,$I$2,$J$2)","v":{"$error":"#NAME?"}},{"$error":"#NAME?"},{"$error":"#NAME?"},null,{"$f":"VLOOKUP(B133,Рпл!B:D,3,FALSE)","v":30.563319836985979},{"$error":"#NAME?"},{"$error":"#NAME?"}]
[130,373,12,37,875.07399999999996,50.771624036390897,498,34.58,43.38,7.6,14.661227226257299,48.916678678762644,1.8549453576282531,268.47152017283491,null,{"$f":"VLOOKUP(B134,Рпл!B:D,3,FALSE)","v":31.232976598588088},29.378031240959835,498]
[131,382,12,38,868.82100000000003,51.995817659802697,475,35.74,46.01,7.4,13.1005668640137,51.870954087928688]
[132,391,8,39,886.178,57.455190957165797,785,38.97,51.62,7.3,19.048389434814499,58.378113482604519,{"$f":"F136-L136","v":-0.92292252543872166},{"$f":"G136/M136","v":-850.55893464821588},null,{"$f":"VLOOKUP(B136,Рпл!B:D,3,FALSE)","v":40.371275558152547},{"$f":"IF(M136>=$E$1,P136-$E$1,P136-M136)","v":41.294198083591269},{"$f":"N136*(P136-Q136)","v":785}]
[133,392,8,39,886.69,57.656119058366798,744,38.979999999999997,49.66,6.5,18.840875625610401,56.184542905024543,1.4715761533422551,505.58035906617641,null,{"$f":"VLOOKUP(B137,Рпл!B:D,3,FALSE)","v":39.20687369419074},37.735297540848485,744]
[134,393,8,39,878.80499999999995,57.179931854198202,724,38.950000000000003,50.93,6.6,17.841945648193398,57.555498880450067,-0.37556702625186489,-1927.7517710366485,null,{"$f":"VLOOKUP(B138,Рпл!B:D,3,FALSE)","v":40.048040134212137},40.423607160464002,724]
[135,401,8,40,854.95100000000002,55.1704902368541,322,47.52,49.69,3.9,8.16986083984375,56.043736297948939,-0.87324606109483938,-368.73913819466861,null,{"$f":"VLOOKUP(B139,Рпл!B:D,3,FALSE)","v":38.157204218529529},39.030450279624368,322]
[136,402,8,40,883.09,54.630959531990598,477,46.07,50.08,4.9000000000000004,11.942666053771999,56.683868085087397,-2.052908553096799,-232.35326253595107,null,{"$f":"VLOOKUP(B140,Рпл!B:D,3,FALSE)","v":38.496455690370048},40.549364243466847,477]
[137,403,8,40,876.13699999999994,54.237835658117497,418,44.8,49.85,5.2,10.5522546768188,56.346738333971842,-2.1089026758543454,-198.20734488406984,null,{"$f":"VLOOKUP(B141,Рпл!B:D,3,FALSE)","v":37.118449969022613},39.227352644876959,418]
[138,411,8,41,876.18899999999996,53.655001579670497,305,44.79,46.51,4.8,8.3144016265869105,52.5555049813347,1.0994965983357972,277.39967587134817,null,{"$f":"VLOOKUP(B142,Рпл!B:D,3,FALSE)","v":35.974030958053817},34.87453435971802,305]
[139,412,8,41,882.35500000000002,54.256394792060298,426,43,46.19,5.4,11.698275566101101,52.213934803709677,2.0424599883506218,208.57201728784619,null,{"$f":"VLOOKUP(B143,Рпл!B:D,3,FALSE)","v":36.308693379358708},34.266233391008086,426]
[140,413,8,41,887.65499999999997,53.209375548169596,363,43.37,46.12,5.6,9.9811115264892596,52.168897230714322,1.0404783174552747,348.8780053464244,null,{"$f":"VLOOKUP(B144,Рпл!B:D,3,FALSE)","v":35.899813732121267},34.859335414665992,363]
[]
[null,null,null,null,null,null,null,null,null,null,null,null,null,null,null,null,null,{"$f":"SUM(R5:R144)","v":{"$error":"#NAME?"}}]

{"sheet":"Тнав","index":5,"n_rows":254,"n_cols":4,"rows_kept":254,"cut":false,"hidden":false,"merged":[]}
["Сеноман=",{"$f":"План!K2","v":34536.412006475162},"Турон=",{"$f":"План!K3","v":26957.81108275013}]
["2024-02-01","Давл. труб., кгс/см2","Депр., кгс/см2","Дебит газа, тыс.м3 "]
[11,17.730056737948178,11.80917920075272,470.41201849930798]
[12,18.29913763210369,2.8389585844757179,553.73043591749843]
[13,18.370192834510132,2.2604616234653441,694.0809368669228]
[21,14.78728747174295,7.3137610101234767,425.41514038491238]
[22,15.36573808826008,7.1861114677696323,518.3522595009855]
[23,14.88403426800806,7.2825288031090274,452.85112988326091]
[31,16.017344431821421,11.527347909156621,254.85036433665891]
[32,12.47393673689027,12.19181935382402,363.92715882814491]
[33,13.146214553385491,10.27446168907146,411.72287904846371]
[41,15.80760374365282,8.1331947388654715,394.34538775394827]
[42,15.86670850933714,6.6228295244966526,414.95907819421171]
[43,15.94079230824782,6.8295002781663037,367.06416502032857]
[51,24.693043056160761,null,72.950822767997153]
[52,22.744756390869512,3.7164655597516569,89.463666715893439]
[53,25.951644031770488,2.1655560891236552,67.956216624397314]
[54,24.87882312503109,2.57713461368219,206.15466310414041]
[61,12.21616841268686,9.7905742636096651,116.9345587755396]
[62,21.854452939606009,4.5387951103623818,278.34359920341791]
[63]
[64,21.623307413833849,4.844794855119372,238.12380651633379]
[71]
[72]
[73]
[74]
[81,15.2683378891525,4.8333133641371919,432.60139067582372]
[82,17.733228781021591,2.2092309354732729,376.18051228064633]
[83,17.206976325840358,2.9729333618526792,471.60233705311748]
[84,17.66290272984855,1.294436423984378,525.31298169123227]
[91,15.845383317148089,2.8086766350385748,527.40143714494434]
[92,15.991515390500361,2.991035504559171,494.97077103836011]
[93,17.397271455518371,6.8723529147971192,507.16711177340608]
[94,17.89115634673691,2.760651204919208,504.5842322303854]
[101,21.850232737434251,3.7363126297206191,162.56912427989869]
[102,18.419420621361201,2.779883820720952,73.56655557154248]
[103,24.525971652820349,1.6513099400274489,147.3107988782474]
[104,21.985464507654491,2.4005987460689471,300.39569329836468]
[111,10.93487055283123,null,182.0131981061925]
[112,18.787458427562971,1.660368078884487,386.68938233361843]
[113,16.484076031136809,4.8589715850190789,403.73671387146601]
[114,20.734367467940221,2.1107601467306361,416.56549514301042]
[121,19.256183807215919,2.874435866694796,333.94344585419259]
[122,10.75179159527438,3.779708309698401,147.6815593048519]
[123,15.329486271752179,6.1581461845258936,383.77903169448859]
[131]
[132]
[133,13.9875148941529,6.2569342121404814,71.176830307845819]
[134,17.594285493162829,7.044164931782861,54.555020785247983]
[141,15.165060830322849,2.818392525362678,473.34507183493719]
[142]
[143]
[144]
[151,13.8422394090483,5.9887022540289214,442.53656130719128]
[152,15.15369245843031,5.0769180973290231,396.73755295869603]
[153,14.34774736486739,5.0444579354893113,510.11820332424128]
[154,15.60976497760887,3.7445740815097359,444.01669744381411]
[161]
[162]
[163]
[164]
[171,16.688806363775299,2.990846701767222,442.82385543375892]
[172,15.221967682842671,6.7078382207425058,292.45026791460981]
[173,14.62696576641493,6.3966685145031974,339.50318536463232]
[181,16.038390051250591,3.2065833959077068,402.35661006900261]
[182,15.08008316017008,4.9448381413109681,349.97493974476367]
[183,15.01106535521833,5.0319477379769211,419.39827046589909]
[191,12.18421814405975,4.6224623548887216,394.08319256829128]
[192,11.979257458633221,4.3845103781617496,435.30602190036848]
[193,12.411136420956449,4.0681392877015377,432.99936369834018]
[194,11.79488857026824,5.8928583499526654,346.37012669734258]
[201,14.369644071299099,2.229407409740146,527.10832807450481]
[202,13.993168256681731,3.1432059748933678,515.73216445587832]
[203,10.64327540813227,5.447197029888212,360.04810261241198]
[211,11.51953622625747,6.2200407793161832,322.72950517125452]
[212,11.845845911296539,5.5070789725173226,388.56255219551468]
[213,11.40418778858289,3.9172548177538191,485.39532311428002]
[221]
[222,17.738269698318341,3.7709050715369901,297.46702112416182]
[223,12.341706270788841,5.7548573601620454,102.1873829921141]
[231,17.710048147322269,1.7707258241381809,383.41509158643532]
[232,16.096949747680242,3.2747786389994138,394.83087361416591]
[233,16.353658981373439,2.5775764382471769,352.12942071541329]
[234,17.75514517465707,2.739578337598902,334.10181443280152]
[241,17.776705449629961,2.2687914079874618,384.03369700005771]
[242,17.74566573287057,2.2813030273102748,395.75465331992501]
[243,17.73369541344724,3.0945918019729808,325.76079007278042]
[251,17.18925978328819,3.3788699247808358,432.78469939662529]
[252,15.44012864362535,4.5287606340871784,187.08426133444911]
[253,18.728695805601291,3.1776459420600491,299.50500138073801]
[254,18.48477232858334,3.0604237037790472,371.17363554248601]
[261,18.270370841866441,6.2882652805866091,310.42772115769441]
[262,16.226685028305269,5.4312573734865079,331.07982496886592]
[263,16.895512626281999,5.6733863742012636,334.13278611113299]
[271,15.34933080785518,3.8079731415794811,288.64210421797878]
[272,16.5320988557635,2.7718253696991342,408.47569726481538]
[273,17.226432320703111,6.8751285149130741,214.43280735867941]
[274,18.13889983723255,4.8537286376957391,233.6461607385898]
[281,18.391412201012422,3.877199748262687,351.00090478482713]
[282,16.95529295330353,6.6555933399773446,234.13569856648169]
[283,17.784766445154879,4.2906211071019742,285.16411823053789]
[284,17.363698265720931,4.7966085553940996,281.91427477160801]
[291,16.771878023040511,3.0429238791658282,360.85122682149301]
[292,18.66147705758825,3.319890685634777,141.36567578515999]
[293,16.660839781631619,6.3874975520699566,242.85424661229709]
[301,16.067922914264319,2.628831345946367,215.55287259347381]
[302,14.799429409965351,5.5109880057588514,332.98370433223158]
[303,15.752779938259369,3.3169802822710071,189.4832983941113]
[304,15.727035181654861,5.3244265159391748,476.96527741704051]
[311,16.414927802706899,5.230351434305347,243.7651154245948]
[312,16.197574056517791,3.4121889102410781,311.54447041673347]
[313,17.701471132461052,6.5771967377169833,143.28100821807951]
[314,15.33315246279375,4.9622340123966797,279.90935642566859]
[321,16.117262123417639,4.9295629959127094,130.28999468161209]
[322,16.025044397013112,5.3079205765645101,225.41020447193941]
[323,16.851546681152779,5.6590056937504398,234.75890072559849]
[331,17.427062329384992,5.1610825252280206,350.93704626139692]
[332,16.85052129773543,5.717770325707666,346.74550303230609]
[333,16.868493376140371,4.3919070419082296,380.1088105259181]
[334,16.575734080667122,6.3366135754103494,269.06525833481152]
[341,17.858413667641301,3.297311966256995,420.88275926567911]
[342,16.59398118722499,6.1942168286233512,312.55329458272331]
[343,17.467003646112779,3.3992851830634341,331.58631590273433]
[351,19.108278452801741,4.0944782943988676,92.804691331700781]
[352,14.61829165724318,6.7892840301534978,88.141937607565779]
[353,14.52783460857,5.6422825787135418,82.504721814676671]
[361,16.632125198379669,2.244407583512749,490.23900548607241]
[362,16.629435530298199,5.8203660430190443,260.11181205688638]
[363,15.70940959001241,5.5120941977627664,354.69243529623111]
[371,22.766435848956512,5.1467780868171076,153.6746296458569]
[372,21.484611074868319,5.8542442734638884,132.18735480263729]
[373,21.204326993569939,7.009629385222337,131.52496412636651]
[381]
[382]
[391,24.511454312144171,4.2240680025044268,541.66882931709836]
[392,25.699864872580019,2.254319421034459,562.13740314745644]
[393,23.292725058300249,6.052467075229,445.56199409552102]
[401,20.48702511230038,6.8449993712079156,452.15859587192477]
[402,23.72513178384434,6.8300746784054134,408.34392070205018]
[403,26.93662844444539,3.002655973449925,100.6928251110804]
[411,21.85464130690773,8.3325598454393397,287.01680407598059]
[412,23.706843516265501,6.0279048236657813,354.80060142101121]
[413,20.75427289281922,9.4018674871786629,224.84687081858121]
["35р",16.08419748564053,51.199444583917384,120.0469892150913]
["51р",13.01075446032973,20.825633410607171,163.61031395793449]
["101т",19.582496504771999,23.38157445976822,217.7687758570834]
["102т",18.160099527235118,25.699654876938911,237.9885502864382]
["103т",28.295657055765741,10.936232567163611,341.00911407643349]
["174БОК",16.082622346275521,46.587204703909023,39.893622487049477]
["174ОСН",29.46428429390329,26.588876832246761,178.82781657565729]
[184,13.182345217041711,26.24208935382914,163.8087460993433]
["201т",18.28745238243495,29.951077364756689,249.9768781159095]
["202т",15.822542399519151,28.47627866673696,279.96698723220459]
["203т",17.137969723584408,33.482369286554878,227.65681458785289]
["204т",16.477041057846879,31.246965169051599,202.25933499401839]
["301т",18.14229176586317,29.099039627365599,260.41065606159452]
["302т",15.42909394998069,31.63864209652456,244.63925107281091]
[383,32.113528464883622,44.672892673437893,68.905450072657729]
["401т",36.667735630265852,20.594295705930278,271.84950331429542]
["402т",16.100529074358001,24.18651446833978,254.48630929447771]
["403т",18.264014671663631,26.429434201892651,276.17438784127341]
[501,12.407070398306949,24.962299103745021,308.17946216925128]
[502,23.23239828893508,25.7961191276334,257.95668385003131]
[503,25.227361137905412,20.491264151772381,333.37194692684687]
[601,16.166018712044352,28.706759514383279,282.88885159376707]
[602,10.17546146030776,27.042253899350492,249.22432924192091]
[701,20.40953365078796,23.407649626880708,262.37417642059449]
[702,16.565559932293748,27.751292113614269,297.40180368749492]
[703,17.432409146584739,21.290955792135058,255.58682215572051]
[801,15.479576882286599,23.325368482270619,267.03380529756731]
[802,14.579744582631839,23.199768085291161,211.78425890733379]
[901,16.036473763483411,27.234251360276371,236.2999404652407]
[902,21.525417432695669,22.409253489164691,295.39884853497051]
[1001,15.60789575897633,21.655970238370891,298.14867612671043]
[1002,10.3258384102453,24.35050725536977,216.80837045093449]
[1003,10.0879397619738,26.92005192815401,214.72461729763481]
[1101,12.02384821925313,19.5868508119346,167.8191960613178]
[1102,11.83072798941429,18.843380376225291,164.16536637997001]
[1103,12.481318787130521,18.03420233655844,197.8618894364636]
[1104,12.012223733577679,20.100242358383991,192.47462711909961]
[1201,15.68935070442198,26.008882793616859,262.04688946198718]
[1202,14.56623840940054,24.80106191546794,247.5884795120981]
[1301,8.3703648354107081,25.283585520255819,207.36651462512589]
[1302,8.8738947876327838,27.355568974710511,169.5837485398682]
[1303,7.7495571599118271,25.484820299925659,238.79510345634321]
[1304,13.70732763652865,20.249174311359209,215.1677149950383]
[1401,11.70323759365486,20.832494637678089,222.25437302443399]
[1402,10.869402972992599,24.192119873528629,154.3436279227785]
[1403,11.33310512491105,19.430700489155889,169.2390377735577]
[1404,11.239716722622131,21.199245881891351,177.80006575226761]
[1501,19.375644243614431,27.90668956280917,361.02584412857368]
[1502,15.69407153670789,23.920022616016681,243.11697165596061]
[1503,14.685511625058201,18.683598850930998,234.65797426059089]
[1601,9.6426238581280703,22.89760321888739,162.89916463077421]
[1602,9.825934446386027,21.263052608810309,209.4612882260752]
[1603,15.43784598824058,15.38228178772644,238.72208791509581]
[1701,16.996332695234539,26.3914812415758,239.14142112281439]
[1702,14.628293576842109,25.924145048226059,189.78053378156659]
[1703,15.872644002308901,22.311095077336621,203.96799934990639]
[1801]
[1802]
[1803]
[1901,16.305691378311099,30.627578587867021,247.80589138621389]
[1902,58.503293398506003,11.33428910764334,61.460682947748602]
[1903,20.042685431467401,26.76044109405785,275.11424454980602]
[2001,11.766737578792039,29.0500564382601,232.78429542398769]
[2002,12.12223730029223,30.120080386829109,223.87913660394241]
[2003,20.157786681840641,23.996934771072539,227.59744022816031]
[2004,12.04721168613853,21.147010704298381,244.62415820025831]
[2201,12.169463046805889,32.216467124648332,229.390223758323]
[2202,16.676227510507641,31.16914297152276,292.43674556660937]
[2203,15.562103127174179,25.255452121181591,298.45210975234892]
[2401,15.17927388640878,30.832993201353599,261.65294215685162]
[2402,39.179280295993848,19.611695818372208,220.12963291538591]
[2601,14.24441419788873,27.14249950994456,260.77680090944199]
[2602,30.385461339492021,27.41400640265967,287.65535491199518]
[2701,19.206438223368249,35.643698128529188,279.29154088266853]
[2702,18.734644053863981,33.476108396093572,284.7110584050302]
[2801,20.529936927685711,30.797642926323281,249.36268838037589]
[2802,18.68192113937431,28.69602444429977,302.28728484175821]
[3001,19.693511854678182,26.45317192885582,282.89593366078429]
[3002,20.021051727943529,26.31495517959474,293.47600002151381]
[3003,16.0544766991495,29.900521135142942,235.5069942369168]
[3101,19.303157739504179,18.66354026503604,296.79540139899962]
[3102,15.080155915732441,30.053713405792259,257.76854691256619]
[3301,18.060784097601491,38.22370454432113,256.79268026402951]
[3302,16.147878947278901,43.6270698629517,201.6531606272797]
[3303,19.567708796055381,30.435675501034851,241.428930154298]
[3401,17.36583395178393,39.263732527757973,229.71227056415731]
[3402,20.952189314061641,21.5121247998302,296.07707472183301]
[3403,19.049224197744621,33.566942702731843,274.9110518950248]
[3601,15.647327458765259,50.93067683342592,163.90599250109261]
[3602,18.25589055856884,31.874994740014529,218.756010040847]
[3603,22.802139436984842,21.914833091021421,245.13096536539109]
[3701,19.398140799446409,33.162257559427033,244.39815316708811]
[3702,18.880803853454321,34.165405534122947,268.03980149709543]
[3703,22.247928169115418,26.30569852822812,286.02661095448673]
[3801,17.227255020798701,46.776537604912193,211.70706018899091]
[3802,18.088269961258948,43.398510966935262,235.56902715297159]
[3901,32.507463674082821,13.866556836074921,200.13414474883979]
[3902,31.26340997763446,15.247181222717829,240.31639005684951]
[3903,36.054700789477927,12.12806844721546,199.86244064141431]
[3904,36.989061897715388,21.218337389744701,169.17412655835139]
[4001,16.191201368414969,26.909860892878491,194.7458163370911]
[4002,18.81131868653425,31.080748637399729,215.70802370922661]
[4003,26.076458923271758,25.136158097388901,223.54684503536271]
[4004,20.293817836209669,19.61568467225408,255.16007439476891]
[4101,21.548847395799111,23.844501932594689,207.55709402743389]
[4102,20.929378773104471,21.767000312260489,221.5693993267177]
[4103,36.325872328918422,13.527181916910379,188.19774937117319]
[]
[]
[null,"сеноман",{"$f":"B1/D253","v":0.84951390946842864},{"$f":"SUM(D3:D143)","v":40654.321985246643}]
[null,"турон",{"$f":"D1/D254","v":1.1143423398042023},{"$f":"SUM(D144:D250)","v":24191.67801475335}]

{"sheet":"Шлейфы","index":6,"n_rows":248,"n_cols":12,"rows_kept":248,"cut":false,"hidden":false,"merged":[]}
["№ скв,","Шлейф","Куст","Дебит газа, тыс,м3 ",null,null,null,"Q, тыс,м3,","Приведенная скорость газа, м/cек",null,"Средняя скорость газа, м/с","Рвх на ЗПА,     кгс/см2"]
[11,8,1,{"$f":"VLOOKUP(A2,Тнав!A:D,4,FALSE)","v":470.41201849930798},null,null,1,{"$f":"SUMIF(B:B,G2,D:D)","v":956.64493270946946},"shl-13.Flowline",6.2781043070072204,24.625564583102779,{"$f":"(J2-1.01325)/0.980665","v":5.3686572958219374}]
[12,8,1,{"$f":"VLOOKUP(A3,Тнав!A:D,4,FALSE)","v":553.73043591749843},null,null,2,1946.6211071509538,"K02__16_18__PPA.Flowline",6.2799206007445179,28.84604207812755,5.3705093999933897]
[13,8,1,{"$f":"VLOOKUP(A4,Тнав!A:D,4,FALSE)","v":694.0809368669228},null,null,3,5755.5806834170389,"K03_2__14__PPA.Flowline",6.289085968317826,52.479833180434952,5.3798554739057947]
[21,9,2,{"$f":"VLOOKUP(A5,Тнав!A:D,4,FALSE)","v":425.41514038491238},null,null,4,2111.3258684511384,"shl-11.Flowline",6.3042056279334187,54.176572595144201,5.3952732359505218]
[22,9,2,{"$f":"VLOOKUP(A6,Тнав!A:D,4,FALSE)","v":518.3522595009855},null,null,5,4850.3376270930275,"K05__08_09__PPA.Flowline",6.3052278574372238,71.693005446206442,5.3963156199489362]
[23,9,2,{"$f":"VLOOKUP(A7,Тнав!A:D,4,FALSE)","v":452.85112988326091},null,null,6,3767.5363579526961,"K06_3__R51__PPA.Flowline",6.2803436028467043,34.392665441583887,5.3709407420951134]
[31,8,3,{"$f":"VLOOKUP(A8,Тнав!A:D,4,FALSE)","v":254.85036433665891},null,null,7,1969.4354266538494,"K07__05_06__PPA.Flowline",6.2779895243467534,17.98195606383943,5.3685402500820905]
[32,8,3,{"$f":"VLOOKUP(A9,Тнав!A:D,4,FALSE)","v":363.92715882814491},null,null,8,9743.7400896192921,"K08_3__03__PPA.Flowline",6.2857404339251319,24.140371407719659,5.3764439782444891]
[33,8,3,{"$f":"VLOOKUP(A10,Тнав!A:D,4,FALSE)","v":411.72287904846371},null,null,9,4335.3573761176795,"K09__02_04__PPA.Flowline",6.3070658174116998,64.028769868059328,5.398189817533714]
[41,9,4,{"$f":"VLOOKUP(A11,Тнав!A:D,4,FALSE)","v":394.34538775394827},null,null,10,6941.5340130218638,"K10_3__20__PPA.Flowline",6.2856808584551498,33.709916109568873,5.3763832281718527]
[42,9,4,{"$f":"VLOOKUP(A12,Тнав!A:D,4,FALSE)","v":414.95907819421171},null,null,11,8315.3651203217833,"K11_2__23_25_28_29__PPA.Flowline_1",6.2996855946486283,52.302376496848673,5.3906640847268212]
[43,9,4,{"$f":"VLOOKUP(A13,Тнав!A:D,4,FALSE)","v":367.06416502032857},null,null,12,13620.408216655527,"K12_KGS-46---PPA.Flowline",6.2863726002527178,55.379132230992973,5.3770886084980267]
[51,7,5,{"$f":"VLOOKUP(A14,Тнав!A:D,4,FALSE)","v":72.950822767997153},null,null,13,532.11318083568801,"shl-06T.Flowline",7.9223000949153786,48.839307561167821,7.0452703980619056]
[52,7,5,{"$f":"VLOOKUP(A15,Тнав!A:D,4,FALSE)","v":89.463666715893439}]
[53,7,5,{"$f":"VLOOKUP(A16,Тнав!A:D,4,FALSE)","v":67.956216624397314},null,null,null,null,"PPA",6.27408935095304,null,{"$f":"(J16-1.01325)/0.980665","v":5.364563180039096}]
[54,7,5,{"$f":"VLOOKUP(A17,Тнав!A:D,4,FALSE)","v":206.15466310414041}]
[61,7,6,{"$f":"VLOOKUP(A18,Тнав!A:D,4,FALSE)","v":116.9345587755396}]
[62,7,6,{"$f":"VLOOKUP(A19,Тнав!A:D,4,FALSE)","v":278.34359920341791}]
[63,7,6,{"$f":"VLOOKUP(A20,Тнав!A:D,4,FALSE)","v":0}]
[64,7,6,{"$f":"VLOOKUP(A21,Тнав!A:D,4,FALSE)","v":238.12380651633379}]
[71,6,7,{"$f":"VLOOKUP(A22,Тнав!A:D,4,FALSE)","v":0}]
[72,6,7,{"$f":"VLOOKUP(A23,Тнав!A:D,4,FALSE)","v":0}]
[73,6,7,{"$f":"VLOOKUP(A24,Тнав!A:D,4,FALSE)","v":0}]
[74,6,7,{"$f":"VLOOKUP(A25,Тнав!A:D,4,FALSE)","v":0}]
[81,5,8,{"$f":"VLOOKUP(A26,Тнав!A:D,4,FALSE)","v":432.60139067582372}]
[82,5,8,{"$f":"VLOOKUP(A27,Тнав!A:D,4,FALSE)","v":376.18051228064633}]
[83,5,8,{"$f":"VLOOKUP(A28,Тнав!A:D,4,FALSE)","v":471.60233705311748}]
[84,5,8,{"$f":"VLOOKUP(A29,Тнав!A:D,4,FALSE)","v":525.31298169123227}]
[91,5,9,{"$f":"VLOOKUP(A30,Тнав!A:D,4,FALSE)","v":527.40143714494434}]
[92,5,9,{"$f":"VLOOKUP(A31,Тнав!A:D,4,FALSE)","v":494.97077103836011}]
[93,5,9,{"$f":"VLOOKUP(A32,Тнав!A:D,4,FALSE)","v":507.16711177340608}]
[94,5,9,{"$f":"VLOOKUP(A33,Тнав!A:D,4,FALSE)","v":504.5842322303854}]
[101,6,10,{"$f":"VLOOKUP(A34,Тнав!A:D,4,FALSE)","v":162.56912427989869}]
[102,6,10,{"$f":"VLOOKUP(A35,Тнав!A:D,4,FALSE)","v":73.56655557154248}]
[103,6,10,{"$f":"VLOOKUP(A36,Тнав!A:D,4,FALSE)","v":147.3107988782474}]
[104,6,10,{"$f":"VLOOKUP(A37,Тнав!A:D,4,FALSE)","v":300.39569329836468}]
[111,4,11,{"$f":"VLOOKUP(A38,Тнав!A:D,4,FALSE)","v":182.0131981061925}]
[112,4,11,{"$f":"VLOOKUP(A39,Тнав!A:D,4,FALSE)","v":386.68938233361843}]
[113,4,11,{"$f":"VLOOKUP(A40,Тнав!A:D,4,FALSE)","v":403.73671387146601}]
[114,4,11,{"$f":"VLOOKUP(A41,Тнав!A:D,4,FALSE)","v":416.56549514301042}]
[121,6,12,{"$f":"VLOOKUP(A42,Тнав!A:D,4,FALSE)","v":333.94344585419259}]
[122,6,12,{"$f":"VLOOKUP(A43,Тнав!A:D,4,FALSE)","v":147.6815593048519}]
[123,6,12,{"$f":"VLOOKUP(A44,Тнав!A:D,4,FALSE)","v":383.77903169448859}]
[131,1,13,{"$f":"VLOOKUP(A45,Тнав!A:D,4,FALSE)","v":0}]
[132,1,13,{"$f":"VLOOKUP(A46,Тнав!A:D,4,FALSE)","v":0}]
[133,1,13,{"$f":"VLOOKUP(A47,Тнав!A:D,4,FALSE)","v":71.176830307845819}]
[134,1,13,{"$f":"VLOOKUP(A48,Тнав!A:D,4,FALSE)","v":54.555020785247983}]
[141,3,14,{"$f":"VLOOKUP(A49,Тнав!A:D,4,FALSE)","v":473.34507183493719}]
[142,3,14,{"$f":"VLOOKUP(A50,Тнав!A:D,4,FALSE)","v":0}]
[143,3,14,{"$f":"VLOOKUP(A51,Тнав!A:D,4,FALSE)","v":0}]
[144,3,14,{"$f":"VLOOKUP(A52,Тнав!A:D,4,FALSE)","v":0}]
[151,3,15,{"$f":"VLOOKUP(A53,Тнав!A:D,4,FALSE)","v":442.53656130719128}]
[152,3,15,{"$f":"VLOOKUP(A54,Тнав!A:D,4,FALSE)","v":396.73755295869603}]
[153,3,15,{"$f":"VLOOKUP(A55,Тнав!A:D,4,FALSE)","v":510.11820332424128}]
[154,3,15,{"$f":"VLOOKUP(A56,Тнав!A:D,4,FALSE)","v":444.01669744381411}]
[161,2,16,{"$f":"VLOOKUP(A57,Тнав!A:D,4,FALSE)","v":0}]
[162,2,16,{"$f":"VLOOKUP(A58,Тнав!A:D,4,FALSE)","v":0}]
[163,2,16,{"$f":"VLOOKUP(A59,Тнав!A:D,4,FALSE)","v":0}]
[164,2,16,{"$f":"VLOOKUP(A60,Тнав!A:D,4,FALSE)","v":0}]
[171,3,17,{"$f":"VLOOKUP(A61,Тнав!A:D,4,FALSE)","v":442.82385543375892}]
[172,3,17,{"$f":"VLOOKUP(A62,Тнав!A:D,4,FALSE)","v":292.45026791460981}]
[173,3,17,{"$f":"VLOOKUP(A63,Тнав!A:D,4,FALSE)","v":339.50318536463232}]
[181,2,18,{"$f":"VLOOKUP(A64,Тнав!A:D,4,FALSE)","v":402.35661006900261}]
[182,2,18,{"$f":"VLOOKUP(A65,Тнав!A:D,4,FALSE)","v":349.97493974476367}]
[183,2,18,{"$f":"VLOOKUP(A66,Тнав!A:D,4,FALSE)","v":419.39827046589909}]
[184,2,18,{"$f":"VLOOKUP(A67,Тнав!A:D,4,FALSE)","v":163.8087460993433}]
[191,10,19,{"$f":"VLOOKUP(A68,Тнав!A:D,4,FALSE)","v":394.08319256829128}]
[192,10,19,{"$f":"VLOOKUP(A69,Тнав!A:D,4,FALSE)","v":435.30602190036848}]
[193,10,19,{"$f":"VLOOKUP(A70,Тнав!A:D,4,FALSE)","v":432.99936369834018}]
[194,10,19,{"$f":"VLOOKUP(A71,Тнав!A:D,4,FALSE)","v":346.37012669734258}]
[201,10,20,{"$f":"VLOOKUP(A72,Тнав!A:D,4,FALSE)","v":527.10832807450481}]
[202,10,20,{"$f":"VLOOKUP(A73,Тнав!A:D,4,FALSE)","v":515.73216445587832}]
[203,10,20,{"$f":"VLOOKUP(A74,Тнав!A:D,4,FALSE)","v":360.04810261241198}]
[211,10,21,{"$f":"VLOOKUP(A75,Тнав!A:D,4,FALSE)","v":322.72950517125452}]
[212,10,21,{"$f":"VLOOKUP(A76,Тнав!A:D,4,FALSE)","v":388.56255219551468}]
[213,10,21,{"$f":"VLOOKUP(A77,Тнав!A:D,4,FALSE)","v":485.39532311428002}]
[221,10,22,{"$f":"VLOOKUP(A78,Тнав!A:D,4,FALSE)","v":0}]
[222,10,22,{"$f":"VLOOKUP(A79,Тнав!A:D,4,FALSE)","v":297.46702112416182}]
[223,10,22,{"$f":"VLOOKUP(A80,Тнав!A:D,4,FALSE)","v":102.1873829921141}]
[231,11,23,{"$f":"VLOOKUP(A81,Тнав!A:D,4,FALSE)","v":383.41509158643532}]
[232,11,23,{"$f":"VLOOKUP(A82,Тнав!A:D,4,FALSE)","v":394.83087361416591}]
[233,11,23,{"$f":"VLOOKUP(A83,Тнав!A:D,4,FALSE)","v":352.12942071541329}]
[234,11,23,{"$f":"VLOOKUP(A84,Тнав!A:D,4,FALSE)","v":334.10181443280152}]
[241,11,24,{"$f":"VLOOKUP(A85,Тнав!A:D,4,FALSE)","v":384.03369700005771}]
[242,11,24,{"$f":"VLOOKUP(A86,Тнав!A:D,4,FALSE)","v":395.75465331992501}]
[243,11,24,{"$f":"VLOOKUP(A87,Тнав!A:D,4,FALSE)","v":325.76079007278042}]
[251,11,25,{"$f":"VLOOKUP(A88,Тнав!A:D,4,FALSE)","v":432.78469939662529}]
[252,11,25,{"$f":"VLOOKUP(A89,Тнав!A:D,4,FALSE)","v":187.08426133444911}]
[253,11,25,{"$f":"VLOOKUP(A90,Тнав!A:D,4,FALSE)","v":299.50500138073801}]
[254,11,25,{"$f":"VLOOKUP(A91,Тнав!A:D,4,FALSE)","v":371.17363554248601}]
[261,11,26,{"$f":"VLOOKUP(A92,Тнав!A:D,4,FALSE)","v":310.42772115769441}]
[262,11,26,{"$f":"VLOOKUP(A93,Тнав!A:D,4,FALSE)","v":331.07982496886592}]
[263,11,26,{"$f":"VLOOKUP(A94,Тнав!A:D,4,FALSE)","v":334.13278611113299}]
[271,12,27,{"$f":"VLOOKUP(A95,Тнав!A:D,4,FALSE)","v":288.64210421797878}]
[272,12,27,{"$f":"VLOOKUP(A96,Тнав!A:D,4,FALSE)","v":408.47569726481538}]
[273,12,27,{"$f":"VLOOKUP(A97,Тнав!A:D,4,FALSE)","v":214.43280735867941}]
[274,12,27,{"$f":"VLOOKUP(A98,Тнав!A:D,4,FALSE)","v":233.6461607385898}]
[281,11,28,{"$f":"VLOOKUP(A99,Тнав!A:D,4,FALSE)","v":351.00090478482713}]
[282,11,28,{"$f":"VLOOKUP(A100,Тнав!A:D,4,FALSE)","v":234.13569856648169}]
[283,11,28,{"$f":"VLOOKUP(A101,Тнав!A:D,4,FALSE)","v":285.16411823053789}]
[284,11,28,{"$f":"VLOOKUP(A102,Тнав!A:D,4,FALSE)","v":281.91427477160801}]
[291,11,29,{"$f":"VLOOKUP(A103,Тнав!A:D,4,FALSE)","v":360.85122682149301}]
[292,11,29,{"$f":"VLOOKUP(A104,Тнав!A:D,4,FALSE)","v":141.36567578515999}]
[293,11,29,{"$f":"VLOOKUP(A105,Тнав!A:D,4,FALSE)","v":242.85424661229709}]
[301,12,30,{"$f":"VLOOKUP(A106,Тнав!A:D,4,FALSE)","v":215.55287259347381}]
[302,12,30,{"$f":"VLOOKUP(A107,Тнав!A:D,4,FALSE)","v":332.98370433223158}]
[303,12,30,{"$f":"VLOOKUP(A108,Тнав!A:D,4,FALSE)","v":189.4832983941113}]
[304,12,30,{"$f":"VLOOKUP(A109,Тнав!A:D,4,FALSE)","v":476.96527741704051}]
[311,12,31,{"$f":"VLOOKUP(A110,Тнав!A:D,4,FALSE)","v":243.7651154245948}]
[312,12,31,{"$f":"VLOOKUP(A111,Тнав!A:D,4,FALSE)","v":311.54447041673347}]
[313,12,31,{"$f":"VLOOKUP(A112,Тнав!A:D,4,FALSE)","v":143.28100821807951}]
[314,12,31,{"$f":"VLOOKUP(A113,Тнав!A:D,4,FALSE)","v":279.90935642566859}]
[321,12,32,{"$f":"VLOOKUP(A114,Тнав!A:D,4,FALSE)","v":130.28999468161209}]
[322,12,32,{"$f":"VLOOKUP(A115,Тнав!A:D,4,FALSE)","v":225.41020447193941}]
[323,12,32,{"$f":"VLOOKUP(A116,Тнав!A:D,4,FALSE)","v":234.75890072559849}]
[331,12,33,{"$f":"VLOOKUP(A117,Тнав!A:D,4,FALSE)","v":350.93704626139692}]
[332,12,33,{"$f":"VLOOKUP(A118,Тнав!A:D,4,FALSE)","v":346.74550303230609}]
[333,12,33,{"$f":"VLOOKUP(A119,Тнав!A:D,4,FALSE)","v":380.1088105259181}]
[334,12,33,{"$f":"VLOOKUP(A120,Тнав!A:D,4,FALSE)","v":269.06525833481152}]
[341,12,34,{"$f":"VLOOKUP(A121,Тнав!A:D,4,FALSE)","v":420.88275926567911}]
[342,12,34,{"$f":"VLOOKUP(A122,Тнав!A:D,4,FALSE)","v":312.55329458272331}]
[343,12,34,{"$f":"VLOOKUP(A123,Тнав!A:D,4,FALSE)","v":331.58631590273433}]
[351,12,35,{"$f":"VLOOKUP(A124,Тнав!A:D,4,FALSE)","v":92.804691331700781}]
[352,12,35,{"$f":"VLOOKUP(A125,Тнав!A:D,4,FALSE)","v":88.141937607565779}]
[353,12,35,{"$f":"VLOOKUP(A126,Тнав!A:D,4,FALSE)","v":82.504721814676671}]
[361,12,36,{"$f":"VLOOKUP(A127,Тнав!A:D,4,FALSE)","v":490.23900548607241}]
[362,12,36,{"$f":"VLOOKUP(A128,Тнав!A:D,4,FALSE)","v":260.11181205688638}]
[363,12,36,{"$f":"VLOOKUP(A129,Тнав!A:D,4,FALSE)","v":354.69243529623111}]
[371,12,37,{"$f":"VLOOKUP(A130,Тнав!A:D,4,FALSE)","v":153.6746296458569}]
[372,12,37,{"$f":"VLOOKUP(A131,Тнав!A:D,4,FALSE)","v":132.18735480263729}]
[373,12,37,{"$f":"VLOOKUP(A132,Тнав!A:D,4,FALSE)","v":131.52496412636651}]
[382,12,38,{"$f":"VLOOKUP(A133,Тнав!A:D,4,FALSE)","v":0}]
[383,12,38,{"$f":"VLOOKUP(A134,Тнав!A:D,4,FALSE)","v":68.905450072657729}]
[391,8,39,{"$f":"VLOOKUP(A135,Тнав!A:D,4,FALSE)","v":541.66882931709836}]
[392,8,39,{"$f":"VLOOKUP(A136,Тнав!A:D,4,FALSE)","v":562.13740314745644}]
[393,8,39,{"$f":"VLOOKUP(A137,Тнав!A:D,4,FALSE)","v":445.56199409552102}]
[401,8,40,{"$f":"VLOOKUP(A138,Тнав!A:D,4,FALSE)","v":452.15859587192477}]
[402,8,40,{"$f":"VLOOKUP(A139,Тнав!A:D,4,FALSE)","v":408.34392070205018}]
[403,8,40,{"$f":"VLOOKUP(A140,Тнав!A:D,4,FALSE)","v":100.6928251110804}]
[411,8,41,{"$f":"VLOOKUP(A141,Тнав!A:D,4,FALSE)","v":287.01680407598059}]
[412,8,41,{"$f":"VLOOKUP(A142,Тнав!A:D,4,FALSE)","v":354.80060142101121}]
[413,8,41,{"$f":"VLOOKUP(A143,Тнав!A:D,4,FALSE)","v":224.84687081858121}]
[501,7,"5Т",{"$f":"VLOOKUP(A144,Тнав!A:D,4,FALSE)","v":308.17946216925128}]
[502,7,"5Т",{"$f":"VLOOKUP(A145,Тнав!A:D,4,FALSE)","v":257.95668385003131}]
[503,7,"5Т",{"$f":"VLOOKUP(A146,Тнав!A:D,4,FALSE)","v":333.37194692684687}]
[601,13,"6Т",{"$f":"VLOOKUP(A147,Тнав!A:D,4,FALSE)","v":282.88885159376707}]
[602,13,"6Т",{"$f":"VLOOKUP(A148,Тнав!A:D,4,FALSE)","v":249.22432924192091}]
[701,6,"7Т",{"$f":"VLOOKUP(A149,Тнав!A:D,4,FALSE)","v":262.37417642059449}]
[702,6,"7Т",{"$f":"VLOOKUP(A150,Тнав!A:D,4,FALSE)","v":297.40180368749492}]
[703,6,"7Т",{"$f":"VLOOKUP(A151,Тнав!A:D,4,FALSE)","v":255.58682215572051}]
[801,5,"8Т",{"$f":"VLOOKUP(A152,Тнав!A:D,4,FALSE)","v":267.03380529756731}]
[802,5,"8Т",{"$f":"VLOOKUP(A153,Тнав!A:D,4,FALSE)","v":211.78425890733379}]
[901,5,"9Т",{"$f":"VLOOKUP(A154,Тнав!A:D,4,FALSE)","v":236.2999404652407}]
[902,5,"9Т",{"$f":"VLOOKUP(A155,Тнав!A:D,4,FALSE)","v":295.39884853497051}]
[1001,6,"10Т",{"$f":"VLOOKUP(A156,Тнав!A:D,4,FALSE)","v":298.14867612671043}]
[1002,6,"10Т",{"$f":"VLOOKUP(A157,Тнав!A:D,4,FALSE)","v":216.80837045093449}]
[1003,6,"10Т",{"$f":"VLOOKUP(A158,Тнав!A:D,4,FALSE)","v":214.72461729763481}]
[1101,4,"11T",{"$f":"VLOOKUP(A159,Тнав!A:D,4,FALSE)","v":167.8191960613178}]
[1102,4,"11T",{"$f":"VLOOKUP(A160,Тнав!A:D,4,FALSE)","v":164.16536637997001}]
[1103,4,"11T",{"$f":"VLOOKUP(A161,Тнав!A:D,4,FALSE)","v":197.8618894364636}]
[1104,4,"11T",{"$f":"VLOOKUP(A162,Тнав!A:D,4,FALSE)","v":192.47462711909961}]
[1201,6,"12Т",{"$f":"VLOOKUP(A163,Тнав!A:D,4,FALSE)","v":262.04688946198718}]
[1202,6,"12Т",{"$f":"VLOOKUP(A164,Тнав!A:D,4,FALSE)","v":247.5884795120981}]
[1301,1,"13T",{"$f":"VLOOKUP(A165,Тнав!A:D,4,FALSE)","v":207.36651462512589}]
[1302,1,"13T",{"$f":"VLOOKUP(A166,Тнав!A:D,4,FALSE)","v":169.5837485398682}]
[1303,1,"13T",{"$f":"VLOOKUP(A167,Тнав!A:D,4,FALSE)","v":238.79510345634321}]
[1304,1,"13T",{"$f":"VLOOKUP(A168,Тнав!A:D,4,FALSE)","v":215.1677149950383}]
[1401,3,"14T",{"$f":"VLOOKUP(A169,Тнав!A:D,4,FALSE)","v":222.25437302443399}]
[1402,3,"14T",{"$f":"VLOOKUP(A170,Тнав!A:D,4,FALSE)","v":154.3436279227785}]
[1403,3,"14T",{"$f":"VLOOKUP(A171,Тнав!A:D,4,FALSE)","v":169.2390377735577}]
[1404,3,"14T",{"$f":"VLOOKUP(A172,Тнав!A:D,4,FALSE)","v":177.80006575226761}]
[1501,3,"15Т",{"$f":"VLOOKUP(A173,Тнав!A:D,4,FALSE)","v":361.02584412857368}]
[1502,3,"15Т",{"$f":"VLOOKUP(A174,Тнав!A:D,4,FALSE)","v":243.11697165596061}]
[1503,3,"15Т",{"$f":"VLOOKUP(A175,Тнав!A:D,4,FALSE)","v":234.65797426059089}]
[1601,2,"16Т",{"$f":"VLOOKUP(A176,Тнав!A:D,4,FALSE)","v":162.89916463077421}]
[1602,2,"16Т",{"$f":"VLOOKUP(A177,Тнав!A:D,4,FALSE)","v":209.4612882260752}]
[1603,2,"16Т",{"$f":"VLOOKUP(A178,Тнав!A:D,4,FALSE)","v":238.72208791509581}]
[1701,3,"17Т",{"$f":"VLOOKUP(A179,Тнав!A:D,4,FALSE)","v":239.14142112281439}]
[1702,3,"17Т",{"$f":"VLOOKUP(A180,Тнав!A:D,4,FALSE)","v":189.78053378156659}]
[1703,3,"17Т",{"$f":"VLOOKUP(A181,Тнав!A:D,4,FALSE)","v":203.96799934990639}]
[1801,2,"18Т",{"$f":"VLOOKUP(A182,Тнав!A:D,4,FALSE)","v":0}]
[1802,2,"18Т",{"$f":"VLOOKUP(A183,Тнав!A:D,4,FALSE)","v":0}]
[1803,2,"18Т",{"$f":"VLOOKUP(A184,Тнав!A:D,4,FALSE)","v":0}]
[1901,10,"19Т",{"$f":"VLOOKUP(A185,Тнав!A:D,4,FALSE)","v":247.80589138621389}]
[1902,10,19,{"$f":"VLOOKUP(A186,Тнав!A:D,4,FALSE)","v":61.460682947748602}]
[1903,10,"19Т",{"$f":"VLOOKUP(A187,Тнав!A:D,4,FALSE)","v":275.11424454980602}]
[2001,10,"20Т",{"$f":"VLOOKUP(A188,Тнав!A:D,4,FALSE)","v":232.78429542398769}]
[2002,10,"20Т",{"$f":"VLOOKUP(A189,Тнав!A:D,4,FALSE)","v":223.87913660394241}]
[2003,10,"20Т",{"$f":"VLOOKUP(A190,Тнав!A:D,4,FALSE)","v":227.59744022816031}]
[2004,10,"20Т",{"$f":"VLOOKUP(A191,Тнав!A:D,4,FALSE)","v":244.62415820025831}]
[2201,10,"22Т",{"$f":"VLOOKUP(A192,Тнав!A:D,4,FALSE)","v":229.390223758323}]
[2202,10,"22Т",{"$f":"VLOOKUP(A193,Тнав!A:D,4,FALSE)","v":292.43674556660937}]
[2203,10,"22Т",{"$f":"VLOOKUP(A194,Тнав!A:D,4,FALSE)","v":298.45210975234892}]
[2401,11,"24Т",{"$f":"VLOOKUP(A195,Тнав!A:D,4,FALSE)","v":261.65294215685162}]
[2402,11,"24Т",{"$f":"VLOOKUP(A196,Тнав!A:D,4,FALSE)","v":220.12963291538591}]
[2601,11,"26Т",{"$f":"VLOOKUP(A197,Тнав!A:D,4,FALSE)","v":260.77680090944199}]
[2602,11,"26Т",{"$f":"VLOOKUP(A198,Тнав!A:D,4,FALSE)","v":287.65535491199518}]
[2701,12,"27Т",{"$f":"VLOOKUP(A199,Тнав!A:D,4,FALSE)","v":279.29154088266853}]
[2702,12,"27Т",{"$f":"VLOOKUP(A200,Тнав!A:D,4,FALSE)","v":284.7110584050302}]
[2801,11,"28Т",{"$f":"VLOOKUP(A201,Тнав!A:D,4,FALSE)","v":249.36268838037589}]
[2802,11,"28Т",{"$f":"VLOOKUP(A202,Тнав!A:D,4,FALSE)","v":302.28728484175821}]
[3001,12,"30Т",{"$f":"VLOOKUP(A203,Тнав!A:D,4,FALSE)","v":282.89593366078429}]
[3002,12,"30Т",{"$f":"VLOOKUP(A204,Тнав!A:D,4,FALSE)","v":293.47600002151381}]
[3003,12,"30Т",{"$f":"VLOOKUP(A205,Тнав!A:D,4,FALSE)","v":235.5069942369168}]
[3101,12,"31Т",{"$f":"VLOOKUP(A206,Тнав!A:D,4,FALSE)","v":296.79540139899962}]
[3102,12,"31Т",{"$f":"VLOOKUP(A207,Тнав!A:D,4,FALSE)","v":257.76854691256619}]
[3301,12,"33Т",{"$f":"VLOOKUP(A208,Тнав!A:D,4,FALSE)","v":256.79268026402951}]
[3302,12,"33Т",{"$f":"VLOOKUP(A209,Тнав!A:D,4,FALSE)","v":201.6531606272797}]
[3303,12,"33Т",{"$f":"VLOOKUP(A210,Тнав!A:D,4,FALSE)","v":241.428930154298}]
[3401,12,"34Т",{"$f":"VLOOKUP(A211,Тнав!A:D,4,FALSE)","v":229.71227056415731}]
[3402,12,"34Т",{"$f":"VLOOKUP(A212,Тнав!A:D,4,FALSE)","v":296.07707472183301}]
[3403,12,"34Т",{"$f":"VLOOKUP(A213,Тнав!A:D,4,FALSE)","v":274.9110518950248}]
[3601,12,"36Т",{"$f":"VLOOKUP(A214,Тнав!A:D,4,FALSE)","v":163.90599250109261}]
[3602,12,"36Т",{"$f":"VLOOKUP(A215,Тнав!A:D,4,FALSE)","v":218.756010040847}]
[3603,12,"36Т",{"$f":"VLOOKUP(A216,Тнав!A:D,4,FALSE)","v":245.13096536539109}]
[3701,12,"37Т",{"$f":"VLOOKUP(A217,Тнав!A:D,4,FALSE)","v":244.39815316708811}]
[3702,12,"37Т",{"$f":"VLOOKUP(A218,Тнав!A:D,4,FALSE)","v":268.03980149709543}]
[3703,12,"37Т",{"$f":"VLOOKUP(A219,Тнав!A:D,4,FALSE)","v":286.02661095448673}]
[3801,12,"38Т",{"$f":"VLOOKUP(A220,Тнав!A:D,4,FALSE)","v":211.70706018899091}]
[3802,12,"38Т",{"$f":"VLOOKUP(A221,Тнав!A:D,4,FALSE)","v":235.56902715297159}]
[3901,8,"39Т",{"$f":"VLOOKUP(A222,Тнав!A:D,4,FALSE)","v":200.13414474883979}]
[3902,8,"39Т",{"$f":"VLOOKUP(A223,Тнав!A:D,4,FALSE)","v":240.31639005684951}]
[3903,8,"39Т",{"$f":"VLOOKUP(A224,Тнав!A:D,4,FALSE)","v":199.86244064141431}]
[3904,8,"39Т",{"$f":"VLOOKUP(A225,Тнав!A:D,4,FALSE)","v":169.17412655835139}]
[4001,8,"40Т",{"$f":"VLOOKUP(A226,Тнав!A:D,4,FALSE)","v":194.7458163370911}]
[4002,8,"40Т",{"$f":"VLOOKUP(A227,Тнав!A:D,4,FALSE)","v":215.70802370922661}]
[4003,8,"40Т",{"$f":"VLOOKUP(A228,Тнав!A:D,4,FALSE)","v":223.54684503536271}]
[4004,8,"40Т",{"$f":"VLOOKUP(A229,Тнав!A:D,4,FALSE)","v":255.16007439476891}]
[4101,8,"41Т",{"$f":"VLOOKUP(A230,Тнав!A:D,4,FALSE)","v":207.55709402743389}]
[4102,8,"41Т",{"$f":"VLOOKUP(A231,Тнав!A:D,4,FALSE)","v":221.5693993267177}]
[4103,8,"41Т",{"$f":"VLOOKUP(A232,Тнав!A:D,4,FALSE)","v":188.19774937117319}]
["101Т",8,"1Т",{"$f":"VLOOKUP(A233,Тнав!A:D,4,FALSE)","v":217.7687758570834}]
["102Т",8,"1Т",{"$f":"VLOOKUP(A234,Тнав!A:D,4,FALSE)","v":237.9885502864382}]
["103Т",8,"1Т",{"$f":"VLOOKUP(A235,Тнав!A:D,4,FALSE)","v":341.00911407643349}]
["174БОК",3,17,{"$f":"VLOOKUP(A236,Тнав!A:D,4,FALSE)","v":39.893622487049477}]
["174ОСН",3,17,{"$f":"VLOOKUP(A237,Тнав!A:D,4,FALSE)","v":178.82781657565729}]
["201Т",9,"2Т",{"$f":"VLOOKUP(A238,Тнав!A:D,4,FALSE)","v":249.9768781159095}]
["202Т",9,"2Т",{"$f":"VLOOKUP(A239,Тнав!A:D,4,FALSE)","v":279.96698723220459}]
["203Т",9,"2Т",{"$f":"VLOOKUP(A240,Тнав!A:D,4,FALSE)","v":227.65681458785289}]
["204Т",9,"2Т",{"$f":"VLOOKUP(A241,Тнав!A:D,4,FALSE)","v":202.25933499401839}]
["301Т",8,"3Т",{"$f":"VLOOKUP(A242,Тнав!A:D,4,FALSE)","v":260.41065606159452}]
["302Т",8,"3Т",{"$f":"VLOOKUP(A243,Тнав!A:D,4,FALSE)","v":244.63925107281091}]
["401Т",9,"4Т",{"$f":"VLOOKUP(A244,Тнав!A:D,4,FALSE)","v":271.84950331429542}]
["402Т",9,"4Т",{"$f":"VLOOKUP(A245,Тнав!A:D,4,FALSE)","v":254.48630929447771}]
["403Т",9,"4Т",{"$f":"VLOOKUP(A246,Тнав!A:D,4,FALSE)","v":276.17438784127341}]
["35Р",12,null,{"$f":"VLOOKUP(A247,Тнав!A:D,4,FALSE)","v":120.0469892150913}]
["51Р",6,null,{"$f":"VLOOKUP(A248,Тнав!A:D,4,FALSE)","v":163.61031395793449}]

{"sheet":"План","index":7,"n_rows":4,"n_cols":13,"rows_kept":4,"cut":false,"hidden":false,"merged":[]}
[2024,"январь","февраль","март","апрель","май","июнь","июль","август","сентябрь","октябрь","ноябрь","декабрь"]
["ПК1",37748.65067798645,37659.133269330341,25194.859825753909,36264.449932749339,35927.399433247752,34041.325013974332,34261.595945871937,34475.072740729032,34743.136237693667,34536.412006475162,34913.414299656673,34988.136806741612]
["Т1-2",28355.534325458972,28186.948226513341,18914.469988483648,27866.946931912171,27626.52468620093,27263.417953617631,27030.11455417065,26836.957322552898,26721.644632762571,26957.81108275013,26669.972893809769,26546.519417093899]
[null,{"$f":"SUM(B2:B3)","v":66104.185003445426},65846.081495843682,44109.329814237557,64131.39686466151,63553.924119448682,61304.742967591963,61291.710500042587,61312.030063281927,61464.780870456234,61494.223089225292,61583.387193466442,61534.656223835511]

{"sheet":"Рпл","index":8,"n_rows":247,"n_cols":4,"rows_kept":247,"cut":false,"hidden":false,"merged":[]}
["Скважина",null,"Дата экстраполяции замеров","Давление, МПа (абс.)"]
[11,11,"2024-03-02",32.538530741284532]
[12,12,"2024-03-02",32.635552746339052]
[13,13,"2024-03-02",32.698847806465317]
[21,21,"2024-03-02",31.637666742960121]
[22,22,"2024-03-02",32.139619069552431]
[23,23,"2024-03-02",32.306536102230808]
[31,31,"2024-03-02",32.245796189907153]
[32,32,"2024-03-02",33.237766225538962]
[33,33,"2024-03-02",33.115036767227238]
[41,41,"2024-03-02",32.639287043228933]
[42,42,"2024-03-02",32.482060560873727]
[43,43,"2024-03-02",33.093529168861522]
[51,51,"2024-03-02",31.601323247142091]
[52,52,"2024-03-02",31.94438093749298]
[53,53,"2024-03-02",31.662790209868351]
[54,54,"2024-03-02",31.179841814165211]
[61,61,"2024-03-02",30.404897125016131]
[62,62,"2024-03-02",31.052017254491489]
[63,63,"2024-03-02",31.131543607565419]
[64,64,"2024-03-02",30.519436252837231]
[71,71,"2024-03-02",30.287240485048962]
[72,72,"2024-03-02",29.759050897472839]
[73,73,"2024-03-02",30.191244662470609]
[74,74,"2024-03-02",30.111017760197331]
[81,81,"2024-03-02",29.816803068080219]
[82,82,"2024-03-02",29.473149307562181]
[83,83,"2024-03-02",29.901307342886589]
[84,84,"2024-03-02",28.876888218707752]
[91,91,"2024-03-02",29.143928949990041]
[92,92,"2024-03-02",29.168455202796348]
[93,93,"2024-03-02",29.158108968932581]
[94,94,"2024-03-02",28.711661815723669]
[101,101,"2024-03-02",28.713674199551349]
[102,102,"2024-03-02",29.12887117394347]
[103,103,"2024-03-02",29.5915995077867]
[104,104,"2024-03-02",29.751776245051101]
[111,111,"2024-03-02",29.31547806867443]
[112,112,"2024-03-02",29.031833525819749]
[113,113,"2024-03-02",29.114718688138439]
[114,114,"2024-03-02",29.10858360721631]
[121,121,"2024-03-02",28.918933621608439]
[122,122,"2024-03-02",29.222594147969151]
[123,123,"2024-03-02",29.059063622724828]
[131,131,"2024-03-02",28.389596951604972]
[132,132,"2024-03-02",27.54554037889892]
[133,133,"2024-03-02",28.579565286605892]
[134,134,"2024-03-02",27.337246089040551]
[141,141,"2024-03-02",27.681726127876189]
[142,142,"2024-03-02",27.901099939115412]
[143,143,"2024-03-02",27.362584201803831]
[144,144,"2024-03-02",28.0430229982722]
[151,151,"2024-03-02",28.281350252610569]
[152,152,"2024-03-02",28.007938849551149]
[153,153,"2024-03-02",27.85380258433349]
[154,154,"2024-03-02",28.17004028107382]
[161,161,"2024-03-02",27.212411892865379]
[162,162,"2024-03-02",27.07686679845936]
[163,163,"2024-03-02",27.341025086555899]
[164,164,"2024-03-02",27.51103016091794]
[171,171,"2024-03-02",27.527350607654661]
[172,172,"2024-03-02",28.57127041625883]
[173,173,"2024-03-02",28.71417420600201]
[181,181,"2024-03-02",27.499390540143029]
[182,182,"2024-03-02",27.888732963036031]
[183,183,"2024-03-02",27.979323167167099]
[184,184,"2024-03-02",51.863480739211887]
[191,191,"2024-03-02",28.15324718169035]
[192,192,"2024-03-02",28.335686875202601]
[193,193,"2024-03-02",28.0389991683499]
[194,194,"2024-03-02",28.27337072836669]
[201,201,"2024-03-02",27.396646023931769]
[202,202,"2024-03-02",28.127612939575972]
[203,203,"2024-03-02",28.526452275582791]
[211,211,"2024-03-02",27.869354434859819]
[212,212,"2024-03-02",27.843673343190499]
[213,213,"2024-03-02",28.01933699714926]
[221,221,"2024-03-02",27.617679520373581]
[222,222,"2024-03-02",27.391756842215909]
[223,223,"2024-03-02",28.599832331880549]
[231,231,"2024-03-02",25.466473216349829]
[232,232,"2024-03-02",26.311564779189879]
[233,233,"2024-03-02",26.25398660379847]
[234,234,"2024-03-02",25.835512977034519]
[241,241,"2024-03-02",26.24633241192171]
[242,242,"2024-03-02",25.804449782792769]
[243,243,"2024-03-02",26.52258464935203]
[251,251,"2024-03-02",25.803848030869531]
[252,252,"2024-03-02",26.427905536574311]
[253,253,"2024-03-02",25.81939764967867]
[254,254,"2024-03-02",26.249735782501091]
[261,261,"2024-03-02",27.810840350946059]
[262,262,"2024-03-02",27.777435085070191]
[263,263,"2024-03-02",27.603339628442459]
[271,271,"2024-03-02",27.227952509051999]
[272,272,"2024-03-02",27.115555190801391]
[273,273,"2024-03-02",27.174671468448551]
[274,274,"2024-03-02",26.66190199032884]
[281,281,"2024-03-02",25.352819883331861]
[282,282,"2024-03-02",26.820800943186669]
[283,283,"2024-03-02",26.004479324430211]
[284,284,"2024-03-02",25.901059451077771]
[291,291,"2024-03-02",25.994926300884199]
[292,292,"2024-03-02",24.831560317683429]
[293,293,"2024-03-02",25.934654539101022]
[301,301,"2024-03-02",25.67903503208419]
[302,302,"2024-03-02",27.298071558662361]
[303,303,"2024-03-02",26.1131425575512]
[304,304,"2024-03-02",27.291311278439832]
[311,311,"2024-03-02",27.418071286392621]
[312,312,"2024-03-02",27.161289327116101]
[313,313,"2024-03-02",27.597160788802281]
[314,314,"2024-03-02",27.114958328855849]
[321,321,"2024-03-02",25.765689259478322]
[322,322,"2024-03-02",26.16934593856973]
[323,323,"2024-03-02",26.10403096605318]
[331,331,"2024-03-02",28.04471057823655]
[332,332,"2024-03-02",28.5496632163612]
[333,333,"2024-03-02",27.995148436527391]
[334,334,"2024-03-02",28.155669426431931]
[341,341,"2024-03-02",29.3376796453419]
[342,342,"2024-03-02",29.334254890158569]
[343,343,"2024-03-02",28.678786338215659]
[351,351,"2024-03-02",28.644572766115139]
[352,352,"2024-03-02",28.295973686699089]
[353,353,"2024-03-02",29.123510275329721]
[361,361,"2024-03-02",30.159769184224562]
[362,362,"2024-03-02",29.555111746827961]
[363,363,"2024-03-02",30.01174976553979]
[371,371,"2024-03-02",31.574848072554719]
[372,372,"2024-03-02",30.563319836985979]
[373,373,"2024-03-02",31.232976598588088]
[383,383,"2024-03-02",83.259640330316955]
[391,391,"2024-03-02",40.371275558152547]
[392,392,"2024-03-02",39.20687369419074]
[393,393,"2024-03-02",40.048040134212137]
[401,401,"2024-03-02",38.157204218529529]
[402,402,"2024-03-02",38.496455690370048]
[403,403,"2024-03-02",37.118449969022613]
[411,411,"2024-03-02",35.974030958053817]
[412,412,"2024-03-02",36.308693379358708]
[413,413,"2024-03-02",35.899813732121267]
[1001,1001,"2024-03-02",59.517987441764028]
[1002,1002,"2024-03-02",53.251483094996452]
[1003,1003,"2024-03-02",56.173822735953998]
[1101,1101,"2024-03-02",45.201765478846937]
[1102,1102,"2024-03-02",43.919627051616317]
[1103,1103,"2024-03-02",46.027951437481661]
[1104,1104,"2024-03-02",44.96197537835139]
[1201,1201,"2024-03-02",63.876295803741471]
[1202,1202,"2024-03-02",61.571197367836909]
[1301,1301,"2024-03-02",53.625229943717649]
[1302,1302,"2024-03-02",51.313303946803067]
[1303,1303,"2024-03-02",47.926309305172268]
[1304,1304,"2024-03-02",47.245826985826]
[1401,1401,"2024-03-02",50.901827482990292]
[1402,1402,"2024-03-02",46.77354452688428]
[1403,1403,"2024-03-02",42.15593579515]
[1404,1404,"2024-03-02",48.397572001143871]
[1501,1501,"2024-03-02",58.311145183578383]
[1502,1502,"2024-03-02",55.887483945453482]
[1503,1503,"2024-03-02",50.785552194041202]
[1601,1601,"2024-03-02",45.057399501261798]
[1602,1602,"2024-03-02",49.352505136141957]
[1603,1603,"2024-03-02",52.444152553962589]
[1701,1701,"2024-03-02",63.744152340442689]
[1702,1702,"2024-03-02",55.096021517196171]
[1703,1703,"2024-03-02",53.2139316482019]
[1801,1801,"2024-03-02",45.957302555167608]
[1802,1802,"2024-03-02",54.81450022711622]
[1803,1803,"2024-03-02",50.642693204823892]
[1901,1901,"2024-03-02",66.692888590891386]
[1902,1902,"2024-03-02",75.94381097803398]
[1903,1903,"2024-03-02",67.466485731055911]
[2001,2001,"2024-03-02",61.146700306339241]
[2002,2002,"2024-03-02",64.879520901699991]
[2003,2003,"2024-03-02",64.286448077410313]
[2004,2004,"2024-03-02",57.351008129311893]
[2201,2201,"2024-03-02",68.457424324700824]
[2202,2202,"2024-03-02",73.684581536933067]
[2203,2203,"2024-03-02",67.175151093427033]
[2401,2401,"2024-03-02",70.899910846120306]
[2402,2402,"2024-03-02",76.77586024357646]
[2601,2601,"2024-03-02",65.600852381676262]
[2602,2602,"2024-03-02",73.511012177660277]
[2701,2701,"2024-03-02",79.054833613300872]
[2702,2702,"2024-03-02",75.210994877722342]
[2801,2801,"2024-03-02",72.936394387677026]
[2802,2802,"2024-03-02",69.359622063267409]
[3001,3001,"2024-03-02",65.071468293612554]
[3002,3002,"2024-03-02",70.604802549122681]
[3003,3003,"2024-03-02",67.034621865851761]
[3101,3101,"2024-03-02",62.709794977953223]
[3102,3102,"2024-03-02",68.442408215932318]
[3301,3301,"2024-03-02",78.143453727896642]
[3302,3302,"2024-03-02",76.904420573620996]
[3303,3303,"2024-03-02",70.573496452337238]
[3401,3401,"2024-03-02",75.1944914524003]
[3402,3402,"2024-03-02",65.594245732280186]
[3403,3403,"2024-03-02",76.77876245117632]
[3601,3601,"2024-03-02",79.93234216073165]
[3602,3602,"2024-03-02",69.82508912282681]
[3603,3603,"2024-03-02",65.410664278160183]
[3701,3701,"2024-03-02",71.703486019538801]
[3702,3702,"2024-03-02",73.953056499076482]
[3703,3703,"2024-03-02",72.005570139178175]
[3801,3801,"2024-03-02",80.417018391901095]
[3802,3802,"2024-03-02",80.700345208417573]
[3901,3901,"2024-03-02",58.069916147479248]
[3902,3902,"2024-03-02",62.427038166312023]
[3903,3903,"2024-03-02",60.381749047456182]
[3904,3904,"2024-03-02",66.471648574016882]
[4001,4001,"2024-03-02",58.598470174010913]
[4002,4002,"2024-03-02",66.049428886603195]
[4003,4003,"2024-03-02",66.718477453359327]
[4004,4004,"2024-03-02",58.891901751357658]
[4101,4101,"2024-03-02",60.372578313638449]
[4102,4102,"2024-03-02",58.203895574474203]
[4103,4103,"2024-03-02",59.949638616746682]
["101T","101т","2024-03-02",61.691876371708148]
["102T","102т","2024-03-02",65.842536625527444]
["103T","103т","2024-03-02",56.953189520449378]
["174-1","174БОК","2024-03-02",66.037092875288479]
["174-2","174ОСН","2024-03-02",64.589720713499204]
["201T","201т","2024-03-02",70.16931697690157]
["202T","202т","2024-03-02",70.692529120494882]
["203T","203т","2024-03-02",67.222501084183222]
["204T","204т","2024-03-02",62.270937426113527]
["301T","301т","2024-03-02",70.58087456565444]
["302T","302т","2024-03-02",67.593590270492456]
["35R","35Р","2024-03-02",79.881263031832262]
["401T","401т","2024-03-02",74.528343545998581]
["402T","402т","2024-03-02",62.501425603751279]
["403T","403т","2024-03-02",68.153013047013246]
["501T",501,"2024-03-02",63.561176621326908]
["502T",502,"2024-03-02",67.16717513994837]
["503T",503,"2024-03-02",66.572667619698194]
["51R","51Р","2024-03-02",46.101085813840321]
["601T",601,"2024-03-02",69.553377644915855]
["602T",602,"2024-03-02",60.742271260472222]
["701T",701,"2024-03-02",63.801272437333282]
["702T",702,"2024-03-02",66.115083097454473]
["703T",703,"2024-03-02",56.81967090969674]
["801T",801,"2024-03-02",61.08426815158991]
["802T",802,"2024-03-02",53.369920524094013]
["901T",901,"2024-03-02",62.544561808761173]
["902T",902,"2024-03-02",58.514515896223124]